Workbook

Sheet Losses Tool
G1: WS1A Losses Tool
C4: Requirements Information | H4: Convert from KW &Hrs to MWh
C5: Licence Area | D5: NORW | H5: This calculator helps to convert kW into MWh
C6: Period | D6: Winter Peak | H6: kW | I6: Hrs | J6: MWhs
C7: Requirement Voltage | D7: LV Substation | H7: 100 | I7: 604 | J7: =H7*I7/1000 -> 60.4
C8: Requirement Capacity (MWh) | D8: =-J7 -> -60.4 | E8: +Ve for a demand increase (Export decrease) - Ve for a demand decrease (Export increase) | H8: Note:the output of this calculator does not link to the rest of the sheets functionality
C9: =IF(D73="OK","",D73)
D10: MWh
D11: LV Network | E11: LV Substation | F11: HV Network | G11: HV Substation | H11: EHV Network
C12: Flexibility Required | D12: =IF($D$7=C21,$D$8,0) -> 0 | E12: =IF($D$7=C22,$D$8,0) -> -60.4 | F12: =IF($D$7=C23,$D$8,0) -> 0 | G12: =IF($D$7=C24,$D$8,0) -> 0 | H12: =IF($D$7=C25,$D$8,0) -> 0
C13: Winter
C14: Night
C15: Other
C17: =IF(D74="OK","",D74) | K17: Time periods | L17: =IFERROR(OFFSET(Z50,0,1*(MATCH($D$5,$AA$41:$CD$41,0))),"") -> Period 1 | M17: =IFERROR(OFFSET(AA50,0,1*(MATCH($D$5,$AA$41:$CD$41,0))),"") -> Period 2 | N17: =IFERROR(OFFSET(AB50,0,1*(MATCH($D$5,$AA$41:$CD$41,0))),"") -> Period 3 | O17: =IFERROR(OFFSET(AC50,0,1*(MATCH($D$5,$AA$41:$CD$41,0))),"") -> Period 4 | P17: =IF($AC$56= "NPG NE",OFFSET(AD50,0,1*(MATCH($D$5,$AA$41:$CD$41,0))),"")
C18: Flexibility Provided | L18: =IFERROR(OFFSET(Z51,0,1*(MATCH($D$5,$AA$41:$CD$41,0))), "") -> Winter Peak | M18: =IFERROR(OFFSET(AA51,0,1*(MATCH($D$5,$AA$41:$CD$41,0))),"") -> Winter Daytime | N18: =IFERROR(OFFSET(AB51,0,1*(MATCH($D$5,$AA$41:$CD$41,0))),"") -> Night | O18: =IFERROR(OFFSET(AC51,0,1*(MATCH($D$5,$AA$41:$CD$41,0))),"") -> Other | P18: =IF($AC$56= "NPG NE",OFFSET(AD51,0,1*(MATCH($D$5,$AA$41:$CD$41,0))),"")
C19: Please complete this section with details of the type of service you are looking to/have procured. The total flexiblity provided must be equal to the service requirement in MWh | K19: =Z52 -> Monday to Friday March to October | L19: =IFERROR(OFFSET(Z52,0,1*(MATCH($D$5,$AA$41:$CE$41,0))),"") -> 0 | M19: =IFERROR(OFFSET(AA52,0,1*(MATCH($D$5,$AA$41:$CD$41,0))),"") -> 0 | N19: =IFERROR(OFFSET(AB52,0,1*(MATCH($D$5,$AA$41:$CD$41,0))),"") -> 00:00 - 07:00 | O19: =IFERROR(OFFSET(AC52,0,1*(MATCH($D$5,$AA$41:$CD$41,0))),"") -> 07:00 - 00:00 | P19: =IF($AC$56= "NPG NE",OFFSET(AD52,0,1*(MATCH($D$5,$AA$41:$CD$41,0))),"")
C20: Flexibility provided Voltage category | D20: Generation Export Increase (MWh) | E20: Demand Increase (MWh) | F20: Demand Reduction (MWh) | G20: Generation Export Reduction (MWh) | K20: =Z53 -> Monday to Friday November to February | L20: =IFERROR(OFFSET(Z53,0,1*(MATCH($D$5,$AA$41:$CD$41,0))), "") -> 16:00 – 19:00 | M20: =IFERROR(OFFSET(AA53,0,1*(MATCH($D$5,$AA$41:$CD$41,0))),"") -> 07:00 – 16:00 19:00 – 00:00 | N20: =IFERROR(OFFSET(AB53,0,1*(MATCH($D$5,$AA$41:$CD$41,0))),"") -> 00:00 - 07:00 | O20: =IFERROR(OFFSET(AC53,0,1*(MATCH($D$5,$AA$41:$CD$41,0))),"") -> 0 | P20: =IF($AC$56= "NPG NE",OFFSET(AD53,0,1*(MATCH($D$5,$AA$41:$CD$41,0))),"")
C21: LV Network | K21: =Z54 -> Saturday and Sunday All Year | L21: =IFERROR(OFFSET(Z54,0,1*(MATCH($D$5,$AA$41:$CD$41,0))),"") -> 0 | M21: =IFERROR(OFFSET(AA54,0,1*(MATCH($D$5,$AA$41:$CD$41,0))),"") -> 0 | N21: =IFERROR(OFFSET(AB54,0,1*(MATCH($D$5,$AA$41:$CD$41,0))),"") -> 00:00 - 07:00 | O21: =IFERROR(OFFSET(AC54,0,1*(MATCH($D$5,$AA$41:$CD$41,0))),"") -> 07:00 - 00:00 | P21: =IF($AC$56= "NPG NE",OFFSET(AD54,0,1*(MATCH($D$5,$AA$41:$CD$41,0))),"")
C22: LV Substation | F22: =J7 -> 60.4
C23: HV Network
C24: HV Substation
C25: EHV Network
D26: =IF(D8=((SUM(E21:E25,G21:G25)-SUM(D21:D25,F21:F25))),"",CONCATENATE("The volume of flexibility provided does not match the required needs total additional flexibility required = ",D8-(SUM(E21:E25,G21:G25)-SUM(D21:D25,F21:F25)), "MWh"))
D27: =IF(NOT(AND(D68="ok", D69="ok", D70="ok", D71="ok")),"Error - The voltage of services provided is higher than the requirement voltage","" )
C29: Additional Functionality
C30: Will demand reduction need to increase production post service provision | D30: Yes
C31: Electricity storage system providing generation output | D31: Yes
G33: =IFERROR(C9,"Error")
C34: Losses Total
C35: Total Losses (Green if negative/reduced)
C36: =IF(AND(D26="",D27="", C9="", C17=""), IFERROR((SUM(K54:O58)-SUM(D54:H58)+SUM(H70:H74)+SUM(K70:K74)),"N/A"),"Errors on page") -> -0.1812
C38: Page Notes:
C39: Yellow Boxes can be input with data
C40: Grey boxes should not contain any data | Z40: Data Table
C41: Green Boxes have been completed but can still be edited | AA41: SWEB | AE41: SWAE | AI41: MIDE | AM41: EMEB | AQ41: NORW | AU41: SEPD | AY41: SHEPD | BC41: Manweb | BG41: SPD | BK41: LPN | BO41: SPN | BS41: EPN | BW41: NPG Y | CA41: NPG NE
Z42: LLFs | AA42: 1 | AB42: 2 | AC42: 3 | AD42: 4 | AE42: 1 | AF42: 2 | AG42: 3 | AH42: 4 | AI42: 1 | AJ42: 2 | AK42: 3 | AL42: 4 | AM42: 1 | AN42: 2 | AO42: 3 | AP42: 4 | AQ42: 1 | AR42: 2 | AS42: 3 | AT42: 4 | AU42: 1 | AV42: 2 | AW42: 3 | AX42: 4 | AY42: 1 | AZ42: 2 | BA42: 3 | BB42: 4 | BC42: 1 | BD42: 2 | BE42: 3 | BF42: 4 | BG42: 1 | BH42: 2 | BI42: 3 | BJ42: 4 | BK42: 1 | BL42: 2 | BM42: 3 | BN42: 4 | BO42: 1 | BP42: 2 | BQ42: 3 | BR42: 4 | BS42: 1 | BT42: 2 | BU42: 3 | BV42: 4 | BW42: 1 | BX42: 2 | BY42: 3 | BZ42: 4 | CA42: 1 | CB42: 2 | CC42: 3 | CD42: 4 | CE42: 5
Z43: 132kV | AA43: ='SWEB - Annex 5 LLFs'!B15 -> 1.002 | AB43: ='SWEB - Annex 5 LLFs'!C15 -> 1.001 | AC43: ='SWEB - Annex 5 LLFs'!D15 -> 1.001 | AD43: ='SWEB - Annex 5 LLFs'!E15 -> 1.001 | AE43: ='SWAE - Annex 5 LLFs'!B15 -> 1.009 | AF43: ='SWAE - Annex 5 LLFs'!C15 -> 1.008 | AG43: ='SWAE - Annex 5 LLFs'!D15 -> 1.006 | AH43: ='SWAE - Annex 5 LLFs'!E15 -> 1.007 | AI43: ='MIDE - Annex 5 LLFs'!B15 -> 1.002 | AJ43: ='MIDE - Annex 5 LLFs'!C15 -> 1.002 | AK43: ='MIDE - Annex 5 LLFs'!D15 -> 1.002 | AL43: ='MIDE - Annex 5 LLFs'!E15 -> 1.002 | AM43: ='EMEB - Annex 5 LLFs'!B15 -> 1.003 | AN43: ='EMEB - Annex 5 LLFs'!C15 -> 1.003 | AO43: ='EMEB - Annex 5 LLFs'!D15 -> 1.002 | AP43: ='EMEB - Annex 5 LLFs'!E15 -> 1.002 | AQ43: ='NORW - Annex 5 LLFs'!$B$21 -> 1.009 | AR43: ='NORW - Annex 5 LLFs'!$C$21 -> 1.008 | AS43: ='NORW - Annex 5 LLFs'!$D$21 -> 1.006 | AT43: ='NORW - Annex 5 LLFs'!$E$21 -> 1.007 | AU43: ='SEPD - Annex 5 LLFs'!$B$21 -> 0 | AV43: ='SEPD - Annex 5 LLFs'!$C$21 -> 0 | AW43: ='SEPD - Annex 5 LLFs'!$D$21 -> 0 | AX43: ='SEPD - Annex 5 LLFs'!$E$21 -> 0 | AY43: ='SHEPD - Annex 5 LLFs'!$B$21 -> 0 | AZ43: ='SHEPD - Annex 5 LLFs'!$C$21 -> 0 | BA43: ='SHEPD - Annex 5 LLFs'!$D$21 -> 0 | BB43: ='SHEPD - Annex 5 LLFs'!$E$21 -> 0 | BC43: ='MANWEB - Annex 5 LLFs'!$B$21 -> 0 | BD43: ='MANWEB - Annex 5 LLFs'!$C$21 -> 0 | BE43: ='MANWEB - Annex 5 LLFs'!$D$21 -> 0 | BF43: ='MANWEB - Annex 5 LLFs'!$E$21 -> 0 | BG43: ='SPD - Annex 5 LLFs'!$B$21 -> 0 | BH43: ='SPD - Annex 5 LLFs'!$C$21 -> 0 | BI43: ='SPD - Annex 5 LLFs'!$D$21 -> 0 | BJ43: ='SPD - Annex 5 LLFs'!$E$21 -> 0 | BK43: ='LPN - Annex 5 LLFs'!$B$21 -> 0 | BL43: ='LPN - Annex 5 LLFs'!$C$21 -> 0 | BM43: ='LPN - Annex 5 LLFs'!$D$21 -> 0 | BN43: ='LPN - Annex 5 LLFs'!$E$21 -> 0 | BO43: ='SPN - Annex 5 LLFs'!$B$21 -> 0 | BP43: ='SPN - Annex 5 LLFs'!$C$21 -> 0 | BQ43: ='SPN - Annex 5 LLFs'!$D$21 -> 0 | BR43: ='SPN - Annex 5 LLFs'!$E$21 -> 0 | BS43: ='EPN - Annex 5 LLFs'!$B$21 -> 0 | BT43: ='EPN - Annex 5 LLFs'!$C$21 -> 0 | BU43: ='EPN - Annex 5 LLFs'!$D$21 -> 0 | BV43: ='EPN - Annex 5 LLFs'!$E$21 -> 0 | BW43: ='NPG Y - Annex 5 LLFs'!$B$21 -> 0 | BX43: ='NPG Y - Annex 5 LLFs'!$C$21 -> 0 | BY43: ='NPG Y - Annex 5 LLFs'!$D$21 -> 0 | BZ43: ='NPG Y - Annex 5 LLFs'!$E$21 -> 0 | CA43: ='NPG NE - Annex 5 LLFs'!$B$21 -> 0 | CB43: ='NPG NE - Annex 5 LLFs'!$C$21 -> 0 | CC43: ='NPG NE - Annex 5 LLFs'!$D$21 -> 0 | CD43: ='NPG NE - Annex 5 LLFs'!$E$21 -> 0 | CE43: ='NPG NE - Annex 5 LLFs'!$F$21 -> 0
Z44: EHV Network | AA44: ='SWEB - Annex 5 LLFs'!B18-SUM(AA$43:AA43) -> 0.012 | AB44: ='SWEB - Annex 5 LLFs'!C18-SUM(AB$43:AB43) -> 0.013 | AC44: ='SWEB - Annex 5 LLFs'!D18-SUM(AC$43:AC43) -> 0.011 | AD44: ='SWEB - Annex 5 LLFs'!E18-SUM(AD$43:AD43) -> 0.013 | AE44: ='SWAE - Annex 5 LLFs'!B18-SUM(AE$43:AE43) -> 0.015 | AF44: ='SWAE - Annex 5 LLFs'!C18-SUM(AF$43:AF43) -> 0.016 | AG44: ='SWAE - Annex 5 LLFs'!D18-SUM(AG$43:AG43) -> 0.016 | AH44: ='SWAE - Annex 5 LLFs'!E18-SUM(AH$43:AH43) -> 0.016 | AI44: ='MIDE - Annex 5 LLFs'!B18-SUM(AI43) -> 0.013 | AJ44: ='MIDE - Annex 5 LLFs'!C18-SUM(AJ43) -> 0.012 | AK44: ='MIDE - Annex 5 LLFs'!D18-SUM(AK43) -> 0.009 | AL44: ='MIDE - Annex 5 LLFs'!E18-SUM(AL43) -> 0.01 | AM44: ='EMEB - Annex 5 LLFs'!B18-SUM(AM$43:AM43) -> 0.011 | AN44: ='EMEB - Annex 5 LLFs'!C18-SUM(AN$43:AN43) -> 0.011 | AO44: ='EMEB - Annex 5 LLFs'!D18-SUM(AO$43:AO43) -> 0.01 | AP44: ='EMEB - Annex 5 LLFs'!E18-SUM(AP$43:AP43) -> 0.011 | AQ44: ='NORW - Annex 5 LLFs'!$B$19-SUM($AQ$43:$AQ$43) -> 0.01 | AR44: ='NORW - Annex 5 LLFs'!$C$19-SUM($AR$43:$AR$43) -> 0.01 | AS44: ='NORW - Annex 5 LLFs'!$D$19-SUM($AS$43:$AS$43) -> 0.009 | AT44: ='NORW - Annex 5 LLFs'!$E$19-SUM($AT$43:$AT$43) -> 0.01 | AU44: ='SEPD - Annex 5 LLFs'!B19-SUM(AU43:AU43) -> 0 | AV44: ='SEPD - Annex 5 LLFs'!C19-SUM(AV43:AV43) -> 0 | AW44: ='SEPD - Annex 5 LLFs'!D19-SUM(AW43:AW43) -> 0 | AX44: ='SEPD - Annex 5 LLFs'!E19-SUM(AX43:AX43) -> 0 | AY44: ='SHEPD - Annex 5 LLFs'!$B$19-SUM(AY43:AY43) -> 0 | AZ44: ='SHEPD - Annex 5 LLFs'!$C$19-SUM(AZ43:AZ43) -> 0 | BA44: ='SHEPD - Annex 5 LLFs'!$D$19-SUM($BA$43:$BA$43) -> 0 | BB44: ='SHEPD - Annex 5 LLFs'!$E$19-SUM($BB$43:$BB$43) -> 0 | BC44: ='MANWEB - Annex 5 LLFs'!$B$19-SUM(BC43) -> 0 | BD44: ='MANWEB - Annex 5 LLFs'!$C$19-SUM(BD43:BD43) -> 0 | BE44: ='MANWEB - Annex 5 LLFs'!$D$19-SUM(BA43:BA43) -> 0 | BF44: ='MANWEB - Annex 5 LLFs'!$E$19-SUM(BF433) -> 0 | BG44: ='SPD - Annex 5 LLFs'!$B$19-SUM(BG43) -> 0 | BH44: ='SPD - Annex 5 LLFs'!$C$19-SUM(BH43:BH43) -> 0 | BI44: ='SPD - Annex 5 LLFs'!$D$19-SUM(BI43) -> 0 | BJ44: ='SPD - Annex 5 LLFs'!$E$19-SUM(BJ43) -> 0 | BK44: ='LPN - Annex 5 LLFs'!$B$19-SUM(BK43) -> 0 | BL44: ='LPN - Annex 5 LLFs'!$C$19-SUM(BL43:BL43) -> 0 | BM44: ='LPN - Annex 5 LLFs'!$D$19-SUM(BM43) -> 0 | BN44: ='LPN - Annex 5 LLFs'!$E$19-SUM(BN43) -> 0 | BO44: ='SPN - Annex 5 LLFs'!$B$19-SUM(BO43) -> 0 | BP44: ='SPN - Annex 5 LLFs'!$C$19-SUM(BP43:BP43) -> 0 | BQ44: ='SPN - Annex 5 LLFs'!$D$19-SUM(BQ43) -> 0 | BR44: ='SPN - Annex 5 LLFs'!$E$19-SUM(BR43) -> 0 | BS44: ='EPN - Annex 5 LLFs'!$B$19-SUM(BS43) -> 0 | BT44: ='EPN - Annex 5 LLFs'!$C$19-SUM(BT43:BT43) -> 0 | BU44: ='EPN - Annex 5 LLFs'!$D$19-SUM(BU43) -> 0 | BV44: ='EPN - Annex 5 LLFs'!$E$19-SUM(BV43) -> 0 | BW44: ='NPG Y - Annex 5 LLFs'!$B$19-SUM(BW43) -> 0 | BX44: ='NPG Y - Annex 5 LLFs'!$C$19-SUM(BX43:BX43) -> 0 | BY44: ='NPG Y - Annex 5 LLFs'!$D$19-SUM(BY43) -> 0 | BZ44: ='NPG Y - Annex 5 LLFs'!$E$19-SUM(BZ43) -> 0 | CA44: ='NPG NE - Annex 5 LLFs'!$B$19-SUM(CA43) -> 0 | CB44: ='NPG NE - Annex 5 LLFs'!$C$19-SUM(CB43:CB43) -> 0 | CC44: ='NPG NE - Annex 5 LLFs'!$D$19-SUM(CC43) -> 0 | CD44: ='NPG NE - Annex 5 LLFs'!$E$19-SUM(CD43) -> 0 | CE44: ='NPG NE - Annex 5 LLFs'!$F$19-SUM(CE43) -> 0
Z45: HV Substation | AA45: ='SWEB - Annex 5 LLFs'!B19-SUM(AA$43:AA44) -> 0.006 | AB45: ='SWEB - Annex 5 LLFs'!C19-SUM(AB$43:AB44) -> 0.005 | AC45: ='SWEB - Annex 5 LLFs'!D19-SUM(AC$43:AC44) -> 0.006 | AD45: ='SWEB - Annex 5 LLFs'!E19-SUM(AD$43:AD44) -> 0.006 | AE45: ='SWAE - Annex 5 LLFs'!B19-SUM(AE$43:AE44) -> 0.008 | AF45: ='SWAE - Annex 5 LLFs'!C19-SUM(AF$43:AF44) -> 0.007 | AG45: ='SWAE - Annex 5 LLFs'!D19-SUM(AG$43:AG44) -> 0.008 | AH45: ='SWAE - Annex 5 LLFs'!E19-SUM(AH$43:AH44) -> 0.007 | AI45: ='MIDE - Annex 5 LLFs'!B19-SUM(AI43:AI44) -> 0.007 | AJ45: ='MIDE - Annex 5 LLFs'!C19-SUM(AJ43:AJ44) -> 0.007 | AK45: ='MIDE - Annex 5 LLFs'!D19-SUM(AK43:AK44) -> 0.006 | AL45: ='MIDE - Annex 5 LLFs'!E19-SUM(AL43:AL44) -> 0.007 | AM45: ='EMEB - Annex 5 LLFs'!B19-SUM(AM$43:AM44) -> 0.006 | AN45: ='EMEB - Annex 5 LLFs'!C19-SUM(AN$43:AN44) -> 0.006 | AO45: ='EMEB - Annex 5 LLFs'!D19-SUM(AO$43:AO44) -> 0.007 | AP45: ='EMEB - Annex 5 LLFs'!E19-SUM(AP$43:AP44) -> 0.006 | AQ45: ='NORW - Annex 5 LLFs'!$B$18-SUM($AQ$43:$AQ$44) -> 0.005 | AR45: ='NORW - Annex 5 LLFs'!$C$18-SUM($AR$43:$AR$44) -> 0.005 | AS45: ='NORW - Annex 5 LLFs'!$D$18-SUM($AS$43:$AS$44) -> 0.006 | AT45: ='NORW - Annex 5 LLFs'!$E$18-SUM($AT$43:$AT$44) -> 0.005 | AU45: ='SEPD - Annex 5 LLFs'!$B$18-SUM(AU43:AU44) -> 0 | AV45: ='SEPD - Annex 5 LLFs'!$C$18-SUM(AV43:AV44) -> 0 | AW45: ='SEPD - Annex 5 LLFs'!$D$18-SUM(AW43:AW44) -> 0 | AX45: ='SEPD - Annex 5 LLFs'!$E$18-SUM(AX43:AX44) -> 0 | AY45: ='SHEPD - Annex 5 LLFs'!$B$18-SUM(AY43:AY44) -> 0 | AZ45: ='SHEPD - Annex 5 LLFs'!$C$18-SUM(AZ43:AZ44) -> 0 | BA45: ='SHEPD - Annex 5 LLFs'!$D$18-SUM(BA43:BA44) -> 0 | BB45: ='SHEPD - Annex 5 LLFs'!$E$18-SUM(BB43:BB44) -> 0 | BC45: ='MANWEB - Annex 5 LLFs'!$B$18-SUM(BC43:BC44) -> 0 | BD45: ='MANWEB - Annex 5 LLFs'!$C$18-SUM(BD43:BD44) -> 0 | BE45: ='MANWEB - Annex 5 LLFs'!$D$18-SUM(BE43:BE44) -> 0 | BF45: ='MANWEB - Annex 5 LLFs'!$E$18-SUM(BF43:BF44) -> 0 | BG45: ='SPD - Annex 5 LLFs'!$B$18-SUM(BG43:BG44) -> 0 | BH45: ='SPD - Annex 5 LLFs'!$C$18-SUM(BH43:BH44) -> 0 | BI45: ='SPD - Annex 5 LLFs'!$D$18-SUM(BI43:BI44) -> 0 | BJ45: ='SPD - Annex 5 LLFs'!$E$18-SUM(BJ43:BJ44) -> 0 | BK45: ='LPN - Annex 5 LLFs'!$B$18-SUM(BK43:BK44) -> 0 | BL45: ='LPN - Annex 5 LLFs'!$C$18-SUM(BL43:BL44) -> 0 | BM45: ='LPN - Annex 5 LLFs'!$D$18-SUM(BM43:BM44) -> 0 | BN45: ='LPN - Annex 5 LLFs'!$E$18-SUM(BN43:BN44) -> 0 | BO45: ='SPN - Annex 5 LLFs'!$B$18-SUM(BO43:BO44) -> 0 | BP45: ='SPN - Annex 5 LLFs'!$C$18-SUM(BP43:BP44) -> 0 | BQ45: ='SPN - Annex 5 LLFs'!$D$18-SUM(BQ43:BQ44) -> 0 | BR45: ='SPN - Annex 5 LLFs'!$E$18-SUM(BR43:BR44) -> 0 | BS45: ='EPN - Annex 5 LLFs'!$B$18-SUM(BS43:BS44) -> 0 | BT45: ='EPN - Annex 5 LLFs'!$C$18-SUM(BT43:BT44) -> 0 | BU45: ='EPN - Annex 5 LLFs'!$D$18-SUM(BU43:BU44) -> 0 | BV45: ='EPN - Annex 5 LLFs'!$E$18-SUM(BV43:BV44) -> 0 | BW45: ='NPG Y - Annex 5 LLFs'!$B$18-SUM(BW43:BW44) -> 0 | BX45: ='NPG Y - Annex 5 LLFs'!$C$18-SUM(BX43:BX44) -> 0 | BY45: ='NPG Y - Annex 5 LLFs'!$D$18-SUM(BY43:BY44) -> 0 | BZ45: ='NPG Y - Annex 5 LLFs'!$E$18-SUM(BZ43:BZ44) -> 0 | CA45: ='NPG NE - Annex 5 LLFs'!$B$18-SUM(CA43:CA44) -> 0 | CB45: ='NPG NE - Annex 5 LLFs'!$C$18-SUM(CB43:CB44) -> 0 | CC45: ='NPG NE - Annex 5 LLFs'!$D$18-SUM(CC43:CC44) -> 0 | CD45: ='NPG NE - Annex 5 LLFs'!$E$18-SUM(CD43:CD44) -> 0 | CE45: ='NPG NE - Annex 5 LLFs'!$F$18-SUM(CE43:CE44) -> 0
Z46: HV Network | AA46: ='SWEB - Annex 5 LLFs'!B20-SUM(AA$43:AA45) -> 0.018 | AB46: ='SWEB - Annex 5 LLFs'!C20-SUM(AB$43:AB45) -> 0.016 | AC46: ='SWEB - Annex 5 LLFs'!D20-SUM(AC$43:AC45) -> 0.011 | AD46: ='SWEB - Annex 5 LLFs'!E20-SUM(AD$43:AD45) -> 0.013 | AE46: ='SWAE - Annex 5 LLFs'!B20-SUM(AE$43:AE45) -> 0.009 | AF46: ='SWAE - Annex 5 LLFs'!C20-SUM(AF$43:AF45) -> 0.008 | AG46: ='SWAE - Annex 5 LLFs'!D20-SUM(AG$43:AG45) -> 0.002 | AH46: ='SWAE - Annex 5 LLFs'!E20-SUM(AH$43:AH45) -> 0.006 | AI46: ='MIDE - Annex 5 LLFs'!B20-SUM(AI43:AI45) -> 0.026 | AJ46: ='MIDE - Annex 5 LLFs'!C20-SUM(AJ43:AJ45) -> 0.023 | AK46: ='MIDE - Annex 5 LLFs'!D20-SUM(AK43:AK45) -> 0.013 | AL46: ='MIDE - Annex 5 LLFs'!E20-SUM(AL43:AL45) -> 0.018 | AM46: ='EMEB - Annex 5 LLFs'!B20-SUM(AM$43:AM45) -> 0.016 | AN46: ='EMEB - Annex 5 LLFs'!C20-SUM(AN$43:AN45) -> 0.014 | AO46: ='EMEB - Annex 5 LLFs'!D20-SUM(AO$43:AO45) -> 0.008 | AP46: ='EMEB - Annex 5 LLFs'!E20-SUM(AP$43:AP45) -> 0.011 | AQ46: ='NORW - Annex 5 LLFs'!$B17-SUM($AQ43:$AQ45) -> 0.011 | AR46: ='NORW - Annex 5 LLFs'!$C$17-SUM($AR$43:$AR$45) -> 0.009 | AS46: ='NORW - Annex 5 LLFs'!$D$17-SUM($AS$43:$AS$45) -> 0.006 | AT46: ='NORW - Annex 5 LLFs'!$E$17-SUM($AT$43:$AT$45) -> 0.008 | AU46: ='SEPD - Annex 5 LLFs'!$B17-SUM(AU43:AU45) -> 0 | AV46: ='SEPD - Annex 5 LLFs'!$C$17-SUM(AV43:AV45) -> 0 | AW46: ='SEPD - Annex 5 LLFs'!$D$17-SUM(AW43:AW45) -> 0 | AX46: ='SEPD - Annex 5 LLFs'!$E$17-SUM(AX43:AX45) -> 0 | AY46: ='SHEPD - Annex 5 LLFs'!$B17-SUM(AY43:AY45) -> 0 | AZ46: ='SHEPD - Annex 5 LLFs'!$C$17-SUM(AZ43:AZ45) -> 0 | BA46: ='SHEPD - Annex 5 LLFs'!$D$17-SUM(BA43:BA45) -> 0 | BB46: ='SHEPD - Annex 5 LLFs'!$E$17-SUM(BB43:BB45) -> 0 | BC46: ='MANWEB - Annex 5 LLFs'!$B17-SUM(BC43:BC45) -> 0 | BD46: ='MANWEB - Annex 5 LLFs'!$C$17-SUM(BD43:BD45) -> 0 | BE46: ='MANWEB - Annex 5 LLFs'!$D$17-SUM(BE43:BE45) -> 0 | BF46: ='MANWEB - Annex 5 LLFs'!$E$17-SUM(BF43:BF45) -> 0 | BG46: ='SPD - Annex 5 LLFs'!$B17-SUM(BG43:BG45) -> 0 | BH46: ='SPD - Annex 5 LLFs'!$C$17-SUM(BH43:BH45) -> 0 | BI46: ='SPD - Annex 5 LLFs'!$D$17-SUM(BI43:BI45) -> 0 | BJ46: ='SPD - Annex 5 LLFs'!$E$17-SUM(BJ43:BJ45) -> 0 | BK46: ='LPN - Annex 5 LLFs'!$B17-SUM(BK43:BK45) -> 0 | BL46: ='LPN - Annex 5 LLFs'!$C$17-SUM(BL43:BL45) -> 0 | BM46: ='LPN - Annex 5 LLFs'!$D$17-SUM(BM43:BM45) -> 0 | BN46: ='LPN - Annex 5 LLFs'!$E$17-SUM(BN43:BN45) -> 0 | BO46: ='SPN - Annex 5 LLFs'!$B17-SUM(BO43:BO45) -> 0 | BP46: ='SPN - Annex 5 LLFs'!$C$17-SUM(BP43:BP45) -> 0 | BQ46: ='SPN - Annex 5 LLFs'!$D$17-SUM(BQ43:BQ45) -> 0 | BR46: ='SPN - Annex 5 LLFs'!$E$17-SUM(BR43:BR45) -> 0 | BS46: ='EPN - Annex 5 LLFs'!$B17-SUM(BS43:BS45) -> 0 | BT46: ='EPN - Annex 5 LLFs'!$C$17-SUM(BT43:BT45) -> 0 | BU46: ='EPN - Annex 5 LLFs'!$D$17-SUM(BU43:BU45) -> 0 | BV46: ='EPN - Annex 5 LLFs'!$E$17-SUM(BV43:BV45) -> 0 | BW46: ='NPG Y - Annex 5 LLFs'!$B17-SUM(BW43:BW45) -> 0 | BX46: ='NPG Y - Annex 5 LLFs'!$C$17-SUM(BX43:BX45) -> 0 | BY46: ='NPG Y - Annex 5 LLFs'!$D$17-SUM(BY43:BY45) -> 0 | BZ46: ='NPG Y - Annex 5 LLFs'!$E$17-SUM(BZ43:BZ45) -> 0 | CA46: ='NPG NE - Annex 5 LLFs'!$B17-SUM(CA43:CA45) -> 0 | CB46: ='NPG NE - Annex 5 LLFs'!$C$17-SUM(CB43:CB45) -> 0 | CC46: ='NPG NE - Annex 5 LLFs'!$D$17-SUM(CC43:CC45) -> 0 | CD46: ='NPG NE - Annex 5 LLFs'!$E$17-SUM(CD43:CD45) -> 0 | CE46: ='NPG NE - Annex 5 LLFs'!$F$17-SUM(CE43:CE45) -> 0
Z47: LV Substation | AA47: ='SWEB - Annex 5 LLFs'!B21-SUM(AA$43:AA46) -> 0.014 | AB47: ='SWEB - Annex 5 LLFs'!C21-SUM(AB$43:AB46) -> 0.016 | AC47: ='SWEB - Annex 5 LLFs'!D21-SUM(AC$43:AC46) -> 0.023 | AD47: ='SWEB - Annex 5 LLFs'!E21-SUM(AD$43:AD46) -> 0.018 | AE47: ='SWAE - Annex 5 LLFs'!B21-SUM(AE$43:AE46) -> 0.018 | AF47: ='SWAE - Annex 5 LLFs'!C21-SUM(AF$43:AF46) -> 0.018 | AG47: ='SWAE - Annex 5 LLFs'!D21-SUM(AG$43:AG46) -> 0.025 | AH47: ='SWAE - Annex 5 LLFs'!E21-SUM(AH$43:AH46) -> 0.02 | AI47: ='MIDE - Annex 5 LLFs'!B21-SUM(AI43:AI46) -> 0.018 | AJ47: ='MIDE - Annex 5 LLFs'!C21-SUM(AJ43:AJ46) -> 0.019 | AK47: ='MIDE - Annex 5 LLFs'!D21-SUM(AK43:AK46) -> 0.025 | AL47: ='MIDE - Annex 5 LLFs'!E21-SUM(AL43:AL46) -> 0.02 | AM47: ='EMEB - Annex 5 LLFs'!B21-SUM(AM$43:AM46) -> 0.011 | AN47: ='EMEB - Annex 5 LLFs'!C21-SUM(AN$43:AN46) -> 0.013 | AO47: ='EMEB - Annex 5 LLFs'!D21-SUM(AO$43:AO46) -> 0.021 | AP47: ='EMEB - Annex 5 LLFs'!E21-SUM(AP$43:AP46) -> 0.016 | AQ47: ='NORW - Annex 5 LLFs'!$B$16-SUM($AQ$43:$AQ$46) -> 0.013 | AR47: ='NORW - Annex 5 LLFs'!$C$16-SUM($AR$43:$AR$46) -> 0.015 | AS47: ='NORW - Annex 5 LLFs'!$D$16-SUM($AS$43:$AS$46) -> 0.02 | AT47: ='NORW - Annex 5 LLFs'!$E$16-SUM($AT$43:$AT$46) -> 0.015 | AU47: ='SEPD - Annex 5 LLFs'!$B$16-SUM(AU43:AU46) -> 0 | AV47: ='SEPD - Annex 5 LLFs'!$C$16-SUM(AV43:AV46) -> 0 | AW47: ='SEPD - Annex 5 LLFs'!$D$16-SUM(AW43:AW46) -> 0 | AX47: ='SEPD - Annex 5 LLFs'!$E$16-SUM(AX43:AX46) -> 0 | AY47: ='SHEPD - Annex 5 LLFs'!$B$16-SUM(AY43:AY46) -> 0 | AZ47: ='SHEPD - Annex 5 LLFs'!$C$16-SUM(AZ43:AZ46) -> 0 | BA47: ='SHEPD - Annex 5 LLFs'!$D$16-SUM(BA43:BA46) -> 0 | BB47: ='SHEPD - Annex 5 LLFs'!$E$16-SUM(BB43:BB46) -> 0 | BC47: ='MANWEB - Annex 5 LLFs'!$B$16-SUM(BC43:BC46) -> 0 | BD47: ='MANWEB - Annex 5 LLFs'!$C$16-SUM(BD43:BD46) -> 0 | BE47: ='MANWEB - Annex 5 LLFs'!$D$16-SUM(BE43:BE46) -> 0 | BF47: ='MANWEB - Annex 5 LLFs'!$E$16-SUM(BF43:BF46) -> 0 | BG47: ='SPD - Annex 5 LLFs'!$B$16-SUM(BG43:BG46) -> 0 | BH47: ='SPD - Annex 5 LLFs'!$C$16-SUM(BH43:BH46) -> 0 | BI47: ='SPD - Annex 5 LLFs'!$D$16-SUM(BI43:BI46) -> 0 | BJ47: ='SPD - Annex 5 LLFs'!$E$16-SUM(BJ43:BJ46) -> 0 | BK47: ='LPN - Annex 5 LLFs'!$B$16-SUM(BK43:BK46) -> 0 | BL47: ='LPN - Annex 5 LLFs'!$C$16-SUM(BL43:BL46) -> 0 | BM47: ='LPN - Annex 5 LLFs'!$D$16-SUM(BM43:BM46) -> 0 | BN47: ='LPN - Annex 5 LLFs'!$E$16-SUM(BN43:BN46) -> 0 | BO47: ='SPN - Annex 5 LLFs'!$B$16-SUM(BO43:BO46) -> 0 | BP47: ='SPN - Annex 5 LLFs'!$C$16-SUM(BP43:BP46) -> 0 | BQ47: ='SPN - Annex 5 LLFs'!$D$16-SUM(BQ43:BQ46) -> 0 | BR47: ='SPN - Annex 5 LLFs'!$E$16-SUM(BR43:BR46) -> 0 | BS47: ='EPN - Annex 5 LLFs'!$B$16-SUM(BS43:BS46) -> 0 | BT47: ='EPN - Annex 5 LLFs'!$C$16-SUM(BT43:BT46) -> 0 | BU47: ='EPN - Annex 5 LLFs'!$D$16-SUM(BU43:BU46) -> 0 | BV47: ='EPN - Annex 5 LLFs'!$E$16-SUM(BV43:BV46) -> 0 | BW47: ='NPG Y - Annex 5 LLFs'!$B$16-SUM(BW43:BW46) -> 0 | BX47: ='NPG Y - Annex 5 LLFs'!$C$16-SUM(BX43:BX46) -> 0 | BY47: ='NPG Y - Annex 5 LLFs'!$D$16-SUM(BY43:BY46) -> 0 | BZ47: ='NPG Y - Annex 5 LLFs'!$E$16-SUM(BZ43:BZ46) -> 0 | CA47: ='NPG NE - Annex 5 LLFs'!$B$16-SUM(CA43:CA46) -> 0 | CB47: ='NPG NE - Annex 5 LLFs'!$C$16-SUM(CB43:CB46) -> 0 | CC47: ='NPG NE - Annex 5 LLFs'!$D$16-SUM(CC43:CC46) -> 0 | CD47: ='NPG NE - Annex 5 LLFs'!$E$16-SUM(CD43:CD46) -> 0 | CE47: ='NPG NE - Annex 5 LLFs'!$F$16-SUM(CE43:CE46) -> 0
Z48: LV Network | AA48: ='SWEB - Annex 5 LLFs'!B22-SUM(AA$43:AA47) -> 0.015 | AB48: ='SWEB - Annex 5 LLFs'!C22-SUM(AB$43:AB47) -> 0.012 | AC48: ='SWEB - Annex 5 LLFs'!D22-SUM(AC$43:AC47) -> 0.01 | AD48: ='SWEB - Annex 5 LLFs'!E22-SUM(AD$43:AD47) -> 0.011 | AE48: ='SWAE - Annex 5 LLFs'!B22-SUM(AE$43:AE47) -> 0.018 | AF48: ='SWAE - Annex 5 LLFs'!C22-SUM(AF$43:AF47) -> 0.015 | AG48: ='SWAE - Annex 5 LLFs'!D22-SUM(AG$43:AG47) -> 0.01 | AH48: ='SWAE - Annex 5 LLFs'!E22-SUM(AH$43:AH47) -> 0.013 | AI48: ='MIDE - Annex 5 LLFs'!B22-SUM(AI43:AI47) -> 0.017 | AJ48: ='MIDE - Annex 5 LLFs'!C22-SUM(AJ43:AJ47) -> 0.014 | AK48: ='MIDE - Annex 5 LLFs'!D22-SUM(AK43:AK47) -> 0.01 | AL48: ='MIDE - Annex 5 LLFs'!E22-SUM(AL43:AL47) -> 0.013 | AM48: ='EMEB - Annex 5 LLFs'!B22-SUM(AM$43:AM47) -> 0.031 | AN48: ='EMEB - Annex 5 LLFs'!C22-SUM(AN$43:AN47) -> 0.026 | AO48: ='EMEB - Annex 5 LLFs'!D22-SUM(AO$43:AO47) -> 0.017 | AP48: ='EMEB - Annex 5 LLFs'!E22-SUM(AP$43:AP47) -> 0.021 | AQ48: ='NORW - Annex 5 LLFs'!$B$15-SUM($AQ$43:$AQ$47) -> 0.045 | AR48: ='NORW - Annex 5 LLFs'!$C$15-SUM($AR$43:$AR$47) -> 0.038 | AS48: ='NORW - Annex 5 LLFs'!$D$15-SUM($AS$43:$AS$47) -> 0.026 | AT48: ='NORW - Annex 5 LLFs'!$E$15-SUM($AT$43:$AT$47) -> 0.034 | AU48: ='SEPD - Annex 5 LLFs'!$B$15-SUM(AU43:AU47) -> 0 | AV48: ='SEPD - Annex 5 LLFs'!$C$15-SUM(AV43:AV47) -> 0 | AW48: ='SEPD - Annex 5 LLFs'!$D$15-SUM(AW43:AW47) -> 0 | AX48: ='SEPD - Annex 5 LLFs'!$E$15-SUM(AX43:AX47) -> 0 | AY48: ='SHEPD - Annex 5 LLFs'!$B$15-SUM(AY43:AY47) -> 0 | AZ48: ='SHEPD - Annex 5 LLFs'!$C$15-SUM(AZ43:AZ47) -> 0 | BA48: ='SHEPD - Annex 5 LLFs'!$D$15-SUM(BA43:BA47) -> 0 | BB48: ='SHEPD - Annex 5 LLFs'!$E$15-SUM(BB43:BB47) -> 0 | BC48: ='MANWEB - Annex 5 LLFs'!$B$15-SUM(BC43:BC47) -> 0 | BD48: ='MANWEB - Annex 5 LLFs'!$C$15-SUM(BD43:BD47) -> 0 | BE48: ='MANWEB - Annex 5 LLFs'!$D$15-SUM(BE43:BE47) -> 0 | BF48: ='MANWEB - Annex 5 LLFs'!$E$15-SUM(BF43:BF47) -> 0 | BG48: ='SPD - Annex 5 LLFs'!$B$15-SUM(BG43:BG47) -> 0 | BH48: ='SPD - Annex 5 LLFs'!$C$15-SUM(BH43:BH47) -> 0 | BI48: ='SPD - Annex 5 LLFs'!$D$15-SUM(BI43:BI47) -> 0 | BJ48: ='SPD - Annex 5 LLFs'!$E$15-SUM(BJ43:BJ47) -> 0 | BK48: ='LPN - Annex 5 LLFs'!$B$15-SUM(BK43:BK47) -> 0 | BL48: ='LPN - Annex 5 LLFs'!$C$15-SUM(BL43:BL47) -> 0 | BM48: ='LPN - Annex 5 LLFs'!$D$15-SUM(BM43:BM47) -> 0 | BN48: ='LPN - Annex 5 LLFs'!$E$15-SUM(BN43:BN47) -> 0 | BO48: ='SPN - Annex 5 LLFs'!$B$15-SUM(BO43:BO47) -> 0 | BP48: ='SPN - Annex 5 LLFs'!$C$15-SUM(BP43:BP47) -> 0 | BQ48: ='SPN - Annex 5 LLFs'!$D$15-SUM(BQ43:BQ47) -> 0 | BR48: ='SPN - Annex 5 LLFs'!$E$15-SUM(BR43:BR47) -> 0 | BS48: ='EPN - Annex 5 LLFs'!$B$15-SUM(BS43:BS47) -> 0 | BT48: ='EPN - Annex 5 LLFs'!$C$15-SUM(BT43:BT47) -> 0 | BU48: ='EPN - Annex 5 LLFs'!$D$15-SUM(BU43:BU47) -> 0 | BV48: ='EPN - Annex 5 LLFs'!$E$15-SUM(BV43:BV47) -> 0 | BW48: ='NPG Y - Annex 5 LLFs'!$B$15-SUM(BW43:BW47) -> 0 | BX48: ='NPG Y - Annex 5 LLFs'!$C$15-SUM(BX43:BX47) -> 0 | BY48: ='NPG Y - Annex 5 LLFs'!$D$15-SUM(BY43:BY47) -> 0 | BZ48: ='NPG Y - Annex 5 LLFs'!$E$15-SUM(BZ43:BZ47) -> 0 | CA48: ='NPG NE - Annex 5 LLFs'!$B$15-SUM(CA43:CA47) -> 0 | CB48: ='NPG NE - Annex 5 LLFs'!$C$15-SUM(CB43:CB47) -> 0 | CC48: ='NPG NE - Annex 5 LLFs'!$D$15-SUM(CC43:CC47) -> 0 | CD48: ='NPG NE - Annex 5 LLFs'!$E$15-SUM(CD43:CD47) -> 0 | CE48: ='NPG NE - Annex 5 LLFs'!$F$15-SUM(CE43:CE47) -> 0
Z50: Time periods | AA50: ='SWEB - Annex 5 LLFs'!B4 -> Period 1 | AB50: ='SWEB - Annex 5 LLFs'!C4 -> Period 2 | AC50: ='SWEB - Annex 5 LLFs'!D4 -> Period 3 | AD50: ='SWEB - Annex 5 LLFs'!E4 -> Period 4 | AE50: ='SWAE - Annex 5 LLFs'!B4 -> Period 1 | AF50: ='SWAE - Annex 5 LLFs'!C4 -> Period 2 | AG50: ='SWAE - Annex 5 LLFs'!D4 -> Period 3 | AH50: ='SWAE - Annex 5 LLFs'!E4 -> Period 4 | AI50: ='MIDE - Annex 5 LLFs'!B4 -> Period 1 | AJ50: ='MIDE - Annex 5 LLFs'!C4 -> Period 2 | AK50: ='MIDE - Annex 5 LLFs'!D4 -> Period 3 | AL50: ='MIDE - Annex 5 LLFs'!E4 -> Period 4 | AM50: ='EMEB - Annex 5 LLFs'!B4 -> Period 1 | AN50: ='EMEB - Annex 5 LLFs'!C4 -> Period 2 | AO50: ='EMEB - Annex 5 LLFs'!D4 -> Period 3 | AP50: ='EMEB - Annex 5 LLFs'!E4 -> Period 4 | AQ50: ='NORW - Annex 5 LLFs'!B4 -> Period 1 | AR50: ='NORW - Annex 5 LLFs'!C4 -> Period 2 | AS50: ='NORW - Annex 5 LLFs'!D4 -> Period 3 | AT50: ='NORW - Annex 5 LLFs'!E4 -> Period 4 | AU50: ='SEPD - Annex 5 LLFs'!B4 -> Period 1 | AV50: ='SEPD - Annex 5 LLFs'!C4 -> Period 2 | AW50: ='SEPD - Annex 5 LLFs'!D4 -> Period 3 | AX50: ='SEPD - Annex 5 LLFs'!E4 -> Period 4 | AY50: ='SHEPD - Annex 5 LLFs'!B4 -> Period 1 | AZ50: ='SHEPD - Annex 5 LLFs'!C4 -> Period 2 | BA50: ='SHEPD - Annex 5 LLFs'!D4 -> Period 3 | BB50: ='SHEPD - Annex 5 LLFs'!E4 -> Period 4 | BC50: ='MANWEB - Annex 5 LLFs'!B4 -> Period 1 | BD50: ='MANWEB - Annex 5 LLFs'!C4 -> Period 2 | BE50: ='MANWEB - Annex 5 LLFs'!D4 -> Period 3 | BF50: ='MANWEB - Annex 5 LLFs'!E4 -> Period 4 | BG50: ='SPD - Annex 5 LLFs'!B4 -> Period 1 | BH50: ='SPD - Annex 5 LLFs'!C4 -> Period 2 | BI50: ='SPD - Annex 5 LLFs'!D4 -> Period 3 | BJ50: ='SPD - Annex 5 LLFs'!E4 -> Period 4 | BK50: ='LPN - Annex 5 LLFs'!B4 -> Period 1 | BL50: ='LPN - Annex 5 LLFs'!C4 -> Period 2 | BM50: ='LPN - Annex 5 LLFs'!D4 -> Period 3 | BN50: ='LPN - Annex 5 LLFs'!E4 -> Period 4 | BO50: ='SPN - Annex 5 LLFs'!B4 -> Period 1 | BP50: ='SPN - Annex 5 LLFs'!C4 -> Period 2 | BQ50: ='SPN - Annex 5 LLFs'!D4 -> Period 3 | BR50: ='SPN - Annex 5 LLFs'!E4 -> Period 4 | BS50: ='EPN - Annex 5 LLFs'!B4 -> Period 1 | BT50: ='EPN - Annex 5 LLFs'!C4 -> Period 2 | BU50: ='EPN - Annex 5 LLFs'!D4 -> Period 3 | BV50: ='EPN - Annex 5 LLFs'!E4 -> Period 4 | BW50: ='NPG Y - Annex 5 LLFs'!B4 -> Period 1 | BX50: ='NPG Y - Annex 5 LLFs'!C4 -> Period 2 | BY50: ='NPG Y - Annex 5 LLFs'!D4 -> Period 3 | BZ50: ='NPG Y - Annex 5 LLFs'!E4 -> Period 4 | CA50: ='NPG NE - Annex 5 LLFs'!B4 -> Period 1 | CB50: ='NPG NE - Annex 5 LLFs'!C4 -> Period 2 | CC50: ='NPG NE - Annex 5 LLFs'!D4 -> Period 3 | CD50: ='NPG NE - Annex 5 LLFs'!E4 -> Period 4 | CE50: ='NPG NE - Annex 5 LLFs'!F4 -> Period 5
AA51: ='SWEB - Annex 5 LLFs'!B5 -> Peak | AB51: ='SWEB - Annex 5 LLFs'!C5 -> Winter | AC51: ='SWEB - Annex 5 LLFs'!D5 -> Night | AD51: ='SWEB - Annex 5 LLFs'!E5 -> Other | AE51: ='SWAE - Annex 5 LLFs'!B5 -> Peak | AF51: ='SWAE - Annex 5 LLFs'!C5 -> Winter | AG51: ='SWAE - Annex 5 LLFs'!D5 -> Night | AH51: ='SWAE - Annex 5 LLFs'!E5 -> Other | AI51: ='MIDE - Annex 5 LLFs'!B5 -> Peak | AJ51: ='MIDE - Annex 5 LLFs'!C5 -> Winter | AK51: ='MIDE - Annex 5 LLFs'!D5 -> Night | AL51: ='MIDE - Annex 5 LLFs'!E5 -> Other | AM51: ='EMEB - Annex 5 LLFs'!B5 -> Peak | AN51: ='EMEB - Annex 5 LLFs'!C5 -> Winter | AO51: ='EMEB - Annex 5 LLFs'!D5 -> Night | AP51: ='EMEB - Annex 5 LLFs'!E5 -> Other | AQ51: ='NORW - Annex 5 LLFs'!B5 -> Winter Peak | AR51: ='NORW - Annex 5 LLFs'!C5 -> Winter Daytime | AS51: ='NORW - Annex 5 LLFs'!D5 -> Night | AT51: ='NORW - Annex 5 LLFs'!E5 -> Other | AU51: ='SEPD - Annex 5 LLFs'!B5 -> Winter Peak | AV51: ='SEPD - Annex 5 LLFs'!C5 -> Winter Daytime | AW51: ='SEPD - Annex 5 LLFs'!D5 -> Night | AX51: ='SEPD - Annex 5 LLFs'!E5 -> Other | AY51: ='SHEPD - Annex 5 LLFs'!B5 -> Winter Peak | AZ51: ='SHEPD - Annex 5 LLFs'!C5 -> Winter Daytime | BA51: ='SHEPD - Annex 5 LLFs'!D5 -> Night | BB51: ='SHEPD - Annex 5 LLFs'!E5 -> Other | BC51: ='MANWEB - Annex 5 LLFs'!B5 -> Winter Peak | BD51: ='MANWEB - Annex 5 LLFs'!C5 -> Winter Daytime | BE51: ='MANWEB - Annex 5 LLFs'!D5 -> Night | BF51: ='MANWEB - Annex 5 LLFs'!E5 -> Other | BG51: ='SPD - Annex 5 LLFs'!B5 -> Winter Peak | BH51: ='SPD - Annex 5 LLFs'!C5 -> Winter Daytime | BI51: ='SPD - Annex 5 LLFs'!D5 -> Night | BJ51: ='SPD - Annex 5 LLFs'!E5 -> Other | BK51: ='LPN - Annex 5 LLFs'!B5 -> Winter Peak | BL51: ='LPN - Annex 5 LLFs'!C5 -> Winter Daytime | BM51: ='LPN - Annex 5 LLFs'!D5 -> Night | BN51: ='LPN - Annex 5 LLFs'!E5 -> Other | BO51: ='SPN - Annex 5 LLFs'!B5 -> Winter Peak | BP51: ='SPN - Annex 5 LLFs'!C5 -> Winter Daytime | BQ51: ='SPN - Annex 5 LLFs'!D5 -> Night | BR51: ='SPN - Annex 5 LLFs'!E5 -> Other | BS51: ='EPN - Annex 5 LLFs'!B5 -> Winter Peak | BT51: ='EPN - Annex 5 LLFs'!C5 -> Winter Daytime | BU51: ='EPN - Annex 5 LLFs'!D5 -> Night | BV51: ='EPN - Annex 5 LLFs'!E5 -> Other | BW51: ='NPG Y - Annex 5 LLFs'!B5 -> Winter Peak | BX51: ='NPG Y - Annex 5 LLFs'!C5 -> Winter Daytime | BY51: ='NPG Y - Annex 5 LLFs'!D5 -> Night | BZ51: ='NPG Y - Annex 5 LLFs'!E5 -> Other | CA51: ='NPG NE - Annex 5 LLFs'!B5 -> Winter Peak | CB51: ='NPG NE - Annex 5 LLFs'!C5 -> Winter Daytime | CC51: ='NPG NE - Annex 5 LLFs'!D5 -> Night | CD51: ='NPG NE - Annex 5 LLFs'!E5 -> Other | CE51: ='NPG NE - Annex 5 LLFs'!F5 -> Extra
F52: Demand increase/Generation Export Increase | L52: Demand decrease/Generation Export Reduction | Z52: Monday to Friday March to October | AA52: ='SWEB - Annex 5 LLFs'!B6 -> 0 | AB52: ='SWEB - Annex 5 LLFs'!C6 -> 0 | AC52: ='SWEB - Annex 5 LLFs'!D6 -> 00:00 - 06:30 23:30 - 24:00 | AD52: ='SWEB - Annex 5 LLFs'!E6 -> 06:30 - 23:30 | AE52: ='SWAE - Annex 5 LLFs'!B6 -> 0 | AF52: ='SWAE - Annex 5 LLFs'!C6 -> 0 | AG52: ='SWAE - Annex 5 LLFs'!D6 -> 00:30 - 07:30 | AH52: ='SWAE - Annex 5 LLFs'!E6 -> 00:00 - 00:30 07:30 - 24:00 | AI52: ='MIDE - Annex 5 LLFs'!B6 -> 0 | AJ52: ='MIDE - Annex 5 LLFs'!C6 -> 0 | AK52: ='MIDE - Annex 5 LLFs'!D6 -> 00:30 – 07:30 | AL52: ='MIDE - Annex 5 LLFs'!E6 -> 07:30 – 00:30 | AM52: ='EMEB - Annex 5 LLFs'!B6 -> 0 | AN52: ='EMEB - Annex 5 LLFs'!C6 -> 0 | AO52: ='EMEB - Annex 5 LLFs'!D6 -> 00:30 – 07:30 | AP52: ='EMEB - Annex 5 LLFs'!E6 -> 07:30 – 00:30 | AQ52: ='NORW - Annex 5 LLFs'!B6 -> 0 | AR52: ='NORW - Annex 5 LLFs'!C6 -> 0 | AS52: ='NORW - Annex 5 LLFs'!D6 -> 00:00 - 07:00 | AT52: ='NORW - Annex 5 LLFs'!E6 -> 07:00 - 00:00 | AU52: ='SEPD - Annex 5 LLFs'!B6 -> 0 | AV52: ='SEPD - Annex 5 LLFs'!C6 -> 0 | AW52: ='SEPD - Annex 5 LLFs'!D6 -> 0 | AX52: ='SEPD - Annex 5 LLFs'!E6 -> 0 | AY52: ='SHEPD - Annex 5 LLFs'!B6 -> 0 | AZ52: ='SHEPD - Annex 5 LLFs'!C6 -> 0 | BA52: ='SHEPD - Annex 5 LLFs'!D6 -> 0 | BB52: ='SHEPD - Annex 5 LLFs'!E6 -> 0 | BC52: ='MANWEB - Annex 5 LLFs'!B6 -> 0 | BD52: ='MANWEB - Annex 5 LLFs'!C6 -> 0 | BE52: ='MANWEB - Annex 5 LLFs'!D6 -> 0 | BF52: ='MANWEB - Annex 5 LLFs'!E6 -> 0 | BG52: ='SPD - Annex 5 LLFs'!B6 -> 0 | BH52: ='SPD - Annex 5 LLFs'!C6 -> 0 | BI52: ='SPD - Annex 5 LLFs'!D6 -> 0 | BJ52: ='SPD - Annex 5 LLFs'!E6 -> 0 | BK52: ='LPN - Annex 5 LLFs'!B6 -> 0 | BL52: ='LPN - Annex 5 LLFs'!C6 -> 0 | BM52: ='LPN - Annex 5 LLFs'!D6 -> 0 | BN52: ='LPN - Annex 5 LLFs'!E6 -> 0 | BO52: ='SPN - Annex 5 LLFs'!B6 -> 0 | BP52: ='SPN - Annex 5 LLFs'!C6 -> 0 | BQ52: ='SPN - Annex 5 LLFs'!D6 -> 0 | BR52: ='SPN - Annex 5 LLFs'!E6 -> 0 | BS52: ='EPN - Annex 5 LLFs'!B6 -> 0 | BT52: ='EPN - Annex 5 LLFs'!C6 -> 0 | BU52: ='EPN - Annex 5 LLFs'!D6 -> 0 | BV52: ='EPN - Annex 5 LLFs'!E6 -> 0 | BW52: ='NPG Y - Annex 5 LLFs'!B6 -> 0 | BX52: ='NPG Y - Annex 5 LLFs'!C6 -> 0 | BY52: ='NPG Y - Annex 5 LLFs'!D6 -> 0 | BZ52: ='NPG Y - Annex 5 LLFs'!E6 -> 0 | CA52: ='NPG NE - Annex 5 LLFs'!B6 -> 0 | CB52: ='NPG NE - Annex 5 LLFs'!C6 -> 0 | CC52: ='NPG NE - Annex 5 LLFs'!D6 -> 0 | CD52: ='NPG NE - Annex 5 LLFs'!E6 -> 0 | CE52: ='NPG NE - Annex 5 LLFs'!F6 -> 0
D53: LV Network | E53: LV Substation | F53: HV Network | G53: HV Substation | H53: EHV Network | K53: LV Network | L53: LV Substation | M53: HV Network | N53: HV Substation | O53: EHV Network | Z53: Monday to Friday November to February | AA53: ='SWEB - Annex 5 LLFs'!B7 -> 16:00 - 19:00 | AB53: ='SWEB - Annex 5 LLFs'!C7 -> 06:30 - 16:00 | AC53: ='SWEB - Annex 5 LLFs'!D7 -> 00:00 - 06:30 23:30 - 24:00 | AD53: ='SWEB - Annex 5 LLFs'!E7 -> 19:00 - 23:30 | AE53: ='SWAE - Annex 5 LLFs'!B7 -> 16:00 – 19:00 | AF53: ='SWAE - Annex 5 LLFs'!C7 -> 07:30 – 16:00 | AG53: ='SWAE - Annex 5 LLFs'!D7 -> 00:30 - 07:30 | AH53: ='SWAE - Annex 5 LLFs'!E7 -> 00:00 - 00:30 19:00 - 24:00 | AI53: ='MIDE - Annex 5 LLFs'!B7 -> 16:00 – 19:00 | AJ53: ='MIDE - Annex 5 LLFs'!C7 -> 07:30 – 16:00 19:00 – 20:00 | AK53: ='MIDE - Annex 5 LLFs'!D7 -> 00:30 – 07:30 | AL53: ='MIDE - Annex 5 LLFs'!E7 -> 20:00 – 00:30 | AM53: ='EMEB - Annex 5 LLFs'!B7 -> 16:00 – 19:00 | AN53: ='EMEB - Annex 5 LLFs'!C7 -> 07:30 – 16:00 19:00 – 20:00 | AO53: ='EMEB - Annex 5 LLFs'!D7 -> 00:30 – 07:30 | AP53: ='EMEB - Annex 5 LLFs'!E7 -> 20:00 – 00:30 | AQ53: ='NORW - Annex 5 LLFs'!B7 -> 16:00 – 19:00 | AR53: ='NORW - Annex 5 LLFs'!C7 -> 07:00 – 16:00 19:00 – 00:00 | AS53: ='NORW - Annex 5 LLFs'!D7 -> 00:00 - 07:00 | AT53: ='NORW - Annex 5 LLFs'!E7 -> 0 | AU53: ='SEPD - Annex 5 LLFs'!B7 -> 0 | AV53: ='SEPD - Annex 5 LLFs'!C7 -> 0 | AW53: ='SEPD - Annex 5 LLFs'!D7 -> 0 | AX53: ='SEPD - Annex 5 LLFs'!E7 -> 0 | AY53: ='SHEPD - Annex 5 LLFs'!B7 -> 0 | AZ53: ='SHEPD - Annex 5 LLFs'!C7 -> 0 | BA53: ='SHEPD - Annex 5 LLFs'!D7 -> 0 | BB53: ='SHEPD - Annex 5 LLFs'!E7 -> 0 | BC53: ='MANWEB - Annex 5 LLFs'!B7 -> 0 | BD53: ='MANWEB - Annex 5 LLFs'!C7 -> 0 | BE53: ='MANWEB - Annex 5 LLFs'!D7 -> 0 | BF53: ='MANWEB - Annex 5 LLFs'!E7 -> 0 | BG53: ='SPD - Annex 5 LLFs'!B7 -> 0 | BH53: ='SPD - Annex 5 LLFs'!C7 -> 0 | BI53: ='SPD - Annex 5 LLFs'!D7 -> 0 | BJ53: ='SPD - Annex 5 LLFs'!E7 -> 0 | BK53: ='LPN - Annex 5 LLFs'!B7 -> 0 | BL53: ='LPN - Annex 5 LLFs'!C7 -> 0 | BM53: ='LPN - Annex 5 LLFs'!D7 -> 0 | BN53: ='LPN - Annex 5 LLFs'!E7 -> 0 | BO53: ='SPN - Annex 5 LLFs'!B7 -> 0 | BP53: ='SPN - Annex 5 LLFs'!C7 -> 0 | BQ53: ='SPN - Annex 5 LLFs'!D7 -> 0 | BR53: ='SPN - Annex 5 LLFs'!E7 -> 0 | BS53: ='EPN - Annex 5 LLFs'!B7 -> 0 | BT53: ='EPN - Annex 5 LLFs'!C7 -> 0 | BU53: ='EPN - Annex 5 LLFs'!D7 -> 0 | BV53: ='EPN - Annex 5 LLFs'!E7 -> 0 | BW53: ='NPG Y - Annex 5 LLFs'!B7 -> 0 | BX53: ='NPG Y - Annex 5 LLFs'!C7 -> 0 | BY53: ='NPG Y - Annex 5 LLFs'!D7 -> 0 | BZ53: ='NPG Y - Annex 5 LLFs'!E7 -> 0 | CA53: ='NPG NE - Annex 5 LLFs'!B7 -> 0 | CB53: ='NPG NE - Annex 5 LLFs'!C7 -> 0 | CC53: ='NPG NE - Annex 5 LLFs'!D7 -> 0 | CD53: ='NPG NE - Annex 5 LLFs'!E7 -> 0 | CE53: ='NPG NE - Annex 5 LLFs'!F7 -> 0
C54: LV Network | D54: =$D$12*SUM(-$D$21,$E$21)/SUM($D$21:$G$25)*(SUM($AC$67:$AC$72)-1) -> 0 | E54: =((E12*SUM(-$D$21,$E$21)/SUM($D$21:$G$25))*(((SUM(AC67:AC71)-1))-((SUM(AC72))))) -> 0 | F54: =((F12*SUM(-$D$21, $E$21)/SUM($D$21:$G$25))*(((SUM(AC67:AC70)-1))-((SUM(AC71:AC72))))) -> 0 | G54: =(($G$12*SUM(-$D$21,$E$21)/SUM($D$21:$G$25))*(((SUM(AC67:AC69)-1))-((SUM(AC70:AC72))))) -> 0 | H54: =((H12*SUM(-$D$21, $E$21)/SUM($D$21:$G$25))*(((SUM(AC67:AC68)-1))-((SUM(AC69:AC72))))) -> 0 | J54: LV Network | K54: =D12*SUM($F$21,-G21)/SUM($D$21:$G$25)*(SUM(AC67:AC72)-1) -> 0 | L54: =E12*SUM($F$21,-G21)/SUM($D$21:$G$25)*(SUM(AC67:AC72)-1) -> 0 | M54: =F12*SUM($F$21,-G21)/SUM($D$21:$G$25)*(SUM(AC67:AC72)-1) -> 0 | N54: =G12*SUM($F$21,-G21)/SUM($D$21:$G$25)*(SUM(AC67:AC72)-1) -> 0 | O54: =H12*SUM($F$21,-G21)/SUM($D$21:$G$25)*(SUM(AC67:AC72)-1) -> 0 | Z54: Saturday and Sunday All Year | AA54: ='SWEB - Annex 5 LLFs'!B8 -> 0 | AB54: ='SWEB - Annex 5 LLFs'!C8 -> 0 | AC54: ='SWEB - Annex 5 LLFs'!D8 -> 00:00 - 06:30 23:30 - 24:00 | AD54: ='SWEB - Annex 5 LLFs'!E8 -> 06:30 - 23:30 | AE54: ='SWAE - Annex 5 LLFs'!B8 -> 0 | AF54: ='SWAE - Annex 5 LLFs'!C8 -> 0 | AG54: ='SWAE - Annex 5 LLFs'!D8 -> 00:30 - 07:30 | AH54: ='SWAE - Annex 5 LLFs'!E8 -> 00:00 - 00:30 07:30 - 24:00 | AI54: ='MIDE - Annex 5 LLFs'!B8 -> 0 | AJ54: ='MIDE - Annex 5 LLFs'!C8 -> 0 | AK54: ='MIDE - Annex 5 LLFs'!D8 -> 00:30 – 07:30 | AL54: ='MIDE - Annex 5 LLFs'!E8 -> 07:30 – 00:30 | AM54: ='EMEB - Annex 5 LLFs'!B8 -> 0 | AN54: ='EMEB - Annex 5 LLFs'!C8 -> 0 | AO54: ='EMEB - Annex 5 LLFs'!D8 -> 00:30 – 07:30 | AP54: ='EMEB - Annex 5 LLFs'!E8 -> 07:30 – 00:30 | AQ54: ='NORW - Annex 5 LLFs'!B8 -> 0 | AR54: ='NORW - Annex 5 LLFs'!C8 -> 0 | AS54: ='NORW - Annex 5 LLFs'!D8 -> 00:00 - 07:00 | AT54: ='NORW - Annex 5 LLFs'!E8 -> 07:00 - 00:00 | AU54: ='SEPD - Annex 5 LLFs'!B8 -> 0 | AV54: ='SEPD - Annex 5 LLFs'!C8 -> 0 | AW54: ='SEPD - Annex 5 LLFs'!D8 -> 0 | AX54: ='SEPD - Annex 5 LLFs'!E8 -> 0 | AY54: ='SHEPD - Annex 5 LLFs'!B8 -> 0 | AZ54: ='SHEPD - Annex 5 LLFs'!C8 -> 0 | BA54: ='SHEPD - Annex 5 LLFs'!D8 -> 0 | BB54: ='SHEPD - Annex 5 LLFs'!E8 -> 0 | BC54: ='MANWEB - Annex 5 LLFs'!B8 -> 0 | BD54: ='MANWEB - Annex 5 LLFs'!C8 -> 0 | BE54: ='MANWEB - Annex 5 LLFs'!D8 -> 0 | BF54: ='MANWEB - Annex 5 LLFs'!E8 -> 0 | BG54: ='SPD - Annex 5 LLFs'!B8 -> 0 | BH54: ='SPD - Annex 5 LLFs'!C8 -> 0 | BI54: ='SPD - Annex 5 LLFs'!D8 -> 0 | BJ54: ='SPD - Annex 5 LLFs'!E8 -> 0 | BK54: ='LPN - Annex 5 LLFs'!B8 -> 0 | BL54: ='LPN - Annex 5 LLFs'!C8 -> 0 | BM54: ='LPN - Annex 5 LLFs'!D8 -> 0 | BN54: ='LPN - Annex 5 LLFs'!E8 -> 0 | BO54: ='SPN - Annex 5 LLFs'!B8 -> 0 | BP54: ='SPN - Annex 5 LLFs'!C8 -> 0 | BQ54: ='SPN - Annex 5 LLFs'!D8 -> 0 | BR54: ='SPN - Annex 5 LLFs'!E8 -> 0 | BS54: ='EPN - Annex 5 LLFs'!B8 -> 0 | BT54: ='EPN - Annex 5 LLFs'!C8 -> 0 | BU54: ='EPN - Annex 5 LLFs'!D8 -> 0 | BV54: ='EPN - Annex 5 LLFs'!E8 -> 0 | BW54: ='NPG Y - Annex 5 LLFs'!B8 -> 0 | BX54: ='NPG Y - Annex 5 LLFs'!C8 -> 0 | BY54: ='NPG Y - Annex 5 LLFs'!D8 -> 0 | BZ54: ='NPG Y - Annex 5 LLFs'!E8 -> 0 | CA54: ='NPG NE - Annex 5 LLFs'!B8 -> 0 | CB54: ='NPG NE - Annex 5 LLFs'!C8 -> 0 | CC54: ='NPG NE - Annex 5 LLFs'!D8 -> 0 | CD54: ='NPG NE - Annex 5 LLFs'!E8 -> 0 | CE54: ='NPG NE - Annex 5 LLFs'!F8 -> 0
C55: LV Substation | D55: N/A | E55: =$E$12*SUM(-$D$22, $E$22)/SUM($D$21:$G$25)*(SUM(AC67:AC71)-1) -> 0 | F55: =((F12*SUM(-$D$22, $E$22)/SUM($D$21:$G$25))*(((SUM(AC67:AC70)-1))-((SUM(AC71))))) -> 0 | G55: =(($G$12*SUM(-$D$22, $E$22)/SUM($D$21:$G$25))*(((SUM(AC67:AC69)-1))-((SUM(AC70:AC71))))) -> 0 | H55: =((H12*SUM(-$D$22, $E$22)/SUM($D$21:$G$25))*(((SUM(AC67:AC68)-1))-((SUM(AC69:AC71))))) -> 0 | J55: LV Substation | K55: N/A | L55: =E12*SUM($F$22)/SUM($D$21:$G$25)*(SUM(AC67:AC71)-1) -> -2.8992 | M55: =F12*SUM($F$22,-G22)/SUM($D$21:$G$25)*(SUM(AC67:AC71)-1) -> 0 | N55: =G12*SUM($F$22,-G22)/SUM($D$21:$G$25)*(SUM(AC67:AC71)-1) -> 0 | O55: =H12*SUM($F$22,-G22)/SUM($D$21:$G$25)*(SUM(AC67:AC71)-1) -> 0
B56: Flexibility Provided | C56: HV Network | D56: N/A | E56: N/A | F56: =F12*SUM(-$D$23, $E$23)/SUM($D$21:$G$25)*(SUM(AC67:AC70)-1) -> 0 | G56: =(($G$12*SUM(-$D$23, $E$23)/SUM($D$21:$G$25))*(((SUM(AC67:AC69)-1))-((SUM(AC70))))) -> 0 | H56: =((H12*SUM(-$D$23,$E$23)/SUM($D$21:$G$25))*(((SUM(AC67:AC68)-1))-((SUM(AC69:AC70))))) -> 0 | J56: HV Network | K56: N/A | L56: N/A | M56: =F12*SUM($F$23,-$G$23)/SUM($D$21:$G$25)*(SUM(AC67:AC70)-1) -> 0 | N56: =G12*SUM($F$23,-$G$23)/SUM($D$21:$G$25)*(SUM(AC67:AC70)-1) -> 0 | O56: =H12*SUM($F$23,-$G$23)/SUM($D$21:$G$25)*(SUM(AC67:AC70)-1) -> 0 | AC56: =D5 -> NORW
C57: HV Substation | D57: N/A | E57: N/A | F57: N/A | G57: =G12*SUM(-$D$24, $E$24)/SUM($D$21:$G$25)*(SUM(AC67:AC69)-1) -> 0 | H57: =((H12*SUM(-$D$24, $E$24)/SUM($D$21:$G$25))*(((SUM(AC67:AC68)-1))-((SUM(AC69))))) -> 0 | J57: HV Substation | K57: N/A | L57: N/A | M57: N/A | N57: =G12*SUM($F$24,-$G$24)/SUM($D$21:$G$25)*(SUM(AC67:AC69)-1) -> 0 | O57: =H12*SUM($F$24,-$G$24)/SUM($D$21:$G$25)*(SUM(AC67:AC69)-1) -> 0 | AB57: LLFs | AC57: =OFFSET(Z50,1,1*(MATCH($AC$56,$AA$41:$CD$41,0))) -> Winter Peak | AD57: =OFFSET(AA50,1,1*(MATCH($AC$56,$AA$41:$CD$41,0))) -> Winter Daytime | AE57: =OFFSET(AB50,1,1*(MATCH($AC$56,$AA$41:$CD$41,0))) -> Night | AF57: =OFFSET(AC50,1,1*(MATCH($AC$56,$AA$41:$CD$41,0))) -> Other | AG57: =IF($AC$56= "NPG NE",OFFSET(AD50,1,1*(MATCH($AC$56,$AA$41:$CD$41,0))),"") | AN57: 132kV | AO57: EHV Network | AP57: HV Substation | AQ57: HV Network | AR57: LV Substation | AS57: LV Network
C58: EHV Network | D58: N/A | E58: N/A | F58: N/A | G58: N/A | H58: =H12*SUM(-$D$25,$E$25)/SUM($D$21:$G$25)*(SUM(AC67:AC68)-1) -> 0 | J58: EHV Network | K58: N/A | L58: N/A | M58: N/A | N58: N/A | O58: =H12*SUM($F$25,-$G$25)/SUM($D$21:$G$25)*(SUM(AC67:AC68)-1) -> 0 | AB58: 132kV | AC58: =OFFSET(Z42,1,1*(MATCH($AC$56,$AA$41:$CD$41,0))) -> 1.009 | AD58: =OFFSET(AA42,1,1*(MATCH($AC$56,$AA$41:$CD$41,0))) -> 1.008 | AE58: =OFFSET(AB42,1,1*(MATCH($AC$56,$AA$41:$CD$41,0))) -> 1.006 | AF58: =OFFSET(AC42,1,1*(MATCH($AC$56,$AA$41:$CD$41,0))) -> 1.007 | AG58: =IF($AC$56= "NPG NE", OFFSET(AD42,1,1*(MATCH($AC$56,$AA$41:$CE$41,0))), "") | AM58: =AC57 -> Winter Peak | AN58: =AC58 -> 1.009 | AO58: =AC59 -> 0.01 | AP58: =AC60 -> 0.005 | AQ58: =AC61 -> 0.011 | AR58: =AC62 -> 0.013 | AS58: =AC63 -> 0.045
AB59: EHV Network | AC59: =OFFSET(Z43,1,1*(MATCH($AC$56,$AA$41:$CD$41,0))) -> 0.01 | AD59: =OFFSET(AA43,1,1*(MATCH($AC$56,$AA$41:$CD$41,0))) -> 0.01 | AE59: =OFFSET(AB43,1,1*(MATCH($AC$56,$AA$41:$CD$41,0))) -> 0.009 | AF59: =OFFSET(AC43,1,1*(MATCH($AC$56,$AA$41:$CD$41,0))) -> 0.01 | AG59: =IF($AC$56= "NPG NE",OFFSET(AD43,1,1*(MATCH($AC$56,$AA$41:$CD$41,0))), "") | AM59: =AD57 -> Winter Daytime | AN59: =AD58 -> 1.008 | AO59: =AD59 -> 0.01 | AP59: =AD60 -> 0.005 | AQ59: =AD61 -> 0.009 | AR59: =AD62 -> 0.015 | AS59: =AD63 -> 0.038
AB60: HV Substation | AC60: =OFFSET(Z44,1,1*(MATCH($AC$56,$AA$41:$CD$41,0))) -> 0.005 | AD60: =OFFSET(AA44,1,1*(MATCH($AC$56,$AA$41:$CD$41,0))) -> 0.005 | AE60: =OFFSET(AB44,1,1*(MATCH($AC$56,$AA$41:$CD$41,0))) -> 0.006 | AF60: =OFFSET(AC44,1,1*(MATCH($AC$56,$AA$41:$CD$41,0))) -> 0.005 | AG60: =IF($AC$56= "NPG NE",OFFSET(AD44,1,1*(MATCH($AC$56,$AA$41:$CD$41,0))), "") | AM60: =AE57 -> Night | AN60: =AE58 -> 1.006 | AO60: =AE59 -> 0.009 | AP60: =AE60 -> 0.006 | AQ60: =AE61 -> 0.006 | AR60: =AE62 -> 0.02 | AS60: =AE63 -> 0.026
AB61: HV Network | AC61: =OFFSET(Z45,1,1*(MATCH($AC$56,$AA$41:$CD$41,0))) -> 0.011 | AD61: =OFFSET(AA45,1,1*(MATCH($AC$56,$AA$41:$CD$41,0))) -> 0.009 | AE61: =OFFSET(AB45,1,1*(MATCH($AC$56,$AA$41:$CD$41,0))) -> 0.006 | AF61: =OFFSET(AC45,1,1*(MATCH($AC$56,$AA$41:$CD$41,0))) -> 0.008 | AG61: =IF($AC$56= "NPG NE",OFFSET(AD45,1,1*(MATCH($AC$56,$AA$41:$CD$41,0))), "") | AM61: =AF57 -> Other | AN61: =AF58 -> 1.007 | AO61: =AF59 -> 0.01 | AP61: =AF60 -> 0.005 | AQ61: =AF61 -> 0.008 | AR61: =AF62 -> 0.015 | AS61: =AF63 -> 0.034
AB62: LV Substation | AC62: =OFFSET(Z46,1,1*(MATCH($AC$56,$AA$41:$CD$41,0))) -> 0.013 | AD62: =OFFSET(AA46,1,1*(MATCH($AC$56,$AA$41:$CD$41,0))) -> 0.015 | AE62: =OFFSET(AB46,1,1*(MATCH($AC$56,$AA$41:$CD$41,0))) -> 0.02 | AF62: =OFFSET(AC46,1,1*(MATCH($AC$56,$AA$41:$CD$41,0))) -> 0.015 | AG62: =IF($AC$56= "NPG NE",OFFSET(AD46,1,1*(MATCH($AC$56,$AA$41:$CD$41,0))), "") | AM62: =AG57 | AN62: =AG58 | AO62: =AG59 | AP62: =AG60 | AQ62: =AG61 | AR62: =AG62 | AS62: =AG63
AB63: LV Network | AC63: =OFFSET(Z47,1,1*(MATCH($AC$56,$AA$41:$CD$41,0))) -> 0.045 | AD63: =OFFSET(AA47,1,1*(MATCH($AC$56,$AA$41:$CD$41,0))) -> 0.038 | AE63: =OFFSET(AB47,1,1*(MATCH($AC$56,$AA$41:$CD$41,0))) -> 0.026 | AF63: =OFFSET(AC47,1,1*(MATCH($AC$56,$AA$41:$CD$41,0))) -> 0.034 | AG63: =IF($AC$56= "NPG NE",OFFSET(AD47,1,1*(MATCH($AC$56,$AA$41:$CD$41,0))), "")
AB66: LLF Factors for Selected period
C67: Error Checking | H67: Loss Increase on Upstream due to ESS charging | K67: Loss Increase on Upstream due to DSR Shifting | AB67: 132kV | AC67: =OFFSET(AB57,1,1*(MATCH($D$6,$AC$57:$AG$57,0))) -> 1.009
C68: LV network requirements error check | D68: =IF(AND(SUM(D12)>0, SUM(D22:G25)>0), "Error - The voltage of services provided is higher than the requirement voltage", "OK") -> OK | AB68: EHV Network | AC68: =OFFSET(AB58,1,1*(MATCH($D$6,$AC$57:$AF$57,0))) -> 0.01
C69: LV Substation requirements error check | D69: =IF(AND(SUM(D12:E15)>0, SUM(D23:G25)>0), "Error - The voltage of services provided is higher than the requirement voltage", "OK") -> OK | H69: 1 | K69: 1 | AB69: HV Substation | AC69: =OFFSET(AB59,1,1*(MATCH($D$6,$AC$57:$AF$57,0))) -> 0.005
C70: HV network requirements error check | D70: =IF(AND(SUM(D12:F12)>0, SUM(D24:G25)>0), "Error - The voltage of services provided is higher than the requirement voltage", "OK") -> OK | G70: EHV Network | H70: =IF(D31="yes",IFERROR(SUM($D$12:$H$15)*SUM(-D25,E25)/SUM($D$21:$G$25)*(MIN(SUM(AC58:AC59),SUM(AD58:AD59),SUM(AE58:AE59),SUM(AF58:AF59),IF($AC$56="NPG NE", SUM($AG$58:AG59),10000))-1),0),0) -> 0 | J70: EHV Network | K70: =IF(D30="yes",SUM($D$12:$H$15)*SUM(-$F$25)/SUM($D$21:$G$25)*(MIN(SUM(AC58:AC59),SUM(AD58:AD59),SUM(AE58:AE59),SUM(AF58:AF59), IF($AC$56="NPG NE", SUM($AG$58:AG59),100000))-1),0) -> 0 | AB70: HV Network | AC70: =OFFSET(AB60,1,1*(MATCH($D$6,$AC$57:$AF$57,0))) -> 0.011
C71: HV Substation requirements error check | D71: =IF(AND(SUM(D12:G15)>0, SUM(D25:G25)>0), "Error - The voltage of services provided is higher than the requirement voltage", "OK") -> OK | G71: HV Substation | H71: =IF(D31="yes",IFERROR(SUM($D$12:$H$15)*SUM(-D24,E24)/SUM($D$21:$G$25)*(MIN(SUM(AC58:AC60),SUM(AD58:AD60),SUM(AE58:AE60),SUM(AF58:AF60), IF($AC$56="NPG NE", SUM($AG$58:AG60),10000))-1),0),0) -> 0 | J71: HV Substation | K71: =IF(D30="yes",SUM($D$12:$H$15)*SUM(-$F$24)/SUM($D$21:$G$25)*(MIN(SUM(AC58:AC60),SUM(AD58:AD60),SUM(AE58:AE60),SUM(AF58:AF60), IF($AC$56="NPG NE", SUM($AG$58:AG60),10000))-1),0) -> 0 | AB71: LV Substation | AC71: =OFFSET(AB61,1,1*(MATCH($D$6,$AC$57:$AF$57,0))) -> 0.013
C72: Procurement: | D72: =IF(D8=((SUM(E21:E25,G21:G25)-SUM(D21:D25,F21:F25))),"OK","UNBALANCED") -> OK | G72: HV Network | H72: =IF(D31="yes",IFERROR(SUM($D$12:$H$15)*SUM(-$D$23,$E$23)/SUM($D$21:$G$25)*(MIN(SUM(AC58:AC61),SUM(AD58:AD61),SUM(AE58:AE61),SUM(AF58:AF61), IF($AC$56="NPG NE", SUM($AG$58:AG61),10000))-1),0),) -> 0 | J72: HV Network | K72: =IF(D30="yes",SUM($D$12:$H$15)*SUM(-$F$23)/SUM($D$21:$G$25)*(MIN(SUM(AC58:AC61),SUM(AD58:AD61),SUM(AE58:AE61),SUM(AF58:AF61), IF($AC$56="NPG NE", SUM($AG$58:AG60),10000))-1),0) -> 0 | AB72: LV Network | AC72: =OFFSET(AB62,1,1*(MATCH($D$6,$AC$57:$AF$57,0))) -> 0.045
C73: Period | D73: =IF(OR($D$6=L18,$D$6=M18,$D$6=N18,$D$6=O18, D6=""),"OK","Period name does not match Annex 5, Please recheck") -> OK | G73: LV Substation | H73: =IF(D31="yes",IFERROR(SUM($D$12:$H$15)*SUM(-D22,E22)/SUM($D$21:$G$25)*(MIN(SUM(AC58:AC62),SUM(AD58:AD62),SUM(AE58:AE62),SUM(AF58:AF62), IF($AC$56="NPG NE", SUM($AG$58:AG62),10000))-1),0),0) -> 0 | J73: LV Substation | K73: =IF(D30="yes",SUM($D$12:$H$15)*SUM(-F$22)/SUM($D$21:$G$25)*(MIN(SUM(AC58:AC62),SUM(AD58:AD62),SUM(AE58:AE62),SUM(AF58:AF62), IF($AC$56="NPG NE", SUM($AG$58:AG60),100000))-1),0) -> 2.718
C74: Licence info check | D74: =IFERROR(IF(AND(D6<>"",D5=""),"No licence area", ok),"OK") -> OK | G74: LV Network | H74: =IF(D31="yes",IFERROR(SUM($D$12:$H$15)*SUM(-$D$21,$E$21)/SUM($D$21:$G$25)*(MIN(SUM(AC58:AC63),SUM(AD58:AD63),SUM(AE58:AE63),SUM(AF58:AF63), IF($AC$56="NPG NE", SUM($AG$58:AG63),100000))-1),0),0) -> 0 | J74: LV Network | K74: =IF(D30="yes", SUM($D$12:$H$15)*SUM(-$F$21)/SUM($D$21:$G$25)*(MIN(SUM(AC58:AC63),SUM(AD58:AD63),SUM(AE58:AE63),SUM(AF58:AF63), IF($AC$56="NPG NE", SUM($AG$58:AG60),100000))-1), 0) -> 0
AB76: =OFFSET(Z50,1,1*(MATCH($AC$56,$AA$41:$CD$41,0))) -> Winter Peak

Sheet User Guide
H1: WS1A Losses Tool Help guide
A2: Tool Overview This tool has been developed to provide a calculation method for approximating the losses associated with flexible services to resolve network constraint. This tool utilises annual LLF data relating to average network losses across an entire DNO licence area. The tool is not anticipated to be used for detailed losses modelling; for a detailed losses report, an industry approved network modelling package should be used e.g. ISPA, Digsilent, Power factory, Windebut etc… The tool is only designed to operate using a single set of LLF values which cover both import and export losses.
A10: Basic Functionality To start users must input information about the requirements for the service they are looking to procure. Users must select the license area, and the LLF period the service is being procured for. They should also enter the voltage level at which the service is required to alleviate constraints for E.g. a thermal overload at the primary transformer would trigger a requirement for a service to be provided to the "HV substation" voltage level. The requirement capacity should reflect the size of service required to alleviate the constraint in MWh. The requirement capacity sign Should reflect weather a service is required to increase demand or decrease demand e.g. for a demand overload of 200MWh through a transformer, a service would be procured to reduce demand. This service would be indicated in the calculator tool using a –ve sign (-200MWh) as shown in Figure 1. Once this information has been completed the tool will display a range of yellow boxes for the user to complete a summary of the flexible services they intend to procure split by type of service they will be providing and voltage that they service is connected via (Users should not fill in any information where a box has turned grey). For example a generator increasing output to provide a service to reduce overall network demand by 200MWh, connected to the LV network would be represented as shown in Figure 2. Provided that the user has matched the requirements and flexibility provided the tool well generate a calculated value for the estimated increase in losses. If there is an overall net reduction in losses this will be indicated by a negative value being displayed (highlighted in green text). If the user inputs incorrect information an error will display on screen. Additional functionality The tool provides additional functionality which will calculate additional losses associated with suppliers having to increase demand following a service delivery period. For example: a factory reduces production equating to a reduction in demand of 200 MWh; to make up for this loss of production the factory would increase demand by 200MWh during off peak hours. Note: the tool will always assume that the full capacity which has been reduced will be taken up during the period with the lowest LLF value. The tool also provides a feature which will calculate the losses associated with a electricity storage system/battery needing to recharge or discharge following a service delivery. If the storage system is going to be recharged utilising on site generation; this parameter should be set to "no”. The model does not take account of any inefficiently related data associated with recharging of the battery. Assumptions When a flexible service is procured the net result does not change the direction of energy flow at the voltage level it has being procured to resolve constraint at E.g. flexible service procured to resolve constraints at an HV substation Well not change the direction of flow of the EHV to HV transformer. When using a battery storage system; the recovery of energy will be recovered during the period with the lowest LLF factor. The tool does not account for any energy which is consumed within the network between the point of supply of flexible services and the constraint they have been procured to alleviate. The tool is only designed to operate using a single set of LLF values which cover both import and export losses. Additional Guidance note: Where it is know that the energy from a flexible service will be absorbed within the network prior to it reaching the point of constraint, the requirement voltage could be altered to make consideration of this. For example: If as a designer of the solution, you know that all the energy from a generator would be absorbed within a lower level of the network you could simulate this by lowering the voltage of the requirements within the tool. Likewise if you know that a proportion of the energy will be absorbed at the voltage level it is produced as you could carry out two calculations using the tool for the relevant proportions summing the two losses results together to get the end estimate. E.g. for a 500KWh constraint you may have a generator which half of its output is absorbed at LV and half which is absorbed within the HV network. So you would run the model twice. The first model would be run with 250KWh of requirement at LV being provided at LV. For the second model you would put 250KWh of requirement at HV and being provided from the LV network. | U10: Figure 1
U19: Figure 2

Sheet SWEB - Annex 5 LLFs
A2: These line loss factors have been audited by Elexon in accordance with BSCP128. The line loss factors that are approved by the BSC Panel consequently published on the Elexon website will take precedence and will be used in Settlement.
A3: Western Power Distribution (South West) plc - LLFs for year beginning 1 April 2019
A4: Time periods | B4: Period 1 | C4: Period 2 | D4: Period 3 | E4: Period 4
B5: Peak | C5: Winter | D5: Night | E5: Other
A6: Monday to Friday Mar to Oct | D6: 00:00 - 06:30 23:30 - 24:00 | E6: 06:30 - 23:30
A7: Monday to Friday Nov to Feb | B7: 16:00 - 19:00 | C7: 06:30 - 16:00 | D7: 00:00 - 06:30 23:30 - 24:00 | E7: 19:00 - 23:30
A8: Saturday and Sunday All Year | D8: 00:00 - 06:30 23:30 - 24:00 | E8: 06:30 - 23:30
A9: Notes | B9: All the above times are in UK Clock time
A12: Generic demand and generation LLFs
A13: Metered voltage, respective periods and associated LLFCs
A14: Metered voltage | B14: Period 1 | C14: Period 2 | D14: Period 3 | E14: Period 4 | F14: Associated LLFC
A15: 132kV connected | B15: 1.002 | C15: 1.001 | D15: 1.001 | E15: 1.001
A16: 132/EHV connected | B16: 1.005 | C16: 1.005 | D16: 1.006 | E16: 1.006
A17: 132/HV connected | B17: 1.006 | C17: 1.005 | D17: 1.006 | E17: 1.006
A18: EHV connected | B18: 1.014 | C18: 1.014 | D18: 1.012 | E18: 1.014 | F18: 670, 671
A19: High Voltage Substation | B19: 1.02 | C19: 1.019 | D19: 1.018 | E19: 1.02 | F19: 522, 523, 525
A20: High Voltage Network | B20: 1.038 | C20: 1.035 | D20: 1.029 | E20: 1.033 | F20: 95, 96, 510, 521, 524
A21: Low Voltage Substation | B21: 1.052 | C21: 1.051 | D21: 1.052 | E21: 1.051 | F21: 93, 94, 526, 540, 551
A22: Low Voltage Network | B22: 1.067 | C22: 1.063 | D22: 1.062 | E22: 1.062 | F22: 10, 20, 30, 40, 91, 92, 110, 202, 203, 210, 251, 430, 527, 570, 581, 970, 977, 978, 979, 980
A24: EHV site specific LLFs
A25: Demand
A26: Site | B26: Period 1 | C26: Period 2 | D26: Period 3 | E26: Period 4 | F26: Associated LLFC
A27: Rolls Royce Filton HV Import | B27: 1.02 | C27: 1.019 | D27: 1.018 | E27: 1.02 | F27: 198
A28: Ashwater Auxiliary Import (LV) | B28: 1.067 | C28: 1.063 | D28: 1.062 | E28: 1.062 | F28: 204
A29: Otterham STOR Import | B29: 1.005 | C29: 1.005 | D29: 1.006 | E29: 1.006 | F29: 250
A30: Tregarrick Farm PV | B30: 1.014 | C30: 1.014 | D30: 1.012 | E30: 1.014 | F30: 260
A31: Freathy Farm PV | B31: 1.014 | C31: 1.014 | D31: 1.012 | E31: 1.014 | F31: 261
A32: Till House PV | B32: 1.014 | C32: 1.014 | D32: 1.012 | E32: 1.014 | F32: 262
A33: Outlands Wood PV | B33: 1.014 | C33: 1.014 | D33: 1.012 | E33: 1.014 | F33: 263
A34: Culmhead PV | B34: 1.014 | C34: 1.014 | D34: 1.012 | E34: 1.014 | F34: 264
A35: Whitchurch Farm PV | B35: 1.014 | C35: 1.014 | D35: 1.012 | E35: 1.014 | F35: 265
A36: Kingsland Barton PV | B36: 1.014 | C36: 1.014 | D36: 1.012 | E36: 1.014 | F36: 266
A37: Mendip Solar PV | B37: 1.014 | C37: 1.014 | D37: 1.012 | E37: 1.014 | F37: 267
A38: St Stephen PV | B38: 1.014 | C38: 1.014 | D38: 1.012 | E38: 1.014 | F38: 268
... A307: Barton Hill Imports | B307: 1.014 | C307: 1.014 | D307: 1.012 | E307: 1.014 | F307: 7317
A309: EHV site specific LLFs
A310: Generation
A311: Site | B311: Period 1 | C311: Period 2 | D311: Period 3 | E311: Period 4 | F311: Associated LLFC
A312: Tregarrick Farm PV Export | B312: 1.014 | C312: 1.014 | D312: 1.012 | E312: 1.014 | F312: 371
A313: Freathy Farm PV Export | B313: 1.014 | C313: 1.014 | D313: 1.012 | E313: 1.014 | F313: 372
A314: Till House PV Export | B314: 1.014 | C314: 0.998 | D314: 1.012 | E314: 0.998 | F314: 373
A315: Outlands Wood PV Export | B315: 1.014 | C315: 1.029 | D315: 1.012 | E315: 1.029 | F315: 374
A316: Culmhead PV Export | B316: 1.014 | C316: 1.014 | D316: 1.012 | E316: 1.013 | F316: 375
A317: Whitchurch Farm PV Export | B317: 1.014 | C317: 1.036 | D317: 1.012 | E317: 1.036 | F317: 376
A318: Kingsland Barton PV Export | B318: 1.014 | C318: 1.046 | D318: 1.012 | E318: 1.046 | F318: 377
A319: Mendip Solar PV Export | B319: 1.014 | C319: 1.041 | D319: 1.012 | E319: 1.04 | F319: 378
A320: St Stephen PV Export | B320: 1.014 | C320: 1.013 | D320: 1.012 | E320: 1.013 | F320: 379
A321: Trewidland PV Export | B321: 1.014 | C321: 1.022 | D321: 1.012 | E321: 1.022 | F321: 380
A322: Watchfield Lawn PV Export | B322: 1.014 | C322: 1.071 | D322: 1.012 | E322: 1.069 | F322: 381
A323: Gover Park PV Export | B323: 1.014 | C323: 1.033 | D323: 1.012 | E323: 1.031 | F323: 382
... A567: Barton Hill Exports | B567: 1.014 | C567: 1.014 | D567: 1.012 | E567: 1.014 | F567: 7318

Sheet SWAE - Annex 5 LLFs
A2: These line loss factors have been audited by Elexon in accordance with BSCP128. The line loss factors that are approved by the BSC Panel consequently published on the Elexon website will take precedence and will be used in Settlement.
A3: Western Power Distribution (South Wales) plc - LLFs for year beginning 1 April 2019
A4: Time periods | B4: Period 1 | C4: Period 2 | D4: Period 3 | E4: Period 4
B5: Peak | C5: Winter | D5: Night | E5: Other
A6: Monday to Friday Mar to Oct | D6: 00:30 - 07:30 | E6: 00:00 - 00:30 07:30 - 24:00
A7: Monday to Friday Nov to Feb | B7: 16:00 – 19:00 | C7: 07:30 – 16:00 | D7: 00:30 - 07:30 | E7: 00:00 - 00:30 19:00 - 24:00
A8: Saturday and Sunday All Year | D8: 00:30 - 07:30 | E8: 00:00 - 00:30 07:30 - 24:00
A9: Notes | B9: All the above times are in UK Clock time
A12: Generic demand and generation LLFs
A13: Metered voltage, respective periods and associated LLFCs
A14: Metered voltage | B14: Period 1 | C14: Period 2 | D14: Period 3 | E14: Period 4 | F14: Associated LLFC
A15: 132kV connected | B15: 1.009 | C15: 1.008 | D15: 1.006 | E15: 1.007
A16: 132/EHV connected | B16: 1.013 | C16: 1.013 | D16: 1.012 | E16: 1.013
A17: 132/HV connected | B17: 1.015 | C17: 1.015 | D17: 1.014 | E17: 1.014
A18: EHV connected | B18: 1.024 | C18: 1.024 | D18: 1.022 | E18: 1.023 | F18: 596, 699
A19: High Voltage Substation | B19: 1.032 | C19: 1.031 | D19: 1.03 | E19: 1.03 | F19: 444, 605, 607
A20: High Voltage Network | B20: 1.041 | C20: 1.039 | D20: 1.032 | E20: 1.036 | F20: 95, 96, 400, 606, 698
A21: Low Voltage Substation | B21: 1.059 | C21: 1.057 | D21: 1.057 | E21: 1.056 | F21: 93, 94, 344, 602, 604, 717
A22: Low Voltage Network | B22: 1.077 | C22: 1.072 | D22: 1.067 | E22: 1.069 | F22: 91, 92, 100, 101, 105, 106, 116, 117, 194, 200, 201, 294, 300, 603, 697, 700, 701, 718, 719, 720, 800, 801, 810, 811, 843, 860, 861, 862, 863
A24: EHV site specific LLFs
A25: Demand
A26: Site | B26: Period 1 | C26: Period 2 | D26: Period 3 | E26: Period 4 | F26: Associated LLFC
A27: Mynydd Y Bwllfa WF | B27: 1.009 | C27: 1.008 | D27: 1.006 | E27: 1.007 | F27: 419
A28: Western Wood 2 Biomass | B28: 1.009 | C28: 1.008 | D28: 1.006 | E28: 1.007 | F28: 420
A29: Mynydd Y Gwair WF Import | B29: 1.009 | C29: 1.008 | D29: 1.006 | E29: 1.007 | F29: 421
A30: Penrhiwarwydd Farm PV | B30: 1.024 | C30: 1.024 | D30: 1.022 | E30: 1.023 | F30: 460
A31: Cwmbargoed Coal Washery | B31: 1.032 | C31: 1.033 | D31: 1.032 | E31: 1.032 | F31: 461
A32: Little Neath PV | B32: 1.024 | C32: 1.024 | D32: 1.022 | E32: 1.023 | F32: 462
A33: Hoplass Farm PV | B33: 1.024 | C33: 1.024 | D33: 1.022 | E33: 1.023 | F33: 463
A34: Gelliwern Isaf PV | B34: 1.024 | C34: 1.024 | D34: 1.022 | E34: 1.023 | F34: 464
A35: Oak Cottage PV | B35: 1.024 | C35: 1.024 | D35: 1.022 | E35: 1.023 | F35: 465
A36: Red Court Farm PV | B36: 1.024 | C36: 1.024 | D36: 1.022 | E36: 1.023 | F36: 466
A37: Carn Nicholas PV | B37: 1.024 | C37: 1.024 | D37: 1.022 | E37: 1.023 | F37: 467
A38: Brynwhilach Farm PV | B38: 1.024 | C38: 1.024 | D38: 1.022 | E38: 1.023 | F38: 468
... A196: Alcoa (Import) | B196: 1.024 | C196: 1.024 | D196: 1.022 | E196: 1.023 | F196: 7346
A198: EHV site specific LLFs
A199: Generation
A200: Site | B200: Period 1 | C200: Period 2 | D200: Period 3 | E200: Period 4 | F200: Associated LLFC
A201: Mynydd Y Bwllfa WF Export | B201: 1.011 | C201: 1.011 | D201: 1.011 | E201: 1.011 | F201: 425
A202: Western Wood 2 Biomass Export | B202: 1.009 | C202: 1.008 | D202: 1.006 | E202: 1.007 | F202: 426
A203: Mynydd Y Gwair WF EXport | B203: 1.009 | C203: 1.008 | D203: 1.006 | E203: 1.007 | F203: 427
A204: Tata Margam CefnG Export | B204: 1.001 | C204: 1.024 | D204: 1.022 | E204: 1.023 | F204: 601
A205: Solutia Export | B205: 1.015 | C205: 1.015 | D205: 1.014 | E205: 1.014 | F205: 617
A206: Total Fina Elf Export | B206: 1.015 | C206: 1.015 | D206: 1.014 | E206: 1.014 | F206: 618
A207: Whitbread Magor Export | B207: 1.015 | C207: 1.015 | D207: 1.014 | E207: 1.014 | F207: 619
A208: Tower Export | B208: 1.024 | C208: 1.024 | D208: 1.022 | E208: 1.023 | F208: 621
A209: Fort James Export | B209: 1.032 | C209: 1.031 | D209: 1.03 | E209: 1.03 | F209: 633
A210: Dow Corning Export | B210: 1.002 | C210: 1.002 | D210: 1.002 | E210: 1.002 | F210: 636
A211: Pont Andrew PV Export | B211: 1.024 | C211: 1.027 | D211: 1.022 | E211: 1.027 | F211: 642
A212: Ffos Las PV Export | B212: 1.024 | C212: 1.028 | D212: 1.022 | E212: 1.028 | F212: 643
... A343: Alcoa (Export) | B343: 1.024 | C343: 1.024 | D343: 1.022 | E343: 1.023 | F343: 7347

Sheet MIDE - Annex 5 LLFs
A2: These line loss factors have been audited by Elexon in accordance with BSCP128. The line loss factors that are approved by the BSC Panel consequently published on the Elexon website will take precedence and will be used in Settlement.
A3: Western Power Distribution (West Midlands) plc - LLFs for year beginning 1 April 2019
A4: Time periods | B4: Period 1 | C4: Period 2 | D4: Period 3 | E4: Period 4
B5: Peak | C5: Winter | D5: Night | E5: Other
A6: Monday to Friday Mar to Oct | D6: 00:30 – 07:30 | E6: 07:30 – 00:30
A7: Monday to Friday Nov to Feb | B7: 16:00 – 19:00 | C7: 07:30 – 16:00 19:00 – 20:00 | D7: 00:30 – 07:30 | E7: 20:00 – 00:30
A8: Saturday and Sunday All Year | D8: 00:30 – 07:30 | E8: 07:30 – 00:30
A9: Notes | B9: All the above times are in UK Clock time
A12: Generic demand and generation LLFs
A13: Metered voltage, respective periods and associated LLFCs
A14: Metered voltage | B14: Period 1 | C14: Period 2 | D14: Period 3 | E14: Period 4 | F14: Associated LLFC
A15: 132kV connected | B15: 1.002 | C15: 1.002 | D15: 1.002 | E15: 1.002
A16: 132/EHV connected | B16: 1.007 | C16: 1.006 | D16: 1.007 | E16: 1.006
A17: 132/HV connected | B17: 1.008 | C17: 1.008 | D17: 1.008 | E17: 1.008
A18: EHV connected | B18: 1.015 | C18: 1.014 | D18: 1.011 | E18: 1.012
A19: High Voltage Substation | B19: 1.022 | C19: 1.021 | D19: 1.017 | E19: 1.019
A20: High Voltage Network | B20: 1.048 | C20: 1.044 | D20: 1.03 | E20: 1.037 | F20: 23, 145, 146, 322, 323, 365, 367, 575, 577
A21: Low Voltage Substation | B21: 1.066 | C21: 1.063 | D21: 1.055 | E21: 1.057 | F21: 19, 128, 143, 144, 570, 572, 574
A22: Low Voltage Network | B22: 1.083 | C22: 1.077 | D22: 1.065 | E22: 1.07 | F22: 1, 2, 3, 4, 5, 6, 7, 8, 9, 10, 11, 12, 13, 14, 15, 20, 21, 22, 24, 25, 26, 27, 30, 34, 35, 36, 40, 41, 42, 46, 47, 49, 85, 86, 87, 88, 95, 96, 97, 98, 99, 107, 108, 109, 110, 111, 112, 121, 124, 127, 129, 132, 141, 142, 571, 573, 625, 626, 632, 633
A24: EHV site specific LLFs
A25: Demand
A26: Site | B26: Period 1 | C26: Period 2 | D26: Period 3 | E26: Period 4 | F26: Associated LLFC
A27: Hayford Fm Substation (LV Imp) | B27: 1.083 | C27: 1.077 | D27: 1.065 | E27: 1.07 | F27: 628
A28: Troughton Farm PV (Import) | B28: 1.002 | C28: 1.002 | D28: 1.002 | E28: 1.002 | F28: 636
A29: Tyseley Waste Import | B29: 1.002 | C29: 1.002 | D29: 1.001 | E29: 1.001 | F29: 702
A30: Takao Europe | B30: 1.014 | C30: 1.014 | D30: 1.014 | E30: 1.014 | F30: 704
A31: Four Ashes Incinerator Import | B31: 1.015 | C31: 1.014 | D31: 1.011 | E31: 1.012 | F31: 705
A32: Witches Farm Solar Import | B32: 1.015 | C32: 1.014 | D32: 1.011 | E32: 1.012 | F32: 706
A33: Uni of Birmingham Import | B33: 1.006 | C33: 1.006 | D33: 1.006 | E33: 1.006 | F33: 707
A34: South Staffs Water Import | B34: 1.054 | C34: 1.056 | D34: 1.057 | E34: 1.056 | F34: 709
A35: Wolverhampton WS Import | B35: 1.015 | C35: 1.014 | D35: 1.011 | E35: 1.012 | F35: 710
A36: Stoke CHP Import | B36: 1.005 | C36: 1.005 | D36: 1.005 | E36: 1.005 | F36: 711
A37: WBB Minerals Import | B37: 1.015 | C37: 1.014 | D37: 1.011 | E37: 1.012 | F37: 712
A38: Cauldon Cement Import | B38: 1.034 | C38: 1.035 | D38: 1.039 | E38: 1.039 | F38: 713
... A114: Bloxwich ESS (Imps) | B114: 1.015 | C114: 1.014 | D114: 1.011 | E114: 1.012 | F114: 7371
A116: EHV site specific LLFs
A117: Generation
A118: Site | B118: Period 1 | C118: Period 2 | D118: Period 3 | E118: Period 4 | F118: Associated LLFC
A119: Tyseley Waste Export | B119: 1.001 | C119: 1.001 | D119: 1.001 | E119: 1.001 | F119: 703
A120: Uni of Birmingham Export | B120: 1.002 | C120: 1.002 | D120: 1.002 | E120: 1.002 | F120: 708
A121: Quatt Export | B121: 1.022 | C121: 1.021 | D121: 1.017 | E121: 1.019 | F121: 731
A122: Wolverhampton WS Export | B122: 0.999 | C122: 0.999 | D122: 0.999 | E122: 0.999 | F122: 732
A123: Stoke CHP Export | B123: 1.015 | C123: 1.014 | D123: 1.011 | E123: 1.012 | F123: 733
A124: Hanford Waste Services Export | B124: 1.003 | C124: 1.003 | D124: 1.003 | E124: 1.003 | F124: 734
A125: NR Kidsgrove Export | B125: 1.015 | C125: 1.015 | D125: 1.015 | E125: 1.015 | F125: 735
A126: NR Stafford Export | B126: 1.037 | C126: 1.037 | D126: 1.011 | E126: 1.037 | F126: 736
A127: NR Winson Green Export | B127: 1.015 | C127: 1.014 | D127: 1.011 | E127: 1.012 | F127: 737
A128: NR Smethwick Export | B128: 1 | C128: 1 | D128: 1.011 | E128: 1 | F128: 738
A129: NR Willenhall Export | B129: 1 | C129: 1 | D129: 1.011 | E129: 1 | F129: 739
A130: NR Nechells/Washwood Heath Exp | B130: 1 | C130: 1 | D130: 1 | E130: 1 | F130: 741
... A190: Bloxwich ESS (Exps) | B190: 1.015 | C190: 1.014 | D190: 1.011 | E190: 1.012 | F190: 7375

Sheet EMEB - Annex 5 LLFs
A2: These line loss factors have been audited by Elexon in accordance with BSCP128. The line loss factors that are approved by the BSC Panel consequently published on the Elexon website will take precedence and will be used in Settlement.
A3: Western Power Distribution (East Midlands) plc - LLFs for year beginning 1 April 2019
A4: Time periods | B4: Period 1 | C4: Period 2 | D4: Period 3 | E4: Period 4
B5: Peak | C5: Winter | D5: Night | E5: Other
A6: Monday to Friday Mar to Oct | D6: 00:30 – 07:30 | E6: 07:30 – 00:30
A7: Monday to Friday Nov to Feb | B7: 16:00 – 19:00 | C7: 07:30 – 16:00 19:00 – 20:00 | D7: 00:30 – 07:30 | E7: 20:00 – 00:30
A8: Saturday and Sunday All Year | D8: 00:30 – 07:30 | E8: 07:30 – 00:30
A9: Notes | B9: All the above times are in UK Clock time
A12: Generic demand and generation LLFs
A13: Metered voltage, respective periods and associated LLFCs
A14: Metered voltage | B14: Period 1 | C14: Period 2 | D14: Period 3 | E14: Period 4 | F14: Associated LLFC
A15: 132kV connected | B15: 1.003 | C15: 1.003 | D15: 1.002 | E15: 1.002
A16: 132/EHV connected | B16: 1.006 | C16: 1.006 | D16: 1.008 | E16: 1.007
A17: 132/HV connected | B17: 1.008 | C17: 1.008 | D17: 1.009 | E17: 1.008
A18: EHV connected | B18: 1.014 | C18: 1.014 | D18: 1.012 | E18: 1.013 | F18: 997
A19: High Voltage Substation | B19: 1.02 | C19: 1.02 | D19: 1.019 | E19: 1.019
A20: High Voltage Network | B20: 1.036 | C20: 1.034 | D20: 1.027 | E20: 1.03 | F20: 60, 90, 91, 92, 93, 94, 95, 96, 97, 98, 99, 145, 146, 929, 975, 977, 991, 996
A21: Low Voltage Substation | B21: 1.047 | C21: 1.047 | D21: 1.048 | E21: 1.046 | F21: 59, 80, 143, 144, 970, 972, 974
A22: Low Voltage Network | B22: 1.078 | C22: 1.073 | D22: 1.065 | E22: 1.067 | F22: 1, 2, 3, 4, 5, 6, 7, 8, 9, 10, 11, 13, 16, 19, 22, 25, 28, 31, 34, 37, 40, 43, 46, 49, 52, 58, 81, 82, 83, 84, 85, 141, 142, 246, 247, 800, 801, 802, 803, 804, 821, 900, 901, 971, 973, 986, 987, 990, 993, 994, 995
A24: EHV site specific LLFs
A25: Demand
A26: Site | B26: Period 1 | C26: Period 2 | D26: Period 3 | E26: Period 4 | F26: Associated LLFC
A27: Jaguar Land Rover Gaydon (Imp) | B27: 1.02 | C27: 1.02 | D27: 1.019 | E27: 1.019 | F27: 61
A28: Lyon Road Gas Gen (Import) | B28: 1.014 | C28: 1.014 | D28: 1.012 | E28: 1.013 | F28: 155
A29: Asher Lane 33kV STOR (Import) | B29: 1.014 | C29: 1.014 | D29: 1.012 | E29: 1.013 | F29: 156
A30: Spondon Peaking STOR (Import) | B30: 1.014 | C30: 1.014 | D30: 1.012 | E30: 1.013 | F30: 157
A31: Rhodia STOR (Import) | B31: 1.02 | C31: 1.02 | D31: 1.019 | E31: 1.019 | F31: 280
A32: Jaguar Land Rover Whitley(Imp) | B32: 1.02 | C32: 1.02 | D32: 1.019 | E32: 1.019 | F32: 281
A33: Yew Tree Farm PV (Import) | B33: 1.014 | C33: 1.014 | D33: 1.012 | E33: 1.013 | F33: 292
A34: Cobb Farm Egmanton PV (Import) | B34: 1.014 | C34: 1.014 | D34: 1.012 | E34: 1.013 | F34: 293
A35: Kelmarsh Wind Farm (Import) | B35: 1.014 | C35: 1.014 | D35: 1.012 | E35: 1.013 | F35: 294
A36: PebbleHall_Boundary_Import | B36: 1.014 | C36: 1.014 | D36: 1.012 | E36: 1.013 | F36: 295
A37: Copley Farm PV Claypole (Imp) | B37: 1.014 | C37: 1.014 | D37: 1.012 | E37: 1.013 | F37: 296
A38: Greatmoor EFW Calvert (Import) | B38: 1.001 | C38: 1.001 | D38: 1.001 | E38: 1.001 | F38: 297
... A265: Trafalgar Pk Gas STOR (Import) | B265: 1.014 | C265: 1.014 | D265: 1.012 | E265: 1.013 | F265: 7324
A267: EHV site specific LLFs
A268: Generation
A269: Site | B269: Period 1 | C269: Period 2 | D269: Period 3 | E269: Period 4 | F269: Associated LLFC
A270: Yew Tree Farm PV (Export) | B270: 1.014 | C270: 1.052 | D270: 1.012 | E270: 1.051 | F270: 367
A271: Cobb Farm Egmanton PV (Export) | B271: 1.014 | C271: 1.067 | D271: 1.012 | E271: 1.063 | F271: 368
A272: Kelmarsh Wind Farm (Export) | B272: 1.012 | C272: 1.012 | D272: 1.012 | E272: 1.012 | F272: 369
A273: PebHall_Welland_Waste_Export | B273: 1.014 | C273: 1.014 | D273: 1.012 | E273: 1.013 | F273: 370
A274: Copley Farm PV Claypole (Exp) | B274: 1.023 | C274: 1.019 | D274: 1.023 | E274: 1.018 | F274: 371
A275: Greatmoor EFW Calvert (Export) | B275: 0.988 | C275: 0.988 | D275: 0.988 | E275: 0.989 | F275: 372
A276: Lodge Farm (Calow) PV Export | B276: 1.014 | C276: 1.005 | D276: 1.012 | E276: 1.005 | F276: 373
A277: Arkwright Solar PV (Export) | B277: 1.014 | C277: 1.009 | D277: 1.012 | E277: 1.008 | F277: 374
A278: Langar Commercial PV (Export) | B278: 1.014 | C278: 1.014 | D278: 1.012 | E278: 1.013 | F278: 375
A279: Redfield Road 1 STOR (Export) | B279: 1.014 | C279: 1.014 | D279: 1.012 | E279: 1.013 | F279: 376
A280: Averill Farm PV (Export) | B280: 1.014 | C280: 1.014 | D280: 1.012 | E280: 1.014 | F280: 377
A281: Marchington Solar PV (Export) | B281: 1.014 | C281: 1.027 | D281: 1.012 | E281: 1.026 | F281: 378
... A457: Trafalgar Pk Gas STOR (Export) | B457: 1.016 | C457: 1.018 | D457: 1.012 | E457: 1.018 | F457: 7325

Sheet NORW - Annex 5 LLFs
A2: These line loss factors are illustrative based on the latest calculated values and are published in good faith. However, the line loss factors that are approved by the BSC Panel for the applicable year and consequently published on the Elexon website will take precedence and be used in Settlement if they differ from these values.
A3: Electricity North West - Final LLFs for year beginning 1 April 2019
A4: Time periods | B4: Period 1 | C4: Period 2 | D4: Period 3 | E4: Period 4
B5: Winter Peak | C5: Winter Daytime | D5: Night | E5: Other
A6: Monday to Friday March to October | D6: 00:00 - 07:00 | E6: 07:00 - 00:00
A7: Monday to Friday November to February | B7: 16:00 – 19:00 | C7: 07:00 – 16:00 19:00 – 00:00 | D7: 00:00 - 07:00
A8: Saturday and Sunday All Year | D8: 00:00 - 07:00 | E8: 07:00 - 00:00
A9: Notes | B9: All the above times are in UK Clock time
A12: Generic demand and generation LLFs
A13: Metered voltage, respective periods and associated LLFCs
A14: Metered voltage | B14: Period 1 | C14: Period 2 | D14: Period 3 | E14: Period 4 | F14: Associated LLFC
A15: Low-voltage network | B15: 1.093 | C15: 1.085 | D15: 1.073 | E15: 1.079 | F15: 11, 31, 41, 51, 61, 81, 91, 131, 161, 171, 191, 241, 431, 441, 451, 481, 511, 531, 581, 591, 631, 661, 751, 761, 771, 781, 791, 801, 811, 821, 831, 961, 971, 981, 851, 861, 841, 901
A16: Low-voltage substation | B16: 1.048 | C16: 1.047 | D16: 1.047 | E16: 1.045 | F16: 242, 432, 482, 752, 802, 962, 972, 982, 842
A17: High-voltage network | B17: 1.035 | C17: 1.032 | D17: 1.027 | E17: 1.03 | F17: 483, 753, 803, 973, 983, 843
A18: High-voltage substation | B18: 1.024 | C18: 1.023 | D18: 1.021 | E18: 1.022 | F18: 109, 119, 129, 139, 149, 159, 169, 179, 189, 199, 209, 219, 229, 239, 249, 259, 269, 289, 299, 309, 319, 329, 339, 349, 359, 369, 379, 389, 419, 439, 459, 469, 529, 539, 549, 579, 599, 619, 639, 659, 679, 699, 719, 739, 759, 779, 799, 479, 489, 499, 509, 519, 589, 609, 629, 649, 669, 689, 709, 729, 749, 769, 789, 809
A19: EHV 33 kV | B19: 1.019 | C19: 1.018 | D19: 1.015 | E19: 1.017
A20: EHV 132 kV to 33 kV | B20: 1.013 | C20: 1.013 | D20: 1.011 | E20: 1.012
A21: EHV 132 kV | B21: 1.009 | C21: 1.008 | D21: 1.006 | E21: 1.007
B22: 1.078 | C22: 1.073 | D22: 1.065 | E22: 1.067
A23: EHV site specific LLFs
A24: Demand
A25: Site | B25: Period 1 | C25: Period 2 | D25: Period 3 | E25: Period 4 | F25: Associated LLFC
A26: Site 1 | B26: 1.032 | C26: 1.032 | D26: 1.032 | E26: 1.032 | F26: 610
A27: Site 2 | B27: 1.002 | C27: 1.002 | D27: 1.002 | E27: 1.002 | F27: 500
A28: Site 3 | B28: 1.012 | C28: 1.012 | D28: 1.012 | E28: 1.012 | F28: 650
A29: Site 4 | B29: 1.053 | C29: 1.053 | D29: 1.053 | E29: 1.053 | F29: 660
A30: Site 5 | B30: 1.024 | C30: 1.024 | D30: 1.024 | E30: 1.024 | F30: 640
A31: Site 6 | B31: 1.015 | C31: 1.015 | D31: 1.015 | E31: 1.015 | F31: 700
A32: Site 7 | B32: 1.035 | C32: 1.035 | D32: 1.035 | E32: 1.035 | F32: 900
A33: Site 8 | B33: 1.003 | C33: 1.003 | D33: 1.003 | E33: 1.003 | F33: 670
A34: Site 9 | B34: 1.005 | C34: 1.005 | D34: 1.005 | E34: 1.005 | F34: 320
A35: Site 10 | B35: 1.019 | C35: 1.019 | D35: 1.019 | E35: 1.019 | F35: 850
A36: Site 11 | B36: 1.014 | C36: 1.014 | D36: 1.014 | E36: 1.014 | F36: 450
A37: Site 12 | B37: 1 | C37: 1 | D37: 1 | E37: 1 | F37: 460
... A77: Site 82 | B77: 1 | C77: 1 | D77: 1 | E77: 1 | F77: 207
A78: Site 84 | B78: 0.99 | C78: 0.99 | D78: 0.99 | E78: 0.99 | F78: MSID 7039 & 7040
A79: Site 85 | B79: 0.999 | C79: 0.999 | D79: 0.999 | E79: 0.999 | F79: MSID 7107
A80: Site 90 | B80: 1.011 | C80: 1.011 | D80: 1.011 | E80: 1.011 | F80: MSID 2037 & 2038
A81: Site 91 | B81: 0.995 | C81: 0.995 | D81: 0.995 | E81: 0.995 | F81: MSID 7156
A82: Site 92 | B82: 1.009 | C82: 1.009 | D82: 1.009 | E82: 1.009 | F82: MSID 0437
A83: Site 95 | B83: 1 | C83: 1 | D83: 1 | E83: 1 | F83: 307
A84: Site 96 | B84: 1 | C84: 1 | D84: 1 | E84: 1 | F84: 327
A85: Site 97 | B85: 1 | C85: 1 | D85: 1 | E85: 1 | F85: 347
A86: Site 98 | B86: 1.006 | C86: 1.006 | D86: 1.006 | E86: 1.006 | F86: 367
A87: Site 99 | B87: 1.006 | C87: 1.006 | D87: 1.006 | E87: 1.006 | F87: 387
A88: Site 100 | B88: 1.013 | C88: 1.013 | D88: 1.013 | E88: 1.013 | F88: 437
A89: Site 101 | B89: 1.002 | C89: 1.002 | D89: 1.002 | E89: 1.002 | F89: 457
A90: Site 102 | B90: 1 | C90: 1 | D90: 1 | E90: 1 | F90: 417
A91: Site 103 | B91: 1 | C91: 1 | D91: 1 | E91: 1 | F91: 467
A92: Site 104 | B92: 1 | C92: 1 | D92: 1 | E92: 1 | F92: 108
A93: Site 107 | B93: 1 | C93: 1 | D93: 1 | E93: 1 | F93: 128
A94: Site 110 | B94: 1.004 | C94: 1.004 | D94: 1.004 | E94: 1.004 | F94: 487
A95: Site 111 | B95: 1 | C95: 1 | D95: 1 | E95: 1 | F95: 517
A96: tbc | B96: 0.994 | C96: 0.994 | D96: 0.994 | E96: 0.994 | F96: MSID 7350
A98: EHV site specific LLFs
A99: Generation
A100: Site | B100: Period 1 | C100: Period 2 | D100: Period 3 | E100: Period 4 | F100: Associated LLFC
A101: Site 8 | B101: 1 | C101: 1 | D101: 1 | E101: 1 | F101: 217
A102: Site 12 | B102: 1 | C102: 1 | D102: 1 | E102: 1 | F102: 470
A103: Site 13 | B103: 0.99 | C103: 0.99 | D103: 0.99 | E103: 0.99 | F103: 690
A104: Site 14 | B104: 1 | C104: 1 | D104: 1 | E104: 1 | F104: 730
A105: Site 15 | B105: 1 | C105: 1 | D105: 1 | E105: 1 | F105: 720
A106: Site 16 | B106: 0.999 | C106: 0.999 | D106: 0.999 | E106: 0.999 | F106: 770
A107: Site 17 | B107: 1.001 | C107: 1.001 | D107: 1.001 | E107: 1.001 | F107: 740
A108: Site 18 | B108: 1.001 | C108: 1.001 | D108: 1.001 | E108: 1.001 | F108: 750
A109: Site 19 | B109: 1.001 | C109: 1.001 | D109: 1.001 | E109: 1.001 | F109: 820
A110: Site 20 | B110: 1 | C110: 1 | D110: 1 | E110: 1 | F110: 840
A111: Site 21 | B111: 0.995 | C111: 0.995 | D111: 0.995 | E111: 0.995 | F111: 970
A112: Site 22 | B112: 0.992 | C112: 0.992 | D112: 0.992 | E112: 0.992 | F112: 360
... A139: Site 82 | B139: 0.992 | C139: 0.992 | D139: 0.992 | E139: 0.992 | F139: 197
A140: Site 84 | B140: 0.99 | C140: 0.99 | D140: 0.99 | E140: 0.99 | F140: MSID 7039 & 7040
A141: Site 85 | B141: 0.999 | C141: 0.999 | D141: 0.999 | E141: 0.999 | F141: MSID 7107
A142: Site 90 | B142: 1.011 | C142: 1.011 | D142: 1.011 | E142: 1.011 | F142: MSID 2037 & 2038
A143: Site 91 | B143: 0.995 | C143: 0.995 | D143: 0.995 | E143: 0.995 | F143: MSID 7156
A144: Site 92 | B144: 1.009 | C144: 1.009 | D144: 1.009 | E144: 1.009 | F144: MSID 0437
A145: Site 95 | B145: 0.998 | C145: 0.998 | D145: 0.998 | E145: 0.998 | F145: 317
A146: Site 96 | B146: 0.998 | C146: 0.998 | D146: 0.998 | E146: 0.998 | F146: 337
A147: Site 97 | B147: 0.997 | C147: 0.997 | D147: 0.997 | E147: 0.997 | F147: 357
A148: Site 98 | B148: 0.909 | C148: 0.909 | D148: 0.909 | E148: 0.909 | F148: 377
A149: Site 99 | B149: 0.909 | C149: 0.909 | D149: 0.909 | E149: 0.909 | F149: 397
A150: Site 100 | B150: 0.987 | C150: 0.987 | D150: 0.987 | E150: 0.987 | F150: 427
A151: Site 102 | B151: 0.996 | C151: 0.996 | D151: 0.996 | E151: 0.996 | F151: 407
A152: Site 103 | B152: 0.996 | C152: 0.996 | D152: 0.996 | E152: 0.996 | F152: 477
A153: Site 104 | B153: 0.997 | C153: 0.997 | D153: 0.997 | E153: 0.997 | F153: 118
A154: Site 107 | B154: 0.998 | C154: 0.998 | D154: 0.998 | E154: 0.998 | F154: 138
A155: Site 110 | B155: 0.993 | C155: 0.993 | D155: 0.993 | E155: 0.993 | F155: 497
A156: Site 111 | B156: 0.99 | C156: 0.99 | D156: 0.99 | E156: 0.99 | F156: 527
... A158: tbc | B158: 0.999 | C158: 0.999 | D158: 0.999 | E158: 0.999 | F158: 507
A159: tbc | B159: 0.994 | C159: 0.994 | D159: 0.994 | E159: 0.994 | F159: MSID 7350

Sheet SEPD - Annex 5 LLFs
A2: These line loss factors are illustrative based on the latest calculated values and are published in good faith. However, the line loss factors that are approved by the BSC Panel for the applicable year and consequently published on the Elexon website will take precedence and be used in Settlement if they differ from these values.
A3: SEPD - Final LLFs for year beginning 1 April 2019
A4: Time periods | B4: Period 1 | C4: Period 2 | D4: Period 3 | E4: Period 4
B5: Winter Peak | C5: Winter Daytime | D5: Night | E5: Other
A6: Monday to Friday March to October
A7: Monday to Friday November to February
A8: Saturday and Sunday All Year
A9: Notes | B9: All the above times are in UK Clock time
A12: Generic demand and generation LLFs
A13: Metered voltage, respective periods and associated LLFCs
A14: Metered voltage | B14: Period 1 | C14: Period 2 | D14: Period 3 | E14: Period 4 | F14: Associated LLFC
A15: Low-voltage network | F15: 11, 31, 41, 51, 61, 81, 91, 131, 161, 171, 191, 241, 431, 441, 451, 481, 511, 531, 581, 591, 631, 661, 751, 761, 771, 781, 791, 801, 811, 821, 831, 961, 971, 981, 851, 861, 841, 901
A16: Low-voltage substation | F16: 242, 432, 482, 752, 802, 962, 972, 982, 842
A17: High-voltage network | F17: 483, 753, 803, 973, 983, 843
A18: High-voltage substation | F18: 109, 119, 129, 139, 149, 159, 169, 179, 189, 199, 209, 219, 229, 239, 249, 259, 269, 289, 299, 309, 319, 329, 339, 349, 359, 369, 379, 389, 419, 439, 459, 469, 529, 539, 549, 579, 599, 619, 639, 659, 679, 699, 719, 739, 759, 779, 799, 479, 489, 499, 509, 519, 589, 609, 629, 649, 669, 689, 709, 729, 749, 769, 789, 809
A19: EHV 33 kV
A20: EHV 132 kV to 33 kV
A21: EHV 132 kV
A23: EHV site specific LLFs
A24: Demand
A25: Site | B25: Period 1 | C25: Period 2 | D25: Period 3 | E25: Period 4 | F25: Associated LLFC
A26: Site 1 | B26: 1.032 | C26: 1.032 | D26: 1.032 | E26: 1.032 | F26: 610
A27: Site 2 | B27: 1.002 | C27: 1.002 | D27: 1.002 | E27: 1.002 | F27: 500
A28: Site 3 | B28: 1.012 | C28: 1.012 | D28: 1.012 | E28: 1.012 | F28: 650
A29: Site 4 | B29: 1.053 | C29: 1.053 | D29: 1.053 | E29: 1.053 | F29: 660
A30: Site 5 | B30: 1.024 | C30: 1.024 | D30: 1.024 | E30: 1.024 | F30: 640
A31: Site 6 | B31: 1.015 | C31: 1.015 | D31: 1.015 | E31: 1.015 | F31: 700
A32: Site 7 | B32: 1.035 | C32: 1.035 | D32: 1.035 | E32: 1.035 | F32: 900
A33: Site 8 | B33: 1.003 | C33: 1.003 | D33: 1.003 | E33: 1.003 | F33: 670
A34: Site 9 | B34: 1.005 | C34: 1.005 | D34: 1.005 | E34: 1.005 | F34: 320
A35: Site 10 | B35: 1.019 | C35: 1.019 | D35: 1.019 | E35: 1.019 | F35: 850
A36: Site 11 | B36: 1.014 | C36: 1.014 | D36: 1.014 | E36: 1.014 | F36: 450
A37: Site 12 | B37: 1 | C37: 1 | D37: 1 | E37: 1 | F37: 460
... A77: Site 82 | B77: 1 | C77: 1 | D77: 1 | E77: 1 | F77: 207
A78: Site 84 | B78: 0.99 | C78: 0.99 | D78: 0.99 | E78: 0.99 | F78: MSID 7039 & 7040
A79: Site 85 | B79: 0.999 | C79: 0.999 | D79: 0.999 | E79: 0.999 | F79: MSID 7107
A80: Site 90 | B80: 1.011 | C80: 1.011 | D80: 1.011 | E80: 1.011 | F80: MSID 2037 & 2038
A81: Site 91 | B81: 0.995 | C81: 0.995 | D81: 0.995 | E81: 0.995 | F81: MSID 7156
A82: Site 92 | B82: 1.009 | C82: 1.009 | D82: 1.009 | E82: 1.009 | F82: MSID 0437
A83: Site 95 | B83: 1 | C83: 1 | D83: 1 | E83: 1 | F83: 307
A84: Site 96 | B84: 1 | C84: 1 | D84: 1 | E84: 1 | F84: 327
A85: Site 97 | B85: 1 | C85: 1 | D85: 1 | E85: 1 | F85: 347
A86: Site 98 | B86: 1.006 | C86: 1.006 | D86: 1.006 | E86: 1.006 | F86: 367
A87: Site 99 | B87: 1.006 | C87: 1.006 | D87: 1.006 | E87: 1.006 | F87: 387
A88: Site 100 | B88: 1.013 | C88: 1.013 | D88: 1.013 | E88: 1.013 | F88: 437
A89: Site 101 | B89: 1.002 | C89: 1.002 | D89: 1.002 | E89: 1.002 | F89: 457
A90: Site 102 | B90: 1 | C90: 1 | D90: 1 | E90: 1 | F90: 417
A91: Site 103 | B91: 1 | C91: 1 | D91: 1 | E91: 1 | F91: 467
A92: Site 104 | B92: 1 | C92: 1 | D92: 1 | E92: 1 | F92: 108
A93: Site 107 | B93: 1 | C93: 1 | D93: 1 | E93: 1 | F93: 128
A94: Site 110 | B94: 1.004 | C94: 1.004 | D94: 1.004 | E94: 1.004 | F94: 487
A95: Site 111 | B95: 1 | C95: 1 | D95: 1 | E95: 1 | F95: 517
A96: tbc | B96: 0.994 | C96: 0.994 | D96: 0.994 | E96: 0.994 | F96: MSID 7350
A98: EHV site specific LLFs
A99: Generation
A100: Site | B100: Period 1 | C100: Period 2 | D100: Period 3 | E100: Period 4 | F100: Associated LLFC
A101: Site 8 | B101: 1 | C101: 1 | D101: 1 | E101: 1 | F101: 217
A102: Site 12 | B102: 1 | C102: 1 | D102: 1 | E102: 1 | F102: 470
A103: Site 13 | B103: 0.99 | C103: 0.99 | D103: 0.99 | E103: 0.99 | F103: 690
A104: Site 14 | B104: 1 | C104: 1 | D104: 1 | E104: 1 | F104: 730
A105: Site 15 | B105: 1 | C105: 1 | D105: 1 | E105: 1 | F105: 720
A106: Site 16 | B106: 0.999 | C106: 0.999 | D106: 0.999 | E106: 0.999 | F106: 770
A107: Site 17 | B107: 1.001 | C107: 1.001 | D107: 1.001 | E107: 1.001 | F107: 740
A108: Site 18 | B108: 1.001 | C108: 1.001 | D108: 1.001 | E108: 1.001 | F108: 750
A109: Site 19 | B109: 1.001 | C109: 1.001 | D109: 1.001 | E109: 1.001 | F109: 820
A110: Site 20 | B110: 1 | C110: 1 | D110: 1 | E110: 1 | F110: 840
A111: Site 21 | B111: 0.995 | C111: 0.995 | D111: 0.995 | E111: 0.995 | F111: 970
A112: Site 22 | B112: 0.992 | C112: 0.992 | D112: 0.992 | E112: 0.992 | F112: 360
... A139: Site 82 | B139: 0.992 | C139: 0.992 | D139: 0.992 | E139: 0.992 | F139: 197
A140: Site 84 | B140: 0.99 | C140: 0.99 | D140: 0.99 | E140: 0.99 | F140: MSID 7039 & 7040
A141: Site 85 | B141: 0.999 | C141: 0.999 | D141: 0.999 | E141: 0.999 | F141: MSID 7107
A142: Site 90 | B142: 1.011 | C142: 1.011 | D142: 1.011 | E142: 1.011 | F142: MSID 2037 & 2038
A143: Site 91 | B143: 0.995 | C143: 0.995 | D143: 0.995 | E143: 0.995 | F143: MSID 7156
A144: Site 92 | B144: 1.009 | C144: 1.009 | D144: 1.009 | E144: 1.009 | F144: MSID 0437
A145: Site 95 | B145: 0.998 | C145: 0.998 | D145: 0.998 | E145: 0.998 | F145: 317
A146: Site 96 | B146: 0.998 | C146: 0.998 | D146: 0.998 | E146: 0.998 | F146: 337
A147: Site 97 | B147: 0.997 | C147: 0.997 | D147: 0.997 | E147: 0.997 | F147: 357
A148: Site 98 | B148: 0.909 | C148: 0.909 | D148: 0.909 | E148: 0.909 | F148: 377
A149: Site 99 | B149: 0.909 | C149: 0.909 | D149: 0.909 | E149: 0.909 | F149: 397
A150: Site 100 | B150: 0.987 | C150: 0.987 | D150: 0.987 | E150: 0.987 | F150: 427
A151: Site 102 | B151: 0.996 | C151: 0.996 | D151: 0.996 | E151: 0.996 | F151: 407
A152: Site 103 | B152: 0.996 | C152: 0.996 | D152: 0.996 | E152: 0.996 | F152: 477
A153: Site 104 | B153: 0.997 | C153: 0.997 | D153: 0.997 | E153: 0.997 | F153: 118
A154: Site 107 | B154: 0.998 | C154: 0.998 | D154: 0.998 | E154: 0.998 | F154: 138
A155: Site 110 | B155: 0.993 | C155: 0.993 | D155: 0.993 | E155: 0.993 | F155: 497
A156: Site 111 | B156: 0.99 | C156: 0.99 | D156: 0.99 | E156: 0.99 | F156: 527
... A158: tbc | B158: 0.999 | C158: 0.999 | D158: 0.999 | E158: 0.999 | F158: 507
A159: tbc | B159: 0.994 | C159: 0.994 | D159: 0.994 | E159: 0.994 | F159: MSID 7350

Sheet SHEPD - Annex 5 LLFs
A2: These line loss factors are illustrative based on the latest calculated values and are published in good faith. However, the line loss factors that are approved by the BSC Panel for the applicable year and consequently published on the Elexon website will take precedence and be used in Settlement if they differ from these values.
A3: SHEPD - Final LLFs for year beginning 1 April 2019
A4: Time periods | B4: Period 1 | C4: Period 2 | D4: Period 3 | E4: Period 4
B5: Winter Peak | C5: Winter Daytime | D5: Night | E5: Other
A6: Monday to Friday March to October
A7: Monday to Friday November to February
A8: Saturday and Sunday All Year
A9: Notes | B9: All the above times are in UK Clock time
A12: Generic demand and generation LLFs
A13: Metered voltage, respective periods and associated LLFCs
A14: Metered voltage | B14: Period 1 | C14: Period 2 | D14: Period 3 | E14: Period 4 | F14: Associated LLFC
A15: Low-voltage network | F15: 11, 31, 41, 51, 61, 81, 91, 131, 161, 171, 191, 241, 431, 441, 451, 481, 511, 531, 581, 591, 631, 661, 751, 761, 771, 781, 791, 801, 811, 821, 831, 961, 971, 981, 851, 861, 841, 901
A16: Low-voltage substation | F16: 242, 432, 482, 752, 802, 962, 972, 982, 842
A17: High-voltage network | F17: 483, 753, 803, 973, 983, 843
A18: High-voltage substation | F18: 109, 119, 129, 139, 149, 159, 169, 179, 189, 199, 209, 219, 229, 239, 249, 259, 269, 289, 299, 309, 319, 329, 339, 349, 359, 369, 379, 389, 419, 439, 459, 469, 529, 539, 549, 579, 599, 619, 639, 659, 679, 699, 719, 739, 759, 779, 799, 479, 489, 499, 509, 519, 589, 609, 629, 649, 669, 689, 709, 729, 749, 769, 789, 809
A19: EHV 33 kV
A20: EHV 132 kV to 33 kV
A21: EHV 132 kV
A23: EHV site specific LLFs
A24: Demand
A25: Site | B25: Period 1 | C25: Period 2 | D25: Period 3 | E25: Period 4 | F25: Associated LLFC
A26: Site 1 | B26: 1.032 | C26: 1.032 | D26: 1.032 | E26: 1.032 | F26: 610
A27: Site 2 | B27: 1.002 | C27: 1.002 | D27: 1.002 | E27: 1.002 | F27: 500
A28: Site 3 | B28: 1.012 | C28: 1.012 | D28: 1.012 | E28: 1.012 | F28: 650
A29: Site 4 | B29: 1.053 | C29: 1.053 | D29: 1.053 | E29: 1.053 | F29: 660
A30: Site 5 | B30: 1.024 | C30: 1.024 | D30: 1.024 | E30: 1.024 | F30: 640
A31: Site 6 | B31: 1.015 | C31: 1.015 | D31: 1.015 | E31: 1.015 | F31: 700
A32: Site 7 | B32: 1.035 | C32: 1.035 | D32: 1.035 | E32: 1.035 | F32: 900
A33: Site 8 | B33: 1.003 | C33: 1.003 | D33: 1.003 | E33: 1.003 | F33: 670
A34: Site 9 | B34: 1.005 | C34: 1.005 | D34: 1.005 | E34: 1.005 | F34: 320
A35: Site 10 | B35: 1.019 | C35: 1.019 | D35: 1.019 | E35: 1.019 | F35: 850
A36: Site 11 | B36: 1.014 | C36: 1.014 | D36: 1.014 | E36: 1.014 | F36: 450
A37: Site 12 | B37: 1 | C37: 1 | D37: 1 | E37: 1 | F37: 460
... A77: Site 82 | B77: 1 | C77: 1 | D77: 1 | E77: 1 | F77: 207
A78: Site 84 | B78: 0.99 | C78: 0.99 | D78: 0.99 | E78: 0.99 | F78: MSID 7039 & 7040
A79: Site 85 | B79: 0.999 | C79: 0.999 | D79: 0.999 | E79: 0.999 | F79: MSID 7107
A80: Site 90 | B80: 1.011 | C80: 1.011 | D80: 1.011 | E80: 1.011 | F80: MSID 2037 & 2038
A81: Site 91 | B81: 0.995 | C81: 0.995 | D81: 0.995 | E81: 0.995 | F81: MSID 7156
A82: Site 92 | B82: 1.009 | C82: 1.009 | D82: 1.009 | E82: 1.009 | F82: MSID 0437
A83: Site 95 | B83: 1 | C83: 1 | D83: 1 | E83: 1 | F83: 307
A84: Site 96 | B84: 1 | C84: 1 | D84: 1 | E84: 1 | F84: 327
A85: Site 97 | B85: 1 | C85: 1 | D85: 1 | E85: 1 | F85: 347
A86: Site 98 | B86: 1.006 | C86: 1.006 | D86: 1.006 | E86: 1.006 | F86: 367
A87: Site 99 | B87: 1.006 | C87: 1.006 | D87: 1.006 | E87: 1.006 | F87: 387
A88: Site 100 | B88: 1.013 | C88: 1.013 | D88: 1.013 | E88: 1.013 | F88: 437
A89: Site 101 | B89: 1.002 | C89: 1.002 | D89: 1.002 | E89: 1.002 | F89: 457
A90: Site 102 | B90: 1 | C90: 1 | D90: 1 | E90: 1 | F90: 417
A91: Site 103 | B91: 1 | C91: 1 | D91: 1 | E91: 1 | F91: 467
A92: Site 104 | B92: 1 | C92: 1 | D92: 1 | E92: 1 | F92: 108
A93: Site 107 | B93: 1 | C93: 1 | D93: 1 | E93: 1 | F93: 128
A94: Site 110 | B94: 1.004 | C94: 1.004 | D94: 1.004 | E94: 1.004 | F94: 487
A95: Site 111 | B95: 1 | C95: 1 | D95: 1 | E95: 1 | F95: 517
A96: tbc | B96: 0.994 | C96: 0.994 | D96: 0.994 | E96: 0.994 | F96: MSID 7350
A98: EHV site specific LLFs
A99: Generation
A100: Site | B100: Period 1 | C100: Period 2 | D100: Period 3 | E100: Period 4 | F100: Associated LLFC
A101: Site 8 | B101: 1 | C101: 1 | D101: 1 | E101: 1 | F101: 217
A102: Site 12 | B102: 1 | C102: 1 | D102: 1 | E102: 1 | F102: 470
A103: Site 13 | B103: 0.99 | C103: 0.99 | D103: 0.99 | E103: 0.99 | F103: 690
A104: Site 14 | B104: 1 | C104: 1 | D104: 1 | E104: 1 | F104: 730
A105: Site 15 | B105: 1 | C105: 1 | D105: 1 | E105: 1 | F105: 720
A106: Site 16 | B106: 0.999 | C106: 0.999 | D106: 0.999 | E106: 0.999 | F106: 770
A107: Site 17 | B107: 1.001 | C107: 1.001 | D107: 1.001 | E107: 1.001 | F107: 740
A108: Site 18 | B108: 1.001 | C108: 1.001 | D108: 1.001 | E108: 1.001 | F108: 750
A109: Site 19 | B109: 1.001 | C109: 1.001 | D109: 1.001 | E109: 1.001 | F109: 820
A110: Site 20 | B110: 1 | C110: 1 | D110: 1 | E110: 1 | F110: 840
A111: Site 21 | B111: 0.995 | C111: 0.995 | D111: 0.995 | E111: 0.995 | F111: 970
A112: Site 22 | B112: 0.992 | C112: 0.992 | D112: 0.992 | E112: 0.992 | F112: 360
... A139: Site 82 | B139: 0.992 | C139: 0.992 | D139: 0.992 | E139: 0.992 | F139: 197
A140: Site 84 | B140: 0.99 | C140: 0.99 | D140: 0.99 | E140: 0.99 | F140: MSID 7039 & 7040
A141: Site 85 | B141: 0.999 | C141: 0.999 | D141: 0.999 | E141: 0.999 | F141: MSID 7107
A142: Site 90 | B142: 1.011 | C142: 1.011 | D142: 1.011 | E142: 1.011 | F142: MSID 2037 & 2038
A143: Site 91 | B143: 0.995 | C143: 0.995 | D143: 0.995 | E143: 0.995 | F143: MSID 7156
A144: Site 92 | B144: 1.009 | C144: 1.009 | D144: 1.009 | E144: 1.009 | F144: MSID 0437
A145: Site 95 | B145: 0.998 | C145: 0.998 | D145: 0.998 | E145: 0.998 | F145: 317
A146: Site 96 | B146: 0.998 | C146: 0.998 | D146: 0.998 | E146: 0.998 | F146: 337
A147: Site 97 | B147: 0.997 | C147: 0.997 | D147: 0.997 | E147: 0.997 | F147: 357
A148: Site 98 | B148: 0.909 | C148: 0.909 | D148: 0.909 | E148: 0.909 | F148: 377
A149: Site 99 | B149: 0.909 | C149: 0.909 | D149: 0.909 | E149: 0.909 | F149: 397
A150: Site 100 | B150: 0.987 | C150: 0.987 | D150: 0.987 | E150: 0.987 | F150: 427
A151: Site 102 | B151: 0.996 | C151: 0.996 | D151: 0.996 | E151: 0.996 | F151: 407
A152: Site 103 | B152: 0.996 | C152: 0.996 | D152: 0.996 | E152: 0.996 | F152: 477
A153: Site 104 | B153: 0.997 | C153: 0.997 | D153: 0.997 | E153: 0.997 | F153: 118
A154: Site 107 | B154: 0.998 | C154: 0.998 | D154: 0.998 | E154: 0.998 | F154: 138
A155: Site 110 | B155: 0.993 | C155: 0.993 | D155: 0.993 | E155: 0.993 | F155: 497
A156: Site 111 | B156: 0.99 | C156: 0.99 | D156: 0.99 | E156: 0.99 | F156: 527
... A158: tbc | B158: 0.999 | C158: 0.999 | D158: 0.999 | E158: 0.999 | F158: 507
A159: tbc | B159: 0.994 | C159: 0.994 | D159: 0.994 | E159: 0.994 | F159: MSID 7350

Sheet MANWEB - Annex 5 LLFs
A2: These line loss factors are illustrative based on the latest calculated values and are published in good faith. However, the line loss factors that are approved by the BSC Panel for the applicable year and consequently published on the Elexon website will take precedence and be used in Settlement if they differ from these values.
A3: Manweb- Final LLFs for year beginning 1 April 2019
A4: Time periods | B4: Period 1 | C4: Period 2 | D4: Period 3 | E4: Period 4
B5: Winter Peak | C5: Winter Daytime | D5: Night | E5: Other
A6: Monday to Friday March to October
A7: Monday to Friday November to February
A8: Saturday and Sunday All Year
A9: Notes | B9: All the above times are in UK Clock time
A12: Generic demand and generation LLFs
A13: Metered voltage, respective periods and associated LLFCs
A14: Metered voltage | B14: Period 1 | C14: Period 2 | D14: Period 3 | E14: Period 4 | F14: Associated LLFC
A15: Low-voltage network | F15: 11, 31, 41, 51, 61, 81, 91, 131, 161, 171, 191, 241, 431, 441, 451, 481, 511, 531, 581, 591, 631, 661, 751, 761, 771, 781, 791, 801, 811, 821, 831, 961, 971, 981, 851, 861, 841, 901
A16: Low-voltage substation | F16: 242, 432, 482, 752, 802, 962, 972, 982, 842
A17: High-voltage network | F17: 483, 753, 803, 973, 983, 843
A18: High-voltage substation | F18: 109, 119, 129, 139, 149, 159, 169, 179, 189, 199, 209, 219, 229, 239, 249, 259, 269, 289, 299, 309, 319, 329, 339, 349, 359, 369, 379, 389, 419, 439, 459, 469, 529, 539, 549, 579, 599, 619, 639, 659, 679, 699, 719, 739, 759, 779, 799, 479, 489, 499, 509, 519, 589, 609, 629, 649, 669, 689, 709, 729, 749, 769, 789, 809
A19: EHV 33 kV
A20: EHV 132 kV to 33 kV
A21: EHV 132 kV
A23: EHV site specific LLFs
A24: Demand
A25: Site | B25: Period 1 | C25: Period 2 | D25: Period 3 | E25: Period 4 | F25: Associated LLFC
A26: Site 1 | B26: 1.032 | C26: 1.032 | D26: 1.032 | E26: 1.032 | F26: 610
A27: Site 2 | B27: 1.002 | C27: 1.002 | D27: 1.002 | E27: 1.002 | F27: 500
A28: Site 3 | B28: 1.012 | C28: 1.012 | D28: 1.012 | E28: 1.012 | F28: 650
A29: Site 4 | B29: 1.053 | C29: 1.053 | D29: 1.053 | E29: 1.053 | F29: 660
A30: Site 5 | B30: 1.024 | C30: 1.024 | D30: 1.024 | E30: 1.024 | F30: 640
A31: Site 6 | B31: 1.015 | C31: 1.015 | D31: 1.015 | E31: 1.015 | F31: 700
A32: Site 7 | B32: 1.035 | C32: 1.035 | D32: 1.035 | E32: 1.035 | F32: 900
A33: Site 8 | B33: 1.003 | C33: 1.003 | D33: 1.003 | E33: 1.003 | F33: 670
A34: Site 9 | B34: 1.005 | C34: 1.005 | D34: 1.005 | E34: 1.005 | F34: 320
A35: Site 10 | B35: 1.019 | C35: 1.019 | D35: 1.019 | E35: 1.019 | F35: 850
A36: Site 11 | B36: 1.014 | C36: 1.014 | D36: 1.014 | E36: 1.014 | F36: 450
A37: Site 12 | B37: 1 | C37: 1 | D37: 1 | E37: 1 | F37: 460
... A77: Site 82 | B77: 1 | C77: 1 | D77: 1 | E77: 1 | F77: 207
A78: Site 84 | B78: 0.99 | C78: 0.99 | D78: 0.99 | E78: 0.99 | F78: MSID 7039 & 7040
A79: Site 85 | B79: 0.999 | C79: 0.999 | D79: 0.999 | E79: 0.999 | F79: MSID 7107
A80: Site 90 | B80: 1.011 | C80: 1.011 | D80: 1.011 | E80: 1.011 | F80: MSID 2037 & 2038
A81: Site 91 | B81: 0.995 | C81: 0.995 | D81: 0.995 | E81: 0.995 | F81: MSID 7156
A82: Site 92 | B82: 1.009 | C82: 1.009 | D82: 1.009 | E82: 1.009 | F82: MSID 0437
A83: Site 95 | B83: 1 | C83: 1 | D83: 1 | E83: 1 | F83: 307
A84: Site 96 | B84: 1 | C84: 1 | D84: 1 | E84: 1 | F84: 327
A85: Site 97 | B85: 1 | C85: 1 | D85: 1 | E85: 1 | F85: 347
A86: Site 98 | B86: 1.006 | C86: 1.006 | D86: 1.006 | E86: 1.006 | F86: 367
A87: Site 99 | B87: 1.006 | C87: 1.006 | D87: 1.006 | E87: 1.006 | F87: 387
A88: Site 100 | B88: 1.013 | C88: 1.013 | D88: 1.013 | E88: 1.013 | F88: 437
A89: Site 101 | B89: 1.002 | C89: 1.002 | D89: 1.002 | E89: 1.002 | F89: 457
A90: Site 102 | B90: 1 | C90: 1 | D90: 1 | E90: 1 | F90: 417
A91: Site 103 | B91: 1 | C91: 1 | D91: 1 | E91: 1 | F91: 467
A92: Site 104 | B92: 1 | C92: 1 | D92: 1 | E92: 1 | F92: 108
A93: Site 107 | B93: 1 | C93: 1 | D93: 1 | E93: 1 | F93: 128
A94: Site 110 | B94: 1.004 | C94: 1.004 | D94: 1.004 | E94: 1.004 | F94: 487
A95: Site 111 | B95: 1 | C95: 1 | D95: 1 | E95: 1 | F95: 517
A96: tbc | B96: 0.994 | C96: 0.994 | D96: 0.994 | E96: 0.994 | F96: MSID 7350
A98: EHV site specific LLFs
A99: Generation
A100: Site | B100: Period 1 | C100: Period 2 | D100: Period 3 | E100: Period 4 | F100: Associated LLFC
A101: Site 8 | B101: 1 | C101: 1 | D101: 1 | E101: 1 | F101: 217
A102: Site 12 | B102: 1 | C102: 1 | D102: 1 | E102: 1 | F102: 470
A103: Site 13 | B103: 0.99 | C103: 0.99 | D103: 0.99 | E103: 0.99 | F103: 690
A104: Site 14 | B104: 1 | C104: 1 | D104: 1 | E104: 1 | F104: 730
A105: Site 15 | B105: 1 | C105: 1 | D105: 1 | E105: 1 | F105: 720
A106: Site 16 | B106: 0.999 | C106: 0.999 | D106: 0.999 | E106: 0.999 | F106: 770
A107: Site 17 | B107: 1.001 | C107: 1.001 | D107: 1.001 | E107: 1.001 | F107: 740
A108: Site 18 | B108: 1.001 | C108: 1.001 | D108: 1.001 | E108: 1.001 | F108: 750
A109: Site 19 | B109: 1.001 | C109: 1.001 | D109: 1.001 | E109: 1.001 | F109: 820
A110: Site 20 | B110: 1 | C110: 1 | D110: 1 | E110: 1 | F110: 840
A111: Site 21 | B111: 0.995 | C111: 0.995 | D111: 0.995 | E111: 0.995 | F111: 970
A112: Site 22 | B112: 0.992 | C112: 0.992 | D112: 0.992 | E112: 0.992 | F112: 360
... A139: Site 82 | B139: 0.992 | C139: 0.992 | D139: 0.992 | E139: 0.992 | F139: 197
A140: Site 84 | B140: 0.99 | C140: 0.99 | D140: 0.99 | E140: 0.99 | F140: MSID 7039 & 7040
A141: Site 85 | B141: 0.999 | C141: 0.999 | D141: 0.999 | E141: 0.999 | F141: MSID 7107
A142: Site 90 | B142: 1.011 | C142: 1.011 | D142: 1.011 | E142: 1.011 | F142: MSID 2037 & 2038
A143: Site 91 | B143: 0.995 | C143: 0.995 | D143: 0.995 | E143: 0.995 | F143: MSID 7156
A144: Site 92 | B144: 1.009 | C144: 1.009 | D144: 1.009 | E144: 1.009 | F144: MSID 0437
A145: Site 95 | B145: 0.998 | C145: 0.998 | D145: 0.998 | E145: 0.998 | F145: 317
A146: Site 96 | B146: 0.998 | C146: 0.998 | D146: 0.998 | E146: 0.998 | F146: 337
A147: Site 97 | B147: 0.997 | C147: 0.997 | D147: 0.997 | E147: 0.997 | F147: 357
A148: Site 98 | B148: 0.909 | C148: 0.909 | D148: 0.909 | E148: 0.909 | F148: 377
A149: Site 99 | B149: 0.909 | C149: 0.909 | D149: 0.909 | E149: 0.909 | F149: 397
A150: Site 100 | B150: 0.987 | C150: 0.987 | D150: 0.987 | E150: 0.987 | F150: 427
A151: Site 102 | B151: 0.996 | C151: 0.996 | D151: 0.996 | E151: 0.996 | F151: 407
A152: Site 103 | B152: 0.996 | C152: 0.996 | D152: 0.996 | E152: 0.996 | F152: 477
A153: Site 104 | B153: 0.997 | C153: 0.997 | D153: 0.997 | E153: 0.997 | F153: 118
A154: Site 107 | B154: 0.998 | C154: 0.998 | D154: 0.998 | E154: 0.998 | F154: 138
A155: Site 110 | B155: 0.993 | C155: 0.993 | D155: 0.993 | E155: 0.993 | F155: 497
A156: Site 111 | B156: 0.99 | C156: 0.99 | D156: 0.99 | E156: 0.99 | F156: 527
... A158: tbc | B158: 0.999 | C158: 0.999 | D158: 0.999 | E158: 0.999 | F158: 507
A159: tbc | B159: 0.994 | C159: 0.994 | D159: 0.994 | E159: 0.994 | F159: MSID 7350

Sheet SPD - Annex 5 LLFs
A2: These line loss factors are illustrative based on the latest calculated values and are published in good faith. However, the line loss factors that are approved by the BSC Panel for the applicable year and consequently published on the Elexon website will take precedence and be used in Settlement if they differ from these values.
A3: SPD- Final LLFs for year beginning 1 April 2019
A4: Time periods | B4: Period 1 | C4: Period 2 | D4: Period 3 | E4: Period 4
B5: Winter Peak | C5: Winter Daytime | D5: Night | E5: Other
A6: Monday to Friday March to October
A7: Monday to Friday November to February
A8: Saturday and Sunday All Year
A9: Notes | B9: All the above times are in UK Clock time
A12: Generic demand and generation LLFs
A13: Metered voltage, respective periods and associated LLFCs
A14: Metered voltage | B14: Period 1 | C14: Period 2 | D14: Period 3 | E14: Period 4 | F14: Associated LLFC
A15: Low-voltage network | F15: 11, 31, 41, 51, 61, 81, 91, 131, 161, 171, 191, 241, 431, 441, 451, 481, 511, 531, 581, 591, 631, 661, 751, 761, 771, 781, 791, 801, 811, 821, 831, 961, 971, 981, 851, 861, 841, 901
A16: Low-voltage substation | F16: 242, 432, 482, 752, 802, 962, 972, 982, 842
A17: High-voltage network | F17: 483, 753, 803, 973, 983, 843
A18: High-voltage substation | F18: 109, 119, 129, 139, 149, 159, 169, 179, 189, 199, 209, 219, 229, 239, 249, 259, 269, 289, 299, 309, 319, 329, 339, 349, 359, 369, 379, 389, 419, 439, 459, 469, 529, 539, 549, 579, 599, 619, 639, 659, 679, 699, 719, 739, 759, 779, 799, 479, 489, 499, 509, 519, 589, 609, 629, 649, 669, 689, 709, 729, 749, 769, 789, 809
A19: EHV 33 kV
A20: EHV 132 kV to 33 kV
A21: EHV 132 kV
A23: EHV site specific LLFs
A24: Demand
A25: Site | B25: Period 1 | C25: Period 2 | D25: Period 3 | E25: Period 4 | F25: Associated LLFC
A26: Site 1 | B26: 1.032 | C26: 1.032 | D26: 1.032 | E26: 1.032 | F26: 610
A27: Site 2 | B27: 1.002 | C27: 1.002 | D27: 1.002 | E27: 1.002 | F27: 500
A28: Site 3 | B28: 1.012 | C28: 1.012 | D28: 1.012 | E28: 1.012 | F28: 650
A29: Site 4 | B29: 1.053 | C29: 1.053 | D29: 1.053 | E29: 1.053 | F29: 660
A30: Site 5 | B30: 1.024 | C30: 1.024 | D30: 1.024 | E30: 1.024 | F30: 640
A31: Site 6 | B31: 1.015 | C31: 1.015 | D31: 1.015 | E31: 1.015 | F31: 700
A32: Site 7 | B32: 1.035 | C32: 1.035 | D32: 1.035 | E32: 1.035 | F32: 900
A33: Site 8 | B33: 1.003 | C33: 1.003 | D33: 1.003 | E33: 1.003 | F33: 670
A34: Site 9 | B34: 1.005 | C34: 1.005 | D34: 1.005 | E34: 1.005 | F34: 320
A35: Site 10 | B35: 1.019 | C35: 1.019 | D35: 1.019 | E35: 1.019 | F35: 850
A36: Site 11 | B36: 1.014 | C36: 1.014 | D36: 1.014 | E36: 1.014 | F36: 450
A37: Site 12 | B37: 1 | C37: 1 | D37: 1 | E37: 1 | F37: 460
... A77: Site 82 | B77: 1 | C77: 1 | D77: 1 | E77: 1 | F77: 207
A78: Site 84 | B78: 0.99 | C78: 0.99 | D78: 0.99 | E78: 0.99 | F78: MSID 7039 & 7040
A79: Site 85 | B79: 0.999 | C79: 0.999 | D79: 0.999 | E79: 0.999 | F79: MSID 7107
A80: Site 90 | B80: 1.011 | C80: 1.011 | D80: 1.011 | E80: 1.011 | F80: MSID 2037 & 2038
A81: Site 91 | B81: 0.995 | C81: 0.995 | D81: 0.995 | E81: 0.995 | F81: MSID 7156
A82: Site 92 | B82: 1.009 | C82: 1.009 | D82: 1.009 | E82: 1.009 | F82: MSID 0437
A83: Site 95 | B83: 1 | C83: 1 | D83: 1 | E83: 1 | F83: 307
A84: Site 96 | B84: 1 | C84: 1 | D84: 1 | E84: 1 | F84: 327
A85: Site 97 | B85: 1 | C85: 1 | D85: 1 | E85: 1 | F85: 347
A86: Site 98 | B86: 1.006 | C86: 1.006 | D86: 1.006 | E86: 1.006 | F86: 367
A87: Site 99 | B87: 1.006 | C87: 1.006 | D87: 1.006 | E87: 1.006 | F87: 387
A88: Site 100 | B88: 1.013 | C88: 1.013 | D88: 1.013 | E88: 1.013 | F88: 437
A89: Site 101 | B89: 1.002 | C89: 1.002 | D89: 1.002 | E89: 1.002 | F89: 457
A90: Site 102 | B90: 1 | C90: 1 | D90: 1 | E90: 1 | F90: 417
A91: Site 103 | B91: 1 | C91: 1 | D91: 1 | E91: 1 | F91: 467
A92: Site 104 | B92: 1 | C92: 1 | D92: 1 | E92: 1 | F92: 108
A93: Site 107 | B93: 1 | C93: 1 | D93: 1 | E93: 1 | F93: 128
A94: Site 110 | B94: 1.004 | C94: 1.004 | D94: 1.004 | E94: 1.004 | F94: 487
A95: Site 111 | B95: 1 | C95: 1 | D95: 1 | E95: 1 | F95: 517
A96: tbc | B96: 0.994 | C96: 0.994 | D96: 0.994 | E96: 0.994 | F96: MSID 7350
A98: EHV site specific LLFs
A99: Generation
A100: Site | B100: Period 1 | C100: Period 2 | D100: Period 3 | E100: Period 4 | F100: Associated LLFC
A101: Site 8 | B101: 1 | C101: 1 | D101: 1 | E101: 1 | F101: 217
A102: Site 12 | B102: 1 | C102: 1 | D102: 1 | E102: 1 | F102: 470
A103: Site 13 | B103: 0.99 | C103: 0.99 | D103: 0.99 | E103: 0.99 | F103: 690
A104: Site 14 | B104: 1 | C104: 1 | D104: 1 | E104: 1 | F104: 730
A105: Site 15 | B105: 1 | C105: 1 | D105: 1 | E105: 1 | F105: 720
A106: Site 16 | B106: 0.999 | C106: 0.999 | D106: 0.999 | E106: 0.999 | F106: 770
A107: Site 17 | B107: 1.001 | C107: 1.001 | D107: 1.001 | E107: 1.001 | F107: 740
A108: Site 18 | B108: 1.001 | C108: 1.001 | D108: 1.001 | E108: 1.001 | F108: 750
A109: Site 19 | B109: 1.001 | C109: 1.001 | D109: 1.001 | E109: 1.001 | F109: 820
A110: Site 20 | B110: 1 | C110: 1 | D110: 1 | E110: 1 | F110: 840
A111: Site 21 | B111: 0.995 | C111: 0.995 | D111: 0.995 | E111: 0.995 | F111: 970
A112: Site 22 | B112: 0.992 | C112: 0.992 | D112: 0.992 | E112: 0.992 | F112: 360
... A139: Site 82 | B139: 0.992 | C139: 0.992 | D139: 0.992 | E139: 0.992 | F139: 197
A140: Site 84 | B140: 0.99 | C140: 0.99 | D140: 0.99 | E140: 0.99 | F140: MSID 7039 & 7040
A141: Site 85 | B141: 0.999 | C141: 0.999 | D141: 0.999 | E141: 0.999 | F141: MSID 7107
A142: Site 90 | B142: 1.011 | C142: 1.011 | D142: 1.011 | E142: 1.011 | F142: MSID 2037 & 2038
A143: Site 91 | B143: 0.995 | C143: 0.995 | D143: 0.995 | E143: 0.995 | F143: MSID 7156
A144: Site 92 | B144: 1.009 | C144: 1.009 | D144: 1.009 | E144: 1.009 | F144: MSID 0437
A145: Site 95 | B145: 0.998 | C145: 0.998 | D145: 0.998 | E145: 0.998 | F145: 317
A146: Site 96 | B146: 0.998 | C146: 0.998 | D146: 0.998 | E146: 0.998 | F146: 337
A147: Site 97 | B147: 0.997 | C147: 0.997 | D147: 0.997 | E147: 0.997 | F147: 357
A148: Site 98 | B148: 0.909 | C148: 0.909 | D148: 0.909 | E148: 0.909 | F148: 377
A149: Site 99 | B149: 0.909 | C149: 0.909 | D149: 0.909 | E149: 0.909 | F149: 397
A150: Site 100 | B150: 0.987 | C150: 0.987 | D150: 0.987 | E150: 0.987 | F150: 427
A151: Site 102 | B151: 0.996 | C151: 0.996 | D151: 0.996 | E151: 0.996 | F151: 407
A152: Site 103 | B152: 0.996 | C152: 0.996 | D152: 0.996 | E152: 0.996 | F152: 477
A153: Site 104 | B153: 0.997 | C153: 0.997 | D153: 0.997 | E153: 0.997 | F153: 118
A154: Site 107 | B154: 0.998 | C154: 0.998 | D154: 0.998 | E154: 0.998 | F154: 138
A155: Site 110 | B155: 0.993 | C155: 0.993 | D155: 0.993 | E155: 0.993 | F155: 497
A156: Site 111 | B156: 0.99 | C156: 0.99 | D156: 0.99 | E156: 0.99 | F156: 527
... A158: tbc | B158: 0.999 | C158: 0.999 | D158: 0.999 | E158: 0.999 | F158: 507
A159: tbc | B159: 0.994 | C159: 0.994 | D159: 0.994 | E159: 0.994 | F159: MSID 7350

Sheet LPN - Annex 5 LLFs
A2: These line loss factors are illustrative based on the latest calculated values and are published in good faith. However, the line loss factors that are approved by the BSC Panel for the applicable year and consequently published on the Elexon website will take precedence and be used in Settlement if they differ from these values.
A3: SPD- Final LLFs for year beginning 1 April 2019
A4: Time periods | B4: Period 1 | C4: Period 2 | D4: Period 3 | E4: Period 4
B5: Winter Peak | C5: Winter Daytime | D5: Night | E5: Other
A6: Monday to Friday March to October
A7: Monday to Friday November to February
A8: Saturday and Sunday All Year
A9: Notes | B9: All the above times are in UK Clock time
A12: Generic demand and generation LLFs
A13: Metered voltage, respective periods and associated LLFCs
A14: Metered voltage | B14: Period 1 | C14: Period 2 | D14: Period 3 | E14: Period 4 | F14: Associated LLFC
A15: Low-voltage network | F15: 11, 31, 41, 51, 61, 81, 91, 131, 161, 171, 191, 241, 431, 441, 451, 481, 511, 531, 581, 591, 631, 661, 751, 761, 771, 781, 791, 801, 811, 821, 831, 961, 971, 981, 851, 861, 841, 901
A16: Low-voltage substation | F16: 242, 432, 482, 752, 802, 962, 972, 982, 842
A17: High-voltage network | F17: 483, 753, 803, 973, 983, 843
A18: High-voltage substation | F18: 109, 119, 129, 139, 149, 159, 169, 179, 189, 199, 209, 219, 229, 239, 249, 259, 269, 289, 299, 309, 319, 329, 339, 349, 359, 369, 379, 389, 419, 439, 459, 469, 529, 539, 549, 579, 599, 619, 639, 659, 679, 699, 719, 739, 759, 779, 799, 479, 489, 499, 509, 519, 589, 609, 629, 649, 669, 689, 709, 729, 749, 769, 789, 809
A19: EHV 33 kV
A20: EHV 132 kV to 33 kV
A21: EHV 132 kV
A23: EHV site specific LLFs
A24: Demand
A25: Site | B25: Period 1 | C25: Period 2 | D25: Period 3 | E25: Period 4 | F25: Associated LLFC
A26: Site 1 | B26: 1.032 | C26: 1.032 | D26: 1.032 | E26: 1.032 | F26: 610
A27: Site 2 | B27: 1.002 | C27: 1.002 | D27: 1.002 | E27: 1.002 | F27: 500
A28: Site 3 | B28: 1.012 | C28: 1.012 | D28: 1.012 | E28: 1.012 | F28: 650
A29: Site 4 | B29: 1.053 | C29: 1.053 | D29: 1.053 | E29: 1.053 | F29: 660
A30: Site 5 | B30: 1.024 | C30: 1.024 | D30: 1.024 | E30: 1.024 | F30: 640
A31: Site 6 | B31: 1.015 | C31: 1.015 | D31: 1.015 | E31: 1.015 | F31: 700
A32: Site 7 | B32: 1.035 | C32: 1.035 | D32: 1.035 | E32: 1.035 | F32: 900
A33: Site 8 | B33: 1.003 | C33: 1.003 | D33: 1.003 | E33: 1.003 | F33: 670
A34: Site 9 | B34: 1.005 | C34: 1.005 | D34: 1.005 | E34: 1.005 | F34: 320
A35: Site 10 | B35: 1.019 | C35: 1.019 | D35: 1.019 | E35: 1.019 | F35: 850
A36: Site 11 | B36: 1.014 | C36: 1.014 | D36: 1.014 | E36: 1.014 | F36: 450
A37: Site 12 | B37: 1 | C37: 1 | D37: 1 | E37: 1 | F37: 460
... A77: Site 82 | B77: 1 | C77: 1 | D77: 1 | E77: 1 | F77: 207
A78: Site 84 | B78: 0.99 | C78: 0.99 | D78: 0.99 | E78: 0.99 | F78: MSID 7039 & 7040
A79: Site 85 | B79: 0.999 | C79: 0.999 | D79: 0.999 | E79: 0.999 | F79: MSID 7107
A80: Site 90 | B80: 1.011 | C80: 1.011 | D80: 1.011 | E80: 1.011 | F80: MSID 2037 & 2038
A81: Site 91 | B81: 0.995 | C81: 0.995 | D81: 0.995 | E81: 0.995 | F81: MSID 7156
A82: Site 92 | B82: 1.009 | C82: 1.009 | D82: 1.009 | E82: 1.009 | F82: MSID 0437
A83: Site 95 | B83: 1 | C83: 1 | D83: 1 | E83: 1 | F83: 307
A84: Site 96 | B84: 1 | C84: 1 | D84: 1 | E84: 1 | F84: 327
A85: Site 97 | B85: 1 | C85: 1 | D85: 1 | E85: 1 | F85: 347
A86: Site 98 | B86: 1.006 | C86: 1.006 | D86: 1.006 | E86: 1.006 | F86: 367
A87: Site 99 | B87: 1.006 | C87: 1.006 | D87: 1.006 | E87: 1.006 | F87: 387
A88: Site 100 | B88: 1.013 | C88: 1.013 | D88: 1.013 | E88: 1.013 | F88: 437
A89: Site 101 | B89: 1.002 | C89: 1.002 | D89: 1.002 | E89: 1.002 | F89: 457
A90: Site 102 | B90: 1 | C90: 1 | D90: 1 | E90: 1 | F90: 417
A91: Site 103 | B91: 1 | C91: 1 | D91: 1 | E91: 1 | F91: 467
A92: Site 104 | B92: 1 | C92: 1 | D92: 1 | E92: 1 | F92: 108
A93: Site 107 | B93: 1 | C93: 1 | D93: 1 | E93: 1 | F93: 128
A94: Site 110 | B94: 1.004 | C94: 1.004 | D94: 1.004 | E94: 1.004 | F94: 487
A95: Site 111 | B95: 1 | C95: 1 | D95: 1 | E95: 1 | F95: 517
A96: tbc | B96: 0.994 | C96: 0.994 | D96: 0.994 | E96: 0.994 | F96: MSID 7350
A98: EHV site specific LLFs
A99: Generation
A100: Site | B100: Period 1 | C100: Period 2 | D100: Period 3 | E100: Period 4 | F100: Associated LLFC
A101: Site 8 | B101: 1 | C101: 1 | D101: 1 | E101: 1 | F101: 217
A102: Site 12 | B102: 1 | C102: 1 | D102: 1 | E102: 1 | F102: 470
A103: Site 13 | B103: 0.99 | C103: 0.99 | D103: 0.99 | E103: 0.99 | F103: 690
A104: Site 14 | B104: 1 | C104: 1 | D104: 1 | E104: 1 | F104: 730
A105: Site 15 | B105: 1 | C105: 1 | D105: 1 | E105: 1 | F105: 720
A106: Site 16 | B106: 0.999 | C106: 0.999 | D106: 0.999 | E106: 0.999 | F106: 770
A107: Site 17 | B107: 1.001 | C107: 1.001 | D107: 1.001 | E107: 1.001 | F107: 740
A108: Site 18 | B108: 1.001 | C108: 1.001 | D108: 1.001 | E108: 1.001 | F108: 750
A109: Site 19 | B109: 1.001 | C109: 1.001 | D109: 1.001 | E109: 1.001 | F109: 820
A110: Site 20 | B110: 1 | C110: 1 | D110: 1 | E110: 1 | F110: 840
A111: Site 21 | B111: 0.995 | C111: 0.995 | D111: 0.995 | E111: 0.995 | F111: 970
A112: Site 22 | B112: 0.992 | C112: 0.992 | D112: 0.992 | E112: 0.992 | F112: 360
... A139: Site 82 | B139: 0.992 | C139: 0.992 | D139: 0.992 | E139: 0.992 | F139: 197
A140: Site 84 | B140: 0.99 | C140: 0.99 | D140: 0.99 | E140: 0.99 | F140: MSID 7039 & 7040
A141: Site 85 | B141: 0.999 | C141: 0.999 | D141: 0.999 | E141: 0.999 | F141: MSID 7107
A142: Site 90 | B142: 1.011 | C142: 1.011 | D142: 1.011 | E142: 1.011 | F142: MSID 2037 & 2038
A143: Site 91 | B143: 0.995 | C143: 0.995 | D143: 0.995 | E143: 0.995 | F143: MSID 7156
A144: Site 92 | B144: 1.009 | C144: 1.009 | D144: 1.009 | E144: 1.009 | F144: MSID 0437
A145: Site 95 | B145: 0.998 | C145: 0.998 | D145: 0.998 | E145: 0.998 | F145: 317
A146: Site 96 | B146: 0.998 | C146: 0.998 | D146: 0.998 | E146: 0.998 | F146: 337
A147: Site 97 | B147: 0.997 | C147: 0.997 | D147: 0.997 | E147: 0.997 | F147: 357
A148: Site 98 | B148: 0.909 | C148: 0.909 | D148: 0.909 | E148: 0.909 | F148: 377
A149: Site 99 | B149: 0.909 | C149: 0.909 | D149: 0.909 | E149: 0.909 | F149: 397
A150: Site 100 | B150: 0.987 | C150: 0.987 | D150: 0.987 | E150: 0.987 | F150: 427
A151: Site 102 | B151: 0.996 | C151: 0.996 | D151: 0.996 | E151: 0.996 | F151: 407
A152: Site 103 | B152: 0.996 | C152: 0.996 | D152: 0.996 | E152: 0.996 | F152: 477
A153: Site 104 | B153: 0.997 | C153: 0.997 | D153: 0.997 | E153: 0.997 | F153: 118
A154: Site 107 | B154: 0.998 | C154: 0.998 | D154: 0.998 | E154: 0.998 | F154: 138
A155: Site 110 | B155: 0.993 | C155: 0.993 | D155: 0.993 | E155: 0.993 | F155: 497
A156: Site 111 | B156: 0.99 | C156: 0.99 | D156: 0.99 | E156: 0.99 | F156: 527
... A158: tbc | B158: 0.999 | C158: 0.999 | D158: 0.999 | E158: 0.999 | F158: 507
A159: tbc | B159: 0.994 | C159: 0.994 | D159: 0.994 | E159: 0.994 | F159: MSID 7350

Sheet SPN - Annex 5 LLFs
A2: These line loss factors are illustrative based on the latest calculated values and are published in good faith. However, the line loss factors that are approved by the BSC Panel for the applicable year and consequently published on the Elexon website will take precedence and be used in Settlement if they differ from these values.
A3: SPN- Final LLFs for year beginning 1 April 2019
A4: Time periods | B4: Period 1 | C4: Period 2 | D4: Period 3 | E4: Period 4
B5: Winter Peak | C5: Winter Daytime | D5: Night | E5: Other
A6: Monday to Friday March to October
A7: Monday to Friday November to February
A8: Saturday and Sunday All Year
A9: Notes | B9: All the above times are in UK Clock time
A12: Generic demand and generation LLFs
A13: Metered voltage, respective periods and associated LLFCs
A14: Metered voltage | B14: Period 1 | C14: Period 2 | D14: Period 3 | E14: Period 4 | F14: Associated LLFC
A15: Low-voltage network | F15: 11, 31, 41, 51, 61, 81, 91, 131, 161, 171, 191, 241, 431, 441, 451, 481, 511, 531, 581, 591, 631, 661, 751, 761, 771, 781, 791, 801, 811, 821, 831, 961, 971, 981, 851, 861, 841, 901
A16: Low-voltage substation | F16: 242, 432, 482, 752, 802, 962, 972, 982, 842
A17: High-voltage network | F17: 483, 753, 803, 973, 983, 843
A18: High-voltage substation | F18: 109, 119, 129, 139, 149, 159, 169, 179, 189, 199, 209, 219, 229, 239, 249, 259, 269, 289, 299, 309, 319, 329, 339, 349, 359, 369, 379, 389, 419, 439, 459, 469, 529, 539, 549, 579, 599, 619, 639, 659, 679, 699, 719, 739, 759, 779, 799, 479, 489, 499, 509, 519, 589, 609, 629, 649, 669, 689, 709, 729, 749, 769, 789, 809
A19: EHV 33 kV
A20: EHV 132 kV to 33 kV
A21: EHV 132 kV
A23: EHV site specific LLFs
A24: Demand
A25: Site | B25: Period 1 | C25: Period 2 | D25: Period 3 | E25: Period 4 | F25: Associated LLFC
A26: Site 1 | B26: 1.032 | C26: 1.032 | D26: 1.032 | E26: 1.032 | F26: 610
A27: Site 2 | B27: 1.002 | C27: 1.002 | D27: 1.002 | E27: 1.002 | F27: 500
A28: Site 3 | B28: 1.012 | C28: 1.012 | D28: 1.012 | E28: 1.012 | F28: 650
A29: Site 4 | B29: 1.053 | C29: 1.053 | D29: 1.053 | E29: 1.053 | F29: 660
A30: Site 5 | B30: 1.024 | C30: 1.024 | D30: 1.024 | E30: 1.024 | F30: 640
A31: Site 6 | B31: 1.015 | C31: 1.015 | D31: 1.015 | E31: 1.015 | F31: 700
A32: Site 7 | B32: 1.035 | C32: 1.035 | D32: 1.035 | E32: 1.035 | F32: 900
A33: Site 8 | B33: 1.003 | C33: 1.003 | D33: 1.003 | E33: 1.003 | F33: 670
A34: Site 9 | B34: 1.005 | C34: 1.005 | D34: 1.005 | E34: 1.005 | F34: 320
A35: Site 10 | B35: 1.019 | C35: 1.019 | D35: 1.019 | E35: 1.019 | F35: 850
A36: Site 11 | B36: 1.014 | C36: 1.014 | D36: 1.014 | E36: 1.014 | F36: 450
A37: Site 12 | B37: 1 | C37: 1 | D37: 1 | E37: 1 | F37: 460
... A77: Site 82 | B77: 1 | C77: 1 | D77: 1 | E77: 1 | F77: 207
A78: Site 84 | B78: 0.99 | C78: 0.99 | D78: 0.99 | E78: 0.99 | F78: MSID 7039 & 7040
A79: Site 85 | B79: 0.999 | C79: 0.999 | D79: 0.999 | E79: 0.999 | F79: MSID 7107
A80: Site 90 | B80: 1.011 | C80: 1.011 | D80: 1.011 | E80: 1.011 | F80: MSID 2037 & 2038
A81: Site 91 | B81: 0.995 | C81: 0.995 | D81: 0.995 | E81: 0.995 | F81: MSID 7156
A82: Site 92 | B82: 1.009 | C82: 1.009 | D82: 1.009 | E82: 1.009 | F82: MSID 0437
A83: Site 95 | B83: 1 | C83: 1 | D83: 1 | E83: 1 | F83: 307
A84: Site 96 | B84: 1 | C84: 1 | D84: 1 | E84: 1 | F84: 327
A85: Site 97 | B85: 1 | C85: 1 | D85: 1 | E85: 1 | F85: 347
A86: Site 98 | B86: 1.006 | C86: 1.006 | D86: 1.006 | E86: 1.006 | F86: 367
A87: Site 99 | B87: 1.006 | C87: 1.006 | D87: 1.006 | E87: 1.006 | F87: 387
A88: Site 100 | B88: 1.013 | C88: 1.013 | D88: 1.013 | E88: 1.013 | F88: 437
A89: Site 101 | B89: 1.002 | C89: 1.002 | D89: 1.002 | E89: 1.002 | F89: 457
A90: Site 102 | B90: 1 | C90: 1 | D90: 1 | E90: 1 | F90: 417
A91: Site 103 | B91: 1 | C91: 1 | D91: 1 | E91: 1 | F91: 467
A92: Site 104 | B92: 1 | C92: 1 | D92: 1 | E92: 1 | F92: 108
A93: Site 107 | B93: 1 | C93: 1 | D93: 1 | E93: 1 | F93: 128
A94: Site 110 | B94: 1.004 | C94: 1.004 | D94: 1.004 | E94: 1.004 | F94: 487
A95: Site 111 | B95: 1 | C95: 1 | D95: 1 | E95: 1 | F95: 517
A96: tbc | B96: 0.994 | C96: 0.994 | D96: 0.994 | E96: 0.994 | F96: MSID 7350
A98: EHV site specific LLFs
A99: Generation
A100: Site | B100: Period 1 | C100: Period 2 | D100: Period 3 | E100: Period 4 | F100: Associated LLFC
A101: Site 8 | B101: 1 | C101: 1 | D101: 1 | E101: 1 | F101: 217
A102: Site 12 | B102: 1 | C102: 1 | D102: 1 | E102: 1 | F102: 470
A103: Site 13 | B103: 0.99 | C103: 0.99 | D103: 0.99 | E103: 0.99 | F103: 690
A104: Site 14 | B104: 1 | C104: 1 | D104: 1 | E104: 1 | F104: 730
A105: Site 15 | B105: 1 | C105: 1 | D105: 1 | E105: 1 | F105: 720
A106: Site 16 | B106: 0.999 | C106: 0.999 | D106: 0.999 | E106: 0.999 | F106: 770
A107: Site 17 | B107: 1.001 | C107: 1.001 | D107: 1.001 | E107: 1.001 | F107: 740
A108: Site 18 | B108: 1.001 | C108: 1.001 | D108: 1.001 | E108: 1.001 | F108: 750
A109: Site 19 | B109: 1.001 | C109: 1.001 | D109: 1.001 | E109: 1.001 | F109: 820
A110: Site 20 | B110: 1 | C110: 1 | D110: 1 | E110: 1 | F110: 840
A111: Site 21 | B111: 0.995 | C111: 0.995 | D111: 0.995 | E111: 0.995 | F111: 970
A112: Site 22 | B112: 0.992 | C112: 0.992 | D112: 0.992 | E112: 0.992 | F112: 360
... A139: Site 82 | B139: 0.992 | C139: 0.992 | D139: 0.992 | E139: 0.992 | F139: 197
A140: Site 84 | B140: 0.99 | C140: 0.99 | D140: 0.99 | E140: 0.99 | F140: MSID 7039 & 7040
A141: Site 85 | B141: 0.999 | C141: 0.999 | D141: 0.999 | E141: 0.999 | F141: MSID 7107
A142: Site 90 | B142: 1.011 | C142: 1.011 | D142: 1.011 | E142: 1.011 | F142: MSID 2037 & 2038
A143: Site 91 | B143: 0.995 | C143: 0.995 | D143: 0.995 | E143: 0.995 | F143: MSID 7156
A144: Site 92 | B144: 1.009 | C144: 1.009 | D144: 1.009 | E144: 1.009 | F144: MSID 0437
A145: Site 95 | B145: 0.998 | C145: 0.998 | D145: 0.998 | E145: 0.998 | F145: 317
A146: Site 96 | B146: 0.998 | C146: 0.998 | D146: 0.998 | E146: 0.998 | F146: 337
A147: Site 97 | B147: 0.997 | C147: 0.997 | D147: 0.997 | E147: 0.997 | F147: 357
A148: Site 98 | B148: 0.909 | C148: 0.909 | D148: 0.909 | E148: 0.909 | F148: 377
A149: Site 99 | B149: 0.909 | C149: 0.909 | D149: 0.909 | E149: 0.909 | F149: 397
A150: Site 100 | B150: 0.987 | C150: 0.987 | D150: 0.987 | E150: 0.987 | F150: 427
A151: Site 102 | B151: 0.996 | C151: 0.996 | D151: 0.996 | E151: 0.996 | F151: 407
A152: Site 103 | B152: 0.996 | C152: 0.996 | D152: 0.996 | E152: 0.996 | F152: 477
A153: Site 104 | B153: 0.997 | C153: 0.997 | D153: 0.997 | E153: 0.997 | F153: 118
A154: Site 107 | B154: 0.998 | C154: 0.998 | D154: 0.998 | E154: 0.998 | F154: 138
A155: Site 110 | B155: 0.993 | C155: 0.993 | D155: 0.993 | E155: 0.993 | F155: 497
A156: Site 111 | B156: 0.99 | C156: 0.99 | D156: 0.99 | E156: 0.99 | F156: 527
... A158: tbc | B158: 0.999 | C158: 0.999 | D158: 0.999 | E158: 0.999 | F158: 507
A159: tbc | B159: 0.994 | C159: 0.994 | D159: 0.994 | E159: 0.994 | F159: MSID 7350

Sheet EPN - Annex 5 LLFs
A2: These line loss factors are illustrative based on the latest calculated values and are published in good faith. However, the line loss factors that are approved by the BSC Panel for the applicable year and consequently published on the Elexon website will take precedence and be used in Settlement if they differ from these values.
A3: EPN- Final LLFs for year beginning 1 April 2019
A4: Time periods | B4: Period 1 | C4: Period 2 | D4: Period 3 | E4: Period 4
B5: Winter Peak | C5: Winter Daytime | D5: Night | E5: Other
A6: Monday to Friday March to October
A7: Monday to Friday November to February
A8: Saturday and Sunday All Year
A9: Notes | B9: All the above times are in UK Clock time
A12: Generic demand and generation LLFs
A13: Metered voltage, respective periods and associated LLFCs
A14: Metered voltage | B14: Period 1 | C14: Period 2 | D14: Period 3 | E14: Period 4 | F14: Associated LLFC
A15: Low-voltage network | F15: 11, 31, 41, 51, 61, 81, 91, 131, 161, 171, 191, 241, 431, 441, 451, 481, 511, 531, 581, 591, 631, 661, 751, 761, 771, 781, 791, 801, 811, 821, 831, 961, 971, 981, 851, 861, 841, 901
A16: Low-voltage substation | F16: 242, 432, 482, 752, 802, 962, 972, 982, 842
A17: High-voltage network | F17: 483, 753, 803, 973, 983, 843
A18: High-voltage substation | F18: 109, 119, 129, 139, 149, 159, 169, 179, 189, 199, 209, 219, 229, 239, 249, 259, 269, 289, 299, 309, 319, 329, 339, 349, 359, 369, 379, 389, 419, 439, 459, 469, 529, 539, 549, 579, 599, 619, 639, 659, 679, 699, 719, 739, 759, 779, 799, 479, 489, 499, 509, 519, 589, 609, 629, 649, 669, 689, 709, 729, 749, 769, 789, 809
A19: EHV 33 kV
A20: EHV 132 kV to 33 kV
A21: EHV 132 kV
A23: EHV site specific LLFs
A24: Demand
A25: Site | B25: Period 1 | C25: Period 2 | D25: Period 3 | E25: Period 4 | F25: Associated LLFC
A26: Site 1 | B26: 1.032 | C26: 1.032 | D26: 1.032 | E26: 1.032 | F26: 610
A27: Site 2 | B27: 1.002 | C27: 1.002 | D27: 1.002 | E27: 1.002 | F27: 500
A28: Site 3 | B28: 1.012 | C28: 1.012 | D28: 1.012 | E28: 1.012 | F28: 650
A29: Site 4 | B29: 1.053 | C29: 1.053 | D29: 1.053 | E29: 1.053 | F29: 660
A30: Site 5 | B30: 1.024 | C30: 1.024 | D30: 1.024 | E30: 1.024 | F30: 640
A31: Site 6 | B31: 1.015 | C31: 1.015 | D31: 1.015 | E31: 1.015 | F31: 700
A32: Site 7 | B32: 1.035 | C32: 1.035 | D32: 1.035 | E32: 1.035 | F32: 900
A33: Site 8 | B33: 1.003 | C33: 1.003 | D33: 1.003 | E33: 1.003 | F33: 670
A34: Site 9 | B34: 1.005 | C34: 1.005 | D34: 1.005 | E34: 1.005 | F34: 320
A35: Site 10 | B35: 1.019 | C35: 1.019 | D35: 1.019 | E35: 1.019 | F35: 850
A36: Site 11 | B36: 1.014 | C36: 1.014 | D36: 1.014 | E36: 1.014 | F36: 450
A37: Site 12 | B37: 1 | C37: 1 | D37: 1 | E37: 1 | F37: 460
... A77: Site 82 | B77: 1 | C77: 1 | D77: 1 | E77: 1 | F77: 207
A78: Site 84 | B78: 0.99 | C78: 0.99 | D78: 0.99 | E78: 0.99 | F78: MSID 7039 & 7040
A79: Site 85 | B79: 0.999 | C79: 0.999 | D79: 0.999 | E79: 0.999 | F79: MSID 7107
A80: Site 90 | B80: 1.011 | C80: 1.011 | D80: 1.011 | E80: 1.011 | F80: MSID 2037 & 2038
A81: Site 91 | B81: 0.995 | C81: 0.995 | D81: 0.995 | E81: 0.995 | F81: MSID 7156
A82: Site 92 | B82: 1.009 | C82: 1.009 | D82: 1.009 | E82: 1.009 | F82: MSID 0437
A83: Site 95 | B83: 1 | C83: 1 | D83: 1 | E83: 1 | F83: 307
A84: Site 96 | B84: 1 | C84: 1 | D84: 1 | E84: 1 | F84: 327
A85: Site 97 | B85: 1 | C85: 1 | D85: 1 | E85: 1 | F85: 347
A86: Site 98 | B86: 1.006 | C86: 1.006 | D86: 1.006 | E86: 1.006 | F86: 367
A87: Site 99 | B87: 1.006 | C87: 1.006 | D87: 1.006 | E87: 1.006 | F87: 387
A88: Site 100 | B88: 1.013 | C88: 1.013 | D88: 1.013 | E88: 1.013 | F88: 437
A89: Site 101 | B89: 1.002 | C89: 1.002 | D89: 1.002 | E89: 1.002 | F89: 457
A90: Site 102 | B90: 1 | C90: 1 | D90: 1 | E90: 1 | F90: 417
A91: Site 103 | B91: 1 | C91: 1 | D91: 1 | E91: 1 | F91: 467
A92: Site 104 | B92: 1 | C92: 1 | D92: 1 | E92: 1 | F92: 108
A93: Site 107 | B93: 1 | C93: 1 | D93: 1 | E93: 1 | F93: 128
A94: Site 110 | B94: 1.004 | C94: 1.004 | D94: 1.004 | E94: 1.004 | F94: 487
A95: Site 111 | B95: 1 | C95: 1 | D95: 1 | E95: 1 | F95: 517
A96: tbc | B96: 0.994 | C96: 0.994 | D96: 0.994 | E96: 0.994 | F96: MSID 7350
A98: EHV site specific LLFs
A99: Generation
A100: Site | B100: Period 1 | C100: Period 2 | D100: Period 3 | E100: Period 4 | F100: Associated LLFC
A101: Site 8 | B101: 1 | C101: 1 | D101: 1 | E101: 1 | F101: 217
A102: Site 12 | B102: 1 | C102: 1 | D102: 1 | E102: 1 | F102: 470
A103: Site 13 | B103: 0.99 | C103: 0.99 | D103: 0.99 | E103: 0.99 | F103: 690
A104: Site 14 | B104: 1 | C104: 1 | D104: 1 | E104: 1 | F104: 730
A105: Site 15 | B105: 1 | C105: 1 | D105: 1 | E105: 1 | F105: 720
A106: Site 16 | B106: 0.999 | C106: 0.999 | D106: 0.999 | E106: 0.999 | F106: 770
A107: Site 17 | B107: 1.001 | C107: 1.001 | D107: 1.001 | E107: 1.001 | F107: 740
A108: Site 18 | B108: 1.001 | C108: 1.001 | D108: 1.001 | E108: 1.001 | F108: 750
A109: Site 19 | B109: 1.001 | C109: 1.001 | D109: 1.001 | E109: 1.001 | F109: 820
A110: Site 20 | B110: 1 | C110: 1 | D110: 1 | E110: 1 | F110: 840
A111: Site 21 | B111: 0.995 | C111: 0.995 | D111: 0.995 | E111: 0.995 | F111: 970
A112: Site 22 | B112: 0.992 | C112: 0.992 | D112: 0.992 | E112: 0.992 | F112: 360
... A139: Site 82 | B139: 0.992 | C139: 0.992 | D139: 0.992 | E139: 0.992 | F139: 197
A140: Site 84 | B140: 0.99 | C140: 0.99 | D140: 0.99 | E140: 0.99 | F140: MSID 7039 & 7040
A141: Site 85 | B141: 0.999 | C141: 0.999 | D141: 0.999 | E141: 0.999 | F141: MSID 7107
A142: Site 90 | B142: 1.011 | C142: 1.011 | D142: 1.011 | E142: 1.011 | F142: MSID 2037 & 2038
A143: Site 91 | B143: 0.995 | C143: 0.995 | D143: 0.995 | E143: 0.995 | F143: MSID 7156
A144: Site 92 | B144: 1.009 | C144: 1.009 | D144: 1.009 | E144: 1.009 | F144: MSID 0437
A145: Site 95 | B145: 0.998 | C145: 0.998 | D145: 0.998 | E145: 0.998 | F145: 317
A146: Site 96 | B146: 0.998 | C146: 0.998 | D146: 0.998 | E146: 0.998 | F146: 337
A147: Site 97 | B147: 0.997 | C147: 0.997 | D147: 0.997 | E147: 0.997 | F147: 357
A148: Site 98 | B148: 0.909 | C148: 0.909 | D148: 0.909 | E148: 0.909 | F148: 377
A149: Site 99 | B149: 0.909 | C149: 0.909 | D149: 0.909 | E149: 0.909 | F149: 397
A150: Site 100 | B150: 0.987 | C150: 0.987 | D150: 0.987 | E150: 0.987 | F150: 427
A151: Site 102 | B151: 0.996 | C151: 0.996 | D151: 0.996 | E151: 0.996 | F151: 407
A152: Site 103 | B152: 0.996 | C152: 0.996 | D152: 0.996 | E152: 0.996 | F152: 477
A153: Site 104 | B153: 0.997 | C153: 0.997 | D153: 0.997 | E153: 0.997 | F153: 118
A154: Site 107 | B154: 0.998 | C154: 0.998 | D154: 0.998 | E154: 0.998 | F154: 138
A155: Site 110 | B155: 0.993 | C155: 0.993 | D155: 0.993 | E155: 0.993 | F155: 497
A156: Site 111 | B156: 0.99 | C156: 0.99 | D156: 0.99 | E156: 0.99 | F156: 527
... A158: tbc | B158: 0.999 | C158: 0.999 | D158: 0.999 | E158: 0.999 | F158: 507
A159: tbc | B159: 0.994 | C159: 0.994 | D159: 0.994 | E159: 0.994 | F159: MSID 7350

Sheet NPG Y - Annex 5 LLFs
A2: These line loss factors are illustrative based on the latest calculated values and are published in good faith. However, the line loss factors that are approved by the BSC Panel for the applicable year and consequently published on the Elexon website will take precedence and be used in Settlement if they differ from these values.
A3: NPG Yorkshire- Final LLFs for year beginning 1 April 2019
A4: Time periods | B4: Period 1 | C4: Period 2 | D4: Period 3 | E4: Period 4
B5: Winter Peak | C5: Winter Daytime | D5: Night | E5: Other
A6: Monday to Friday March to October
A7: Monday to Friday November to February
A8: Saturday and Sunday All Year
A9: Notes | B9: All the above times are in UK Clock time
A12: Generic demand and generation LLFs
A13: Metered voltage, respective periods and associated LLFCs
A14: Metered voltage | B14: Period 1 | C14: Period 2 | D14: Period 3 | E14: Period 4 | F14: Associated LLFC
A15: Low-voltage network | F15: 11, 31, 41, 51, 61, 81, 91, 131, 161, 171, 191, 241, 431, 441, 451, 481, 511, 531, 581, 591, 631, 661, 751, 761, 771, 781, 791, 801, 811, 821, 831, 961, 971, 981, 851, 861, 841, 901
A16: Low-voltage substation | F16: 242, 432, 482, 752, 802, 962, 972, 982, 842
A17: High-voltage network | F17: 483, 753, 803, 973, 983, 843
A18: High-voltage substation | F18: 109, 119, 129, 139, 149, 159, 169, 179, 189, 199, 209, 219, 229, 239, 249, 259, 269, 289, 299, 309, 319, 329, 339, 349, 359, 369, 379, 389, 419, 439, 459, 469, 529, 539, 549, 579, 599, 619, 639, 659, 679, 699, 719, 739, 759, 779, 799, 479, 489, 499, 509, 519, 589, 609, 629, 649, 669, 689, 709, 729, 749, 769, 789, 809
A19: EHV 33 kV
A20: EHV 132 kV to 33 kV
A21: EHV 132 kV
A23: EHV site specific LLFs
A24: Demand
A25: Site | B25: Period 1 | C25: Period 2 | D25: Period 3 | E25: Period 4
A26: Site 1 | B26: 1.032 | C26: 1.032 | D26: 1.032 | E26: 1.032
A27: Site 2 | B27: 1.002 | C27: 1.002 | D27: 1.002 | E27: 1.002
A28: Site 3 | B28: 1.012 | C28: 1.012 | D28: 1.012 | E28: 1.012
A29: Site 4 | B29: 1.053 | C29: 1.053 | D29: 1.053 | E29: 1.053
A30: Site 5 | B30: 1.024 | C30: 1.024 | D30: 1.024 | E30: 1.024
A31: Site 6 | B31: 1.015 | C31: 1.015 | D31: 1.015 | E31: 1.015
A32: Site 7 | B32: 1.035 | C32: 1.035 | D32: 1.035 | E32: 1.035
A33: Site 8 | B33: 1.003 | C33: 1.003 | D33: 1.003 | E33: 1.003
A34: Site 9 | B34: 1.005 | C34: 1.005 | D34: 1.005 | E34: 1.005
A35: Site 10 | B35: 1.019 | C35: 1.019 | D35: 1.019 | E35: 1.019
A36: Site 11 | B36: 1.014 | C36: 1.014 | D36: 1.014 | E36: 1.014
A37: Site 12 | B37: 1 | C37: 1 | D37: 1 | E37: 1
... A96: tbc | B96: 0.994 | C96: 0.994 | D96: 0.994 | E96: 0.994
A98: EHV site specific LLFs
A99: Generation
A100: Site | B100: Period 1 | C100: Period 2 | D100: Period 3 | E100: Period 4
A101: Site 8 | B101: 1 | C101: 1 | D101: 1 | E101: 1
A102: Site 12 | B102: 1 | C102: 1 | D102: 1 | E102: 1
A103: Site 13 | B103: 0.99 | C103: 0.99 | D103: 0.99 | E103: 0.99
A104: Site 14 | B104: 1 | C104: 1 | D104: 1 | E104: 1
A105: Site 15 | B105: 1 | C105: 1 | D105: 1 | E105: 1
A106: Site 16 | B106: 0.999 | C106: 0.999 | D106: 0.999 | E106: 0.999
A107: Site 17 | B107: 1.001 | C107: 1.001 | D107: 1.001 | E107: 1.001
A108: Site 18 | B108: 1.001 | C108: 1.001 | D108: 1.001 | E108: 1.001
A109: Site 19 | B109: 1.001 | C109: 1.001 | D109: 1.001 | E109: 1.001
A110: Site 20 | B110: 1 | C110: 1 | D110: 1 | E110: 1
A111: Site 21 | B111: 0.995 | C111: 0.995 | D111: 0.995 | E111: 0.995
A112: Site 22 | B112: 0.992 | C112: 0.992 | D112: 0.992 | E112: 0.992
... A159: tbc | B159: 0.994 | C159: 0.994 | D159: 0.994 | E159: 0.994

Sheet NPG NE - Annex 5 LLFs
A2: These line loss factors are illustrative based on the latest calculated values and are published in good faith. However, the line loss factors that are approved by the BSC Panel for the applicable year and consequently published on the Elexon website will take precedence and be used in Settlement if they differ from these values.
A3: NPG North East- Final LLFs for year beginning 1 April 2019
A4: Time periods | B4: Period 1 | C4: Period 2 | D4: Period 3 | E4: Period 4 | F4: Period 5
B5: Winter Peak | C5: Winter Daytime | D5: Night | E5: Other | F5: Extra
A6: Monday to Friday March to October
A7: Monday to Friday November to February
A8: Saturday and Sunday All Year
A9: Notes | B9: All the above times are in UK Clock time
A12: Generic demand and generation LLFs
A13: Metered voltage, respective periods and associated LLFCs
A14: Metered voltage | B14: Period 1 | C14: Period 2 | D14: Period 3 | E14: Period 4 | F14: Period 5 | G14: Associated LLFC
A15: Low-voltage network | G15: 11, 31, 41, 51, 61, 81, 91, 131, 161, 171, 191, 241, 431, 441, 451, 481, 511, 531, 581, 591, 631, 661, 751, 761, 771, 781, 791, 801, 811, 821, 831, 961, 971, 981, 851, 861, 841, 901
A16: Low-voltage substation | G16: 242, 432, 482, 752, 802, 962, 972, 982, 842
A17: High-voltage network | G17: 483, 753, 803, 973, 983, 843
A18: High-voltage substation | G18: 109, 119, 129, 139, 149, 159, 169, 179, 189, 199, 209, 219, 229, 239, 249, 259, 269, 289, 299, 309, 319, 329, 339, 349, 359, 369, 379, 389, 419, 439, 459, 469, 529, 539, 549, 579, 599, 619, 639, 659, 679, 699, 719, 739, 759, 779, 799, 479, 489, 499, 509, 519, 589, 609, 629, 649, 669, 689, 709, 729, 749, 769, 789, 809
A19: EHV 33 kV
A20: EHV 132 kV to 33 kV
A21: EHV 132 kV
A23: EHV site specific LLFs
A24: Demand
A25: Site | B25: Period 1 | C25: Period 2 | D25: Period 3 | E25: Period 4 | F25: Associated LLFC
A26: Site 1 | B26: 1.032 | C26: 1.032 | D26: 1.032 | E26: 1.032 | F26: 610
A27: Site 2 | B27: 1.002 | C27: 1.002 | D27: 1.002 | E27: 1.002 | F27: 500
A28: Site 3 | B28: 1.012 | C28: 1.012 | D28: 1.012 | E28: 1.012 | F28: 650
A29: Site 4 | B29: 1.053 | C29: 1.053 | D29: 1.053 | E29: 1.053 | F29: 660
A30: Site 5 | B30: 1.024 | C30: 1.024 | D30: 1.024 | E30: 1.024 | F30: 640
A31: Site 6 | B31: 1.015 | C31: 1.015 | D31: 1.015 | E31: 1.015 | F31: 700
A32: Site 7 | B32: 1.035 | C32: 1.035 | D32: 1.035 | E32: 1.035 | F32: 900
A33: Site 8 | B33: 1.003 | C33: 1.003 | D33: 1.003 | E33: 1.003 | F33: 670
A34: Site 9 | B34: 1.005 | C34: 1.005 | D34: 1.005 | E34: 1.005 | F34: 320
A35: Site 10 | B35: 1.019 | C35: 1.019 | D35: 1.019 | E35: 1.019 | F35: 850
A36: Site 11 | B36: 1.014 | C36: 1.014 | D36: 1.014 | E36: 1.014 | F36: 450
A37: Site 12 | B37: 1 | C37: 1 | D37: 1 | E37: 1 | F37: 460
... A77: Site 82 | B77: 1 | C77: 1 | D77: 1 | E77: 1 | F77: 207
A78: Site 84 | B78: 0.99 | C78: 0.99 | D78: 0.99 | E78: 0.99 | F78: MSID 7039 & 7040
A79: Site 85 | B79: 0.999 | C79: 0.999 | D79: 0.999 | E79: 0.999 | F79: MSID 7107
A80: Site 90 | B80: 1.011 | C80: 1.011 | D80: 1.011 | E80: 1.011 | F80: MSID 2037 & 2038
A81: Site 91 | B81: 0.995 | C81: 0.995 | D81: 0.995 | E81: 0.995 | F81: MSID 7156
A82: Site 92 | B82: 1.009 | C82: 1.009 | D82: 1.009 | E82: 1.009 | F82: MSID 0437
A83: Site 95 | B83: 1 | C83: 1 | D83: 1 | E83: 1 | F83: 307
A84: Site 96 | B84: 1 | C84: 1 | D84: 1 | E84: 1 | F84: 327
A85: Site 97 | B85: 1 | C85: 1 | D85: 1 | E85: 1 | F85: 347
A86: Site 98 | B86: 1.006 | C86: 1.006 | D86: 1.006 | E86: 1.006 | F86: 367
A87: Site 99 | B87: 1.006 | C87: 1.006 | D87: 1.006 | E87: 1.006 | F87: 387
A88: Site 100 | B88: 1.013 | C88: 1.013 | D88: 1.013 | E88: 1.013 | F88: 437
A89: Site 101 | B89: 1.002 | C89: 1.002 | D89: 1.002 | E89: 1.002 | F89: 457
A90: Site 102 | B90: 1 | C90: 1 | D90: 1 | E90: 1 | F90: 417
A91: Site 103 | B91: 1 | C91: 1 | D91: 1 | E91: 1 | F91: 467
A92: Site 104 | B92: 1 | C92: 1 | D92: 1 | E92: 1 | F92: 108
A93: Site 107 | B93: 1 | C93: 1 | D93: 1 | E93: 1 | F93: 128
A94: Site 110 | B94: 1.004 | C94: 1.004 | D94: 1.004 | E94: 1.004 | F94: 487
A95: Site 111 | B95: 1 | C95: 1 | D95: 1 | E95: 1 | F95: 517
A96: tbc | B96: 0.994 | C96: 0.994 | D96: 0.994 | E96: 0.994 | F96: MSID 7350
A98: EHV site specific LLFs
A99: Generation
A100: Site | B100: Period 1 | C100: Period 2 | D100: Period 3 | E100: Period 4 | F100: Associated LLFC
A101: Site 8 | B101: 1 | C101: 1 | D101: 1 | E101: 1 | F101: 217
A102: Site 12 | B102: 1 | C102: 1 | D102: 1 | E102: 1 | F102: 470
A103: Site 13 | B103: 0.99 | C103: 0.99 | D103: 0.99 | E103: 0.99 | F103: 690
A104: Site 14 | B104: 1 | C104: 1 | D104: 1 | E104: 1 | F104: 730
A105: Site 15 | B105: 1 | C105: 1 | D105: 1 | E105: 1 | F105: 720
A106: Site 16 | B106: 0.999 | C106: 0.999 | D106: 0.999 | E106: 0.999 | F106: 770
A107: Site 17 | B107: 1.001 | C107: 1.001 | D107: 1.001 | E107: 1.001 | F107: 740
A108: Site 18 | B108: 1.001 | C108: 1.001 | D108: 1.001 | E108: 1.001 | F108: 750
A109: Site 19 | B109: 1.001 | C109: 1.001 | D109: 1.001 | E109: 1.001 | F109: 820
A110: Site 20 | B110: 1 | C110: 1 | D110: 1 | E110: 1 | F110: 840
A111: Site 21 | B111: 0.995 | C111: 0.995 | D111: 0.995 | E111: 0.995 | F111: 970
A112: Site 22 | B112: 0.992 | C112: 0.992 | D112: 0.992 | E112: 0.992 | F112: 360
... A139: Site 82 | B139: 0.992 | C139: 0.992 | D139: 0.992 | E139: 0.992 | F139: 197
A140: Site 84 | B140: 0.99 | C140: 0.99 | D140: 0.99 | E140: 0.99 | F140: MSID 7039 & 7040
A141: Site 85 | B141: 0.999 | C141: 0.999 | D141: 0.999 | E141: 0.999 | F141: MSID 7107
A142: Site 90 | B142: 1.011 | C142: 1.011 | D142: 1.011 | E142: 1.011 | F142: MSID 2037 & 2038
A143: Site 91 | B143: 0.995 | C143: 0.995 | D143: 0.995 | E143: 0.995 | F143: MSID 7156
A144: Site 92 | B144: 1.009 | C144: 1.009 | D144: 1.009 | E144: 1.009 | F144: MSID 0437
A145: Site 95 | B145: 0.998 | C145: 0.998 | D145: 0.998 | E145: 0.998 | F145: 317
A146: Site 96 | B146: 0.998 | C146: 0.998 | D146: 0.998 | E146: 0.998 | F146: 337
A147: Site 97 | B147: 0.997 | C147: 0.997 | D147: 0.997 | E147: 0.997 | F147: 357
A148: Site 98 | B148: 0.909 | C148: 0.909 | D148: 0.909 | E148: 0.909 | F148: 377
A149: Site 99 | B149: 0.909 | C149: 0.909 | D149: 0.909 | E149: 0.909 | F149: 397
A150: Site 100 | B150: 0.987 | C150: 0.987 | D150: 0.987 | E150: 0.987 | F150: 427
A151: Site 102 | B151: 0.996 | C151: 0.996 | D151: 0.996 | E151: 0.996 | F151: 407
A152: Site 103 | B152: 0.996 | C152: 0.996 | D152: 0.996 | E152: 0.996 | F152: 477
A153: Site 104 | B153: 0.997 | C153: 0.997 | D153: 0.997 | E153: 0.997 | F153: 118
A154: Site 107 | B154: 0.998 | C154: 0.998 | D154: 0.998 | E154: 0.998 | F154: 138
A155: Site 110 | B155: 0.993 | C155: 0.993 | D155: 0.993 | E155: 0.993 | F155: 497
A156: Site 111 | B156: 0.99 | C156: 0.99 | D156: 0.99 | E156: 0.99 | F156: 527
... A158: tbc | B158: 0.999 | C158: 0.999 | D158: 0.999 | E158: 0.999 | F158: 507
A159: tbc | B159: 0.994 | C159: 0.994 | D159: 0.994 | E159: 0.994 | F159: MSID 7350
