{"text_format":"1","workbook":"xlsx","n_sheets":37,"sheets":["Sheet1","CODES","SAR","CHECKLIST","SUBMITTED","DOC 1A","SYMBOLOGY","DOC 1B","DOC 1C","DOC 1D","DECOMM A","DECOMM B","DOC 2A","DOC 2B","DOC 3","DOC 4","DOC 5A","DOC 5B","DOC 6A","DOC 6B","DOC 7","DOC 8A","DOC 8B","DOC 8C","DOC 9","DOC 10","DOC 11","DOC 12","DOC 13","DOC 14","DOC 15","DOC 16","DOC 17","DOC 18","P.C.A.F.","MATRIX SHEET","TEMPLATE DOC"],"not_rendered":{"charts":1,"images":45,"macros":1,"external_links":0,"defined_names":275,"comments":16,"pivot_tables":0},"unopened":[],"bounds":{"document_bytes":16777216,"sheet_cells":100000,"rows_first":2000,"rows_last":500,"rows_between":2000,"halvings":0,"cell_chars":16384,"cell_head_chars":4096},"cells_cut":0,"cells_raw":0,"read":"whole","date_system":"1900"}

{"sheet":"Sheet1","index":0,"n_rows":69,"n_cols":175,"rows_kept":69,"cut":false,"hidden":true,"merged":[[13,0,13,5],[13,9,13,11],[14,9,14,11],[15,9,15,11]]}
[null,"C16","E16","C17","E17","C18","E18","C19","E19","C20","E20","C21","E21","C22","E22","C23","E23","C24","E24","C25","E25","C26","E26","C27","E27","C28","E28","C29","E29","C30","E30","C31","E31","C32","E32","C33","E33","C34","E34","C35","E35","C36","E36","C37","E37","C38","E38","C39","E39","C40","E40","C41","E41","C42","E42","C43","E43","C44","E44","C45","E45","C46","E46","C47","E47","C48","E48","C49","E49","C50","E50","C51","E51","C52","E52","C53","E53","C54","E54","C55","E55","C56","E56","C57","E57","C58","E58","C59","E59","C60","E60","C61","E61","C62","E62","C63","E63","C64","E64","C65","E65","C66","E66","C67","E67","C68","E68","C69","E69","C70","E70","C71","E71","C72","E72","C73","E73","C74","E74","C75","E75","C76","E76","C77","E77","C78","E78","C79","E79","C80","E80","C81","E81","C82","E82","C83","E83","C84","E84","C85","E85","C86","E86","C87","E87","C88","E88","C89","E89","C90","E90","C91","E91","C92","E92","C93","E93","C94","E94","C95","E95","C96","E96","C97","E97","C98","E98","C99","E99","C100","E100","C101","E101","C102","E102"]
[null,{"$f":"$C$16","v":"OPRESTAP"},{"$f":"$E$16","v":"N"},{"$f":"$C$17","v":"SITENAME"},{"$f":"$E$17","v":"MASTER TEMPLATE"},{"$f":"$C$18","v":"SITEAREADIS"},{"$f":"$E$18","v":82},{"$f":"$C$19","v":"GRIDREF"},{"$f":"$E$19","v":"NY00000000"},{"$f":"$C$20","v":"COMMDTE"},{"$f":"$E$20","v":"1999-01-01"},{"$f":"$C$21","v":"LOCALNO"},{"$f":"$E$21","v":8888},{"$f":"$C$22","v":"DTELASTCHK"},{"$f":"$E$22","v":0},{"$f":"$C$23","v":"LANDAGMTNO"},{"$f":"$E$23","v":0},{"$f":"$C$24","v":"LANDAGMTNO2"},{"$f":"$E$24","v":0},{"$f":"$C$25","v":"LANDAGMTNO3"},{"$f":"$E$25","v":0},{"$f":"$C$26","v":"LANDACQDTE"},{"$f":"$E$26","v":0},{"$f":"$C$27","v":"LEASEEXPIRY"},{"$f":"$E$27","v":0},{"$f":"$C$28","v":"SYS_DIAGRAM"},{"$f":"$E$28","v":0},{"$f":"$C$29","v":"OWNER_SITE"},{"$f":"$E$29","v":1},{"$f":"$C$30","v":"COMMITMT1"},{"$f":"$E$30","v":0},{"$f":"$C$31","v":"COMMITMT2"},{"$f":"$E$31","v":0},{"$f":"$C$32","v":"COMMITMT3"},{"$f":"$E$32","v":0},{"$f":"$C$33","v":"COMMITMT4"},{"$f":"$E$33","v":0},{"$f":"$C$34","v":"COMMITMT5"},{"$f":"$E$34","v":0},{"$f":"$C$35","v":"COMMITMT6"},{"$f":"$E$35","v":0},{"$f":"$C$36","v":"FENCE_TYPE"},{"$f":"$E$36","v":0},{"$f":"$C$37","v":"INTERFRISK"},{"$f":"$E$37","v":0},{"$f":"$C$38","v":"NAFIRSAD"},{"$f":"$E$38","v":0},{"$f":"$C$39","v":"DOORKEY"},{"$f":"$E$39","v":0},{"$f":"$C$40","v":"PERIMKEY"},{"$f":"$E$40","v":0},{"$f":"$C$41","v":"TRANSBUNDED"},{"$f":"$E$41","v":0},{"$f":"$C$42","v":"OILINTERCEPT"},{"$f":"$E$42","v":0},{"$f":"$C$43","v":"SUBPUMP"},{"$f":"$E$43","v":0},{"$f":"$C$44","v":"ASB_ASSL"},{"$f":"$E$44","v":0},{"$f":"$C$45","v":"ASB_ASCC"},{"$f":"$E$45","v":0},{"$f":"$C$46","v":"ASB_ASSP"},{"$f":"$E$46","v":0},{"$f":"$C$47","v":"ASB_OHEC"},{"$f":"$E$47","v":0},{"$f":"$C$48","v":"ASB_DATE"},{"$f":"$E$48","v":0},{"$f":"$C$49","v":"ASB_CONTR"},{"$f":"$E$49","v":0},{"$f":"$C$50","v":"ASB_FOUND"},{"$f":"$E$50","v":0},{"$f":"$C$51","v":"ASB_TYPE"},{"$f":"$E$51","v":0},{"$f":"$C$52","v":"ASB_LOC"},{"$f":"$E$52","v":0},{"$f":"$C$53","v":"ASB_CERT"},{"$f":"$E$53","v":0},{"$f":"$C$54","v":"C2A_PRIORITY"},{"$f":"$E$54","v":0},{"$f":"$C$55","v":"EGWSS"},{"$f":"$E$55","v":0},{"$f":"$C$56","v":"GWRS"},{"$f":"$E$56","v":0},{"$f":"$C$57","v":"AS"},{"$f":"$E$57","v":0},{"$f":"$C$58","v":"PMS"},{"$f":"$E$58","v":0},{"$f":"$C$59","v":"RQS"},{"$f":"$E$59","v":0},{"$f":"$C$60","v":"EDS"},{"$f":"$E$60","v":0},{"$f":"$C$61","v":"NPS"},{"$f":"$E$61","v":0},{"$f":"$C$62","v":"SLO"},{"$f":"$E$62","v":0},{"$f":"$C$63","v":"TOA"},{"$f":"$E$63","v":0},{"$f":"$C$64","v":"PTI"},{"$f":"$E$64","v":0},{"$f":"$C$65","v":"SEV"},{"$f":"$E$65","v":0},{"$f":"$C$66","v":"DAMPDRY"},{"$f":"$E$66","v":0},{"$f":"$C$67","v":"UNDERTREES"},{"$f":"$E$67","v":0},{"$f":"$C$68","v":"PROJECT"},{"$f":"$E$68","v":0},{"$f":"$C$69","v":"PROJECTD"},{"$f":"$E$69","v":0},{"$f":"$C$70","v":0},{"$f":"$E$70","v":0},{"$f":"$C$71","v":0},{"$f":"$E$71","v":0},{"$f":"$C$72","v":0},{"$f":"$E$72","v":0},{"$f":"$C$73","v":0},{"$f":"$E$73","v":0},{"$f":"$C$74","v":0},{"$f":"$E$74","v":0},{"$f":"$C$75","v":0},{"$f":"$E$75","v":0},{"$f":"$C$76","v":0},{"$f":"$E$76","v":0},{"$f":"$C$77","v":0},{"$f":"$E$77","v":0},{"$f":"$C$78","v":0},{"$f":"$E$78","v":0},{"$f":"$C$79","v":0},{"$f":"$E$79","v":0},{"$f":"$C$80","v":0},{"$f":"$E$80","v":0},{"$f":"$C$81","v":0},{"$f":"$E$81","v":0},{"$f":"$C$82","v":0},{"$f":"$E$82","v":0},{"$f":"$C$83","v":0},{"$f":"$E$83","v":0},{"$f":"$C$84","v":0},{"$f":"$E$84","v":0},{"$f":"$C$85","v":0},{"$f":"$E$85","v":0},{"$f":"$C$86","v":0},{"$f":"$E$86","v":0},{"$f":"$C$87","v":0},{"$f":"$E$87","v":0},{"$f":"$C$88","v":0},{"$f":"$E$88","v":0},{"$f":"$C$89","v":0},{"$f":"$E$89","v":0},{"$f":"$C$90","v":0},{"$f":"$E$90","v":0},{"$f":"$C$91","v":0},{"$f":"$E$91","v":0},{"$f":"$C$92","v":0},{"$f":"$E$92","v":0},{"$f":"$C$93","v":0},{"$f":"$E$93","v":0},{"$f":"$C$94","v":0},{"$f":"$E$94","v":0},{"$f":"$C$95","v":0},{"$f":"$E$95","v":0},{"$f":"$C$96","v":0},{"$f":"$E$96","v":0},{"$f":"$C$97","v":0},{"$f":"$E$97","v":0},{"$f":"$C$98","v":0},{"$f":"$E$98","v":0},{"$f":"$C$99","v":0},{"$f":"$E$99","v":0},{"$f":"$C$100","v":0},{"$f":"$E$100","v":0},{"$f":"$C$101","v":0},{"$f":"$E$101","v":0},{"$f":"$C$102","v":0},{"$f":"$E$102","v":0}]
[]
[null,"A1","V1","A2","V2","A3","V3","A4","V4","A5","V5","A6","V6","A7","V7","A8","V8","A9","V9","A10","V10","A11","V11","A12","V12","A13","V13","A14","V14","A15","V15","A16","V16","A17","V17","A18","V18","A19","V19","A20","V20","A21","V21","A22","V22","A23","V23","A24","V24","A25","V25","A26","V26","A27","V27","A28","V28","A29","V29","A30","V30","A31","V31","A32","V32","A33","V33","A34","V34","A35","V35","A36","V36","A37","V37","A38","V38","A39","V39","A40","V40","A41","V41","A42","V42","A43","V43","A44","V44","A45","V45","A46","V46","A47","V47","A48","V48","A49","V49","A50","V50","A51","V51","A52","V52","A53","V53","A54","V54","A55","V55","A56","V56","A57","V57","A58","V58","A59","V59","A60","V60","A61","V61","A62","V62","A63","V63","A64","V64","A65","V65","A66","V66","A67","V67","A68","V68","A69","V69","A70","V70","A71","V71","A72","V72","A73","V73","A74","V74","A75","V75","A76","V76","A77","V77","A78","V78","A79","V79","A80","V80","A81","V81","A82","V82","A83","V83","A84","V84","A85","V85","A86","V86","A87","V87"]
["SITE","OPRESTAP","N","MAKER",788,"MAKERSTYP2","RN2C","COMMDTE","2001-01-01","MANUFDTE","2001-01-01","SITUATION",1,"MOUNTING","T","FAULTRATING",21.9,"VOLTAGE4",4,"CIRCUITNAME2","?","RMUNITYP1",11,"SERIALNO3","?","EARTH1","S","CURRRATING2",200,"ARCEXT1",10,"MECHMNCNTS1","D","MECHEARCNTS1","D","CIRCUITNAME3","?","RMUNITYP2",21,"SERIALNO4","?","EARTH3","S","CURRRATING3",630,"ARCEXT2",10,"MECHMNCNTS2","D","MECHEARCNTS2","D","INOIL3","N","CIRCUITNAME4","?","RMUNITYP3",21,"SERIALNO5","?","EARTH4","S","CURRRATING4",630,"ARCEXT3",10,"MECHMNCNTS3","D","MECHEARCNTS3","D","INOIL4","N","MKRTYPREF4","*","INSULATION3",7,"INSULATION4",8,"COMMONTANK","Y","REPLUNIT","N","SPECIF_N_2","*","MKRORDREF1","*","HOSELEN1",0,"INOIL2","N","MKRTYPREF2","*","MKR3",null,"RESETMECH1",null,"RESMNCNTBR1",1,"RESMNCNTMK1",1,"RESMNCNTNC1",1,"RESMNCNTTF1",1,"RESEARTHMK1",1,"RESEARTHTF1",1,"SPECIALRES1","N","RATINGREF1","*","CONNECTION10","J","MKRTYPREF3","*","MKR6",null,"RESETMECH2",null,"REMOTECNTRL1",null,"RESMNCNTBR2",1,"RESMNCNTMK2",1,"RESMNCNTNC2",1,"RESMNCNTTF2",1,"RESEARTHMK2",1,"RESEARTHTF2",1,"SPECIALRES3","N","RATINGREF2","*","CONNECTION3","C","MKR7",null,"RESETMECH3",null,"REMOTECNTRL2",null,"RESMNCNTBR3",1,"RESMNCNTMK3",1,"RESMNCNTNC3",1,"RESMNCNTTF3",1,"RESEARTHMK3",1,"RESEARTHTF3",1,"SPECIALRES4","N","RATINGREF3","*","CONNECTION7","C","RMNFRSCODE1",201,"RMNFRSCODE2",242,"RMNFRSCODE3",242,"TRMSNMARKER","N","PROJECT",null,"PROJECTD"]
["LUCY VRN2A","OPRESTAP","N","MAKER",650,"MAKERSTYP2","SABREVRN2A","COMMDTE","1999-09-09","MANUFDTE","1999-09-09","SITUATION",2,"MOUNTING","G","FAULTRATING",20,"VOLTAGE4",4,"CIRCUITNAME2","?","RMUNITYP1",11,"SERIALNO3","?","EARTH1","S","CURRRATING2",200,"ARCEXT1",9,"MECHMNCNTS1","D","MECHEARCNTS1","D","CIRCUITNAME3","?","RMUNITYP2",21,"SERIALNO4","?","EARTH3","S","CURRRATING3",630,"ARCEXT2",10,"MECHMNCNTS2","D","MECHEARCNTS2","D","INOIL3","N","CIRCUITNAME4","?","RMUNITYP3",21,"SERIALNO5","?","EARTH4","S","CURRRATING4",630,"ARCEXT3",10,"MECHMNCNTS3","D","MECHEARCNTS3","D","INOIL4","N","MKRTYPREF4","*","INSULATION3",7,"INSULATION4",8,"COMMONTANK","Y","REPLUNIT","N","SPECIF_N_2","*","MKRORDREF1","*","HOSELEN1",0,"INOIL2","N","MKRTYPREF2","*","MKR3",null,"RESETMECH1",null,"RESMNCNTBR1",1,"RESMNCNTMK1",1,"RESMNCNTNC1",1,"RESMNCNTTF1",1,"RESEARTHMK1",1,"RESEARTHTF1",1,"SPECIALRES1","N","RATINGREF1","*","CONNECTION10","J","MKRTYPREF3","*","MKR6",null,"RESETMECH2",null,"REMOTECNTRL1",null,"RESMNCNTBR2",1,"RESMNCNTMK2",1,"RESMNCNTNC2",1,"RESMNCNTTF2",1,"RESEARTHMK2",1,"RESEARTHTF2",1,"SPECIALRES3","N","RATINGREF2","*","CONNECTION3","C","MKR7",null,"RESETMECH3",null,"REMOTECNTRL2",null,"RESMNCNTBR3",1,"RESMNCNTMK3",1,"RESMNCNTNC3",1,"RESMNCNTTF3",1,"RESEARTHMK3",1,"RESEARTHTF3",1,"SPECIALRES4","N","RATINGREF3","*","CONNECTION7","C","RMNFRSCODE1",201,"RMNFRSCODE2",242,"RMNFRSCODE3",242,"TRMSNMARKER","N","PROJECT",0,"PROJECTD",0]
["T4GF3","OPRESTAP","N","MAKER",640,"MAKERSTYP2","T4GF3","COMMDTE","2003-04-03","MANUFDTE","1999-09-09","SITUATION",2,"MOUNTING","T","FAULTRATING",21.9,"VOLTAGE4",4,"CIRCUITNAME2","T1","RMUNITYP1",40,"SERIALNO3","?","EARTH1","E","CURRRATING2",200,"ARCEXT1",6,"MECHMNCNTS1","C","MECHEARCNTS1","D","CIRCUITNAME3","?","RMUNITYP2",20,"SERIALNO4","?","EARTH3","E","CURRRATING3",630,"ARCEXT2",3,"MECHMNCNTS2","D","MECHEARCNTS2","D","INOIL3","Y","CIRCUITNAME4","?","RMUNITYP3",20,"SERIALNO5","?","EARTH4","E","CURRRATING4",630,"ARCEXT3",3,"MECHMNCNTS3","D","MECHEARCNTS3","D","INOIL4","Y","MKRTYPREF4","*","INSULATION3",3,"INSULATION4",3,"COMMONTANK","Y","REPLUNIT","N","SPECIF_N_2","*","MKRORDREF1","*","HOSELEN1",0,"INOIL2","Y","MKRTYPREF2","*","MKR3",null,"RESETMECH1",null,"RESMNCNTBR1",1,"RESMNCNTMK1",1,"RESMNCNTNC1",1,"RESMNCNTTF1",1,"RESEARTHMK1",1,"RESEARTHTF1",1,"SPECIALRES1","N","RATINGREF1","*","CONNECTION10","J","MKRTYPREF3","*","MKR6",null,"RESETMECH2",null,"REMOTECNTRL1",null,"RESMNCNTBR2",1,"RESMNCNTMK2",1,"RESMNCNTNC2",1,"RESMNCNTTF2",1,"RESEARTHMK2",1,"RESEARTHTF2",1,"SPECIALRES3","N","RATINGREF2","*","CONNECTION3","C","MKR7",null,"RESETMECH3",null,"REMOTECNTRL2",null,"RESMNCNTBR3",1,"RESMNCNTMK3",1,"RESMNCNTNC3",1,"RESMNCNTTF3",1,"RESEARTHMK3",1,"RESEARTHTF3",1,"SPECIALRES4","N","RATINGREF3","*","CONNECTION7","C","RMNFRSCODE1",271,"RMNFRSCODE2",242,"RMNFRSCODE3",242,"TRMSNMARKER","N","PROJECT",0,"PROJECTD",0]
["SPARE","OPRESTAP",null,"MAKER",null,"MAKERSTYP2",null,"COMMDTE",null,"MANUFDTE",null,"SITUATION",null,"MOUNTING",null,"FAULTRATING",null,"VOLTAGE4",null,"CIRCUITNAME2",null,"RMUNITYP1",null,"SERIALNO3",null,"EARTH1",null,"CURRRATING2",null,"ARCEXT1",null,"MECHMNCNTS1",null,"MECHEARCNTS1",null,"CIRCUITNAME3",null,"RMUNITYP2",null,"SERIALNO4",null,"EARTH3",null,"CURRRATING3",null,"ARCEXT2",null,"MECHMNCNTS2",null,"MECHEARCNTS2",null,"INOIL3",null,"CIRCUITNAME4",null,"RMUNITYP3",null,"SERIALNO5",null,"EARTH4",null,"CURRRATING4",null,"ARCEXT3",null,"MECHMNCNTS3",null,"MECHEARCNTS3",null,"INOIL4",null,"MKRTYPREF4",null,"INSULATION3",null,"INSULATION4",null,"COMMONTANK",null,"REPLUNIT",null,"SPECIF_N_2",null,"MKRORDREF1",null,"HOSELEN1",null,"INOIL2",null,"MKRTYPREF2",null,"MKR3",null,"RESETMECH1",null,"RESMNCNTBR1",null,"RESMNCNTMK1",null,"RESMNCNTNC1",null,"RESMNCNTTF1",null,"RESEARTHMK1",null,"RESEARTHTF1",null,"SPECIALRES1",null,"RATINGREF1",null,"CONNECTION10",null,"MKRTYPREF3",null,"MKR6",null,"RESETMECH2",null,"REMOTECNTRL1",null,"RESMNCNTBR2",null,"RESMNCNTMK2",null,"RESMNCNTNC2",null,"RESMNCNTTF2",null,"RESEARTHMK2",null,"RESEARTHTF2",null,"SPECIALRES3",null,"RATINGREF2",null,"CONNECTION3",null,"MKR7",null,"RESETMECH3",null,"REMOTECNTRL2",null,"RESMNCNTBR3",null,"RESMNCNTMK3",null,"RESMNCNTNC3",null,"RESMNCNTTF3",null,"RESEARTHMK3",null,"RESEARTHTF3",null,"SPECIALRES4",null,"RATINGREF3",null,"CONNECTION7",null,"RMNFRSCODE1",null,"RMNFRSCODE2",null,"RMNFRSCODE3",null,"TRMSNMARKER",null,"PROJECT",null,"PROJECTD"]
["SPARE","OPRESTAP",null,"MAKER",null,"MAKERSTYP2",null,"COMMDTE",null,"MANUFDTE",null,"SITUATION",null,"MOUNTING",null,"FAULTRATING",null,"VOLTAGE4",null,"CIRCUITNAME2",null,"RMUNITYP1",null,"SERIALNO3",null,"EARTH1",null,"CURRRATING2",null,"ARCEXT1",null,"MECHMNCNTS1",null,"MECHEARCNTS1",null,"CIRCUITNAME3",null,"RMUNITYP2",null,"SERIALNO4",null,"EARTH3",null,"CURRRATING3",null,"ARCEXT2",null,"MECHMNCNTS2",null,"MECHEARCNTS2",null,"INOIL3",null,"CIRCUITNAME4",null,"RMUNITYP3",null,"SERIALNO5",null,"EARTH4",null,"CURRRATING4",null,"ARCEXT3",null,"MECHMNCNTS3",null,"MECHEARCNTS3",null,"INOIL4",null,"MKRTYPREF4",null,"INSULATION3",null,"INSULATION4",null,"COMMONTANK",null,"REPLUNIT",null,"SPECIF_N_2",null,"MKRORDREF1",null,"HOSELEN1",null,"INOIL2",null,"MKRTYPREF2",null,"MKR3",null,"RESETMECH1",null,"RESMNCNTBR1",null,"RESMNCNTMK1",null,"RESMNCNTNC1",null,"RESMNCNTTF1",null,"RESEARTHMK1",null,"RESEARTHTF1",null,"SPECIALRES1",null,"RATINGREF1",null,"CONNECTION10",null,"MKRTYPREF3",null,"MKR6",null,"RESETMECH2",null,"REMOTECNTRL1",null,"RESMNCNTBR2",null,"RESMNCNTMK2",null,"RESMNCNTNC2",null,"RESMNCNTTF2",null,"RESEARTHMK2",null,"RESEARTHTF2",null,"SPECIALRES3",null,"RATINGREF2",null,"CONNECTION3",null,"MKR7",null,"RESETMECH3",null,"REMOTECNTRL2",null,"RESMNCNTBR3",null,"RESMNCNTMK3",null,"RESMNCNTNC3",null,"RESMNCNTTF3",null,"RESEARTHMK3",null,"RESEARTHTF3",null,"SPECIALRES4",null,"RATINGREF3",null,"CONNECTION7",null,"RMNFRSCODE1",null,"RMNFRSCODE2",null,"RMNFRSCODE3",null,"TRMSNMARKER",null,"PROJECT",null,"PROJECTD"]
["SPARE","OPRESTAP",null,"MAKER",null,"MAKERSTYP2",null,"COMMDTE",null,"MANUFDTE",null,"SITUATION",null,"MOUNTING",null,"FAULTRATING",null,"VOLTAGE4",null,"CIRCUITNAME2",null,"RMUNITYP1",null,"SERIALNO3",null,"EARTH1",null,"CURRRATING2",null,"ARCEXT1",null,"MECHMNCNTS1",null,"MECHEARCNTS1",null,"CIRCUITNAME3",null,"RMUNITYP2",null,"SERIALNO4",null,"EARTH3",null,"CURRRATING3",null,"ARCEXT2",null,"MECHMNCNTS2",null,"MECHEARCNTS2",null,"INOIL3",null,"CIRCUITNAME4",null,"RMUNITYP3",null,"SERIALNO5",null,"EARTH4",null,"CURRRATING4",null,"ARCEXT3",null,"MECHMNCNTS3",null,"MECHEARCNTS3",null,"INOIL4",null,"MKRTYPREF4",null,"INSULATION3",null,"INSULATION4",null,"COMMONTANK",null,"REPLUNIT",null,"SPECIF_N_2",null,"MKRORDREF1",null,"HOSELEN1",null,"INOIL2",null,"MKRTYPREF2",null,"MKR3",null,"RESETMECH1",null,"RESMNCNTBR1",null,"RESMNCNTMK1",null,"RESMNCNTNC1",null,"RESMNCNTTF1",null,"RESEARTHMK1",null,"RESEARTHTF1",null,"SPECIALRES1",null,"RATINGREF1",null,"CONNECTION10",null,"MKRTYPREF3",null,"MKR6",null,"RESETMECH2",null,"REMOTECNTRL1",null,"RESMNCNTBR2",null,"RESMNCNTMK2",null,"RESMNCNTNC2",null,"RESMNCNTTF2",null,"RESEARTHMK2",null,"RESEARTHTF2",null,"SPECIALRES3",null,"RATINGREF2",null,"CONNECTION3",null,"MKR7",null,"RESETMECH3",null,"REMOTECNTRL2",null,"RESMNCNTBR3",null,"RESMNCNTMK3",null,"RESMNCNTNC3",null,"RESMNCNTTF3",null,"RESEARTHMK3",null,"RESEARTHTF3",null,"SPECIALRES4",null,"RATINGREF3",null,"CONNECTION7",null,"RMNFRSCODE1",null,"RMNFRSCODE2",null,"RMNFRSCODE3",null,"TRMSNMARKER",null,"PROJECT",null,"PROJECTD"]
[]
[]
[]
["SITE",null,null,null,null,null,null,null,null,"VALUE TAKEN FROM DOCS"]
["Seq No","Mandatory","Attribute Name","Attribute Description","Attribute Value","Description",null,null,null,"VALUE TAKEN FROM TEMPLATE"]
[5,"NO","OPRESTAP","OPERATIONAL RESTRICTIONS APPLY","N",null,null,null,null,"BLANK VALUE IN TEMPLATE"]
[10,"YES","SITENAME","SITENAME","MASTER TEMPLATE"]
[30,"YES","SITEAREADIS","SITE AREA  DISTRICT",82,"HEADQUARTERS - DTC"]
[40,"YES","GRIDREF","GRID REFERENCE NGR","NY00000000"]
[50,"YES","COMMDTE","DATE SW/CB COMMISSIONED","1999-01-01"]
[60,"YES","LOCALNO","LOCAL NO.",8888]
[70,"NO","DTELASTCHK","RECORD CHECKED AT SITE"]
[80,"NO","LANDAGMTNO","DEED NUMBER 1"]
[81,"NO","LANDAGMTNO2","DEED NUMBER 2"]
[82,"NO","LANDAGMTNO3","DEED NUMBER 3"]
[90,"NO","LANDACQDTE","ACQUISITION DATE"]
[100,"NO","LEASEEXPIRY","EXPIRY DATE"]
[110,"NO","SYS_DIAGRAM","SYSTEM DIAGRAM CROSS REFERENCE"]
[120,"YES","OWNER_SITE","SITE OWNER",1,"Electricity North West Ltd"]
[130,"NO","COMMITMT1","SITE COMMITMENT 1"]
[140,"NO","COMMITMT2","SITE COMMITMENT 2"]
[150,"NO","COMMITMT3","SITE COMMITMENT 3"]
[160,"NO","COMMITMT4","SITE COMMITMENT 4"]
[170,"NO","COMMITMT5","SITE COMMITMENT 5"]
[180,"NO","COMMITMT6","SITE COMMITMENT 6"]
[190,"NO","FENCE_TYPE","FENCE TYPE"]
[200,"NO","INTERFRISK","INTERFERENCE RISK"]
[210,"NO","NAFIRSAD","NAFIRS AREA DISTRICT"]
[250,"NO","DOORKEY","SUBSTATION DOOR KEY"]
[251,"NO","PERIMKEY","SUBSTATION PERIMETER KEY"]
[255,"NO","TRANSBUNDED","TRANSFORMER BUNDING"]
[256,"NO","OILINTERCEPT","OIL INTERCEPTOR"]
[257,"NO","SUBPUMP","SUBMERSIBLE PUMP"]
[260,"NO","ASB_ASSL","NO. SUSPECT ASBESTOS MATERIALS"]
[261,"NO","ASB_ASCC","ASBESTOS COST CATEGORY"]
[262,"NO","ASB_ASSP","SITE PRIORITY"]
[263,"NO","ASB_OHEC","OHEC REFERENCE NUMBER"]
[264,"NO","ASB_DATE","DATE OF ASBESTOS SURVEY"]
[265,"NO","ASB_CONTR","ACM SUREVYED BY"]
[266,"NO","ASB_FOUND","ACM FOUND"]
[267,"NO","ASB_TYPE","ACM TYPE"]
[268,"NO","ASB_LOC","ACM LOCATION"]
[269,"NO","ASB_CERT","CLEARANCE CERTIFCT ISSUED DATE"]
[270,"NO","C2A_PRIORITY","C2A PRIORITY"]
[280,"NO","EGWSS","EXPLOITED GW SOURCES SCORE"]
[290,"NO","GWRS","GW RESOURCES SCORE"]
[300,"NO","AS","ABSTRACTION SCORE"]
[310,"NO","PMS","PUBLIC AMENITY SCORE"]
[320,"NO","RQS","RIVER QUALITY SCORE"]
[330,"NO","EDS","EXISTING DRAINAGE SCORE"]
[340,"NO","NPS","NATURE PROTECTION SCORE"]
[400,"NO","SLO","SITE LOCATION"]
[420,"NO","TOA","TYPE OF ACCESS"]
[430,"NO","PTI","PROXIMITY TO COAST"]
[450,"NO","SEV","ENVIRONMENTAL SEVERITY"]
[470,"NO","DAMPDRY","DAMP/DRY"]
[480,"NO","UNDERTREES","UNDER TREES"]
[1500,"NO","PROJECT","PROJECT NUMBER (COMMISSION)"]
[1510,"NO","PROJECTD","PROJECT NUMBER (DECOMMISSION)"]

{"sheet":"CODES","index":1,"n_rows":284,"n_cols":71,"rows_kept":284,"cut":false,"hidden":true,"merged":[[280,12,280,13],[14,12,14,13],[61,18,61,19],[66,18,66,19],[71,18,71,19],[273,12,273,13],[0,66,0,67],[2,66,2,67],[167,27,167,28],[243,12,243,13],[262,12,262,13],[0,18,0,19],[21,18,21,19],[135,12,135,13],[147,12,147,13],[233,12,233,13],[157,12,157,13],[189,12,189,13],[215,12,215,13],[224,12,224,13],[0,12,0,13],[14,15,14,16],[23,18,23,19],[13,18,13,19],[137,0,137,1],[2,60,2,61],[0,60,0,61],[0,57,0,58],[2,57,2,58],[161,27,161,28],[37,3,37,4],[2,18,2,19],[8,18,8,19],[2,15,2,16],[9,15,9,16],[40,15,40,16],[35,18,35,19],[2,3,2,4],[2,9,2,10],[22,9,22,10],[87,0,87,1],[86,3,86,4],[92,3,92,4],[111,18,111,19],[33,36,33,37],[0,24,0,25],[2,24,2,25],[0,15,0,16],[48,0,48,1],[51,3,51,4],[54,0,54,1],[23,3,23,4],[32,6,32,7],[72,21,72,22],[95,21,95,22],[2,12,2,13],[0,0,0,1],[0,3,0,4],[0,6,0,7],[2,0,2,1],[16,3,16,4],[2,6,2,7],[57,3,57,4],[65,3,65,4],[0,21,0,22],[2,21,2,22],[27,21,27,22],[38,21,38,22],[49,21,49,22],[7,21,7,22],[125,0,125,1],[8,48,8,49],[44,36,44,37],[45,24,45,25],[22,24,22,25],[37,24,37,25],[11,42,11,43],[16,42,16,43],[47,18,47,19],[49,18,49,19],[55,18,55,19],[41,18,41,19],[80,3,80,4],[98,3,98,4],[9,39,9,40],[76,18,76,19],[122,18,122,19],[104,18,104,19],[81,18,81,19],[120,0,120,1],[116,18,116,19],[113,0,113,1],[72,3,72,4],[37,0,37,1],[0,69,0,70],[2,69,2,70],[38,69,38,70],[60,24,60,25],[2,33,2,34],[0,33,0,34],[0,30,0,31],[2,30,2,31],[11,30,11,31],[19,51,19,52],[30,51,30,52],[12,51,12,52],[41,51,41,52],[22,36,22,37],[0,27,0,28],[2,27,2,28],[8,24,8,25],[17,24,17,25],[145,0,145,1],[130,0,130,1],[0,63,0,64],[2,63,2,64],[0,54,0,55],[2,54,2,55],[11,54,11,55],[22,54,22,55],[0,48,0,49],[2,48,2,49],[0,51,0,52],[2,51,2,52],[7,51,7,52],[2,42,2,43],[0,36,0,37],[2,36,2,37],[9,36,9,37],[0,42,0,43],[0,45,0,46],[2,45,2,46],[11,45,11,46],[0,39,0,40],[2,39,2,40],[0,9,0,10]]}
["GENERAL",null,null,"SITE & SUBSTATION",null,null,"EXTENSIBLE SWITCHGEAR",null,null,"RING MAIN UNITS",null,null,"TRANSFORMERS",null,null,"VOLTAGE TRANSFORMERS",null,null,"LV BOARD/CABINET/PILLAR",null,null,"OVERHEAD LINE",null,null,"Poles",null,null,"Towers",null,null,"Battery",null,null,"Charger",null,null,"TRANSFORMERS",null,null,"TRANSFORMER COOLER",null,null,"TAPCHANGER",null,null,"SITE EARTHING",null,null,"TRANSFORMER EARTHING",null,null,"BUSBAR",null,null,"FAULT THROWER",null,null,"FAULT PASSAGE INDICATORS",null,null,"AS LAID",null,null,"PROTECTION SETTINGS",null,null,"P.C.A.F",null,null,"Service Points"]
[]
["COMMISSIONING DRIVER",null,null,"GRID REFERENCE NGR",null,null,"UNIT TYPE",null,null,"MANUFACTURER",null,null,"TRANSFORMER FUNCTION",null,null,"VT MODEL NAME",null,null,"LV TYPE",null,null,"VOLTAGE",null,null,"TYPE OF AMMENDMENT",null,null,"TOWER COLOUR",null,null,"BATTERY TYPE",null,null,"CHARGER TYPE",null,null,"HV VOLTAGE",null,null,"COOLER MOUNTING",null,null,"TAPCHANGER TYPE",null,null,"VOLTAGE",null,null,"THERMOSTAT",null,null,"BUSBAR USE",null,null,"HOUSING TYPE",null,null,"POWER SUPPLY",null,null,"POWER SUPPLY",null,null,"PROTECTION SETTINGS",null,null,"STATE",null,null,"Service Construction"]
["DESCRIPTION","TABLE CODE",null,"TABLE CODE","DESCRIPTION",null,"TABLE CODE","DESCRIPTION",null,"TABLE CODE","DESCRIPTION",null,"DESCRIPTION","TABLE CODE",null,"TABLE CODE","DESCRIPTION",null,"TABLE CODE","DESCRIPTION",null,"TABLE CODE","DESCRIPTION",null,"TABLE CODE","DESCRIPTION",null,"TABLE CODE","DESCRIPTION",null,"TABLE CODE","DESCRIPTION",null,"TABLE CODE","DESCRIPTION",null,"Table Code","Description",null,"Table Code","Description",null,"Table Code","Description",null,"Table Code","Description",null,"Table Code","Description",null,"Table Code","Description",null,"Table Code","Description",null,"Table Code","Description",null,"Table Code","Description",null,"Table Code","Description",null,"Table Code","Description",null,"Table Code","Description"]
["DEMAND CONNECTIONS DNO","A",null,null,null,null,null,null,null,"ABB","005",null,null,null,null,"2HGT-20","2HGT-21",null,"CABINET","CABINET",null,"H","HIGH",null,"N","NEW",null,"R","AB1",null,"CAP TRIP","C",null,"TRICKLE",1,null,"Not Applicable",0,null,"SEPARATE",1,null,"NONE",0,null,1," LV",null,"LONG","L",null,"M","MAIN",null,1,"METALCLAD",null,"BATTERY","B",null,"SINGLE PHASE","SINGLE PHASE",null,"NPR1101 "," No Pilots",null,"Y","YES",null,"BNO Unit Unmetered","BNO Unit Unmetered"]
["DEMAND CONNECTIONS ICP","B",null,"MANCHESTER - NORTH",16,null,10,"CB NON-AUTO",null,"AEG","040",null,"GRID",1,null,"2VTH-10","2VTH-11",null,"BOARD","BOARD",null,"L","LOW",null,"A","ALTERATION",null,"RG","AB10",null,"DRY","D",null,"CONST CURRENT",2,null,"33KV",5,null,"INTEGRAL",2,null,"RESISTOR",1,null,3," 6.6KV",null,"NIL","N",null,"R","RESERVE",null,2,"OPEN",null,"INDUCTION","I",null,"THREE PHASE","THREE PHASE",null,"NPR1102 "," Supervised Pilots with protection",null,"N","NO",null,"Cable TV Kiosk","Cable TV Kiosk"]
["DIVERSIONS","C",null,"MANCHESTER - SOUTH",17,null,11,"CB NON-RECLOSE",null,"ALSTOM","077",null,"PRIMARY",2,null,"OIL","OIL",null,"PILLAR","PILLAR",null,null,null,null,"R","REPLACEMENT",null,"RO","AB11",null,"LITHIUM","I",null,"AUTO 2 RATE",3,null,"132KV",6,null,"NKAC",9,null,"REACTOR",2,null,4," 11KV",null,"SHORT","S",null,null,null,null,3,"PACKAGE",null,"LV SUPPLY","LV",null,null,null,null,"NPR1103 "," Unsupervised Pilots with protection",null,"N/A","N/A",null,"Cutout Metered (1 Ph)","Cutout Metered (1 Ph)"]
["DIVERSIONS RAIL","C1",null,"SOUTH LANCS - DISTRIBUTION",21,null,12,"CB AUTO-RECLOSE (GM)",null,"AEI","100",null,"AUTO",3,null,"VT12","VT13",null,null,null,null,"LINE SPECIFICATION",null,null,null,null,null,"RY","AB12",null,"LEAD/ACID","L",null,"MANUAL 2 RATE",4,null,"25KV",7,null,null,null,null,"OFF LOAD",3,null,5," 33KV",null,null,null,null,"MATERIAL",null,null,4,"STEEL CUBICLE",null,null,null,null,null,null,null,"NPR3301 "," 33KV No Pilots",null,null,null,null,"Cutout Metered (2 Ph)","Cutout Metered (2 Ph)"]
["REINFORCEMENT P2/6 PRIMARY","D1",null,"PEAK - ASHTON-U-L",32,null,13,"CB SEQUENCE",null,"BRUSH","210",null,"NETWORK ONLY",4,null,null,null,null,"MDI FITTED",null,null,"TABLE CODE","DESCRIPTION",null,"ASL / DOEF / LINKS FITTED:",null,null,"BL","AB2",null,"NICKEL","N",null,"CONST VOLTAGE",5,null,null,null,null,null,null,null,"MOV COIL",4,null,6," 132KV",null,"N.E.R Supply",null,null,"Table Code","Description",null,5,"CELLULAR",null,null,null,null,null,null,null,"NPR3302 "," 33KVSupervised Pilots",null,null,null,null,"Cutout Metered (3 Ph)","Cutout Metered (3 Ph)"]
["REINFORCEMENT P2/6 SECONDARY","D2",null,"PEAK - STOCKPORT",33,null,19,"SKELETON UNIT",null,"ENGLISH ELECTRIC","400",null,"CONSUMERS & NETWORK",5,null,"VT CONSTRUCTION TYPE",null,null,"TABLE CODE","DESCRIPTION",null,"NOT KNOWN","-",null,"TABLE CODE","DESCRIPTION",null,"WB","AB2A",null,"RECOMBINATION","R",null,"SOLAR",6,null,"TRANSFORMER VECTOR GROUPS",null,null,"COOLER TYPE",null,null,"OTHER",9,null,7," 25KV",null,"Table Code","Description",null,"A","AL",null,6,"TRUCK",null,null,null,null,null,null,null,"NPR3303 "," 33KVUnsupervised Pilots",null,null,null,null,"Cutout Metered Indoor (1 Ph)","Cutout Metered Indoor (1 Ph)"]
["REINFORCEMENT FAULT LEVELS","E",null,"MID LANCS - WEST ZONE",41,null,20,"OIL SWITCH",null,"GEC","480",null,"CONSUMER ONLY",6,null,"DESCRIPTION","TABLE CODE",null,"YES","Y",null,"BS 1320","A",null,"A"," 1 PHASE ASL",null,"G","AB3",null,null,null,null,"NKAC",9,null,"Table Code","Description",null,"Table Code","Description",null,null,null,null,null,null,null," ARC SUPPRESS","A ",null,"C","CU",null,null,null,null,null,null,null,null,null,null,"NPR13201 "," 132kV No Pilots",null,null,null,null,"Cutout Metered Indoor (2 Ph)","Cutout Metered Indoor (2 Ph)"]
["ESQCR","F",null,"MID LANCS - EAST ZONE",45,null,21,"SF6 SWITCH",null,"HAWKER SIDDELEY","520",null,"AUXILIARY & EARTHING",7,null,"CAST RESIN",1,null,"NO","N",null,"BS 1320 LAKELAND","B",null,"B"," 3 PHASE ASL",null,"O","AB4",null,"BATTERY FUNCTION",null,null,null,null,null,"AUTO TRANSFORMER","Y0",null,"AIR","A",null,"CONNECTED WINDING",null,null,"SITE EARTH TYPE",null,null," GRID RESISTOR","G ",null,null,null,null,"HOUSING INSULATION",null,null,null,null,null,null,null,null,"NPR13202 "," 132kV Supervised Pilots with protection",null,null,null,null,"Cutout Metered Indoor (3 Ph)","Cutout Metered Indoor (3 Ph)"]
["SAFETY","F1",null,"LAKELAND - SOUTH ZONE",61,null,31,"ISOLATOR PM CLASS 1",null,"LONG AND CRAWFORD","640",null,"REGULATOR",8,null,"NON-CAST RESIN",2,null,null,null,null,"ESI 43-10 HV LIGHT","C",null,"D"," 1 PHASE DOEF",null,"Y","AB5",null,"TABLE CODE","DESCRIPTION",null,null,null,null,"YD1","YD1",null,"CORRU","C",null,"Table Code","Description",null,"Table Code","Description",null," LIQUID RESISTOR","L ",null,"CONSTRUCTION",null,null,"Table Code","Description",null,null,null,null,null,null,null,"NPR13203 "," 132kV Unsupervised Pilots with protection",null,null,null,null,"Cutout Metered Outdoor Meter Cabinet (1 Ph)","Cutout Metered Outdoor Meter Cabinet (1 Ph)"]
["OVERHEAD CLEARANCES","F2",null,"LAKELAND - NORTH ZONE",63,null,32,"ISOLATOR PM CLASS 2",null,"W LUCY AND CO LTD","650",null,null,null,null,null,null,null,"HOUSING",null,null,"ESI 43-12 ABC","D",null,"E"," 3 PHASE DOEF",null,"B","AB6",null,"TRIPPING",1,null,null,null,null,"YD11","YD11",null,"PLATE","P",null,"HIGH","H",null,0,"\tNONE",null," REACTOR","R ",null,"Table Code","Description",null,1,"OPEN AIR",null,null,null,null,null,null,null,null,null,null,null,null,null,"Cutout Metered Outdoor Meter Cabinet (2 Ph)","Cutout Metered Outdoor Meter Cabinet (2 Ph)"]
["ASSET REPLACEMENT","G",null,"HEADQUARTERS - DTC",82,null,33,"ISOLATOR PM CLASS 3",null,"MERLIN GERIN","665",null,"Manufuacturer",null,null,"TRANSFORMER SPECIFICATION",null,null,"TABLE CODE","DESCRIPTION",null,"ESI 43-20 HV HEAVY","E",null,"L"," 1 PHASE LINKS",null,"W","AB7",null,"CLOSING",2,null,null,null,null,"YD3","YD3",null,"SERCK","S",null,"LOW","L",null,1,"\tCABLE SHEATH",null," SUSPENSION","S ",null,"B","BAR",null,2,"ENCLOSED AIR",null,null,null,null,null,null,null,null,null,null,null,null,null,"Cutout Metered Outdoor Meter Cabinet (3 Ph)","Cutout Metered Outdoor Meter Cabinet (3 Ph)"]
["ASSET REPLACEMENT CONSEQUENTIAL","H",null,null,null,null,34,"Isolator PM class 4",null,"REYROLLE","770",null,"DESCRIPTION","TABLE CODE",null,"Table Code","Description",null,"CABINET","C",null,"ESI 43-30 LV","F",null,"K"," 3 PHASE LINKS",null,"V","AB8",null,"TELECOMMS",3,null,null,null,null,"YD9","YD9",null,"TUBE","T",null,null,null,null,2,"\tRODS",null,null,null,null,"H","HOLTOM",null,3,"OIL",null,null,null,null,null,null,null,null,null,null,null,null,null,"Cutout Unmetered (1 Ph)","Cutout Unmetered (1 Ph)"]
["RISING AND LATERAL MAINS","J",null,"SUBSTATION LAYOUT",null,null,36,"ISOLATOR GM",null,"SCHNEIDER ELECTRIC","788",null,"ABB","005",null,1,"T1",null,"INDOOR","I",null,"ESI 43-40 HV","G",null,null,null,null,"RBL","AB9",null,"INTERTRIPPING",4,null,null,null,null,"YND1","YND1",null,"NKAC","Z",null,"TAP POSITION",null,null,3,"\tPLATE",null,null,null,null,"S","STRANDED",null,4,"COMPOUND",null,null,null,null,null,null,null,null,null,null,null,null,null,"Cutout Unmetered (2 Ph)","Cutout Unmetered (2 Ph)"]
["VISUAL AMENITY","K",null,"TABLE CODE","DESCRIPTION",null,37,"EARTH SWITCH GM",null,"SOUTH WALES SWITCHGEAR","800",null,"ACEC","012",null,2,"ESI 35-1",null,"NONE","N",null,"ESI 43-50 TRIDENT","H",null,"POLE VOLTAGE:",null,null,"RB","AC1",null,"SUPERVISORY",5,null,null,null,null,"WITHOUT TERTIARY DELTA","YY0",null,null,null,null,"Table Code","Description",null,4,"\tBURIED STRIP",null,null,null,null,"T","TUBE",null,5,"SOLID",null,null,null,null,null,null,null,null,null,null,null,null,null,"Cutout Unmetered (3 Ph)","Cutout Unmetered (3 Ph)"]
["ENVIRONMENTAL","L1",null,null,null,null,40,"FUSE SWITCH",null,"YORKSHIRE ELECTRICAL TRANSFORMERS","930",null,"ALSTOM","077",null,3,"ESI 35-2(PRE-1978)",null,"PILLAR","P",null,"YEP","I",null,"TABLE CODE","DESCRIPTION",null,"GO","AC10",null,"RAISE/LOWER",6,null,null,null,null,"WITH TERTIARY DELTA","YY0D",null,null,null,null,"MID POINT",1,null,5,"\tCEGB",null,null,null,null,null,null,null,6,"CAP BUSHING",null,null,null,null,null,null,null,null,null,null,null,null,null,"Industrial Service Unit","Industrial Service Unit"]
["GENERATION CONNECTIONS DNO","N1",null,"COMPACT SUBSTATION","CS",null,51,"FUSE PM",null,"YORKSHIRE SWITCHGEAR AND ENGINEERING","940",null,"BONAR LONG","130",null,4,"ESI 35-4",null,null,null,null,"J&P","J",null,"H"," HV",null,"GY","AC11",null,"EMERG LIGHT",7,null,null,null,null,"YY6","YY6",null,null,null,null,"NEUTRAL",2,null,6,"\tGRID",null,null,null,null,"INSULATION",null,null,7,"SF6",null,null,null,null,null,null,null,null,null,null,null,null,null,"Meter Chamber","Meter Chamber"]
["GENERATION CONNECTIONS ICP","N2",null,"DISTRIBUTION SUBSTATION","DS",null,52,"FUSE REPEATER",null,"OTHER","990",null,"BRENTFORD TRANSFORMERS","150",null,5,"33T/GEN",null,null,null,null,"BEBSL1","K",null,"L"," LV",null,"GB","AC12",null,"IMPULSE MET'G",8,null,null,null,null,"WITH TERTIARY DELTA","YY6D",null,null,null,null,"LINE END",3,null,9,"\tOTHER",null,null,null,null,"Table Code","Description",null,8,"INAPPLICABLE",null,null,null,null,null,null,null,null,null,null,null,null,null,"Monitoring Cabinet","Monitoring Cabinet"]
["LOW CARBON NETWORKS","O",null,"UNIT SUBSTATION","US",null,53,"FUSE INDOOR (GM)",null,null,null,null,"BRUSH","210",null,6,"CONSORT CER",null,"LV CIRCUITS",null,null,"ES400 02 comp covered","L",null,null,null,null,"RW","AC2",null,"STANDBY / GENERATOR START",9,null,null,null,null,null,null,null,null,null,null,null,null,null,"A","\tDist type A arrangement",null,null,null,null,1,"OPEN AIR",null,null,null,null,null,null,null,null,null,null,null,null,null,null,null,null,"Motorway Responder Unit","Motorway Responder Unit"]
["FAULTS","P",null,null,null,null,60,"BUSBAR CABLE BOX",null,"TYPE",null,null,"CG Power Systems","235",null,7,"BEBS T2",null,null,null,null,"ES400 03 bare wire","M",null,"POLE TYPE:",null,null,"RV","AC3",null,"EMERGENCY (TUNNEL) LIGHTING","B",null,null,null,null,"BREATHER TYPE",null,null,null,null,null,null,null,null,"B","\tDist type B arrangement",null,null,null,null,2,"ENCLOSED AIR",null,"HOUSING CONSTRUCTION",null,null,null,null,null,null,null,null,null,null,null,null,null,null,"Multiple Service Unit","Multiple Service Unit"]
["FLOODING","P1",null,"SUBSTATION TYPE",null,null,70,"BUSBAR METERING",null,"TABLE CODE","DESCRIPTION",null,"CROMPTON PARKINSON","280",null,8,"LOW LOSS DISTR",null,"FUSE UNIT TYPE",null,null,"PIRELLI","P",null,"TABLE CODE","DESCRIPTION",null,"BLG","AC4",null,"EMERGENCY (TUNNEL) VENTILATION","C",null,null,null,null,"Table Code","Description",null,null,null,null,null,null,null,null,null,null,null,null,null,3,"OIL",null,"Table Code","Description",null,null,null,null,null,null,null,null,null,null,null,null,null,"Portaloo","Portaloo"]
["LOSSES","P2",null,"TABLE CODE","DESCRIPTION",null,71,"HV METERING UNIT",null,null,null,null,"DENIS FERRANTI","450",null,9,"BS 171",null,"TABLE CODE","DESCRIPTION",null,"BETTER LINES CO","V",null,"DT"," DOUBLE TERMINAL",null,"BLO","AC5",null,null,null,null,null,null,null,"DRYCOL","D",null,null,null,null,null,null,null,null,null,null,null,null,null,4,"COMPOUND",null,1,"1 INSULATOR",null,null,null,null,null,null,null,null,null,null,null,null,null,"Shunt Capacitor","Shunt Capacitor"]
["NTR","Q",null,null,null,null,80,"RECLOSER (POLE MOUNTED)",null,"MU2","MU2",null,"DISTRIBUTION TRANSFORMERS LTD","310",null,10,"ESI 35-2(1978)",null,"A","SOLID LINK",null,"WATSHAMS LTD","W",null,"F"," FLYING STAY POLE",null,"BLY","AC6",null,null,null,null,null,null,null,"Envirogel","E",null,null,null,null,null,null,null,null,null,null,null,null,null,5,"SOLID",null,2,"2 INSULATORS",null,null,null,null,null,null,null,null,null,null,null,null,null,"Street Furniture","Street Furniture"]
["OTHER","R",null,"GRID","A",null,81,"PM SF6 SWITCH",null,"MU6","MU6",null,"EFACEC","335",null,11,"TS/GEN",null,"B","CART FUSE-WEDGE",null,null,null,null,"I"," INTER",null,"BLB","AC7",null,null,null,null,null,null,null,"FREE","F",null,null,null,null,null,null,null,null,null,null,null,null,null,6,"CAP BUSHING",null,3,"3-INSULS+EARTH BLADE",null,null,null,null,null,null,null,null,null,null,null,null,null,"Street Lamp","Street Lamp"]
["DISMANTLEMENT","S",null,"PRIMARY","B",null,91,"SECTIONALISER",null,"AIMU","AIMU",null,"ENGLISH ELECTRIC","400",null,12,"COMPACT",null,"C","CART FUSE-TAG",null,"HEIGHT ABOVE SEA",null,null,"IAT"," INTER ANGLE TEE",null,"BLW","AC8",null,null,null,null,null,null,null,"Hermetically Sealed","H",null,null,null,null,null,null,null,null,null,null,null,null,null,7,"SF6",null,4,"3-INSULS(NO EARTH BLADE)",null,null,null,null,null,null,null,null,null,null,null,null,null,"Street Lamp on Pole","Street Lamp on Pole"]
["CLEANSE","T",null,"HV CONS ONLY","C",null,92,"SECTIONAL'R MOTORISED GM",null,"T3M","T3M",null,"FERRANTI","440",null,13,"ESI 35-1 UNIT T/F",null,"D","REWIREABLE",null,"TABLE CODE","DESCRIPTION",null,"L"," INTERANGLE",null,"BLV","AC9",null,null,null,null,null,null,null,"Molecular Sieve","M",null,null,null,null,null,null,null,null,null,null,null,null,null,8,"INAPPLICABLE",null,null,null,null,null,null,null,null,null,null,null,null,null,null,null,null,"Street Lighting Control Lamp","Street Lighting Control Lamp"]
["RESILIENCE","U",null,"LV CONS ONLY","D",null,93,"AUTO-SECTIONALISING LINK",null,"B3M","B3M",null,"FOSTER TRANSFORMERS","460",null,14,"ESI 35-14",null,"E","LIQUID FUSE",null,"NOT KNOWN","-",null,"M"," SECTION ANGLE",null,"GW","AD1",null,null,null,null,null,null,null,"NONE","N",null,null,null,null,null,null,null,null,null,null,null,null,null,null,null,null,null,null,null,null,null,null,null,null,null,null,null,null,null,null,null,"Street Lighting Supply Point / Bulk Feed Point","Street Lighting Supply Point / Bulk Feed Point"]
["SMART METERS","V",null,"NETWORK ONLY","E",null,94,"SOLID LINK",null,null,null,null,"GEC","480",null,15,"IEC 76",null,"F","OIL BREAKER",null,"0 - 100M","A",null,"O"," INTER TEE",null,"BW","AD10",null,null,null,null,null,null,null,"Regenerative","R",null,null,null,null,null,null,null,null,null,null,null,null,null,"INSULATION RATING",null,null,null,null,null,null,null,null,null,null,null,null,null,null,null,null,null,"Telephone Call Box","Telephone Call Box"]
["BLACK START","W",null,"HV CONS+NETWORK","F",null,null,null,null,null,null,null,"HAWKER SIDDELEY","520",null,16,"VDE 0670",null,"G","AIR BREAKER",null,"100 - 200m","B",null,"P"," SECTION TEE",null,"BV","AD11",null,null,null,null,null,null,null,"SILICA GEL","S",null,null,null,null,null,null,null,null,null,null,null,null,null,"Table Code","Description",null,null,null,null,null,null,null,null,null,null,null,null,null,null,null,null,"Ticket Machine","Ticket Machine"]
["BT21","X",null,"LV CONS+NETWORK","G",null,"MANUFACTURER",null,null,null,null,null,"ISHERWOOD","540",null,17,"PAD MOUNT",null,"H","AIR BREAK SWITCH",null,"200 - 300m","C",null,"S"," SECTION",null,"WV","AD12",null,null,null,null,null,null,null,null,null,null,null,null,null,null,null,null,null,null,null,null,null,null,1," LV",null,null,null,null,null,null,null,null,null,null,null,null,null,null,null,null,"Traffic Light Control","Traffic Light Control"]
["MOORSIDE","Y",null,"SWITCHING STN","H",null,"TABLE CODE","DESCRIPTION",null,null,null,null,"LINDLEY THOMPSON","590",null,19,"OTHER",null,"J","BOLTED CABLE",null,"300 - 400m","D",null,"SAT"," SECTION ANGLE TEE",null,"GV","AD2",null,null,null,null,null,null,null,"ARC GAP",null,null,null,null,null,null,null,null,null,null,null,null,null,null,2,"3.3KV",null,null,null,null,null,null,null,null,null,null,null,null,null,null,null,null,"Traffic Sign","Traffic Sign"]
["QOS (WSC)","Z",null,"HV TO HV","J",null,"005","ABB",null,null,null,null,"Mid Central Electric","673",null,20,"BSEN/IEC 60076",null,null,null,null,"400 - 500m","E",null,"T"," TERMINAL",null,"OY","AD3",null,null,null,null,null,null,null,"Table Code","Description",null,null,null,null,null,null,null,null,null,null,null,null,null,3," 6.6KV",null,null,null,null,null,null,null,null,null,null,null,null,null,null,null,null,"Underfloor Heating","Underfloor Heating"]
["QUALITY OF SUPPLY","Z1",null,"132kV Sealing End compound","K",null,"007","ABBOT & CO LTD NEWARK",null,null,null,null,"NATIONAL INDUSTRI","685",null,21,"IP315",null,"LV EXTRAS",null,null,"500 - 600m","F",null,"W"," TOTEM FREE STANDING",null,"OB","AD4",null,null,null,null,null,null,null,"NIL",0,null,null,null,null,null,null,null,null,null,null,null,null,null,4," 11KV",null,null,null,null,null,null,null,null,null,null,null,null,null,null,null,null,"Warden Call Control","Warden Call Control"]
[null,null,null,null,null,null,"010","ACCURATE CONTROLS",null,null,null,null,"NOT KNOWN","980",null,22,"ENATS 35-2",null,"TABLE CODE","DESCRIPTION",null,"600 - 700m","G",null,null,null,null,"OW","AD5",null,null,null,null,null,null,null,"SINGLE",1,null,null,null,null,null,null,null,null,null,null,null,null,null,5," 33KV"]
["MOUNTING",null,null,"STRUCTURE TYPE",null,null,"012","ACEC",null,null,null,null,"OTHER","990",null,23,"IEC 60289 (A&E TX)",null,"MANUFACTURER","MANUFACTURER",null,null,null,null,"POLE GRADE:",null,null,"OV","AD6",null,null,null,null,null,null,null,"DUPLEX",2,null,null,null,null,null,null,null,null,null,null,null,null,null,6," 132KV"]
["TABLE CODE","DESCRIPTION",null,"TABLE CODE","DESCRIPTION",null,"020","ACRASTYLE",null,null,null,null,"PARSONS","720",null,99,"NKAC",null,"FUSE UNIT TYPE","FUSE UNIT TYPE",null,"DISTANCE FROM COAST",null,null,"TABLE CODE","DESCRIPTION",null,"YB","AD7",null,null,null,null,null,null,null,"CO-ORDINATED",3,null,null,null,null,null,null,null,null,null,null,null,null,null,7," 25KV",null,null,null,null,null,null,null,null,null,null,null,null,null,null,null,null,"Phase Connection"]
[null,null,null,null,null,null,"030","ADAMSON GREEN",null,null,null,null,"PAUWELS","732",null,null,null,null,"TRANSFORMER CONNECTIONS","TRANSFORMER CONNECTION",null,"TABLE CODE","DESCRIPTION",null,"L"," LIGHT",null,"YW","AD8",null,null,null,null,null,null,null,"SH-CO",4,null,null,null,null,null,null,null,null,null,null,null,null,null,9,"2.2KV",null,null,null,null,null,null,null,null,null,null,null,null,null,null,null,null,"Table Code","Description"]
["BURIED","B",null,"STONE/BRICK","A",null,"035","ADMAGNETIC LTD ACCRINGTON",null,null,null,null,"SCHNEIDER ELECTRIC","788",null,"VT EXTRAS",null,null,null,null,null,"-","NOT KNOWN",null,"M"," MEDIUM",null,"YV","AD9",null,null,null,null,null,null,null,"X-CYL",5,null,null,null,null,null,null,null,null,null,null,null,null,null,null,null,null,null,null,null,null,null,null,null,null,null,null,null,null,null,null,null,"Phase 1 (Red/Black)","Phase 1 (Red/Black)"]
["PAD","D",null,"TIMBER","B",null,"040","AEG",null,null,null,null,"SIEMENS","790",null,"Table Code","Description",null,"FUSE CENTRE",null,null,"A","0 - 10 KM",null,"S"," STOUT",null,"RBLR","AE1",null,null,null,null,null,null,null,"SURGE ARRESTOR",7,null,null,null,null,null,null,null,null,null,null,null,null,null,"JOINT INSULATION",null,null,null,null,null,null,null,null,null,null,null,null,null,null,null,null,null,"Phase 2 (Yellow/Brown)","Phase 2 (Yellow/Brown)"]
["GROUND","G",null,"PREFABRICATED","C",null,"050","AEROFLEX",null,null,null,null,"SOUTH WALES SWITCHGEAR","800",null,"VT MODEL NAME","VT MODEL NAME",null,"TABLE CODE","DESCRIPTION",null,"B","10 - 25 KM",null,"E"," EXTRA STOUT",null,"ORO","AE10",null,null,null,null,null,null,null,"NKAC",9,null,null,null,null,null,null,null,null,null,null,null,null,null,"Table Code","Description",null,null,null,null,null,null,null,null,null,null,null,null,null,null,null,null,"Phase 3 (Blue/Grey)","Phase 3 (Blue/Grey)"]
["POLE","P",null,"METAL KIOSK","D",null,null,null,null,null,null,null,"TRANSMAG","863",null,null,null,null,83,"83mm",null,null,null,null,"U"," UNKNOWN",null,"YRY","AE11",null,null,null,null,null,null,null,null,null,null,null,null,null,null,null,null,null,null,null,null,null,null,"B","BARE",null,null,null,null,null,null,null,null,null,null,null,null,null,null,null,null,"Phase 1-Phase 2","Phase 1-Phase 2"]
["SWITCH","S",null,"UNDERGROUND","E",null,null,null,null,null,null,null,"UNIDAIRE LTD","890",null,null,null,null,92,"92mm",null,null,null,null,null,null,null,"BRB","AE12",null,null,null,null,null,null,null,"COOLING TYPE",null,null,null,null,null,null,null,null,null,null,null,null,null,null,"G","SF6",null,null,null,null,null,null,null,null,null,null,null,null,null,null,null,null,"Phase 1-Phase 3","Phase 1-Phase 3"]
["TRANSFORMER","T",null,"PART OF LARGER BUILDING","F",null,null,null,null,null,null,null,"ABBOT & CO LTD NEWARK","007",null,null,null,null,null,null,null,null,null,null,"POLE DESIGN:",null,null,"RGR","AE2",null,null,null,null,null,null,null,"Table Code","Description",null,null,null,null,null,null,null,null,null,null,null,null,null,"H","HARD COMPOUND",null,null,null,null,null,null,null,null,null,null,null,null,null,null,null,null,"Phase 2-Phase 3","Phase 2-Phase 3"]
["WALL","W",null,"GLASS REINFORCED PLASTIC","G",null,null,null,null,null,null,null,"ACRASTYLE","020",null,null,null,null,null,null,null,null,null,null,"TABLE CODE","DESCRIPTION",null,"ROR","AE3",null,null,null,null,null,null,null,"OFAF",1,null,null,null,null,null,null,null,null,null,null,null,null,null,"O","OIL",null,null,null,null,null,null,null,null,null,null,null,null,null,null,null,null,"Three Phase","Three Phase"]
[null,null,null,"FENCED ENCLOSURE","H",null,"060","ALCOTROL",null,null,null,null,"ADAMSON GREEN","030",null,"MANUFACTURER","MANUFACTURER",null,"LV LINK BOX",null,null,"C","OVER 25 KM",null,"A"," 'A' POLE",null,"RYR","AE4",null,null,null,null,null,null,null,"OFAN",2,null,null,null,null,null,null,null,null,null,null,null,null,null,"R","RESIN"]
["SITUATION",null,null,"POLE","J",null,"070","ALKALINE BATTERIES",null,null,null,null,"AEG","040",null,"VT CONSTRUCTION TYPE","VT CONSTRUCTION TYPE",null,null,null,null,null,null,null,"B"," SINGLE & STUB",null,"RBR","AE5",null,null,null,null,null,null,null,"ONAF",3,null,null,null,null,null,null,null,null,null,null,null,null,null,"S","SOFT COMPOUND"]
["DESCRIPTION","Table Code",null,"FREE STANDING","K",null,"075","ALLEN WEST",null,null,null,null,"AEI","100",null,"VT SPECIFICATION","VT SPECIFICATION",null,"LOCATION",null,null,"CONDUCTOR TYPE",null,null,"D"," DOUBLE BUTTED",null,"RWR","AE6",null,null,null,null,null,null,null,"NO COOLING",4,null,null,null,null,null,null,null,null,null,null,null,null,null,"T","TAPED"]
[null,null,null,null,null,null,"077","ALSTOM",null,null,null,null,"AEROFLEX","050",null,null,null,null,"TABLE CODE","DESCRIPTION",null,"TABLE CODE","DESCRIPTION",null,"E"," BRACKET EARTHED",null,"RVR","AE7"]
["INDOOR",1,null,"RISK LEVEL",null,null,"078","ALSTOM (TURKEY)",null,null,null,null,"ALCOTROL","060",null,null,null,null,1,"UNOBSTRUCTED FOOTPATH",null,"NOT KNOWN","-",null,"F"," BRACKET UNEARTHED",null,"BLRBL","AE8"]
["OUTDOOR",2,null,"TABLE CODE","DESCRIPTION",null,"080","ARIC INSTRUMENTS",null,null,null,null,"ALLEN WEST","075",null,null,null,null,2,"CONG PATH OR ROADSIDE VERGE",null,"HD CU","A",null,"H"," 'H' POLE",null,"GRG","AE9"]
[null,null,null,null,null,null,"085","AREVA",null,null,null,null,"ALSTOM (TURKEY)","078",null,null,null,null,3,"IN ROAD",null,"HD CU PVC T8 BLACK","B",null,"O"," OTHER",null,"WRW","AF1"]
["REMOVED BY",null,null,"L","LOW",null,"090","ASEA",null,null,null,null,"AREVA","085",null,null,null,null,null,null,null,"HD CU PVC T16 GREEN","C",null,"R"," RUTTER",null,"OBLO","AF10"]
["Table Code","DESCRIPTION",null,"H","HIGH",null,100,"AEI",null,null,null,null,"ARIC INSTRUMENTS","080",null,null,null,null,"COVER TYPE",null,null,"CU CAD","D",null,"S"," SINGLE",null,"YBLY","AF11"]
[1,"BETHELL",null,null,null,null,105,"ASSOCIATED TAPCHANGERS LTD",null,null,null,null,"ASEA","090",null,null,null,null,"TABLE CODE","DESCRIPTION",null,"AAC","E",null,"T"," TWIN",null,"BBLB","AF12"]
[2,"C SOAR & SONS",null,"SECURITY RISK LEVEL",null,null,107,"AUTOMAT",null,null,null,null,"BABCOCK","108",null,null,null,null,1,"METAL",null,"AAC PVC T8 BLACK","F",null,"U"," STRUT",null,"VRV","AF2"]
[3,"CELTIC RECYCLING LTD",null,"TABLE CODE","DESCRIPTION",null,108,"BABCOCK",null,null,null,null,"BICC","170",null,null,null,null,2,"CONCRETE",null,"AAAC ALMOND","G",null,3," 3 SUPPORTS",null,"BLGBL","AF3"]
[6,"JOHN ROBSON METALS LTD",null,null,null,null,110,"BARDIC",null,null,null,null,"Bowers Elec Ltd","137",null,null,null,null,3,"BRICK",null,"AAAC HAZEL","H",null,null,null,null,"BLOBL","AF4"]
[7,"MA DEMOLITION",null,"E","EXTREMELY HIGH",null,235,"CG POWER SYSTEMS",null,null,null,null,"BOWTHORPE","140",null,null,null,null,null,null,null,"AAAC PVC T16 GREEN","I",null,"STAYS",null,null,"BLYBL","AF5"]
[8,"MORGAN EST",null,"H","HIGH",null,290,"DAVENSET",null,null,null,null,"BRITISH ELECTRIC TRANSFORMERS","120",null,null,null,null,"COVER SIZE",null,null,"ACSR HORSE","J",null,"Table Code","DESCRIPTION",null,"BLBBL","AF6"]
[9,"MORRISON",null,"M","MEDIUM",null,335,"EFACEC",null,null,null,null,"BRITISH POWER TRANSFORMERS","180",null,null,null,null,"TABLE CODE","DESCRIPTION",null,"ACSR DOG","K",null,1,1,null,"BLWBL","AF7"]
[10,"SLATERS ELECTRICALS LTD",null,"L","LOW",null,470,"FULLER",null,null,null,null,"BRITISH THOMSON-HOUSTON","190",null,null,null,null,1,"ONE MAN LIFT",null,"ACSR CARACAL","L",null,2,2,null,"BLVBL","AF8"]
[11,"ENWL",null,null,null,null,480,"GEC",null,null,null,null,"Bromsgrove Winding Serv (BWS)","165",null,null,null,null,2,"TWO MAN LIFT",null,"ACSR LYNX","M",null,3,3,null,"GBLG","AF9"]
[12,"WINDER RF (ELECTRICAL) LT",null,"COMA/IDNO AGREEMENT",null,null,482,"GEVEA",null,null,null,null,"BRUCE PEEBLES","200",null,null,null,null,null,null,null,"ABC LV 2-WIRE","N",null,4,4,null,"WBLW","BC1"]
[13,"MCALPINE",null,"TABLE CODE","DESCRIPTION",null,485,"GLOVERS",null,null,null,null,"BRYCE","220",null,null,null,null,"BELL TYPE",null,null,"ABC LV 4-WIRE","O",null,5,5,null,"BGB","BC10"]
[14,"AREVA",null,null,null,null,488,"GOODYEAR",null,null,null,null,"CAYSON ELECTRIC","230",null,null,null,null,"TABLE CODE","DESCRIPTION",null,"AAAC ELM 33 KV","P",null,null,null,null,"WGW","BC11"]
[15,"BALFOUR BEATTY",null,"N/A","N/A",null,490,"GRESHAM",null,null,null,null,"DS","320",null,null,null,null,1,"METAL",null,"ACSR","Q",null,null,null,null,"VGV","BC12"]
[16,"MURPHYS",null,"COMA","COMA",null,495,"GROUPE SCHNEIDER",null,null,null,null,"EBG","325",null,null,null,null,2,"PLASTIC",null,"ACSR COMPACT","R",null,null,null,null,"VBLV","BC2"]
[17,"OCONNOR BROTHERS",null,"IDNO","IDNO",null,500,"HACKBRIDGE AND HEWITTIC",null,null,null,null,"EDGCUMBE PEEBLES","330",null,null,null,null,null,null,null,"PILOT","S",null,null,null,null,"GOG","BC3"]
[18,"SPECIALIST POWER ENG CONT",null,null,null,null,505,"HAPAM",null,null,null,null,"ELECTRIC CONSTRUCTION COMPANY","340",null,null,null,null,"INSULATION TYPE",null,null,null,null,null,null,null,null,"GYG","BC4"]
[19,"FREEDOM ELECTRICAL SERVICE",null,"SUBSTATION OWNED/MAINTAINED",null,null,510,"HARMER & SIMMONS",null,null,null,null,"ELECTRIC TRANSMISSION","350",null,null,null,null,"TABLE CODE","DESCRIPTION",null,"CONDUCTOR SIZE",null,null,null,null,null,"GBG","BC5"]
[20,"DOYLES",null,"Table Code","DESCRIPTION",null,520,"HAWKER SIDDELEY",null,null,null,null,"ELECTROMECHANICAL MANUFACTURING COMPANY","370",null,null,null,null,1,"RESIN",null,"TABLE CODE","DESCRIPTION",null,null,null,null,"GWG","BC6"]
[21,"CONNELL BROS",null,null,null,null,522,"HAWORTH",null,null,null,null,"ELIN","375",null,null,null,null,2,"COMPOUND",null,"NOT KNOWN","-",null,null,null,null,"GVG","BC7"]
[22,"JB RAWCLIFFE AND SONS",null,"OTHER/NONE",0,null,525,"HENDRY",null,null,null,null,"ELLISON","380",null,null,null,null,null,null,null,"38 sqmm",0,null,null,null,null,"OGO","BC8"]
[23,"EXCALON",null,"ENW",1,null,530,"HENLEY",null,null,null,null,"ENGINEERING SYSTEM ELECTRICAL","396",null,null,null,null,"FUSE TYPE",null,null,"0.058 sqin","A",null,null,null,null,"YGY","BC9"]
[24,"ENS",null,"NGT",2,null,531,"HOLEC",null,null,null,null,"EPDL","405",null,null,null,null,"TABLE CODE","DESCRIPTION",null,"16 sqmm","B",null,null,null,null,"OYO","BD1"]
[25,"JAB",null,"UU WATER",4,null,535,"INTERNATIONAL TRANSFORMERS",null,null,null,null,"FERGUSON PAILIN","430",null,null,null,null,1,"WEDGE TYPE",null,"22 sqmm","C",null,null,null,null,"YWY","BD10"]
[27,"Ceva",null,null,null,null,537,"INGERSOLL RAND",null,null,null,null,"FKI","457",null,null,null,null,2,"BOLTED/OTHER",null,"25 sqmm","D",null,null,null,null,"YVY","BD11"]
[28,"Interserve",null,"REMOTE END LABELS CHANGED",null,null,540,"ISHERWOOD",null,null,null,null,"FPS","1014",null,null,null,null,null,null,null,"32 sqmm","E",null,null,null,null,"BYB","BD12"]
[29,"LEVENS",null,"Table Code","DESCRIPTION",null,550,"JANSEN",null,null,null,null,"FULLER","470",null,null,null,null,"LBX MANUFACTUER",null,null,"50 sqmm","F",null,null,null,null,"OBO","BD2"]
[30,"SES TRAINING SOLUTIONS",null,null,null,null,560,"JOHNSON AND NEPHEW",null,null,null,null,"G P DENNIS","300",null,null,null,null,"TABLE CODE","DESCRIPTION",null,"70 sqmm","G",null,null,null,null,"OWO","BD3"]
[31,"KN POWER NETWORK",null,"Y","YES",null,570,"JOHNSON AND PHILLIPS",null,null,null,null,"GOODYEAR","488",null,null,null,null,"AEI","AEI",null,"100 sqmm","H",null,null,null,null,"OVO","BD4"]
[32,"KELTBRAY",null,"N","NO",null,573,"JOSLYN",null,null,null,null,"GRESHAM","490",null,null,null,null,"AEROFLEX","AEROFLEX",null,"175 sqmm","I",null,null,null,null,"YOY","BD5"]
[99,"OTHER",null,null,null,null,574,"KEY",null,null,null,null,"GROUPE SCHNEIDER","495",null,null,null,null,"ASHTON DC","ASHTON DC",null,"95 sqmm","J",null,null,null,null,"BOB","BD6"]
[null,null,null,"LOCAL GENERATION",null,null,575,"KIDDE",null,null,null,null,"HACKBRIDGE AND HEWITTIC","500",null,null,null,null,"AUSTRALIAN","AUSTRALIAN",null,"35 sqmm","K",null,null,null,null,"WOW","BD7"]
["CONDITION",null,null,"Table Code","DESCRIPTION",null,580,"LIND",null,null,null,null,"HARMER & SIMMONS","510",null,null,null,null,"BICC","BICC",null,"120 sqmm","L",null,null,null,null,"VOV","BD8"]
["Table Code","DESCRIPTION",null,null,null,null,590,"LINDLEY THOMPSON",null,null,null,null,"HENLEY","530",null,null,null,null,"BMES","BMES",null,"150 sqmm","M",null,null,null,null,"YBY","BD9"]
[1,"ASBESTOS IN POOR CONDITIO",null,"YES","Y",null,600,"LINE EQUIPMENT LTD",null,null,null,null,"INTERNATIONAL TRANSFORMERS","535",null,null,null,null,"BONAR LONG","BONAR LONG",null,"0.022 sqin","N",null,null,null,null,"WYW","BE1"]
[2,"BURIED(UNKNOWN COND)",null,"NO","N",null,610,"LINEGEAR LTD",null,null,null,null,"J HINDLE","1022",null,null,null,null,"COSWAY","COSWAY",null,"0.025 sqin","O",null,null,null,null,"RBLO","BE10"]
[3,"BUSHINGS",null,null,null,null,620,"LONDON TRANSFORMER PRODUCTS",null,null,null,null,"JOHNSON AND PHILLIPS","570",null,null,null,null,"DELTA","DELTA",null,"0.04 sqin","P",null,null,null,null,"RBLY","BE11"]
[4,"CABLE BOXES",null,"IS THIS THE FIRST SUBSTATION",null,null,630,"LONDEX",null,null,null,null,"LIND","580",null,null,null,null,"ELEC","ELEC",null,"0.05 sqin","Q",null,null,null,null,"RBLB","BE12"]
[5,"CONDUCOR TYPE",null,"Table Code","DESCRIPTION",null,640,"LONG AND CRAWFORD",null,null,null,null,"LINE EQUIPMENT LTD","600",null,null,null,null,"ENF","ENF",null,"0.06 sqin","R",null,null,null,null,"VYV","BE2"]
[6,"CORROSION",null,null,null,null,650,"W LUCY AND CO LTD",null,null,null,null,"LINEGEAR LTD","610",null,null,null,null,"HAPAM B V","HAPAM B V",null,null,null,null,null,null,null,"BWB","BE3"]
[7,"DESIGN ISSUE",null,"YES","Y",null,655,"MR",null,null,null,null,"LONDEX","630",null,null,null,null,"HENLEY","HENLEY",null,"LINE EXTRAS",null,null,null,null,null,"BVB","BE4"]
[8,"EXTERNAL CONDITION",null,"NO","N",null,660,"MEM",null,null,null,null,"LONDON TRANSFORMER PRODUCTS","620",null,null,null,null,"HTW","HTW",null,"TABLE CODE","DESCRIPTION",null,null,null,null,"WBW","BE5"]
[9,"INSULATION",null,null,null,null,665,"MERLIN GERIN",null,null,null,null,"LONG AND CRAWFORD","640",null,null,null,null,"LANC CORP","LANC CORP",null,"LINE SPECIFICATION","LINE SPECIFICATION",null,null,null,null,"VBV","BE6"]
[10,"INTERNAL CONDITION",null,null,null,null,668,"MESSKO",null,null,null,null,"MERLIN GERIN","665",null,null,null,null,"LUCY","LUCY",null,"HEIGHT ABOVE SEA","HEIGHT ABOVE SEA",null,null,null,null,"WVW","BE7"]
[11,"WATER/MOISTURE INGRESS",null,"HYPERLINKS","LINKED CELL",null,670,"METROPOLITAN VICKERS",null,null,null,null,"METROPOLITAN VICKERS","670",null,null,null,null,"MACINTOSH","MACINTOSH",null,"DISTANCE FROM COAST","DISTANCE FROM COAST",null,null,null,null,"VWV","BE8"]
[12,"OIL CONTAMINATION",null,"   ",29,null,673,"MID CENTRAL ELECTRICS",null,null,null,null,"MORRIS LINE EQUIPMENT","675",null,null,null,null,"OTHER","OTHER",null,"CONDUCTOR TYPE","CONDUCTOR TYPE",null,null,null,null,"RBLG","BE9"]
[13,"OVERLOAD",null,"HOME (SAR)",null,null,675,"MORRIS LINE EQUIPMENT",null,null,null,null,"NALDER BROS AND THOMPSON","680",null,null,null,null,"PRESCOT","PRESCOT",null,"CONDUCTOR SIZE","CONDUCTOR SIZE",null,null,null,null,"RBLW","BF1"]
[14,"MECHANISM",null,"DOC 1A - BEFORE/AFTER",null,null,680,"NALDER BROS AND THOMPSON",null,null,null,null,"NITRAN","695",null,null,null,null,"ROCH DIS TEE","ROCHDALE DIS TEE",null,null,null,null,null,null,null,"ROW","BF10"]
[18,"OPERATIONAL RISK",null,"DOC 1B - LARGE BEFORE",null,null,685,"NATIONAL INDUSTRI",null,null,null,null,"NORWEB","700",null,null,null,null,null,null,null,null,null,null,null,null,null,"ROV","BF11"]
[19,"POLE DAMAGED(ANIMAL)",null,"DOC 1C - LARGE AFTER",null,null,687,"NETCONTROL",null,null,null,null,"OTTERMILL","705",null,null,null,null,"PIT CONSTRUCTION",null,null,null,null,null,null,null,null,"RYB","BF12"]
[20,"POLE DAMAGED(HUMAN)",null,"DOC 1D - ASLAID",null,null,688,"NETCONTROL MB2000",null,null,null,null,"P&B SWITCHGEAR","734",null,null,null,null,"TABLE CODE","DESCRIPTION",null,null,null,null,null,null,null,"RBLV","BF2"]
[21,"POLE DAMAGED(OTHER)",null,"DECOMM A - PLANT EQUIPMENT",null,null,690,"NIFE",null,null,null,null,"PARTRIDGE WILSON","730",null,null,null,null,"B","BRICK",null,null,null,null,null,null,null,"RGY","BF4"]
[22,"POLE ROTTEN",null,"DECOMM B - POLES/TOWERS",null,null,695,"NITRAN",null,null,null,null,"PDT","733",null,null,null,null,"C","CONCRETE",null,null,null,null,null,null,null,"RGB","BF5"]
[25,"TOWER STEELWORK",null,"DOC 2A - SITE & SUBSTATION",null,null,698,"NORTECH MANAGEMENT",null,null,null,null,"PE SYS","735",null,null,null,null,"M","METAL",null,null,null,null,null,null,null,"RGW","BF6"]
[28,"UG CABLE MAIN INSULATION",null,"DOC 3 - SWITCHGEAR",null,null,699,"NORTROL",null,null,null,null,"PEARSON ELECTRIC","740",null,null,null,null,"P","PLASTIC",null,null,null,null,null,null,null,"RGV","BF7"]
[29,"UG CABLE PAPERS",null,"DOC 4 - RMU & METERING",null,null,700,"NORWEB",null,null,null,null,"Power Distribution Transformers","744",null,null,null,null,null,null,null,null,null,null,null,null,null,"ROY","BF8"]
[31,"NOTHING WRONG - OK",null,"DOC 5A - TRANSFORMERS",null,null,705,"OTTERMILL",null,null,null,null,"PRENTICE ELECTRIC","750",null,null,null,null,"PIT SIZE/DEPTH",null,null,null,null,null,null,null,null,"ROB","BF9"]
[null,null,null,"DOC 5B - VOLTAGE TRANSFORMERS",null,null,707,"OXFORD",null,null,null,null,"PRICE AND BELSHAM","760",null,null,null,null,"TABLE CODE","DESCRIPTION",null,null,null,null,null,null,null,"RYW","CD1"]
["REMOVED BY EXTRA",null,null,"DOC 6A - LV CAB/BOARD & WAYS",null,null,710,"PARMITER HOPE AND SUGDEN",null,null,null,null,"R F WINDER","915",null,null,null,null,"O","ONE MAN OPERATION",null,null,null,null,null,null,null,"BLGV","CD10"]
["Table Code","DESCRIPTION",null,"DOC 6B - LINK BOXES",null,null,720,"PARSONS",null,null,null,null,"REYROLLE","770",null,null,null,null,"R","REQUIRE ACCESS AIDS",null,null,null,null,null,null,null,"BLOY","CD11"]
["DRIVER","DRIVER",null,"DOC 7 - OVERHEAD LINE",null,null,730,"PARTRIDGE WILSON",null,null,null,null,"ROTOTHERM","780",null,null,null,null,null,null,null,null,null,null,null,null,null,"BLOB","CD12"]
["CONDITION","CONDITION",null,"DOC 8A - WOODPOLES",null,null,732,"PAUWELS",null,null,null,null,"RURAL DEVELOPMENT","785",null,null,null,null,"LINK/FUSE SIZE",null,null,null,null,null,null,null,null,"RYV","CD2"]
["STATUS","STATUS",null,"DOC 8B - TOWERS",null,null,732,"PAUWELS",null,null,null,null,"SGB","789",null,null,null,null,"TABLE CODE","DESCRIPTION",null,null,null,null,null,null,null,"RBW","CD3"]
["REMOVED BY","REMOVED BY",null,"DOC 8C - FPI",null,null,733,"PDT",null,null,null,null,"SLATER ELECTRICAL","865",null,null,null,null,1,"3\"/ 76mm",null,null,null,null,null,null,null,"RBV","CD4"]
[null,null,null,"DOC 9 - BATTERY & CHARGERS",null,null,734,"P & B SWITCHGEAR",null,null,null,null,"STATTER","810",null,null,null,null,2,"3.25\"/83mm",null,null,null,null,null,null,null,"RWV","CD5"]
["YES/NO",null,null,"DOC 10 - G&P & AUX TRANSFORMERS",null,null,735,"PE SYS",null,null,null,null,"Stewart Transformers","815",null,null,null,null,3,"3.675\"/92mm",null,null,null,null,null,null,null,"BLGO","CD6"]
["Table Code","DESCRIPTION",null,"DOC 11 - G&P TX COOLER",null,null,740,"PEARSON ELECTRIC",null,null,null,null,"SWITCHBOARDS","840",null,null,null,null,null,null,null,null,null,null,null,null,null,"BLGY","CD7"]
["YES","Y",null,"DOC 12 - G&P TAP CHANGER",null,null,741,"PIRELLI",null,null,null,null,"SWITCHGEAR AND COWANS","820",null,null,null,null,"LBX EXTRAS",null,null,null,null,null,null,null,null,"BLGB","CD8"]
["NO","N",null,"DOC 13 - G&P NER",null,null,742,"PLESSEY",null,null,null,null,"SWITCHGEAR AND EQUIPMENT","830",null,null,null,null,"TABLE CODE","DESCRIPTION",null,null,null,null,null,null,null,"BLGW","CD9"]
[null,null,null,"DOC 14 - PROTECTION SETTINGS",null,null,743,"POWER ISOLATORS",null,null,null,null,"SYSTEMS POWER ENGINEERING","845",null,null,null,null,"LOCATION","LOCATION",null,null,null,null,null,null,null,"BLOW","CE1"]
["OPEN/CLOSED",null,null,"DOC 15 - DINIS",null,null,744,"POWER DISTRIBUTION TRANSFORMERS",null,null,null,null,"TRANSFORMERS (WALES)","850",null,null,null,null,"COVER TYPE","COVER TYPE",null,null,null,null,null,null,null,"GOB","CE10"]
["Table Code","DESCRIPTION",null,"DOC 16 - G&P  RTU INDAD INFORMATION",null,null,746,"POWER ELECTRICS",null,null,null,null,"TRANSFORMERS (WATFORD)","860",null,null,null,null,"COVER SIZE","COVER SIZE",null,null,null,null,null,null,null,"GOW","CE11"]
["O","OPEN",null,"DOC 17 - SERVICE POINTS",null,null,747,"POWER SAFE",null,null,null,null,"TUCKER","880",null,null,null,null,"BELL TYPE","BELL TYPE",null,null,null,null,null,null,null,"GOV","CE12"]
["C","CLOSED",null,"DOC 18 - SWITCH LABELS",null,null,748,"PRECISION",null,null,null,null,"W LUCY AND CO LTD","650",null,null,null,null,"INSULATION TYPE","INSULATION TYPE",null,null,null,null,null,null,null,"BLOV","CE2"]
[null,null,null,"P.C.A.F.",null,null,750,"PRENTICE ELECTRIC",null,null,null,null,"WHIPP AND BOURNE","905",null,null,null,null,"FUSE TYPE","FUSE TYPE",null,null,null,null,null,null,null,"BLYB","CE3"]
["STATUS",null,null,null,null,null,760,"PRICE AND BELSHAM",null,null,null,null,"WILSON POWER SOLUTIONS","912",null,null,null,null,"LBX MANUFACTUER","LBX MANUFACTUER",null,null,null,null,null,null,null,"BLYW","CE4"]
["Table Code","DESCRIPTION",null,null,null,null,765,"PYRENE",null,null,null,null,"WODEN","920",null,null,null,null,"PIT CONSTRUCTION","PIT CONSTRUCTION",null,null,null,null,null,null,null,"BLYV","CE5"]
[1,"SCRAPPED",null,null,null,null,767,"RADIUS",null,null,null,null,"YORKSHIRE ELECTRICAL TRANSFORMERS","930",null,null,null,null,"PIT SIZE/DEPTH","PIT SIZE/DEPTH",null,null,null,null,null,null,null,"BLBW","CE6"]
[2,"SCRAPPED ON SITE",null,null,null,null,768,"REMSDAQ",null,null,null,null,"YORKSHIRE SWITCHGEAR AND ENGINEERING","940",null,null,null,null,"LINK/FUSE SIZE","LINK/FUSE SIZE",null,null,null,null,null,null,null,"BLBV","CE7"]
[3,"INTO STORES",null,null,null,null,770,"REYROLLE",null,null,null,null,null,null,null,null,null,null,null,null,null,null,null,null,null,null,null,"BLWV","CE8"]
[4,"SCRAPPED IN STORES",null,null,null,null,780,"ROTOTHERM",null,null,null,null,"HV VOLTAGE",null,null,null,null,null,null,null,null,null,null,null,null,null,null,"GOY","CE9"]
[null,null,null,null,null,null,785,"RURAL DEVELOPMENT",null,null,null,null,"Table Code","Description",null,null,null,null,null,null,null,null,null,null,null,null,null,"GYB","CF1"]
["PROJECT CODE",null,null,null,null,null,788,"SCHNEIDER ELECTRIC",null,null,null,null,"Not Applicable",0,null,null,null,null,null,null,null,null,null,null,null,null,null,"OBW","CF10"]
["TABLE CODE","DESCRIPTION",null,null,null,null,789,"SGB",null,null,null,null,"415V",1,null,null,null,null,null,null,null,null,null,null,null,null,null,"OBV","CF11"]
["D",null,null,null,null,null,790,"SIEMENS",null,null,null,null,"3.3KV",2,null,null,null,null,null,null,null,null,null,null,null,null,null,"OWV","CF12"]
["I",null,null,null,null,null,793,"SMIT",null,null,null,null,"6.6KV",3,null,null,null,null,null,null,null,null,null,null,null,null,null,"GYW","CF2"]
["Y",null,null,null,null,null,795,"SOLAREX",null,null,null,null,"11KV",4,null,null,null,null,null,null,null,null,null,null,null,null,null,"GYV","CF3"]
["C",null,null,null,null,null,800,"SOUTH WALES SWITCHGEAR",null,null,null,null,"33KV",5,null,null,null,null,null,null,null,null,null,null,null,null,null,"GBW","CF4"]
["F",null,null,null,null,null,805,"SQUARE D",null,null,null,null,"132KV",6,null,null,null,null,null,null,null,null,null,null,null,null,null,"GBV","CF5"]
[null,null,null,null,null,null,810,"STATTER",null,null,null,null,"25KV",7,null,null,null,null,null,null,null,null,null,null,null,null,null,"GWV","CF6"]
["Equipment",null,null,null,null,null,815,"STEWART TRANSFORMERS",null,null,null,null,"2.2KV",9,null,null,null,null,null,null,null,null,null,null,null,null,null,"OYB","CF7"]
["TABLE CODE","DESCRIPTION",null,null,null,null,820,"SWITCHGEAR AND COWANS",null,null,null,null,null,null,null,null,null,null,null,null,null,null,null,null,null,null,null,"OYW","CF8"]
[" SUBSTATION                                       "," SUBSTATION                                       ",null,null,null,null,830,"SWITCHGEAR AND EQUIPMENT",null,null,null,null,"TRANSFORMER MOUNTING",null,null,null,null,null,null,null,null,null,null,null,null,null,null,"OYV","CF9"]
[" SITE                                             "," SITE                                             ",null,null,null,null,835,"S PLUS E",null,null,null,null,"Table Code","Description",null,null,null,null,null,null,null,null,null,null,null,null,null,"YBW","DE1"]
[" SWITCHGEAR                                       "," SWITCHGEAR                                       ",null,null,null,null,837,"S&C ELECTRIC",null,null,null,null,"B","BURIED",null,null,null,null,null,null,null,null,null,null,null,null,null,"YBV","DE2"]
[" TRANSFORMER                                      "," TRANSFORMER                                      ",null,null,null,null,838,"S&S POWER SWITCHGEAR",null,null,null,null,"D","PAD",null,null,null,null,null,null,null,null,null,null,null,null,null,"YWV","DE3"]
[" FEEDER PILLAR                                    "," FEEDER PILLAR                                    ",null,null,null,null,839,"S&S Engineering",null,null,null,null,"G","GROUND",null,null,null,null,null,null,null,null,null,null,null,null,null,"BLWV","DE4"]
[" LINK BOX                                         "," LINK BOX                                         ",null,null,null,null,840,"SWITCHBOARDS",null,null,null,null,"P","POLE",null,null,null,null,null,null,null,null,null,null,null,null,null,"BVO","DE5"]
["CIRCUIT BREAKER","CIRCUIT BREAKER",null,null,null,null,845,"SYSTEMS POWER ENGINEERING",null,null,null,null,"S","SWITCH",null,null,null,null,null,null,null,null,null,null,null,null,null,"VGY","DE6"]
[null,null,null,null,null,null,847,"TAMINI",null,null,null,null,"T","TRANSF",null,null,null,null,null,null,null,null,null,null,null,null,null,"RWR","ENW1"]
[" AUXSUP BOARD                                     "," AUXSUP BOARD                                     ",null,null,null,null,850,"TRANSFORMERS (WALES)",null,null,null,null,"W","WALL",null,null,null,null,null,null,null,null,null,null,null,null,null,"RYR","ENW2"]
[" ASSET PROTECTION SCHEME                          "," ASSET PROTECTION SCHEME                          ",null,null,null,null,860,"TRANSFORMERS (WATFORD)",null,null,null,null,null,null,null,null,null,null,null,null,null,null,null,null,null,null,null,"VGY","ENW3"]
[" AIR RECEIVER                                     "," AIR RECEIVER                                     ",null,null,null,null,870,"TUDOR BATTERIES",null,null,null,null,"TRANSFORMER VECTOR GROUPS",null,null,null,null,null,null,null,null,null,null,null,null,null,null,"WVR","ENW4"]
[" ACTUATORS                                        "," ACTUATORS                                        ",null,null,null,null,871,"TUNGSTONE",null,null,null,null,"Table Code","Description",null,null,null,null,null,null,null,null,null,null,null,null,null,"BVO","ENW5"]
["ASYNCHRONOUS MACHINE                              ","ASYNCHRONOUS MACHINE                              ",null,null,null,null,880,"TUCKER",null,null,null,null,110,"SINGLE PHASE/SINGLE PHASE",null,null,null,null,null,null,null,null,null,null,null,null,null,"YG","ENW6"]
["BATTERY                                           ","BATTERY                                           ",null,null,null,null,890,"UNIDAIRE LTD",null,null,null,null,111,"SINGLE PHASE PRIMARY/SECONDARY"]
[" BUSBAR                                           "," BUSBAR                                           ",null,null,null,null,895,"VARTA",null,null,null,null,120,"SPLIT SINGLE PHASE",null,null,null,null,null,null,null,null,null,null,null,null,null,"TOWER TYPE"]
[" BUILDING                                         "," BUILDING                                         ",null,null,null,null,900,"WEIR ELECTRICAL INSTRUMENTS",null,null,null,null,32,"3 PHASE / 2 PHASE",null,null,null,null,null,null,null,null,null,null,null,null,null,"TABLE CODE","DESCRIPTION"]
[" GVR CONTROL BOX                                  "," GVR CONTROL BOX                                  ",null,null,null,null,903,"WESTERMO",null,null,null,null,"DD0","DD0",null,null,null,null,null,null,null,null,null,null,null,null,null,1,"SUSPENSION"]
[" CABLE TRENCH                                     "," CABLE TRENCH                                     ",null,null,null,null,905,"WHIPP AND BOURNE",null,null,null,null,"DD6","DD6",null,null,null,null,null,null,null,null,null,null,null,null,null,2,"TENSION"]
["CAPACITOR                                         ","CAPACITOR                                         ",null,null,null,null,910,"WHITEHEAD",null,null,null,null,"DY1","DY1",null,null,null,null,null,null,null,null,null,null,null,null,null,3,"TERMINAL"]
[" CABLE BRIDGE                                     "," CABLE BRIDGE                                     ",null,null,null,null,915,"R F WINDER",null,null,null,null,"DY11","DY11"]
[" CABLE BRIDGE PARENT (CDC)                        "," CABLE BRIDGE PARENT (CDC)                        ",null,null,null,null,920,"WODEN",null,null,null,null,"DY3","DY3",null,null,null,null,null,null,null,null,null,null,null,null,null,"PAINT"]
[" CHARGER                                          "," CHARGER                                          ",null,null,null,null,925,"SG AND M WORTHINGTON",null,null,null,null,"DY9","DY9",null,null,null,null,null,null,null,null,null,null,null,null,null,"TABLE CODE","DESCRIPTION"]
[" COMPRESSOR INST                                  "," COMPRESSOR INST                                  ",null,null,null,null,930,"YORKSHIRE ELECTRICAL TRANSFORMERS",null,null,null,null,"DYN11","DYn11",null,null,null,null,null,null,null,null,null,null,null,null,null,"-","NOT KNOWN"]
[" TOWER CIRCUIT                                    "," TOWER CIRCUIT                                    ",null,null,null,null,940,"YORKSHIRE SWITCHGEAR AND ENGINEERING",null,null,null,null,"DZ0","DZ0",null,null,null,null,null,null,null,null,null,null,null,null,null,"A","3 COAT OIL BASED"]
["CONTROL SETTING                                   ","CONTROL SETTING                                   ",null,null,null,null,945,"YUASA",null,null,null,null,"DZ6","DZ6",null,null,null,null,null,null,null,null,null,null,null,null,null,"B","2 COAT WATER BASED (PROTOL)"]
["CIRCUIT                                           ","CIRCUIT                                           ",null,null,null,null,950,"BLANK",null,null,null,null,"DZN0","DZN Zero On Special Private Transformer",null,null,null,null,null,null,null,null,null,null,null,null,null,"C","2 COAT OIL BASED (ALKYD)"]
[" COMPRESSOR UNIT                                  "," COMPRESSOR UNIT                                  ",null,null,null,null,958,"ZENITH",null,null,null,null,"NKAC","NKAC",null,null,null,null,null,null,null,null,null,null,null,null,null,"D","1 COAT PROTOL/MICACEOUS"]
["DEPOT TEST EQUIPMENT                              ","DEPOT TEST EQUIPMENT                              ",null,null,null,null,960,"BLANK",null,null,null,null,"Y0","AUTO TRANSFORMER",null,null,null,null,null,null,null,null,null,null,null,null,null,"E","3 COAT (ALKYD)"]
["EARTHING EQUIPMENT                                ","EARTHING EQUIPMENT                                ",null,null,null,null,970,"BLANK",null,null,null,null,"YD1","YD1",null,null,null,null,null,null,null,null,null,null,null,null,null,"Y","NOT PAINTED"]
[" PILOT CABLES                                     "," PILOT CABLES                                     ",null,null,null,null,980,"NOT KNOWN",null,null,null,null,"YD11","YD11"]
[" TOWER EARTHWIRE                                  "," TOWER EARTHWIRE                                  ",null,null,null,null,990,"OTHER",null,null,null,null,"YD3","YD3"]
[" FEEDER PILLAR PARENT (CDC)                       "," FEEDER PILLAR PARENT (CDC)                       ",null,null,null,null,null,null,null,null,null,null,"YD9","YD9"]
[" CIRC MAIN EARTH                                  "," CIRC MAIN EARTH                                  ",null,null,null,null,null,null,null,null,null,null,"YND1","YND1"]
[" FISHING SITE                                     "," FISHING SITE                                     ",null,null,null,null,null,null,null,null,null,null,"YY0","WITHOUT TERTIARY DELTA"]
["FAULT PASSAGE INDICATOR                           ","FAULT PASSAGE INDICATOR                           ",null,null,null,null,null,null,null,null,null,null,"YY0D","WITH TERTIARY DELTA"]
[" FIRE CONT EQUIP (ELEC)                           "," FIRE CONT EQUIP (ELEC)                           ",null,null,null,null,null,null,null,null,null,null,"YY6","YY6"]
[" FAULT THROWER                                    "," FAULT THROWER                                    ",null,null,null,null,null,null,null,null,null,null,"YY6D","WITH TERTIARY DELTA"]
["GENERAL ENGINEERING EQUIPMENT                     ","GENERAL ENGINEERING EQUIPMENT                     ",null,null,null,null,null,null,null,null,null,null,"ZD0","ZD0"]
[" GROUNDS                                          "," GROUNDS                                          ",null,null,null,null,null,null,null,null,null,null,"ZD6","ZD6"]
[" HV FUSE                                          "," HV FUSE                                          ",null,null,null,null,null,null,null,null,null,null,"ZY1","ZY1"]
["FLUID CABLE SECTION                               ","FLUID CABLE SECTION                               ",null,null,null,null,null,null,null,null,null,null,"ZY11","ZY11"]
[" LADDERS                                          "," LADDERS                                          "]
[" LV CIRCUIT                                       "," LV CIRCUIT                                       ",null,null,null,null,null,null,null,null,null,null,"TRANSFORMER SPECIFICATION"]
[" LV BOARD                                         "," LV BOARD                                         ",null,null,null,null,null,null,null,null,null,null,"Description","Table Code"]
[" LINE HV                                          "," LINE HV                                          ",null,null,null,null,null,null,null,null,null,null,"T1",1]
[" LINE LV                                          "," LINE LV                                          ",null,null,null,null,null,null,null,null,null,null,"ESI 35-1",2]
[" LINK BOX PARENT (CDC)                            "," LINK BOX PARENT (CDC)                            ",null,null,null,null,null,null,null,null,null,null,"ESI 35-2(PRE-1978)",3]
[" LV AIR CIRCBRKR                                  "," LV AIR CIRCBRKR                                  ",null,null,null,null,null,null,null,null,null,null,"ESI 35-4",4]
[" LV SERVICES                                      "," LV SERVICES                                      ",null,null,null,null,null,null,null,null,null,null,"33T/GEN",5]
["LINKBOX SWITCH                                    ","LINKBOX SWITCH                                    ",null,null,null,null,null,null,null,null,null,null,"CONSORT CER",6]
["MONITORING CABINET                                ","MONITORING CABINET                                ",null,null,null,null,null,null,null,null,null,null,"BEBS T2",7]
[" MURAL PARENT (CDC)                               "," MURAL PARENT (CDC)                               ",null,null,null,null,null,null,null,null,null,null,"LOW LOSS DISTR",8]
[" MURAL                                            "," MURAL                                            ",null,null,null,null,null,null,null,null,null,null,"BS 171",9]
["OIL TANK                                          ","OIL TANK                                          ",null,null,null,null,null,null,null,null,null,null,"ESI 35-2(1978)",10]
[" POLE                                             "," POLE                                             ",null,null,null,null,null,null,null,null,null,null,"TS/GEN",11]
["PUMPING POINT                                     ","PUMPING POINT                                     ",null,null,null,null,null,null,null,null,null,null,"COMPACT",12]
[" TOWER PILOT CABLE                                "," TOWER PILOT CABLE                                ",null,null,null,null,null,null,null,null,null,null,"ESI 35-1 UNIT T/F",13]
["PROTECTION RELAY                                  ","PROTECTION RELAY                                  ",null,null,null,null,null,null,null,null,null,null,"ESI 35-14",14]
["PROTECTION STAGE                                  ","PROTECTION STAGE                                  ",null,null,null,null,null,null,null,null,null,null,"IEC 76",15]
[" PROTECTION GRP                                   "," PROTECTION GRP                                   ",null,null,null,null,null,null,null,null,null,null,"VDE 0670",16]
["RISING AND LAT MAIN BOARD                         ","RISING AND LAT MAIN BOARD                         ",null,null,null,null,null,null,null,null,null,null,"PAD MOUNT",17]
[" REMOTE CONTROL                                   "," REMOTE CONTROL                                   ",null,null,null,null,null,null,null,null,null,null,"OTHER",19]
[" REACTOR                                          "," REACTOR                                          ",null,null,null,null,null,null,null,null,null,null,"BSEN/IEC 60076",20]
["REGULATING CONTROL                                ","REGULATING CONTROL                                ",null,null,null,null,null,null,null,null,null,null,"IP315",21]
[" RING MAIN UNIT                                   "," RING MAIN UNIT                                   ",null,null,null,null,null,null,null,null,null,null,"ENATS 35-2",22]
["RISING AND LAT MAIN PROPERTY                      ","RISING AND LAT MAIN PROPERTY                      ",null,null,null,null,null,null,null,null,null,null,"IEC 60289 (A&E TX)",23]
["RISING AND LAT MAIN RISER                         ","RISING AND LAT MAIN RISER                         ",null,null,null,null,null,null,null,null,null,null,"NKAC",99]
["RISING AND LAT MAIN SERVICE                       ","RISING AND LAT MAIN SERVICE                       "]
["SAFETY EQUIPMENT                                  ","SAFETY EQUIPMENT                                  ",null,null,null,null,null,null,null,null,null,null,"TAP TYPE"]
["SWITCHBOARD                                       ","SWITCHBOARD                                       ",null,null,null,null,null,null,null,null,null,null,"Table Code","Description"]
[" SITE EARTHING                                    "," SITE EARTHING                                    ",null,null,null,null,null,null,null,null,null,null,1,"NO TAPCHANGE FACILITY"]
[" SF6 DECONTAMINATION KITS                         "," SF6 DECONTAMINATION KITS                         ",null,null,null,null,null,null,null,null,null,null,2,"OFF-CIRC EXT SWITCH"]
["SENTINEL                                          ","SENTINEL                                          ",null,null,null,null,null,null,null,null,null,null,3,"OFF-CIRC INTERNAL CONNS"]
[" SPAN                                             "," SPAN                                             ",null,null,null,null,null,null,null,null,null,null,4,"OFF-CIRC ALT LV BUSHINGS"]
["SYNCHRONOUS MACHINE                               ","SYNCHRONOUS MACHINE                               ",null,null,null,null,null,null,null,null,null,null,5,"ON-LOAD TAP CHANGE FAC"]
[" TOWER AREA                                       "," TOWER AREA                                       ",null,null,null,null,null,null,null,null,null,null,9,"NKAC"]
[" TAP CHANGER                                      "," TAP CHANGER                                      "]
["TOWER DOWNLEAD                                    ","TOWER DOWNLEAD                                    ",null,null,null,null,null,null,null,null,null,null,"COOLER DESIGN"]
[" TRANSF EARTHING                                  "," TRANSF EARTHING                                  ",null,null,null,null,null,null,null,null,null,null,"Table Code","Description"]
[" TOWER CIRCUIT                                    "," TOWER CIRCUIT                                    ",null,null,null,null,null,null,null,null,null,null,"A","NONE (PLAIN TANK)"]
[" TOWER EARTHWIRE                                  "," TOWER EARTHWIRE                                  ",null,null,null,null,null,null,null,null,null,null,"B","PLATE"]
[" TRANSF COOLER                                    "," TRANSF COOLER                                    ",null,null,null,null,null,null,null,null,null,null,"C","CORRUGATED"]
["TEST EQUIPMENT                                    ","TEST EQUIPMENT                                    ",null,null,null,null,null,null,null,null,null,null,"D","PANEL"]
[" TOWER                                            "," TOWER                                            ",null,null,null,null,null,null,null,null,null,null,"E","TUBE"]
[" WOODPOLE UNIT                                    "," WOODPOLE UNIT                                    ",null,null,null,null,null,null,null,null,null,null,"Z","NKAC"]
["VOLTAGE TRANSFORMER                               ","VOLTAGE TRANSFORMER                               "]
[" LV ARRANGEMENT                                   "," LV ARRANGEMENT                                   ",null,null,null,null,null,null,null,null,null,null,"COOLER TYPE"]
[" HV CROSSARM                                      "," HV CROSSARM                                      ",null,null,null,null,null,null,null,null,null,null,"Table Code","Description"]
[" STAY                                             "," STAY                                             ",null,null,null,null,null,null,null,null,null,null,"AIR","A"]
[null,null,null,null,null,null,null,null,null,null,null,null,"FORMEL","F"]
[null,null,null,null,null,null,null,null,null,null,null,null,"OTHER LIQUID","L"]
[null,null,null,null,null,null,null,null,null,null,null,null,"MIDEL","M"]
[null,null,null,null,null,null,null,null,null,null,null,null,"NITROGEN","N"]
[null,null,null,null,null,null,null,null,null,null,null,null,"OIL","O"]
[null,null,null,null,null,null,null,null,null,null,null,null,"SILICONE","S"]
[]
[null,null,null,null,null,null,null,null,null,null,null,null,"HV & LV Terminal Connection"]
[null,null,null,null,null,null,null,null,null,null,null,null,"Table Code","Description"]
[null,null,null,null,null,null,null,null,null,null,null,null,"NIL","A"]
[null,null,null,null,null,null,null,null,null,null,null,null,"INDOOR BUSHINGS","B"]
[null,null,null,null,null,null,null,null,null,null,null,null,"CABLE BOX - MULTICORE","C"]
[null,null,null,null,null,null,null,null,null,null,null,null,"CABLE BOX 1 CORE/PHASE","D"]
[null,null,null,null,null,null,null,null,null,null,null,null,"CABLE BOX 2 CORES/PHASE","E"]
[null,null,null,null,null,null,null,null,null,null,null,null,"CABLE BOX 3 CORES/PHASE","F"]
[null,null,null,null,null,null,null,null,null,null,null,null,"CABLE BOX 4 CORES/PHASE","G"]
[null,null,null,null,null,null,null,null,null,null,null,null,"OUTDOOR BUSHINGS","H"]
[null,null,null,null,null,null,null,null,null,null,null,null,"DIRECT WITHOUT TRUNKING","J"]
[null,null,null,null,null,null,null,null,null,null,null,null,"DIRECT WITH TRUNKING","K"]
[null,null,null,null,null,null,null,null,null,null,null,null,"BOLTED 1 CORE/PHASE","L"]
[null,null,null,null,null,null,null,null,null,null,null,null,"BOLTED 2 CORES/PHASE","M"]
[null,null,null,null,null,null,null,null,null,null,null,null,"BOLTED 3 CORES/PHASE","N"]
[null,null,null,null,null,null,null,null,null,null,null,null,"BUSBARS","P"]
[null,null,null,null,null,null,null,null,null,null,null,null,"BOLTED EARTH CONNECTION","Y"]
[null,null,null,null,null,null,null,null,null,null,null,null,"NKAC","Z"]
[]
[null,null,null,null,null,null,null,null,null,null,null,null,"TX EXTRAS"]
[null,null,null,null,null,null,null,null,null,null,null,null,"Table Code","Description"]
[null,null,null,null,null,null,null,null,null,null,null,null,"TX FUNCTION","TX FUNCTION"]
[null,null,null,null,null,null,null,null,null,null,null,null,"MANUFACTURER","MANUFACTURER"]
[null,null,null,null,null,null,null,null,null,null,null,null,"VECTOR GROUP","VECTOR GROUP"]
[null,null,null,null,null,null,null,null,null,null,null,null,"SPECIFICATION","SPECIFICATION"]
[null,null,null,null,null,null,null,null,null,null,null,null,"DISTRIBUTION TX TAP TYPE","DISTRIBUTION TX TAP TYPE"]
[null,null,null,null,null,null,null,null,null,null,null,null,"DISTRIBUTION TX COOLER DESIGN","DISTRIBUTION TX COOLER DESIGN"]
[null,null,null,null,null,null,null,null,null,null,null,null,"HV TERMINAL CONNECTION","HV TERMINAL CONNECTION"]
[null,null,null,null,null,null,null,null,null,null,null,null,"LV TERMINAL CONNECTION","LV TERMINAL CONNECTION"]
[]
[null,null,null,null,null,null,null,null,null,null,null,null,"LV BACKFED"]
[null,null,null,null,null,null,null,null,null,null,null,null,"Table Code","Description"]
[null,null,null,null,null,null,null,null,null,null,null,null,"YES","YES"]
[null,null,null,null,null,null,null,null,null,null,null,null,"NO","NO"]
[null,null,null,null,null,null,null,null,null,null,null,null,"FULL","FULL"]
[null,null,null,null,null,null,null,null,null,null,null,null,"PARTIAL","PARTIAL"]
[]
[null,null,null,null,null,null,null,null,null,null,null,null,"CONNECTION TYPE"]
[null,null,null,null,null,null,null,null,null,null,null,null,"Table Code","Description"]
[null,null,null,null,null,null,null,null,null,null,null,null,"CABLE CONNECTED","CABLE CONNECTED"]
[null,null,null,null,null,null,null,null,null,null,null,null,"UNIT SUBSTATION","UNIT SUBSTATION"]

{"sheet":"SAR","index":2,"n_rows":100,"n_cols":81,"rows_kept":100,"cut":false,"hidden":false,"merged":[[36,52,42,62],[44,52,50,62],[52,52,58,62],[60,52,66,62],[68,52,74,62],[76,52,82,62],[84,52,90,62],[92,52,98,62],[44,28,50,38],[52,28,58,38],[60,28,66,38],[68,28,74,38],[76,28,82,38],[84,28,90,38],[92,28,98,38],[36,40,42,50],[44,40,50,50],[52,40,58,50],[60,40,66,50],[68,40,74,50],[76,40,82,50],[84,40,90,50],[92,40,98,50],[36,28,42,38],[12,1,14,8],[21,10,23,26],[18,10,20,26],[15,10,17,26],[29,1,31,8],[15,1,17,8],[32,1,34,8],[12,10,14,26],[25,1,27,26],[29,10,31,26],[32,10,34,26],[21,1,23,8],[53,1,64,8],[83,27,85,27],[98,13,98,19],[96,27,98,27],[89,27,91,27],[86,27,88,27],[76,1,78,8],[80,1,84,26],[76,10,78,10],[97,1,98,11],[68,1,70,8],[68,10,70,26],[99,0,99,63],[35,27,37,27],[18,1,20,8],[35,10,37,26],[38,10,40,26],[35,1,37,8],[38,1,40,8],[73,27,75,27],[76,12,78,26],[76,11,78,11],[50,1,52,8],[38,27,40,27],[72,1,74,26],[44,1,46,8],[47,10,49,26],[47,1,49,8],[50,10,52,26],[53,10,64,26],[41,1,43,8],[41,10,43,26],[44,10,46,26],[65,10,67,26],[65,1,67,8],[16,28,22,38],[12,52,14,62],[12,63,13,63],[16,40,22,50],[16,52,22,62],[24,40,30,50],[24,52,30,62],[14,63,15,63],[16,63,17,63],[18,63,19,63],[20,63,21,63],[22,63,23,63],[24,63,25,63],[26,63,27,63],[28,63,29,63],[12,28,14,50],[24,28,30,38],[53,63,54,63],[1,1,6,12],[8,1,10,26],[32,28,34,62],[59,63,60,63],[61,63,62,63],[63,63,64,63],[65,63,66,63],[67,63,68,63],[1,52,6,62],[8,28,10,62],[1,49,6,51],[1,13,6,48],[55,63,56,63],[57,63,58,63],[35,63,36,63],[37,63,38,63],[39,63,40,63],[41,63,42,63],[43,63,44,63],[45,63,46,63],[47,63,48,63],[49,63,50,63],[51,63,52,63]]}
[null,null,null,null,null,null,null,null,null,null,null,null,null,null,null,null,null,null,null,null,null,null,null,null,null,null,null,null,null,null,null,null,null,null,null,null,null,null,null,null,null,null,null,null,null,null,null,null,null,null,null,null,null,null,null,null,null,null,null,null,null,null,null,null,null,null,null,null,null,null,null,null,null,null,null,null,null,null,"VOLTAGE","ELLIPSE","AREA"]
[null,null,null,null,null,null,null,null,null,null,null,null,null,"SYSTEM AMENDMENT REQUEST (SAR)",null,null,null,null,null,null,null,null,null,null,null,null,null,null,null,null,null,null,null,null,null,null,null,null,null,null,null,null,null,null,null,null,null,null,null,"SATS",null,null,{"$f":"K48","v":0}]
[null,null,null,null,null,null,null,null,null,null,null,null,null,null,null,null,null,null,null,null,null,null,null,null,null,null,null,null,null,null,null,null,null,null,null,null,null,null,null,null,null,null,null,null,null,null,null,null,null,null,null,null,null,null,null,null,null,null,null,null,null,null,null,null,null,null,null,null,null,null,null,null,null,null,null,null,null,null,"LV",1,"NORTH LAKES"]
[null,null,null,null,null,null,null,null,null,null,null,null,null,null,null,null,null,null,null,null,null,null,null,null,null,null,null,null,null,null,null,null,null,null,null,null,null,null,null,null,null,null,null,null,null,null,null,null,null,null,null,null,null,null,null,null,null,null,null,null,null,null,null,null,null,null,null,null,null,null,null,null,null,null,null,null,null,null,"2.2KV",9,"SOUTH LAKES"]
[null,null,null,null,null,null,null,null,null,null,null,null,null,null,null,null,null,null,null,null,null,null,null,null,null,null,null,null,null,null,null,null,null,null,null,null,null,null,null,null,null,null,null,null,null,null,null,null,null,null,null,null,null,null,null,null,null,null,null,null,null,null,null,null,null,null,null,null,null,null,null,null,null,null,null,null,null,null,"3.3KV",2,"MID LANCS EAST"]
[null,null,null,null,null,null,null,null,null,null,null,null,null,null,null,null,null,null,null,null,null,null,null,null,null,null,null,null,null,null,null,null,null,null,null,null,null,null,null,null,null,null,null,null,null,null,null,null,null,null,null,null,null,null,null,null,null,null,null,null,null,null,null,null,null,null,null,null,null,null,null,null,null,null,null,null,null,null,"6.6KV",3,"MID LANCS WEST"]
[null,null,null,null,null,null,null,null,null,null,null,null,null,null,null,null,null,null,null,null,null,null,null,null,null,null,null,null,null,null,null,null,null,null,null,null,null,null,null,null,null,null,null,null,null,null,null,null,null,null,null,null,null,null,null,null,null,null,null,null,null,null,null,null,null,null,null,null,null,null,null,null,null,null,null,null,null,null,"11KV",4,"SOUTH LANCS"]
[null,null,null,null,null,null,null,null,null,null,null,null,null,null,null,null,null,null,null,null,null,null,null,null,null,null,null,null,null,null,null,null,null,null,null,null,null,null,null,null,null,null,null,null,null,null,null,null,null,null,null,null,null,null,null,null,null,null,null,null,null,null,null,null,null,null,null,null,null,null,null,null,null,null,null,null,null,null,"25KV",7,"PEAK NORTH"]
[null,"YOUR DETAILS",null,null,null,null,null,null,null,null,null,null,null,null,null,null,null,null,null,null,null,null,null,null,null,null,null,null,"SUBMITTED DOCUMENTATION",null,null,null,null,null,null,null,null,null,null,null,null,null,null,null,null,null,null,null,null,null,null,null,null,null,null,null,null,null,null,null,null,null,null,null,null,null,null,null,null,null,null,null,null,null,null,null,null,null,"33KV",5,"PEAK SOUTH"]
[null,null,null,null,null,null,null,null,null,null,null,null,null,null,null,null,null,null,null,null,null,null,null,null,null,null,null,null,null,null,null,null,null,null,null,null,null,null,null,null,null,null,null,null,null,null,null,null,null,null,null,null,null,null,null,null,null,null,null,null,null,null,null,null,null,null,null,null,null,null,null,null,null,null,null,null,null,null,"132KV",6,"NORTH MANCHESTER"]
[null,null,null,null,null,null,null,null,null,null,null,null,null,null,null,null,null,null,null,null,null,null,null,null,null,null,null,null,null,null,null,null,null,null,null,null,null,null,null,null,null,null,null,null,null,null,null,null,null,null,null,null,null,null,null,null,null,null,null,null,null,null,null,null,null,null,null,null,null,null,null,null,null,null,null,null,null,null,null,null,"SOUTH MANCHESTER"]
[]
[null,"NAME",null,null,null,null,null,null,null,null,"",null,null,null,null,null,null,null,null,null,null,null,null,null,null,null,null,null,"DRAWINGS",null,null,null,null,null,null,null,null,null,null,null,null,null,null,null,null,null,null,null,null,null,null,null,"DECOMISSIONING",null,null,null,null,null,null,null,null,null,null,null,null,null,null,null,null,null,null,null,null,null,null,null,null,null,{"$f":"IFERROR(IF(CB13=0,\"\",CC13),\"\")","v":""},{"$f":"'DOC 1A'!DB3","v":0},"DOC 1A"]
[null,null,null,null,null,null,null,null,null,null,null,null,null,null,null,null,null,null,null,null,null,null,null,null,null,null,null,null,null,null,null,null,null,null,null,null,null,null,null,null,null,null,null,null,null,null,null,null,null,null,null,null,null,null,null,null,null,null,null,null,null,null,null,null,1,null,null,null,null,null,null,null,null,null,null,null,null,null,"",{"$f":"'DOC 1B'!DB3","v":0},"DOC 1B"]
[null,null,null,null,null,null,null,null,null,null,null,null,null,null,null,null,null,null,null,null,null,null,null,null,null,null,null,null,null,null,null,null,null,null,null,null,null,null,null,null,null,null,null,null,null,null,null,null,null,null,null,null,null,null,null,null,null,null,null,null,null,null,null,null,1,null,null,null,null,null,null,null,null,null,null,null,null,null,"",{"$f":"'DOC 1C'!DB3","v":0},"DOC 1C"]
[null,"TODAYS DATE",null,null,null,null,null,null,null,null,null,null,null,null,null,null,null,null,null,null,null,null,null,null,null,null,null,null,null,null,null,null,null,null,null,null,null,null,null,null,null,null,null,null,null,null,null,null,null,null,null,null,null,null,null,null,null,null,null,null,null,null,null,null,1,null,null,null,null,null,null,null,null,null,null,null,null,null,"",{"$f":"'DOC 1D'!DB3","v":0},"DOC 1D"]
[null,null,null,null,null,null,null,null,null,null,null,null,null,null,null,null,null,null,null,null,null,null,null,null,null,null,null,null,"DOC 1A",null,null,null,null,null,null,null,null,null,null,null,"DOC 1B",null,null,null,null,null,null,null,null,null,null,null,"DECOMM A",null,null,null,null,null,null,null,null,null,null,null,1,null,null,null,null,null,null,null,null,null,null,null,null,null,{"$f":"IFERROR(IF(CB17=0,\"\",CC17),\"\")","v":""},{"$f":"'DECOMM A'!BZ4","v":{"$error":"#DIV/0!"}},"DECOMM A"]
[null,null,null,null,null,null,null,null,null,null,null,null,null,null,null,null,null,null,null,null,null,null,null,null,null,null,null,null,null,null,null,null,null,null,null,null,null,null,null,null,null,null,null,null,null,null,null,null,null,null,null,null,null,null,null,null,null,null,null,null,null,null,null,null,1,null,null,null,null,null,null,null,null,null,null,null,null,null,{"$f":"IFERROR(IF(CB18=0,\"\",CC18),\"\")","v":""},{"$f":"'DECOMM B'!BY4","v":{"$error":"#DIV/0!"}},"DECOMM B"]
[null,"DEPOT",null,null,null,null,null,null,null,null,null,null,null,null,null,null,null,null,null,null,null,null,null,null,null,null,null,null,null,null,null,null,null,null,null,null,null,null,null,null,null,null,null,null,null,null,null,null,null,null,null,null,null,null,null,null,null,null,null,null,null,null,null,null,1,null,null,null,null,null,null,null,null,null,null,null,null,null,"",{"$f":"'DOC 2A'!BY4","v":{"$error":"#DIV/0!"}},"DOC 2A"]
[null,null,null,null,null,null,null,null,null,null,null,null,null,null,null,null,null,null,null,null,null,null,null,null,null,null,null,null,null,null,null,null,null,null,null,null,null,null,null,null,null,null,null,null,null,null,null,null,null,null,null,null,null,null,null,null,null,null,null,null,null,null,null,null,1,null,null,null,null,null,null,null,null,null,null,null,null,null,"",null,"DOC 2B"]
[null,null,null,null,null,null,null,null,null,null,null,null,null,null,null,null,null,null,null,null,null,null,null,null,null,null,null,null,null,null,null,null,null,null,null,null,null,null,null,null,null,null,null,null,null,null,null,null,null,null,null,null,null,null,null,null,null,null,null,null,null,null,null,null,1,null,null,null,null,null,null,null,null,null,null,null,null,null,"",{"$f":"'DOC 3'!BY4","v":0},"DOC 3"]
[null,"CONTACT No.",null,null,null,null,null,null,null,null,null,null,null,null,null,null,null,null,null,null,null,null,null,null,null,null,null,null,null,null,null,null,null,null,null,null,null,null,null,null,null,null,null,null,null,null,null,null,null,null,null,null,null,null,null,null,null,null,null,null,null,null,null,null,1,null,null,null,null,null,null,null,null,null,null,null,null,null,"",{"$f":"'DOC 4'!BY4","v":{"$error":"#DIV/0!"}},"DOC 4"]
[null,null,null,null,null,null,null,null,null,null,null,null,null,null,null,null,null,null,null,null,null,null,null,null,null,null,null,null,null,null,null,null,null,null,null,null,null,null,null,null,null,null,null,null,null,null,null,null,null,null,null,null,null,null,null,null,null,null,null,null,null,null,null,null,1,null,null,null,null,null,null,null,null,null,null,null,null,null,"",{"$f":"'DOC 5A'!BY4","v":0},"DOC 5A"]
[null,null,null,null,null,null,null,null,null,null,null,null,null,null,null,null,null,null,null,null,null,null,null,null,null,null,null,null,null,null,null,null,null,null,null,null,null,null,null,null,null,null,null,null,null,null,null,null,null,null,null,null,null,null,null,null,null,null,null,null,null,null,null,null,1,null,null,null,null,null,null,null,null,null,null,null,null,null,"",{"$f":"'DOC 5B'!BY4","v":{"$error":"#DIV/0!"}},"DOC 5B"]
[null,null,null,null,null,null,null,null,null,null,null,null,null,null,null,null,null,null,null,null,null,null,null,null,null,null,null,null,"DOC 1C",null,null,null,null,null,null,null,null,null,null,null,"DOC 1D",null,null,null,null,null,null,null,null,null,null,null,"DECOMM B",null,null,null,null,null,null,null,null,null,null,null,1,null,null,null,null,null,null,null,null,null,null,null,null,null,"",{"$f":"'DOC 6A'!BZ4","v":{"$error":"#DIV/0!"}},"DOC 6A"]
[null,"AMENDMENT DETAILS",null,null,null,null,null,null,null,null,null,null,null,null,null,null,null,null,null,null,null,null,null,null,null,null,null,null,null,null,null,null,null,null,null,null,null,null,null,null,null,null,null,null,null,null,null,null,null,null,null,null,null,null,null,null,null,null,null,null,null,null,null,null,1,null,null,null,null,null,null,null,null,null,null,null,null,null,"",{"$f":"'DOC 6B'!BZ4","v":{"$error":"#DIV/0!"}},"DOC 6B"]
[null,null,null,null,null,null,null,null,null,null,null,null,null,null,null,null,null,null,null,null,null,null,null,null,null,null,null,null,null,null,null,null,null,null,null,null,null,null,null,null,null,null,null,null,null,null,null,null,null,null,null,null,null,null,null,null,null,null,null,null,null,null,null,null,null,null,null,null,null,null,null,null,null,null,null,null,null,null,"",{"$f":"'DOC 7'!BY4","v":{"$error":"#DIV/0!"}},"DOC 7"]
[null,null,null,null,null,null,null,null,null,null,null,null,null,null,null,null,null,null,null,null,null,null,null,null,null,null,null,null,null,null,null,null,null,null,null,null,null,null,null,null,null,null,null,null,null,null,null,null,null,null,null,null,null,null,null,null,null,null,null,null,null,null,null,null,1,null,null,null,null,null,null,null,null,null,null,null,null,null,"",{"$f":"'DOC 8A'!CA4","v":{"$error":"#DIV/0!"}},"DOC 8A"]
[null,null,null,null,null,null,null,null,null,null,null,null,null,null,null,null,null,null,null,null,null,null,null,null,null,null,null,null,null,null,null,null,null,null,null,null,null,null,null,null,null,null,null,null,null,null,null,null,null,null,null,null,null,null,null,null,null,null,null,null,null,null,null,null,1,null,null,null,null,null,null,null,null,null,null,null,null,null,"",{"$f":"'DOC 8B'!BZ4","v":{"$error":"#DIV/0!"}},"DOC 8B"]
[null,"SUBSTATION NAME",null,null,null,null,null,null,null,null,null,null,null,null,null,null,null,null,null,null,null,null,null,null,null,null,null,null,null,null,null,null,null,null,null,null,null,null,null,null,null,null,null,null,null,null,null,null,null,null,null,null,null,null,null,null,null,null,null,null,null,null,null,null,null,null,null,null,null,null,null,null,null,null,null,null,null,null,"",{"$f":"'DOC 8C'!BY4","v":{"$error":"#DIV/0!"}},"DOC 8C"]
[null,null,null,null,null,null,null,null,null,null,null,null,null,null,null,null,null,null,null,null,null,null,null,null,null,null,null,null,null,null,null,null,null,null,null,null,null,null,null,null,null,null,null,null,null,null,null,null,null,null,null,null,null,null,null,null,null,null,null,null,null,null,null,null,1,null,null,null,null,null,null,null,null,null,null,null,null,null,"",{"$f":"'DOC 9'!BY4","v":0},"DOC 9"]
[null,null,null,null,null,null,null,null,null,null,null,null,null,null,null,null,null,null,null,null,null,null,null,null,null,null,null,null,null,null,null,null,null,null,null,null,null,null,null,null,null,null,null,null,null,null,null,null,null,null,null,null,null,null,null,null,null,null,null,null,null,null,null,null,1,null,null,null,null,null,null,null,null,null,null,null,null,null,"",{"$f":"'DOC 10'!BY4","v":{"$error":"#DIV/0!"}},"DOC 10"]
[null,"SUBSTATION NUMBER",null,null,null,null,null,null,null,null,null,null,null,null,null,null,null,null,null,null,null,null,null,null,null,null,null,null,"INFORMATION",null,null,null,null,null,null,null,null,null,null,null,null,null,null,null,null,null,null,null,null,null,null,null,null,null,null,null,null,null,null,null,null,null,null,null,null,null,null,null,null,null,null,null,null,null,null,null,null,null,"",{"$f":"'DOC 11'!BY4","v":{"$error":"#DIV/0!"}},"DOC 11"]
[null,null,null,null,null,null,null,null,null,null,null,null,null,null,null,null,null,null,null,null,null,null,null,null,null,null,null,null,null,null,null,null,null,null,null,null,null,null,null,null,null,null,null,null,null,null,null,null,null,null,null,null,null,null,null,null,null,null,null,null,null,null,null,null,1,null,null,null,null,null,null,null,null,null,null,null,null,null,"",{"$f":"'DOC 12'!BY4","v":{"$error":"#DIV/0!"}},"DOC 12"]
[null,null,null,null,null,null,null,null,null,null,null,null,null,null,null,null,null,null,null,null,null,null,null,null,null,null,null,null,null,null,null,null,null,null,null,null,null,null,null,null,null,null,null,null,null,null,null,null,null,null,null,null,null,null,null,null,null,null,null,null,null,null,null,null,1,null,null,null,null,null,null,null,null,null,null,null,null,null,"",{"$f":"'DOC 13'!BY4","v":{"$error":"#DIV/0!"}},"DOC 13"]
[null,"VOLTAGE",null,null,null,null,null,null,null,null,null,null,null,null,null,null,null,null,null,null,null,null,null,null,null,null,null,{"$f":"IFERROR(VLOOKUP(K36,CA3:CB10,2,FALSE),\"\")","v":""},null,null,null,null,null,null,null,null,null,null,null,null,null,null,null,null,null,null,null,null,null,null,null,null,null,null,null,null,null,null,null,null,null,null,null,null,1,null,null,null,null,null,null,null,null,null,null,null,null,null,"",{"$f":"'DOC 14'!BY4","v":{"$error":"#DIV/0!"}},"DOC 14"]
[null,null,null,null,null,null,null,null,null,null,null,null,null,null,null,null,null,null,null,null,null,null,null,null,null,null,null,null,"DOC 2A",null,null,null,null,null,null,null,null,null,null,null,"DOC 7",null,null,null,null,null,null,null,null,null,null,null,"DOC 13",null,null,null,null,null,null,null,null,null,null,null,1,null,null,null,null,null,null,null,null,null,null,null,null,null,"",{"$f":"'DOC 15'!BY4","v":0},"DOC 15"]
[null,null,null,null,null,null,null,null,null,null,null,null,null,null,null,null,null,null,null,null,null,null,null,null,null,null,null,null,null,null,null,null,null,null,null,null,null,null,null,null,null,null,null,null,null,null,null,null,null,null,null,null,null,null,null,null,null,null,null,null,null,null,null,null,1,null,null,null,null,null,null,null,null,null,null,null,null,null,"",{"$f":"'DOC 16'!BY4","v":{"$error":"#DIV/0!"}},"DOC 16"]
[null,"AREA",null,null,null,null,null,null,null,null,null,null,null,null,null,null,null,null,null,null,null,null,null,null,null,null,null,null,null,null,null,null,null,null,null,null,null,null,null,null,null,null,null,null,null,null,null,null,null,null,null,null,null,null,null,null,null,null,null,null,null,null,null,null,1,null,null,null,null,null,null,null,null,null,null,null,null,null,"",{"$f":"'DOC 17'!BY4","v":{"$error":"#DIV/0!"}},"DOC 17"]
[null,null,null,null,null,null,null,null,null,null,null,null,null,null,null,null,null,null,null,null,null,null,null,null,null,null,null,null,null,null,null,null,null,null,null,null,null,null,null,null,null,null,null,null,null,null,null,null,null,null,null,null,null,null,null,null,null,null,null,null,null,null,null,null,1,null,null,null,null,null,null,null,null,null,null,null,null,null,"",{"$f":"'DOC 18'!BY4","v":0},"DOC 18"]
[null,null,null,null,null,null,null,null,null,null,null,null,null,null,null,null,null,null,null,null,null,null,null,null,null,null,null,null,null,null,null,null,null,null,null,null,null,null,null,null,null,null,null,null,null,null,null,null,null,null,null,null,null,null,null,null,null,null,null,null,null,null,null,null,1,null,null,null,null,null,null,null,null,null,null,null,null,null,"",null,"DOC 19"]
[null,"DATE OF WORK",null,null,null,null,null,null,null,null,null,null,null,null,null,null,null,null,null,null,null,null,null,null,null,null,null,null,null,null,null,null,null,null,null,null,null,null,null,null,null,null,null,null,null,null,null,null,null,null,null,null,null,null,null,null,null,null,null,null,null,null,null,null,1,null,null,null,null,null,null,null,null,null,null,null,null,null,"",{"$f":"P.C.A.F.!$BY$4","v":0},"P.C.A.F"]
[null,null,null,null,null,null,null,null,null,null,null,null,null,null,null,null,null,null,null,null,null,null,null,null,null,null,null,null,null,null,null,null,null,null,null,null,null,null,null,null,null,null,null,null,null,null,null,null,null,null,null,null,null,null,null,null,null,null,null,null,null,null,null,null,1]
[null,null,null,null,null,null,null,null,null,null,null,null,null,null,null,null,null,null,null,null,null,null,null,null,null,null,null,null,null,null,null,null,null,null,null,null,null,null,null,null,null,null,null,null,null,null,null,null,null,null,null,null,null,null,null,null,null,null,null,null,null,null,null,null,1]
[null,"PRIMARY SUBSTATION",null,null,null,null,null,null,null,null,null,null,null,null,null,null,null,null,null,null,null,null,null,null,null,null,null,null,"DOC 2B",null,null,null,null,null,null,null,null,null,null,null,"DOC 8A",null,null,null,null,null,null,null,null,null,null,null,"DOC 14",null,null,null,null,null,null,null,null,null,null,null,1]
[null,null,null,null,null,null,null,null,null,null,null,null,null,null,null,null,null,null,null,null,null,null,null,null,null,null,null,null,null,null,null,null,null,null,null,null,null,null,null,null,null,null,null,null,null,null,null,null,null,null,null,null,null,null,null,null,null,null,null,null,null,null,null,null,1]
[null,null,null,null,null,null,null,null,null,null,null,null,null,null,null,null,null,null,null,null,null,null,null,null,null,null,null,null,null,null,null,null,null,null,null,null,null,null,null,null,null,null,null,null,null,null,null,null,null,null,null,null,null,null,null,null,null,null,null,null,null,null,null,null,1]
[null,"SATS NUMBER",null,null,null,null,null,null,null,null,null,null,null,null,null,null,null,null,null,null,null,null,null,null,null,null,null,null,null,null,null,null,null,null,null,null,null,null,null,null,null,null,null,null,null,null,null,null,null,null,null,null,null,null,null,null,null,null,null,null,null,null,null,null,1]
[null,null,null,null,null,null,null,null,null,null,null,null,null,null,null,null,null,null,null,null,null,null,null,null,null,null,null,null,null,null,null,null,null,null,null,null,null,null,null,null,null,null,null,null,null,null,null,null,null,null,null,null,null,null,null,null,null,null,null,null,null,null,null,null,1]
[null,null,null,null,null,null,null,null,null,null,null,null,null,null,null,null,null,null,null,null,null,null,null,null,null,null,null,null,null,null,null,null,null,null,null,null,null,null,null,null,null,null,null,null,null,null,null,null,null,null,null,null,null,null,null,null,null,null,null,null,null,null,null,null,1]
[null,"AMENDMENT",null,null,null,null,null,null,null,null,null,null,null,null,null,null,null,null,null,null,null,null,null,null,null,null,null,null,null,null,null,null,null,null,null,null,null,null,null,null,null,null,null,null,null,null,null,null,null,null,null,null,null,null,null,null,null,null,null,null,null,null,null,null,1]
[null,null,null,null,null,null,null,null,null,null,null,null,null,null,null,null,null,null,null,null,null,null,null,null,null,null,null,null,null,null,null,null,null,null,null,null,null,null,null,null,null,null,null,null,null,null,null,null,null,null,null,null,null,null,null,null,null,null,null,null,null,null,null,null,1]
[null,null,null,null,null,null,null,null,null,null,null,null,null,null,null,null,null,null,null,null,null,null,null,null,null,null,null,null,"DOC 3",null,null,null,null,null,null,null,null,null,null,null,"DOC 8B",null,null,null,null,null,null,null,null,null,null,null,"DOC 15",null,null,null,null,null,null,null,null,null,null,null,1]
[null,"DESCRIPTION OF WORK",null,null,null,null,null,null,null,null,null,null,null,null,null,null,null,null,null,null,null,null,null,null,null,null,null,null,null,null,null,null,null,null,null,null,null,null,null,null,null,null,null,null,null,null,null,null,null,null,null,null,null,null,null,null,null,null,null,null,null,null,null,null,1]
[null,null,null,null,null,null,null,null,null,null,null,null,null,null,null,null,null,null,null,null,null,null,null,null,null,null,null,null,null,null,null,null,null,null,null,null,null,null,null,null,null,null,null,null,null,null,null,null,null,null,null,null,null,null,null,null,null,null,null,null,null,null,null,null,1]
[null,null,null,null,null,null,null,null,null,null,null,null,null,null,null,null,null,null,null,null,null,null,null,null,null,null,null,null,null,null,null,null,null,null,null,null,null,null,null,null,null,null,null,null,null,null,null,null,null,null,null,null,null,null,null,null,null,null,null,null,null,null,null,null,1]
[null,null,null,null,null,null,null,null,null,null,null,null,null,null,null,null,null,null,null,null,null,null,null,null,null,null,null,null,null,null,null,null,null,null,null,null,null,null,null,null,null,null,null,null,null,null,null,null,null,null,null,null,null,null,null,null,null,null,null,null,null,null,null,null,1]
[null,null,null,null,null,null,null,null,null,null,null,null,null,null,null,null,null,null,null,null,null,null,null,null,null,null,null,null,null,null,null,null,null,null,null,null,null,null,null,null,null,null,null,null,null,null,null,null,null,null,null,null,null,null,null,null,null,null,null,null,null,null,null,null,1]
[null,null,null,null,null,null,null,null,null,null,null,null,null,null,null,null,null,null,null,null,null,null,null,null,null,null,null,null,null,null,null,null,null,null,null,null,null,null,null,null,null,null,null,null,null,null,null,null,null,null,null,null,null,null,null,null,null,null,null,null,null,null,null,null,1]
[null,null,null,null,null,null,null,null,null,null,null,null,null,null,null,null,null,null,null,null,null,null,null,null,null,null,null,null,null,null,null,null,null,null,null,null,null,null,null,null,null,null,null,null,null,null,null,null,null,null,null,null,null,null,null,null,null,null,null,null,null,null,null,null,1]
[null,null,null,null,null,null,null,null,null,null,null,null,null,null,null,null,null,null,null,null,null,null,null,null,null,null,null,null,"DOC 4",null,null,null,null,null,null,null,null,null,null,null,"DOC 8C",null,null,null,null,null,null,null,null,null,null,null,"DOC 16",null,null,null,null,null,null,null,null,null,null,null,1]
[null,null,null,null,null,null,null,null,null,null,null,null,null,null,null,null,null,null,null,null,null,null,null,null,null,null,null,null,null,null,null,null,null,null,null,null,null,null,null,null,null,null,null,null,null,null,null,null,null,null,null,null,null,null,null,null,null,null,null,null,null,null,null,null,1]
[null,null,null,null,null,null,null,null,null,null,null,null,null,null,null,null,null,null,null,null,null,null,null,null,null,null,null,null,null,null,null,null,null,null,null,null,null,null,null,null,null,null,null,null,null,null,null,null,null,null,null,null,null,null,null,null,null,null,null,null,null,null,null,null,1]
[null,null,null,null,null,null,null,null,null,null,null,null,null,null,null,null,null,null,null,null,null,null,null,null,null,null,null,null,null,null,null,null,null,null,null,null,null,null,null,null,null,null,null,null,null,null,null,null,null,null,null,null,null,null,null,null,null,null,null,null,null,null,null,null,1]
[null,null,null,null,null,null,null,null,null,null,null,null,null,null,null,null,null,null,null,null,null,null,null,null,null,null,null,null,null,null,null,null,null,null,null,null,null,null,null,null,null,null,null,null,null,null,null,null,null,null,null,null,null,null,null,null,null,null,null,null,null,null,null,null,1]
[null,"SWITCHING PROG No",null,null,null,null,null,null,null,null,null,null,null,null,null,null,null,null,null,null,null,null,null,null,null,null,null,null,null,null,null,null,null,null,null,null,null,null,null,null,null,null,null,null,null,null,null,null,null,null,null,null,null,null,null,null,null,null,null,null,null,null,null,null,1]
[null,null,null,null,null,null,null,null,null,null,null,null,null,null,null,null,null,null,null,null,null,null,null,null,null,null,null,null,null,null,null,null,null,null,null,null,null,null,null,null,null,null,null,null,null,null,null,null,null,null,null,null,null,null,null,null,null,null,null,null,null,null,null,null,1]
[null,null,null,null,null,null,null,null,null,null,null,null,null,null,null,null,null,null,null,null,null,null,null,null,null,null,null,null,null,null,null,null,null,null,null,null,null,null,null,null,null,null,null,null,null,null,null,null,null,null,null,null,null,null,null,null,null,null,null,null,null,null,null,null,1]
[null,"\"R\" FORM NUMBER",null,null,null,null,null,null,null,null,null,null,null,null,null,null,null,null,null,null,null,null,null,null,null,null,null,null,"DOC 5A",null,null,null,null,null,null,null,null,null,null,null,"DOC 9",null,null,null,null,null,null,null,null,null,null,null,"DOC 17",null,null,null,null,null,null,null,null,null,null,null,1]
[null,null,null,null,null,null,null,null,null,null,null,null,null,null,null,null,null,null,null,null,null,null,null,null,null,null,null,null,null,null,null,null,null,null,null,null,null,null,null,null,null,null,null,null,null,null,null,null,null,null,null,null,null,null,null,null,null,null,null,null,null,null,null,null,1]
[null,null,null,null,null,null,null,null,null,null,null,null,null,null,null,null,null,null,null,null,null,null,null,null,null,null,null,null,null,null,null,null,null,null,null,null,null,null,null,null,null,null,null,null,null,null,null,null,null,null,null,null,null,null,null,null,null,null,null,null,null,null,null,null,1]
[null,null,null,null,null,null,null,null,null,null,null,null,null,null,null,null,null,null,null,null,null,null,null,null,null,null,null,null,null,null,null,null,null,null,null,null,null,null,null,null,null,null,null,null,null,null,null,null,null,null,null,null,null,null,null,null,null,null,null,null,null,null,null,null,1]
[null,"COST CODE",null,null,null,null,null,null,null,null,null,null,null,null,null,null,null,null,null,null,null,null,null,null,null,null,null,null,null,null,null,null,null,null,null,null,null,null,null,null,null,null,null,null,null,null,null,null,null,null,null,null,null,null,null,null,null,null,null,null,null,null,null,null,1]
[null,null,null,null,null,null,null,null,null,null,null,null,null,null,null,null,null,null,null,null,null,null,null,null,null,null,null,1,null,null,null,null,null,null,null,null,null,null,null,null,null,null,null,null,null,null,null,null,null,null,null,null,null,null,null,null,null,null,null,null,null,null,null,null,1]
[null,null,null,null,null,null,null,null,null,null,null,null,null,null,null,null,null,null,null,null,null,null,null,null,null,null,null,null,null,null,null,null,null,null,null,null,null,null,null,null,null,null,null,null,null,null,null,null,null,null,null,null,null,null,null,null,null,null,null,null,null,null,null,null,1]
[null,null,null,null,null,null,null,null,null,null,null,null,null,null,null,null,null,null,null,null,null,null,null,null,null,null,null,null,null,null,null,null,null,null,null,null,null,null,null,null,null,null,null,null,null,null,null,null,null,null,null,null,null,null,null,null,null,null,null,null,null,null,null,null,1]
[null,"PROJECT NUMBER",null,null,null,null,null,null,null,null,"i",null,null,null,null,null,null,null,null,null,null,null,null,null,null,null,null,null,"DOC 5B",null,null,null,null,null,null,null,null,null,null,null,"DOC 10",null,null,null,null,null,null,null,null,null,null,null,"DOC 18",null,null,null,null,null,null,null,null,null,null,null,1]
[null,null,null,null,null,null,null,null,null,{"$f":"CONCATENATE(L77,M77)","v":""},null,null,null,null,null,null,null,null,null,null,null,null,null,null,null,null,null,null,null,null,null,null,null,null,null,null,null,null,null,null,null,null,null,null,null,null,null,null,null,null,null,null,null,null,null,null,null,null,null,null,null,null,null,null,1]
[null,null,null,null,null,null,null,null,null,null,null,null,null,null,null,null,null,null,null,null,null,null,null,null,null,null,null,null,null,null,null,null,null,null,null,null,null,null,null,null,null,null,null,null,null,null,null,null,null,null,null,null,null,null,null,null,null,null,null,null,null,null,null,null,1]
[null,null,null,null,null,null,null,null,null,null,null,null,null,null,null,null,null,null,null,null,null,null,null,null,null,null,null,null,null,null,null,null,null,null,null,null,null,null,null,null,null,null,null,null,null,null,null,null,null,null,null,null,null,null,null,null,null,null,null,null,null,null,null,null,1]
[null,"PLEASE ENTER RELEVANT CODE AGAINST ONE OF THE FOLLOWING COST CODE OPTIONS ",null,null,null,null,null,null,null,null,null,null,null,null,null,null,null,null,null,null,null,null,null,null,null,null,null,null,null,null,null,null,null,null,null,null,null,null,null,null,null,null,null,null,null,null,null,null,null,null,null,null,null,null,null,null,null,null,null,null,null,null,null,null,1]
[null,null,null,null,null,null,null,null,null,null,null,null,null,null,null,null,null,null,null,null,null,null,null,null,null,null,null,null,null,null,null,null,null,null,null,null,null,null,null,null,null,null,null,null,null,null,null,null,null,null,null,null,null,null,null,null,null,null,null,null,null,null,null,null,1]
[null,null,null,null,null,null,null,null,null,null,null,null,null,null,null,null,null,null,null,null,null,null,null,null,null,null,null,null,null,null,null,null,null,null,null,null,null,null,null,null,null,null,null,null,null,null,null,null,null,null,null,null,null,null,null,null,null,null,null,null,null,null,null,null,1]
[null,null,null,null,null,null,null,null,null,null,null,null,null,null,null,null,null,null,null,null,null,null,null,null,null,null,null,null,null,null,null,null,null,null,null,null,null,null,null,null,null,null,null,null,null,null,null,null,null,null,null,null,null,null,null,null,null,null,null,null,null,null,null,null,1]
[null,null,null,null,null,null,null,null,null,null,null,null,null,null,null,null,null,null,null,null,null,null,null,null,null,null,null,null,"DOC 6A",null,null,null,null,null,null,null,null,null,null,null,"DOC 11",null,null,null,null,null,null,null,null,null,null,null,"DOC 19",null,null,null,null,null,null,null,null,null,null,null,1]
[null,null,null,null,null,null,null,null,null,null,null,null,null,null,null,null,null,null,null,null,null,null,null,null,null,null,null,null,null,null,null,null,null,null,null,null,null,null,null,null,null,null,null,null,null,null,null,null,null,null,null,null,null,null,null,null,null,null,null,null,null,null,null,null,1]
[null,null,null,null,null,null,null,null,null,null,null,null,null,null,null,null,null,null,null,null,null,null,null,null,null,null,null,null,null,null,null,null,null,null,null,null,null,null,null,null,null,null,null,null,null,null,null,null,null,null,null,null,null,null,null,null,null,null,null,null,null,null,null,null,1]
[null,null,null,null,null,null,null,null,null,null,null,null,null,null,null,null,null,null,null,null,null,null,null,null,null,null,null,null,null,null,null,null,null,null,null,null,null,null,null,null,null,null,null,null,null,null,null,null,null,null,null,null,null,null,null,null,null,null,null,null,null,null,null,null,1]
[null,null,null,null,null,null,null,null,null,null,null,null,null,null,null,null,null,null,null,null,null,null,null,null,null,null,null,null,null,null,null,null,null,null,null,null,null,null,null,null,null,null,null,null,null,null,null,null,null,null,null,null,null,null,null,null,null,null,null,null,null,null,null,null,1]
[null,null,null,null,null,null,null,null,null,null,null,null,null,null,null,null,null,null,null,null,null,null,null,null,null,null,null,null,null,null,null,null,null,null,null,null,null,null,null,null,null,null,null,null,null,null,null,null,null,null,null,null,null,null,null,null,null,null,null,null,null,null,null,null,1]
[null,null,null,null,null,null,null,null,null,null,null,null,null,null,null,null,null,null,null,null,null,null,null,null,null,null,null,null,null,null,null,null,null,null,null,null,null,null,null,null,null,null,null,null,null,null,null,null,null,null,null,null,null,null,null,null,null,null,null,null,null,null,null,null,1]
[null,null,null,null,null,null,null,null,null,null,null,null,null,null,null,null,null,null,null,null,null,null,null,null,null,null,null,null,null,null,null,null,null,null,null,null,null,null,null,null,null,null,null,null,null,null,null,null,null,null,null,null,null,null,null,null,null,null,null,null,null,null,null,null,1]
[null,null,null,null,null,null,null,null,null,null,null,null,null,null,null,null,null,null,null,null,null,null,null,null,null,null,null,null,"DOC 6B",null,null,null,null,null,null,null,null,null,null,null,"DOC 12",null,null,null,null,null,null,null,null,null,null,null,"P.C.A.F"]
[]
[]
[]
[null,null,null,null,null,null,null,null,null,null,null,null,null,null,null,null,null,null,null,null,null,null,null,null,null,null,null,null,null,null,null,null,null,null,null,null,null,null,null,null,null,null,null,null,null,null,null,null,null,null,null,null,null,null,null,null,null,null,null,null,null,null,null,null,1]
[null,"System Amendment Form version 20.2",null,null,null,null,null,null,null,null,null,null,null,null,null,null,null,null,null,null,null,null,null,null,null,null,null,null,null,null,null,null,null,null,null,null,null,null,null,null,null,null,null,null,null,null,null,null,null,null,null,null,null,null,null,null,null,null,null,null,null,null,null,null,1]
[null,null,null,null,null,null,null,null,null,null,null,null,null,null,null,null,null,null,null,null,null,null,null,null,null,null,null,null,null,null,null,null,null,null,null,null,null,null,null,null,null,null,null,null,null,null,null,null,null,null,null,null,null,null,null,null,null,null,null,null,null,null,null,null,1]
[null,null,null,null,null,null,null,null,null,null,null,null,null,null,null,null,null,null,null,null,null,null,null,null,null,null,null,null,null,null,null,null,null,null,null,null,null,null,null,null,null,null,null,null,null,null,null,null,null,null,null,null,null,null,null,null,null,null,null,null,null,null,null,null,1]

{"sheet":"CHECKLIST","index":3,"n_rows":93,"n_cols":105,"rows_kept":93,"cut":false,"hidden":false,"merged":[[90,27,92,27],[87,27,89,27],[84,27,86,27],[78,27,80,27],[81,27,83,27],[85,10,90,26],[92,10,97,26],[92,1,97,8],[85,1,90,8],[77,10,79,26],[80,1,80,26],[81,1,83,26],[77,1,79,8],[15,55,17,57],[15,58,17,63],[18,46,20,53],[18,54,20,54],[18,55,20,57],[18,58,20,63],[18,36,20,38],[18,39,20,44],[15,36,17,38],[15,39,17,44],[15,46,17,53],[73,1,75,26],[50,55,52,57],[28,39,30,44],[28,46,30,53],[28,54,30,54],[28,55,30,57],[32,28,34,63],[36,36,38,38],[44,36,46,38],[44,39,46,44],[44,46,46,53],[44,54,46,54],[44,55,46,57],[36,54,38,54],[36,55,38,60],[36,61,38,63],[44,58,46,63],[28,58,30,63],[36,28,38,34],[69,1,71,8],[69,10,71,26],[66,10,68,26],[66,1,68,8],[50,36,52,38],[76,1,76,26],[65,28,97,63],[47,1,49,8],[47,10,49,26],[50,1,65,8],[50,10,65,26],[25,54,27,54],[25,55,27,57],[25,58,27,63],[44,1,46,8],[44,10,46,26],[41,1,43,8],[41,10,43,26],[25,28,27,34],[32,1,34,8],[32,10,34,26],[40,28,42,63],[35,10,37,26],[38,1,40,8],[38,10,40,26],[35,1,37,8],[44,28,46,34],[36,39,38,44],[36,46,38,53],[18,10,20,26],[21,2,23,8],[21,10,23,26],[22,46,24,53],[12,28,14,34],[15,28,17,34],[18,28,20,34],[22,39,24,44],[25,36,27,38],[25,39,27,44],[22,36,24,38],[22,28,24,34],[14,66,16,78],[1,1,6,12],[1,13,6,48],[29,1,31,8],[29,10,31,26],[1,49,6,51],[1,52,6,63],[15,54,17,54],[22,54,24,54],[22,55,24,57],[22,58,24,63],[7,1,7,63],[8,1,10,26],[8,28,10,63],[12,2,14,8],[12,10,14,26],[12,36,14,44],[25,1,27,26],[15,2,17,8],[25,46,27,53],[28,28,30,34],[28,36,30,38],[15,10,17,26],[18,2,20,8],[72,1,72,26],[47,58,49,63],[62,28,64,63],[50,46,52,53],[47,54,49,54],[47,46,49,53],[47,39,49,44],[47,36,49,38],[50,39,52,44],[54,28,56,63],[58,36,60,38],[47,55,49,57],[50,58,52,63],[58,28,60,34],[58,39,60,44],[50,28,52,34],[47,28,49,34],[50,54,52,54]]}
[]
[null,null,null,null,null,null,null,null,null,null,null,null,null,"CHECKLIST",null,null,null,null,null,null,null,null,null,null,null,null,null,null,null,null,null,null,null,null,null,null,null,null,null,null,null,null,null,null,null,null,null,null,null,"SATS No.",null,null,{"$f":"SAR!$BA$2","v":0}]
[null,null,null,null,null,null,null,null,null,null,null,null,null,null,null,null,null,null,null,null,null,null,null,null,null,null,null,null,null,null,null,null,null,null,null,null,null,null,null,null,null,null,null,null,null,null,null,null,null,null,null,null,null,null,null,null,null,null,null,null,null,null,null,null,null,null,null,null,null,null,null,null,null,null,null,null,null,null,null,null,null,null,null,null,null,null,null,null,null,null,null,null,null,null,null,null,null,null,null,null,null,null,null,null,"Y"]
[]
[]
[]
[]
[]
[null,"YOUR DETAILS",null,null,null,null,null,null,null,null,null,null,null,null,null,null,null,null,null,null,null,null,null,null,null,null,null,null,"SYSTEMS UPDATED - CRMS - (INITIAL/DATE)"]
[]
[]
[]
[null,null,"NAME",null,null,null,null,null,null,null,{"$f":"SAR!K13","v":""},null,null,null,null,null,null,null,null,null,null,null,null,null,null,null,null,null,"DAC NUMBER"]
[]
[null,null,null,null,null,null,null,null,null,null,null,null,null,null,null,null,null,null,null,null,null,null,null,null,null,null,null,null,null,null,null,null,null,null,null,null,null,null,null,null,null,null,null,null,null,null,null,null,null,null,null,null,null,null,null,null,null,null,null,null,null,null,null,null,null,null,"DOC QUICK LINK"]
[null,null,"TODAYS DATE",null,null,null,null,null,null,null,{"$f":"SAR!K16","v":"00:00:00"},null,null,null,null,null,null,null,null,null,null,null,null,null,null,null,null,null,"MNEMONICS",null,null,null,null,null,null,null,null,null,null,null,null,null,null,null,null,null,"ALARMS"]
[]
[]
[null,null,"DEPOT",null,null,null,null,null,null,null,{"$f":"SAR!K19","v":0},null,null,null,null,null,null,null,null,null,null,null,null,null,null,null,null,null,"CRMS UPDATED",null,null,null,null,null,null,null,null,null,null,null,null,null,null,null,null,null,"CRMS CHECKED"]
[]
[]
[null,null,"CONTACT No.",null,null,null,null,null,null,null,{"$f":"SAR!K22","v":0}]
[null,null,null,null,null,null,null,null,null,null,null,null,null,null,null,null,null,null,null,null,null,null,null,null,null,null,null,null,"POWER GIS COPIES",null,null,null,null,null,null,null,null,null,null,null,null,null,null,null,null,null,"GRID & PRIMARY NOTIFIED"]
[]
[]
[null,"AMENDMENT DETAILS",null,null,null,null,null,null,null,null,null,null,null,null,null,null,null,null,null,null,null,null,null,null,null,null,null,null,"TELECONTROL NOTIFIED",null,null,null,null,null,null,null,null,null,null,null,null,null,null,null,null,null,"OI 167 REMOVALS (FAX 81196)"]
[]
[]
[null,null,null,null,null,null,null,null,null,null,null,null,null,null,null,null,null,null,null,null,null,null,null,null,null,null,null,null,"PROTECTION SETTINGS",null,null,null,null,null,null,null,null,null,null,null,null,null,null,null,null,null,"P.C.A.F. (FAX 81196)"]
[null,"SUBSTATION NAME",null,null,null,null,null,null,null,null,{"$f":"SAR!K30","v":0}]
[]
[]
[null,"SUBSTATION NUMBER",null,null,null,null,null,null,null,null,{"$f":"SAR!K33","v":0},null,null,null,null,null,null,null,null,null,null,null,null,null,null,null,null,null,"SYSTEMS UPDATED - CAD - (INITIAL/DATE)"]
[]
[]
[null,"VOLTAGE",null,null,null,null,null,null,null,null,{"$f":"SAR!K36","v":0}]
[null,null,null,null,null,null,null,null,null,null,null,null,null,null,null,null,null,null,null,null,null,null,null,null,null,null,null,null,"CAD DIAGRAM UPDATED",null,null,null,null,null,null,null,null,null,null,null,null,null,null,null,null,null,"DIAGRAM / SHEET"]
[]
[null,"AREA",null,null,null,null,null,null,null,null,{"$f":"SAR!K39","v":0}]
[]
[null,null,null,null,null,null,null,null,null,null,null,null,null,null,null,null,null,null,null,null,null,null,null,null,null,null,null,null,"SYSTEMS UPDATED - ELIPSE - (INITIAL/DATE)"]
[null,"DATE OF WORK",null,null,null,null,null,null,null,null,{"$f":"SAR!K42","v":"00:00:00"}]
[]
[]
[null,"PRIMARY SUBSTATION",null,null,null,null,null,null,null,null,{"$f":"DOC_PRIMARY","v":0},null,null,null,null,null,null,null,null,null,null,null,null,null,null,null,null,null,"MST CREATED",null,null,null,null,null,null,null,null,null,null,null,null,null,null,null,null,null,"MST REMOVED"]
[]
[]
[null,"AMENDMENT",null,null,null,null,null,null,null,null,{"$f":"DOC_AMEND","v":0},null,null,null,null,null,null,null,null,null,null,null,null,null,null,null,null,null,"OI APPLIED",null,null,null,null,null,null,null,null,null,null,null,null,null,null,null,null,null,"OI REMOVED"]
[]
[]
[null,"DESCRIPTION OF WORK",null,null,null,null,null,null,null,null,{"$f":"SAR!K54","v":0},null,null,null,null,null,null,null,null,null,null,null,null,null,null,null,null,null,"ELLIPSE UPDATED",null,null,null,null,null,null,null,null,null,null,null,null,null,null,null,null,null,"ELLIPSE CHECKED"]
[]
[]
[]
[null,null,null,null,null,null,null,null,null,null,null,null,null,null,null,null,null,null,null,null,null,null,null,null,null,null,null,null,"SYSTEMS UPDATED - DINIS - (INITIAL/DATE)"]
[]
[]
[]
[null,null,null,null,null,null,null,null,null,null,null,null,null,null,null,null,null,null,null,null,null,null,null,null,null,null,null,null,"DINIS"]
[]
[]
[]
[null,null,null,null,null,null,null,null,null,null,null,null,null,null,null,null,null,null,null,null,null,null,null,null,null,null,null,null,"ADDITIONAL INFORMATION"]
[]
[]
[]
[null,"SWITCHING PROG No.",null,null,null,null,null,null,null,null,{"$f":"SAR!K66","v":0}]
[]
[]
[null,"\"R\" FORM NUMBER",null,null,null,null,null,null,null,null,{"$f":"SAR!K69","v":0}]
[]
[]
[]
[null,"COST CODE"]
[]
[]
[]
[null,"PROJECT CODE",null,null,null,null,null,null,null,null,{"$f":"SAR!J77","v":0}]
[]
[]
[]
[null,"VALIDATION"]
[]
[]
[]
[null,"SIGNED"]
[]
[]
[]
[]
[]
[]
[null,"DATE"]

{"sheet":"SUBMITTED","index":4,"n_rows":77,"n_cols":105,"rows_kept":77,"cut":false,"hidden":false,"merged":[[76,1,78,8],[76,10,78,23],[12,38,14,40],[16,38,18,40],[40,38,42,40],[1,46,6,57],[28,25,30,28],[1,13,6,42],[8,25,10,57],[12,29,14,36],[12,25,14,28],[28,29,30,36],[16,25,18,28],[16,29,18,36],[20,38,22,40],[24,38,26,40],[28,38,30,40],[20,25,22,28],[20,29,22,36],[12,42,14,45],[12,46,14,53],[7,1,7,54],[1,1,6,12],[64,55,66,57],[61,85,63,91],[14,60,16,72],[44,1,46,8],[44,10,46,23],[47,1,49,8],[47,10,49,23],[65,1,67,8],[65,10,67,23],[72,1,74,23],[37,85,39,91],[56,38,58,40],[41,61,43,67],[49,85,51,91],[28,55,30,57],[32,1,34,8],[32,10,34,23],[35,1,37,8],[35,10,37,23],[35,24,37,24],[16,42,18,45],[16,46,18,53],[20,42,22,45],[20,46,22,53],[24,42,26,45],[24,55,26,57],[60,55,62,57],[1,43,6,45],[8,1,10,23],[12,1,14,8],[12,10,14,23],[15,1,17,8],[53,1,64,8],[53,10,64,23],[15,10,17,23],[38,1,40,8],[38,10,40,23],[38,24,40,24],[18,1,20,8],[18,10,20,23],[21,1,23,8],[21,10,23,23],[25,1,27,23],[29,1,31,8],[29,10,31,23],[41,1,43,8],[41,10,43,23],[50,1,52,8],[50,10,52,23],[44,42,46,45],[48,25,50,28],[44,38,46,40],[57,61,59,67],[44,55,46,57],[37,73,39,79],[44,25,46,28],[44,29,46,36],[53,73,55,79],[44,46,46,53],[53,61,55,67],[45,61,47,67],[52,38,54,40],[32,55,34,57],[36,55,38,57],[36,38,38,40],[28,42,30,45],[28,46,30,53],[32,42,34,45],[32,46,34,53],[36,42,38,45],[36,46,38,53],[24,46,26,53],[24,25,26,28],[24,29,26,36],[32,25,34,28],[32,29,34,36],[36,25,38,28],[36,29,38,36],[40,25,42,28],[40,29,42,36],[40,42,42,45],[40,46,42,53],[64,29,66,36],[68,38,70,40],[72,38,74,40],[45,73,47,79],[12,55,14,57],[45,85,47,91],[16,55,18,57],[49,61,51,67],[20,55,22,57],[37,61,39,67],[48,38,50,40],[53,85,55,91],[40,55,42,57],[57,73,59,79],[48,55,50,57],[57,85,59,91],[52,55,54,57],[32,38,34,40],[56,55,58,57],[49,73,51,79],[60,38,62,40],[41,73,43,79],[64,38,66,40],[41,85,43,91],[68,1,70,8],[68,10,70,23],[68,25,70,28],[68,29,70,36],[72,25,74,28],[72,29,74,36],[48,42,50,45],[48,46,50,53],[52,42,54,45],[52,46,54,53],[56,42,58,45],[56,46,58,53],[60,42,62,45],[60,46,62,53],[64,42,66,45],[64,46,66,53],[48,29,50,36],[52,25,54,28],[52,29,54,36],[56,25,58,28],[56,29,58,36],[60,25,62,28],[60,29,62,36],[64,25,66,28]]}
[]
[null,null,null,null,null,null,null,null,null,null,null,null,null,"SYSTEM AMENDMENT REQUEST (SAR)",null,null,null,null,null,null,null,null,null,null,null,null,null,null,null,null,null,null,null,null,null,null,null,null,null,null,null,null,null,"SATS No.",null,null,{"$f":"K48","v":0}]
[null,null,null,null,null,null,null,null,null,null,null,null,null,null,null,null,null,null,null,null,null,null,null,null,null,null,null,null,null,null,null,null,null,null,null,null,null,null,null,null,null,null,null,null,null,null,null,null,null,null,null,null,null,null,null,null,null,null,null,null,null,null,null,null,null,null,null,null,null,null,null,null,null,null,null,null,null,null,null,null,null,null,null,null,null,null,null,null,null,null,null,null,null,null,null,null,null,null,"Y",null,null,null,null,null,"Y"]
[]
[]
[]
[]
[]
[null,"YOUR DETAILS",null,null,null,null,null,null,null,null,null,null,null,null,null,null,null,null,null,null,null,null,null,null,null,"SUBMITTED DOCUMENTATION"]
[]
[]
[]
[null,"NAME",null,null,null,null,null,null,null,null,{"$f":"SAR!K13:AA15","v":""},null,null,null,null,null,null,null,null,null,null,null,null,null,null,"DOC 1A",null,null,null,"BEFORE/AFTER DIAGRAM",null,null,null,null,null,null,null,null,{"$f":"IF(INDIRECT(\"'\" & Z13 & \"'!DB3\")=1,\"✔\",\"\")","v":""},null,null,null,"DOC 8B",null,null,null,"TOWERS",null,null,null,null,null,null,null,null,{"$f":"IF(INDIRECT(\"'\" & AQ13 & \"'!DA3\")=\"Y\",\"✔\",\"\")","v":""}]
[]
[null,null,null,null,null,null,null,null,null,null,null,null,null,null,null,null,null,null,null,null,null,null,null,null,null,null,null,null,null,null,null,null,null,null,null,null,null,null,null,null,null,null,null,null,null,null,null,null,null,null,null,null,null,null,null,null,null,null,null,null,"DOC QUICK LINK"]
[null,"TODAYS DATE",null,null,null,null,null,null,null,null,{"$f":"SAR!K16","v":"00:00:00"}]
[null,null,null,null,null,null,null,null,null,null,null,null,null,null,null,null,null,null,null,null,null,null,null,null,null,"DOC 1B",null,null,null,"LARGE BEFORE DIAGRAM",null,null,null,null,null,null,null,null,{"$f":"IF(INDIRECT(\"'\" & Z17 & \"'!DB3\")=1,\"✔\",\"\")","v":""},null,null,null,"DOC 8C",null,null,null,"FAULT PASSAGE INDICATOR",null,null,null,null,null,null,null,null,{"$f":"IF(INDIRECT(\"'\" & AQ17 & \"'!DA3\")=\"Y\",\"✔\",\"\")","v":""}]
[]
[null,"DEPOT",null,null,null,null,null,null,null,null,{"$f":"SAR!K19:AA21","v":0}]
[]
[null,null,null,null,null,null,null,null,null,null,null,null,null,null,null,null,null,null,null,null,null,null,null,null,null,"DOC 1C",null,null,null,"LARGE AFTER DIAGRAM",null,null,null,null,null,null,null,null,{"$f":"IF(INDIRECT(\"'\" & Z21 & \"'!DB3\")=1,\"✔\",\"\")","v":""},null,null,null,"DOC 9",null,null,null,"BATTERY & CHARGERS",null,null,null,null,null,null,null,null,{"$f":"IF(INDIRECT(\"'\" & AQ21 & \"'!DA3\")=\"Y\",\"✔\",\"\")","v":""}]
[null,"CONTACT No.",null,null,null,null,null,null,null,null,{"$f":"SAR!K22:AA24","v":0}]
[]
[]
[null,null,null,null,null,null,null,null,null,null,null,null,null,null,null,null,null,null,null,null,null,null,null,null,null,"DOC 1D",null,null,null,"AS LAID",null,null,null,null,null,null,null,null,{"$f":"IF(INDIRECT(\"'\" & Z25 & \"'!DA3\")=\"Y\",\"✔\",\"\")","v":"✔"},null,null,null,"DOC 10",null,null,null,"G&P & AUX TRANSFORMERS",null,null,null,null,null,null,null,null,{"$f":"IF(INDIRECT(\"'\" & AQ25 & \"'!DA3\")=\"Y\",\"✔\",\"\")","v":""}]
[null,"AMENDMENT DETAILS"]
[]
[]
[null,null,null,null,null,null,null,null,null,null,null,null,null,null,null,null,null,null,null,null,null,null,null,null,null,"DECOMM A",null,null,null,"BEFORE/AFTER DIAGRAM",null,null,null,null,null,null,null,null,{"$f":"IF(INDIRECT(\"'\" & Z29 & \"'!DA3\")=\"Y\",\"✔\",\"\")","v":""},null,null,null,"DOC 11",null,null,null,"G&P - TX COOLER",null,null,null,null,null,null,null,null,{"$f":"IF(INDIRECT(\"'\" & AQ29 & \"'!DA3\")=\"Y\",\"✔\",\"\")","v":""}]
[null,"SUBSTATION NAME",null,null,null,null,null,null,null,null,{"$f":"SAR!K30:AA32","v":0}]
[]
[]
[null,"SUBSTATION NUMBER",null,null,null,null,null,null,null,null,{"$f":"SAR!K33:AA35","v":0},null,null,null,null,null,null,null,null,null,null,null,null,null,null,"DECOMM B",null,null,null,"BEFORE/AFTER DIAGRAM",null,null,null,null,null,null,null,null,{"$f":"IF(INDIRECT(\"'\" & Z33 & \"'!DA3\")=\"Y\",\"✔\",\"\")","v":""},null,null,null,"DOC 12",null,null,null,"G&P - TX TAP CHANGER",null,null,null,null,null,null,null,null,{"$f":"IF(INDIRECT(\"'\" & AQ33 & \"'!DA3\")=\"Y\",\"✔\",\"\")","v":""}]
[]
[]
[null,"VOLTAGE",null,null,null,null,null,null,null,null,{"$f":"SAR!K36:AA38","v":0},null,null,null,null,null,null,null,null,null,null,null,null,null,{"$f":"SAR!AB36:AB38","v":""}]
[null,null,null,null,null,null,null,null,null,null,null,null,null,null,null,null,null,null,null,null,null,null,null,null,null,"DOC 2A",null,null,null,"SITE & SUBSTATION",null,null,null,null,null,null,null,null,{"$f":"IF(INDIRECT(\"'\" & Z37 & \"'!DA3\")=\"Y\",\"✔\",\"\")","v":""},null,null,null,"DOC 13",null,null,null,"G&P - TX N.E.R",null,null,null,null,null,null,null,null,{"$f":"IF(INDIRECT(\"'\" & AQ37 & \"'!DA3\")=\"Y\",\"✔\",\"\")","v":""}]
[]
[null,"AREA",null,null,null,null,null,null,null,null,{"$f":"SAR!K39:AA41","v":0}]
[]
[null,null,null,null,null,null,null,null,null,null,null,null,null,null,null,null,null,null,null,null,null,null,null,null,null,"DOC 2B",null,null,null,"SITE EARTHING",null,null,null,null,null,null,null,null,{"$f":"IF(INDIRECT(\"'\" & Z41 & \"'!DA3\")=\"Y\",\"✔\",\"\")","v":""},null,null,null,"DOC 14",null,null,null,"PROTECTION SETTINGS",null,null,null,null,null,null,null,null,{"$f":"IF(INDIRECT(\"'\" & AQ41 & \"'!DA3\")=\"Y\",\"✔\",\"\")","v":""}]
[null,"DATE OF WORK",null,null,null,null,null,null,null,null,{"$f":"SAR!K42:AA44","v":"00:00:00"}]
[]
[]
[null,"PRIMARY SUBSTATION",null,null,null,null,null,null,null,null,{"$f":"SAR!K45:AA47","v":0},null,null,null,null,null,null,null,null,null,null,null,null,null,null,"DOC 3",null,null,null,"GR/PH MOUNTED SWITCHGEAR",null,null,null,null,null,null,null,null,{"$f":"IF(INDIRECT(\"'\" & Z45 & \"'!DA3\")=\"Y\",\"✔\",\"\")","v":""},null,null,null,"DOC 15",null,null,null,"DINIS",null,null,null,null,null,null,null,null,{"$f":"IF(INDIRECT(\"'\" & AQ45 & \"'!DA3\")=\"Y\",\"✔\",\"\")","v":""}]
[]
[]
[null,"SATS NUMBER",null,null,null,null,null,null,null,null,{"$f":"SAR!K48:AA50","v":0}]
[null,null,null,null,null,null,null,null,null,null,null,null,null,null,null,null,null,null,null,null,null,null,null,null,null,"DOC 4",null,null,null,"RING MAIN UNIT & METERING",null,null,null,null,null,null,null,null,{"$f":"IF(INDIRECT(\"'\" & Z49 & \"'!DA3\")=\"Y\",\"✔\",\"\")","v":""},null,null,null,"DOC 16",null,null,null,"G&P RTU INDAD INFO",null,null,null,null,null,null,null,null,{"$f":"IF(INDIRECT(\"'\" & AQ49 & \"'!DA3\")=\"Y\",\"✔\",\"\")","v":""}]
[]
[null,"AMENDMENT",null,null,null,null,null,null,null,null,{"$f":"IF(SAR!K51:AA53=\"\",\"\",SAR!K51:AA53)","v":""}]
[]
[null,null,null,null,null,null,null,null,null,null,null,null,null,null,null,null,null,null,null,null,null,null,null,null,null,"DOC 5A",null,null,null,"TRANSFORMERS",null,null,null,null,null,null,null,null,{"$f":"IF(INDIRECT(\"'\" & Z53 & \"'!DA3\")=\"Y\",\"✔\",\"\")","v":""},null,null,null,"DOC 17",null,null,null,"SERVICE POINT",null,null,null,null,null,null,null,null,{"$f":"IF(INDIRECT(\"'\" & AQ53 & \"'!DA3\")=\"Y\",\"✔\",\"\")","v":""}]
[null,"DESCRIPTION OF WORK",null,null,null,null,null,null,null,null,{"$f":"SAR!K54:AA65","v":0}]
[]
[]
[null,null,null,null,null,null,null,null,null,null,null,null,null,null,null,null,null,null,null,null,null,null,null,null,null,"DOC 5B",null,null,null,"VOLTAGE TRANSFORMERS",null,null,null,null,null,null,null,null,{"$f":"IF(INDIRECT(\"'\" & Z57 & \"'!DA3\")=\"Y\",\"✔\",\"\")","v":""},null,null,null,"DOC 18",null,null,null,"SWITCH LABELS",null,null,null,null,null,null,null,null,{"$f":"IF(INDIRECT(\"'\" & AQ57 & \"'!DA3\")=\"Y\",\"✔\",\"\")","v":""}]
[]
[]
[]
[null,null,null,null,null,null,null,null,null,null,null,null,null,null,null,null,null,null,null,null,null,null,null,null,null,"DOC 6A",null,null,null,"LV CABINET/BOARD & WAYS",null,null,null,null,null,null,null,null,{"$f":"IF(INDIRECT(\"'\" & Z61 & \"'!DA3\")=\"Y\",\"✔\",\"\")","v":""},null,null,null,"DOC 19",null,null,null,"SPARE"]
[]
[]
[]
[null,null,null,null,null,null,null,null,null,null,null,null,null,null,null,null,null,null,null,null,null,null,null,null,null,"DOC 6B",null,null,null,"LINK BOXES",null,null,null,null,null,null,null,null,{"$f":"IF(INDIRECT(\"'\" & Z65 & \"'!DA3\")=\"Y\",\"✔\",\"\")","v":""},null,null,null,"P.C.A.F.",null,null,null,"PRE-COMM AUDIT FORM",null,null,null,null,null,null,null,null,{"$f":"IF(INDIRECT(\"'\" & AQ65 & \"'!DA3\")=\"Y\",\"✔\",\"\")","v":""}]
[null,"SWITCHING PROG No.",null,null,null,null,null,null,null,null,{"$f":"SAR!K66:AA68","v":0}]
[]
[]
[null,"\"R\" FORM NUMBER",null,null,null,null,null,null,null,null,{"$f":"SAR!K69","v":0},null,null,null,null,null,null,null,null,null,null,null,null,null,null,"DOC 7",null,null,null,"OVERHEAD LINE",null,null,null,null,null,null,null,null,{"$f":"IF(INDIRECT(\"'\" & Z69 & \"'!DA3\")=\"Y\",\"✔\",\"\")","v":""}]
[]
[]
[]
[null,"COST CODE",null,null,null,null,null,null,null,null,null,null,null,null,null,null,null,null,null,null,null,null,null,null,null,"DOC 8A",null,null,null,"WOODPOLE",null,null,null,null,null,null,null,null,{"$f":"IF(INDIRECT(\"'\" & Z73 & \"'!DA3\")=\"Y\",\"✔\",\"\")","v":""}]
[]
[]
[]
[null,"PROJECT NUMBER",null,null,null,null,null,null,null,null,{"$f":"SAR!J77","v":0}]

{"sheet":"DOC 1A","index":5,"n_rows":93,"n_cols":184,"rows_kept":93,"cut":false,"hidden":false,"merged":[[101,22,101,86],[8,23,10,27],[8,28,10,44],[8,51,10,69],[8,71,10,75],[8,46,10,50],[92,23,100,28],[92,29,100,85],[16,23,18,53],[16,55,18,85],[8,76,10,85],[1,183,3,189],[4,183,6,189],[1,74,6,85],[7,23,7,85],[1,71,6,73],[1,23,6,33],[1,34,6,44],[1,50,3,60],[1,65,3,69],[4,50,6,60],[4,65,6,69],[1,46,3,49],[4,46,6,49],[1,61,3,64],[14,88,16,100],[46,5,50,20],[46,21,50,21],[13,23,15,85],[4,61,6,64]]}
[null,null,null,null,null,null,null,null,null,null,null,null,null,null,null,null,null,null,null,null,null,null,null,null,null,null,null,null,null,null,null,null,null,null,null,null,null,null,null,null,null,null,null,null,null,null,null,null,null,null,null,null,null,null,null,null,null,null,null,null,null,null,null,null,null,null,null,null,null,null,null,null,null,null,null,null,null,null,null,null,null,null,null,null,null,null,null,null,null,null,null,null,null,null,null,null,null,null,null,null,null,null,null,null,{"$f":"IF(DA3=\"Y\",1,0)","v":1},null,null,null,null,null,null,null,null,null,null,null,null,null,null,null,null,null,null,null,null,null,null,null,null,null,null,null,null,null,null,null,null,null,null,null,null,null,null,null,null,null,null,null,null,null,null,null,null,null,null,null,null,null,null,null,null,null,null,null,null,null,null,null,null,null,null,null,null,null,null,null,null,null,null,null,null,null,null,70]
[null,null,null,null,null,null,null,null,null,null,null,null,null,null,null,null,null,null,null,null,null,null,null,null,null,null,null,null,null,null,null,null,null,null,"DOC 1A",null,null,null,null,null,null,null,null,null,null,null,"ENGINEER",null,null,null,{"$f":"SAR!$K$13","v":""},null,null,null,null,null,null,null,null,null,null,"VOLTAGE",null,null,null,{"$f":"SAR!$K$36","v":0},null,null,null,null,null,"SATS",null,null,{"$f":"SAR!$BA$2","v":0},null,null,null,null,null,null,null,null,null,null,null,null,null,null,null,null,null,null,null,null,null,null,null,null,null,null,null,null,null,null,null,null,null,null,null,null,null,null,null,null,null,null,null,null,null,null,null,null,null,null,null,null,null,null,null,null,null,null,null,null,null,null,null,null,null,null,null,null,null,null,null,null,null,null,null,null,null,null,null,null,null,null,null,null,null,null,null,null,null,null,null,null,null,null,null,null,null,null,null,null,null,null,null,null,null,null,null,null,"Shape Count"]
[null,null,null,null,null,null,null,null,null,null,null,null,null,null,null,null,null,null,null,null,null,null,null,null,null,null,null,null,null,null,null,null,null,null,null,null,null,null,null,null,null,null,null,null,null,null,null,null,null,null,null,null,null,null,null,null,null,null,null,null,null,null,null,null,null,null,null,null,null,null,null,null,null,null,null,null,null,null,null,null,null,null,null,null,null,null,null,null,null,null,null,null,null,null,null,null,null,null,null,null,null,null,null,null,"Y",{"$f":"IF(V47>70,1,0)","v":0}]
[]
[null,null,null,null,null,null,null,null,null,null,null,null,null,null,null,null,null,null,null,null,null,null,null,null,null,null,null,null,null,null,null,null,null,null,null,null,null,null,null,null,null,null,null,null,null,null,"AREA",null,null,null,{"$f":"SAR!$K$39","v":0},null,null,null,null,null,null,null,null,null,null,"PROJECT DATE",null,null,null,{"$f":"SAR!$K$42","v":"00:00:00"},null,null,null,null,null,null,null,null,null,null,null,null,null,null,null,null,null,null,null,null,null,null,null,null,null,null,null,null,null,null,null,null,null,null,null,null,null,null,null,null,null,null,null,null,null,null,null,null,null,null,null,null,null,null,null,null,null,null,null,null,null,null,null,null,null,null,null,null,null,null,null,null,null,null,null,null,null,null,null,null,null,null,null,null,null,null,null,null,null,null,null,null,null,null,null,null,null,null,null,null,null,null,null,null,null,null,null,null,null,null,null,null,null,null,null,null,null,118]
[]
[]
[]
[null,null,null,null,null,null,null,null,null,null,null,null,null,null,null,null,null,null,null,null,null,null,null,"PRIMARY SUBSTATION ",null,null,null,null,{"$f":"SAR!$K$45","v":0},null,null,null,null,null,null,null,null,null,null,null,null,null,null,null,null,null,"DISTRIBUTION SUBSTATION ",null,null,null,null,{"$f":"SAR!$K$30","v":0},null,null,null,null,null,null,null,null,null,null,null,null,null,null,null,null,null,null,null,"PLANT REF",null,null,null,null,{"$f":"SAR!$K$33","v":0}]
[]
[]
[]
[]
[]
[null,null,null,null,null,null,null,null,null,null,null,null,null,null,null,null,null,null,null,null,null,null,null,null,null,null,null,null,null,null,null,null,null,null,null,null,null,null,null,null,null,null,null,null,null,null,null,null,null,null,null,null,null,null,null,null,null,null,null,null,null,null,null,null,null,null,null,null,null,null,null,null,null,null,null,null,null,null,null,null,null,null,null,null,null,null,null,null,"DOC QUICK LINK"]
[]
[null,null,null,null,null,null,null,null,null,null,null,null,null,null,null,null,null,null,null,null,null,null,null,"BEFORE",null,null,null,null,null,null,null,null,null,null,null,null,null,null,null,null,null,null,null,null,null,null,null,null,null,null,null,null,null,null,null,"AFTER"]
[]
[]
[]
[]
[]
[]
[]
[]
[]
[]
[]
[]
[]
[]
[]
[]
[]
[]
[]
[]
[]
[]
[]
[]
[]
[]
[]
[]
[]
[null,null,null,null,null,"ENTER TEXT HERE",null,null,null,null,null,null,null,null,null,null,null,null,null,null,null,{"$f":"GB1","v":70}]
[]
[]
[]
[]
[]
[]
[]
[]
[]
[]
[]
[]
[]
[]
[]
[]
[]
[]
[]
[]
[]
[]
[]
[]
[]
[]
[]
[]
[]
[]
[]
[]
[]
[]
[]
[]
[]
[]
[]
[]
[null,null,null,null,null,null,null,null,null,null,null,null,null,null,null,null,null,null,null,null,null,null,null,null,null,null,null,null,null,null,null,null,null,null,null,null,null,null,null,null,null,null,null,null,null,null,null,null,null,null,null,null,null,null,null,null,null,null,null,null,null,null,null,null,null,null,null,null,null,null,null,null,null,null,null,null,null,null,null,null,null,null,null,null,null,"`"]
[]
[]
[]
[]
[null,null,null,null,null,null,null,null,null,null,null,null,null,null,null,null,null,null,null,null,null,null,null,"DESCRIPTION OF WORK"]

{"sheet":"SYMBOLOGY","index":6,"n_rows":182,"n_cols":104,"rows_kept":182,"cut":false,"hidden":true,"merged":[[133,32,151,42],[152,32,154,42],[155,32,157,42],[159,32,177,42],[178,32,180,42],[181,32,183,42],[128,32,130,42],[57,95,68,101],[69,95,71,101],[72,95,74,101],[69,87,71,93],[62,71,64,77],[100,16,102,22],[102,32,104,42],[106,8,108,14],[106,32,124,42],[109,8,111,14],[125,32,127,42],[76,87,87,93],[78,54,80,69],[80,32,98,42],[88,87,90,93],[91,8,93,14],[91,87,93,93],[94,8,96,14],[97,16,99,22],[98,8,105,14],[99,32,101,42],[71,8,90,14],[71,44,73,52],[72,79,74,85],[64,8,66,14],[50,103,52,109],[52,24,54,30],[52,44,54,52],[53,79,55,85],[53,87,55,93],[53,95,55,101],[53,103,55,109],[54,32,72,42],[56,44,70,52],[57,79,68,85],[72,87,74,93],[73,16,96,22],[73,32,75,42],[74,44,76,52],[75,54,77,69],[76,32,78,42],[64,54,66,69],[66,16,68,22],[67,8,69,14],[68,54,74,69],[69,16,71,22],[69,79,71,85],[38,87,49,93],[38,95,49,101],[47,71,58,77],[50,87,52,93],[50,95,52,101],[57,87,68,93],[38,103,49,109],[40,71,42,77],[41,8,43,14],[41,54,43,69],[42,16,65,22],[42,44,48,52],[43,71,45,77],[44,8,46,14],[44,54,46,69],[47,32,49,42],[48,8,63,14],[48,54,60,69],[49,24,51,30],[49,44,51,52],[50,32,52,42],[50,79,52,85],[59,71,61,77],[61,54,63,69],[31,87,33,93],[31,95,33,101],[31,103,33,109],[34,79,36,85],[34,87,36,93],[34,95,36,101],[34,103,36,109],[24,71,26,77],[35,44,37,52],[28,16,34,22],[28,24,48,30],[28,32,46,42],[28,44,34,52],[28,54,40,69],[28,71,39,77],[29,8,40,14],[35,16,37,22],[31,79,33,85],[38,16,40,22],[38,44,40,52],[38,79,49,85],[22,8,24,14],[24,16,26,22],[24,24,26,30],[24,32,26,42],[24,44,26,52],[24,54,26,69],[21,16,23,22],[21,24,23,30],[21,32,23,42],[21,44,23,52],[21,54,23,69],[14,8,21,14],[14,16,20,22],[14,44,20,52],[14,54,20,69],[25,8,27,14],[21,71,23,77],[15,87,17,93],[15,95,17,101],[15,103,17,109],[19,79,30,85],[19,87,30,93],[19,95,30,101],[19,103,30,109],[12,79,14,85],[12,87,14,93],[12,95,14,101],[12,103,14,109],[14,71,20,77],[15,79,17,85],[0,87,11,93],[0,95,11,101],[0,103,11,109],[7,54,9,69],[7,71,9,77],[0,0,6,6],[0,8,6,14],[0,16,6,22],[0,24,20,30],[0,32,20,42],[0,44,6,52],[7,0,9,6],[7,8,9,14],[7,16,9,22],[7,44,9,52],[10,0,12,6],[10,8,12,14],[10,16,12,22],[10,44,12,52],[10,54,12,69],[10,71,12,77],[0,54,6,69],[0,71,6,77],[0,79,11,85]]}
[48]
[]
[]
[]
[]
[]
[]
["Symbol Count",null,null,null,null,null,null,null,"TextBox",null,null,null,null,null,null,null,"Fuse",null,null,null,null,null,null,null,null,null,null,null,null,null,null,null,null,null,null,null,null,null,null,null,null,null,null,null,"6.6 Busbar Small",null,null,null,null,null,null,null,null,null,"6.6 Busbar Large",null,null,null,null,null,null,null,null,null,null,null,null,null,null,null,null,"Single Ph PMT"]
[]
[]
[117,null,null,null,null,null,null,null,"TextBox 259",null,null,null,null,null,null,null,"Group 352",null,null,null,null,null,null,null,null,null,null,null,null,null,null,null,null,null,null,null,null,null,null,null,null,null,null,null,"Rectangle 296",null,null,null,null,null,null,null,null,null,"Rectangle 298",null,null,null,null,null,null,null,null,null,null,null,null,null,null,null,null,"Group 368"]
[]
[null,null,null,null,null,null,null,null,null,null,null,null,null,null,null,null,null,null,null,null,null,null,null,null,null,null,null,null,null,null,null,null,null,null,null,null,null,null,null,null,null,null,null,null,null,null,null,null,null,null,null,null,null,null,null,null,null,null,null,null,null,null,null,null,null,null,null,null,null,null,null,null,null,null,null,null,null,null,null,"Circuit Breaker",null,null,null,null,null,null,null,"GVR",null,null,null,null,null,null,null,"Earth Tree",null,null,null,null,null,null,null,"COMA"]
[]
[]
[null,null,null,null,null,null,null,null,null,null,null,null,null,null,null,null,null,null,null,null,null,null,null,null,null,null,null,null,null,null,null,null,null,null,null,null,null,null,null,null,null,null,null,null,null,null,null,null,null,null,null,null,null,null,null,null,null,null,null,null,null,null,null,null,null,null,null,null,null,null,null,null,null,null,null,null,null,null,null,"Group 443",null,null,null,null,null,null,null,"Group 452",null,null,null,null,null,null,null,"Group 509",null,null,null,null,null,null,null,"Group 495"]
[]
[]
[]
[]
[]
[null,null,null,null,null,null,null,null,null,null,null,null,null,null,null,null,"Link",null,null,null,null,null,null,null,"6.6 CN2",null,null,null,null,null,null,null,"Blanking Plate",null,null,null,null,null,null,null,null,null,null,null,"11 Busbar Small",null,null,null,null,null,null,null,null,null,"11 Busbar Large",null,null,null,null,null,null,null,null,null,null,null,null,null,null,null,null,"Three Ph PMT"]
[null,null,null,null,null,null,null,null,"Info Box 1sq"]
[]
[null,null,null,null,null,null,null,null,null,null,null,null,null,null,null,null,"Group 392",null,null,null,null,null,null,null,"Group 402",null,null,null,null,null,null,null,"Picture 72",null,null,null,null,null,null,null,null,null,null,null,"Rectangle 297",null,null,null,null,null,null,null,null,null,"Rectangle 299",null,null,null,null,null,null,null,null,null,null,null,null,null,null,null,null,"Oval 351"]
[null,null,null,null,null,null,null,null,"Rectangle 371"]
[]
[]
[]
[]
[]
[null,null,null,null,null,null,null,null,null,null,null,null,null,null,null,null,null,null,null,null,null,null,null,null,null,null,null,null,null,null,null,null,null,null,null,null,null,null,null,null,null,null,null,null,null,null,null,null,null,null,null,null,null,null,null,null,null,null,null,null,null,null,null,null,null,null,null,null,null,null,null,null,null,null,null,null,null,null,null,"Fuse Switch",null,null,null,null,null,null,null,"ABS",null,null,null,null,null,null,null,"Cable Hop",null,null,null,null,null,null,null,"Meter"]
[]
[]
[null,null,null,null,null,null,null,null,null,null,null,null,null,null,null,null,null,null,null,null,null,null,null,null,null,null,null,null,null,null,null,null,null,null,null,null,null,null,null,null,null,null,null,null,null,null,null,null,null,null,null,null,null,null,null,null,null,null,null,null,null,null,null,null,null,null,null,null,null,null,null,null,null,null,null,null,null,null,null,"Diamond 447",null,null,null,null,null,null,null,"Group 458",null,null,null,null,null,null,null,"Group 498",null,null,null,null,null,null,null,"Rectangle 494"]
[null,null,null,null,null,null,null,null,null,null,null,null,null,null,null,null,"ASL",null,null,null,null,null,null,null,null,null,null,null,null,null,null,null,null,null,null,null,null,null,null,null,null,null,null,null,"6.6 Busbar Cable Box"]
[]
[]
[null,null,null,null,null,null,null,null,null,null,null,null,null,null,null,null,"Group 359",null,null,null,null,null,null,null,null,null,null,null,null,null,null,null,null,null,null,null,null,null,null,null,null,null,null,null,"Isosceles Triangle 367"]
[]
[null,null,null,null,null,null,null,null,null,null,null,null,null,null,null,null,null,null,null,null,null,null,null,null,null,null,null,null,null,null,null,null,null,null,null,null,null,null,null,null,null,null,null,null,null,null,null,null,null,null,null,null,null,null,null,null,null,null,null,null,null,null,null,null,null,null,null,null,null,null,null,"Ground Mount TX"]
[null,null,null,null,null,null,null,null,"Info Box 2sq",null,null,null,null,null,null,null,null,"`",null,null,null,null,null,null,null,null,null,null,null,null,null,null,null,null,null,null,null,null,null,null,null,null,null,null,null,null,null,null,null,null,null,null,null,null,"6.6 Primary Busbar "]
[]
[null,null,null,null,null,null,null,null,null,null,null,null,null,null,null,null,null,null,null,null,null,null,null,null,null,null,null,null,null,null,null,null,null,null,null,null,null,null,null,null,null,null,null,null,null,null,null,null,null,null,null,null,null,null,null,null,null,null,null,null,null,null,null,null,null,null,null,null,null,null,null,"Group 388"]
[null,null,null,null,null,null,null,null,"Group 372",null,null,null,null,null,null,null,null,null,null,null,null,null,null,null,null,null,null,null,null,null,null,null,null,null,null,null,null,null,null,null,null,null,null,null,null,null,null,null,null,null,null,null,null,null,"Group 300"]
[]
[]
[null,null,null,null,null,null,null,null,null,null,null,null,null,null,null,null,null,null,null,null,null,null,null,null,null,null,null,null,null,null,null,null,"6.6 RN2C"]
[]
[null,null,null,null,null,null,null,null,null,null,null,null,null,null,null,null,null,null,null,null,null,null,null,null,"11 CN2",null,null,null,null,null,null,null,null,null,null,null,null,null,null,null,null,null,null,null,"11 Busbar Cable Box"]
[null,null,null,null,null,null,null,null,null,null,null,null,null,null,null,null,null,null,null,null,null,null,null,null,null,null,null,null,null,null,null,null,"Group 306",null,null,null,null,null,null,null,null,null,null,null,null,null,null,null,null,null,null,null,null,null,null,null,null,null,null,null,null,null,null,null,null,null,null,null,null,null,null,null,null,null,null,null,null,null,null,"Fuse Switch",null,null,null,null,null,null,null,"EFI",null,null,null,null,null,null,null,"Poletop Cable Box",null,null,null,null,null,null,null,"Private (arrow)"]
[]
[null,null,null,null,null,null,null,null,null,null,null,null,null,null,null,null,null,null,null,null,null,null,null,null,"Group 262",null,null,null,null,null,null,null,null,null,null,null,null,null,null,null,null,null,null,null,"Isosceles Triangle 387"]
[null,null,null,null,null,null,null,null,null,null,null,null,null,null,null,null,null,null,null,null,null,null,null,null,null,null,null,null,null,null,null,null,null,null,null,null,null,null,null,null,null,null,null,null,null,null,null,null,null,null,null,null,null,null,null,null,null,null,null,null,null,null,null,null,null,null,null,null,null,null,null,null,null,null,null,null,null,null,null,"Group 448",null,null,null,null,null,null,null,"Group 475 ",null,null,null,null,null,null,null,"Group 490",null,null,null,null,null,null,null,"Group 506"]
[]
[]
[]
[]
[]
[null,null,null,null,null,null,null,null,null,null,null,null,null,null,null,null,null,null,null,null,null,null,null,null,null,null,null,null,null,null,null,null,null,null,null,null,null,null,null,null,null,null,null,null,null,null,null,null,null,null,null,null,null,null,null,null,null,null,null,null,null,null,null,null,null,null,null,null,null,null,null,"Open Point"]
[]
[null,null,null,null,null,null,null,null,null,null,null,null,null,null,null,null,null,null,null,null,null,null,null,null,null,null,null,null,null,null,null,null,null,null,null,null,null,null,null,null,null,null,null,null,null,null,null,null,null,null,null,null,null,null,"11 Primary Busbar "]
[null,null,null,null,null,null,null,null,null,null,null,null,null,null,null,null,null,null,null,null,null,null,null,null,null,null,null,null,null,null,null,null,null,null,null,null,null,null,null,null,null,null,null,null,null,null,null,null,null,null,null,null,null,null,null,null,null,null,null,null,null,null,null,null,null,null,null,null,null,null,null,"Right Arrow 463"]
[]
[null,null,null,null,null,null,null,null,"Info Box 3sq",null,null,null,null,null,null,null,null,null,null,null,null,null,null,null,null,null,null,null,null,null,null,null,null,null,null,null,null,null,null,null,null,null,null,null,null,null,null,null,null,null,null,null,null,null,"Group 437"]
[]
[null,null,null,null,null,null,null,null,null,null,null,null,null,null,null,null,"Interconnect 1"]
[null,null,null,null,null,null,null,null,"Group 375"]
[]
[null,null,null,null,null,null,null,null,null,null,null,null,null,null,null,null,"Straight Connector 5",null,null,null,null,null,null,null,null,null,null,null,null,null,null,null,null,null,null,null,null,null,null,null,null,null,null,null,null,null,null,null,null,null,null,null,null,null,null,null,null,null,null,null,null,null,null,null,null,null,null,null,null,null,null,null,null,null,null,null,null,null,null,"Withdrawable",null,null,null,null,null,null,null,"FCI",null,null,null,null,null,null,null,"FPI"]
[]
[null,null,null,null,null,null,null,null,null,null,null,null,null,null,null,null,null,null,null,null,null,null,null,null,null,null,null,null,null,null,null,null,null,null,null,null,null,null,null,null,null,null,null,null,"Ops Restriction"]
[null,null,null,null,null,null,null,null,null,null,null,null,null,null,null,null,null,null,null,null,null,null,null,null,null,null,null,null,null,null,null,null,null,null,null,null,null,null,null,null,null,null,null,null,null,null,null,null,null,null,null,null,null,null,null,null,null,null,null,null,null,null,null,null,null,null,null,null,null,null,null,null,null,null,null,null,null,null,null,"Block Arc 436",null,null,null,null,null,null,null,"Group 464",null,null,null,null,null,null,null,"Oval 518"]
[null,null,null,null,null,null,null,null,null,null,null,null,null,null,null,null,null,null,null,null,null,null,null,null,null,null,null,null,null,null,null,null,"11 RN2C"]
[null,null,null,null,null,null,null,null,null,null,null,null,null,null,null,null,null,null,null,null,null,null,null,null,null,null,null,null,null,null,null,null,null,null,null,null,null,null,null,null,null,null,null,null,"6-Point Star 401"]
[null,null,null,null,null,null,null,null,null,null,null,null,null,null,null,null,null,null,null,null,null,null,null,null,null,null,null,null,null,null,null,null,null,null,null,null,null,null,null,null,null,null,null,null,null,null,null,null,null,null,null,null,null,null,"NO CHANGE"]
[null,null,null,null,null,null,null,null,null,null,null,null,null,null,null,null,null,null,null,null,null,null,null,null,null,null,null,null,null,null,null,null,"Group 317"]
[]
[null,null,null,null,null,null,null,null,null,null,null,null,null,null,null,null,null,null,null,null,null,null,null,null,null,null,null,null,null,null,null,null,null,null,null,null,null,null,null,null,null,null,null,null,null,null,null,null,null,null,null,null,null,null,"Picture 493"]
[]
[]
[]
[]
[]
[]
[]
[]
[]
[null,null,null,null,null,null,null,null,null,null,null,null,null,null,null,null,null,null,null,null,null,null,null,null,null,null,null,null,null,null,null,null,null,null,null,null,null,null,null,null,null,null,null,null,null,null,null,null,null,null,null,null,null,null,null,null,null,null,null,null,null,null,null,null,null,null,null,null,null,null,null,null,null,null,null,null,null,null,null,null,null,null,null,null,null,null,null,"Generation"]
[]
[]
[null,null,null,null,null,null,null,null,"Info Box 4sq",null,null,null,null,null,null,null,null,null,null,null,null,null,null,null,null,null,null,null,null,null,null,null,null,null,null,null,null,null,null,null,null,null,null,null,null,null,null,null,null,null,null,null,null,null,null,null,null,null,null,null,null,null,null,null,null,null,null,null,null,null,null,null,null,null,null,null,null,null,null,null,null,null,null,null,null,null,null,"Group 485"]
[]
[]
[null,null,null,null,null,null,null,null,"Group 380"]
[]
[]
[null,null,null,null,null,null,null,null,null,null,null,null,null,null,null,null,"Interconnect 2"]
[]
[null,null,null,null,null,null,null,null,null,null,null,null,null,null,null,null,null,null,null,null,null,null,null,null,null,null,null,null,null,null,null,null,"6.6 Lucy"]
[null,null,null,null,null,null,null,null,null,null,null,null,null,null,null,null,"Straight Connector 400"]
[]
[null,null,null,null,null,null,null,null,null,null,null,null,null,null,null,null,null,null,null,null,null,null,null,null,null,null,null,null,null,null,null,null,"Group 328"]
[]
[]
[]
[null,null,null,null,null,null,null,null,"Automation"]
[]
[]
[null,null,null,null,null,null,null,null,"Rectangle 258"]
[]
[]
[]
[]
[]
[]
[]
[]
[]
[]
[]
[]
[]
[]
[]
[null,null,null,null,null,null,null,null,null,null,null,null,null,null,null,null,null,null,null,null,null,null,null,null,null,null,null,null,null,null,null,null,"11 Lucy"]
[]
[]
[null,null,null,null,null,null,null,null,null,null,null,null,null,null,null,null,null,null,null,null,null,null,null,null,null,null,null,null,null,null,null,null,"Group 339"]
[]
[]
[]
[]
[]
[]
[]
[]
[]
[]
[]
[]
[]
[]
[]
[]
[]
[]
[]
[]
[]
[]
[]
[null,null,null,null,null,null,null,null,null,null,null,null,null,null,null,null,null,null,null,null,null,null,null,null,null,null,null,null,null,null,null,null,"6.6 FRMU"]
[]
[]
[null,null,null,null,null,null,null,null,null,null,null,null,null,null,null,null,null,null,null,null,null,null,null,null,null,null,null,null,null,null,null,null,"Group 526"]
[]
[]
[]
[]
[]
[]
[]
[]
[]
[]
[]
[]
[]
[]
[]
[]
[]
[]
[]
[]
[]
[]
[null,null,null,null,null,null,null,null,null,null,null,null,null,null,null,null,null,null,null,null,null,null,null,null,null,null,null,null,null,null,null,null,"11 FRMU"]
[]
[]
[null,null,null,null,null,null,null,null,null,null,null,null,null,null,null,null,null,null,null,null,null,null,null,null,null,null,null,null,null,null,null,null,"Group 516"]

{"sheet":"DOC 1B","index":7,"n_rows":93,"n_cols":185,"rows_kept":93,"cut":false,"hidden":false,"merged":[[92,23,100,28],[92,29,100,85],[17,23,90,85],[101,22,101,86],[1,74,6,85],[1,65,3,69],[4,50,6,60],[1,46,3,49],[46,5,50,20],[46,21,50,21],[15,23,16,85],[8,46,10,50],[4,46,6,49],[4,65,6,69],[8,51,10,69],[8,76,10,85],[8,23,10,27],[0,184,6,190],[7,184,9,190],[10,184,12,190],[12,23,14,85],[1,61,3,64],[4,61,6,64],[8,71,10,75],[1,23,6,33],[1,34,6,44],[7,23,7,85],[8,28,10,44],[1,50,3,60],[1,71,6,73],[14,88,16,100]]}
[null,null,null,null,null,null,null,null,null,null,null,null,null,null,null,null,null,null,null,null,null,null,null,null,null,null,null,null,null,null,null,null,null,null,null,null,null,null,null,null,null,null,null,null,null,null,null,null,null,null,null,null,null,null,null,null,null,null,null,null,null,null,null,null,null,null,null,null,null,null,null,null,null,null,null,null,null,null,null,null,null,null,null,null,null,null,null,null,null,null,null,null,null,null,null,null,null,null,null,null,null,null,null,null,{"$f":"IF(DA3=\"Y\",1,0)","v":1},null,null,null,null,null,null,null,null,null,null,null,null,null,null,null,null,null,null,null,null,null,null,null,null,null,null,null,null,null,null,null,null,null,null,null,null,null,null,null,null,null,null,null,null,null,null,null,null,null,null,null,null,null,null,null,null,null,null,null,null,null,null,null,null,null,null,null,null,null,null,null,null,null,null,null,null,null,null,68,67]
[null,null,null,null,null,null,null,null,null,null,null,null,null,null,null,null,null,null,null,null,null,null,null,null,null,null,null,null,null,null,null,null,null,null,"DOC 1B",null,null,null,null,null,null,null,null,null,null,null,"ENGINEER",null,null,null,{"$f":"SAR!$K$13","v":""},null,null,null,null,null,null,null,null,null,null,"VOLTAGE",null,null,null,{"$f":"SAR!$K$36","v":0},null,null,null,null,null,"SATS",null,null,{"$f":"SAR!$BA$2","v":0}]
[null,null,null,null,null,null,null,null,null,null,null,null,null,null,null,null,null,null,null,null,null,null,null,null,null,null,null,null,null,null,null,null,null,null,null,null,null,null,null,null,null,null,null,null,null,null,null,null,null,null,null,null,null,null,null,null,null,null,null,null,null,null,null,null,null,null,null,null,null,null,null,null,null,null,null,null,null,null,null,null,null,null,null,null,null,null,null,null,null,null,null,null,null,null,null,null,null,null,null,null,null,null,null,null,"Y",{"$f":"IF(V47>68,1,0)","v":0}]
[]
[null,null,null,null,null,null,null,null,null,null,null,null,null,null,null,null,null,null,null,null,null,null,null,null,null,null,null,null,null,null,null,null,null,null,null,null,null,null,null,null,null,null,null,null,null,null,"AREA",null,null,null,{"$f":"SAR!$K$39","v":0},null,null,null,null,null,null,null,null,null,null,"PROJECT DATE",null,null,null,{"$f":"SAR!$K$42","v":"00:00:00"}]
[]
[]
[null,null,null,null,null,null,null,null,null,null,null,null,null,null,null,null,null,null,null,null,null,null,null,null,null,null,null,null,null,null,null,null,null,null,null,null,null,null,null,null,null,null,null,null,null,null,null,null,null,null,null,null,null,null,null,null,null,null,null,null,null,null,null,null,null,null,null,null,null,null,null,null,null,null,null,null,null,null,null,null,null,null,null,null,null,null,null,null,null,null,null,null,null,null,null,null,null,null,null,null,null,null,null,null,null,null,null,null,null,null,null,null,null,null,null,null,null,null,null,null,null,null,null,null,null,null,null,null,null,null,null,null,null,null,null,null,null,null,null,null,null,null,null,null,null,null,null,null,null,null,null,null,null,null,null,null,null,null,null,null,null,null,null,null,null,null,null,null,null,null,null,null,null,null,null,null,null,null,null,null,null,null,null,null,"Shape Count"]
[null,null,null,null,null,null,null,null,null,null,null,null,null,null,null,null,null,null,null,null,null,null,null,"PRIMARY SUBSTATION ",null,null,null,null,{"$f":"SAR!$K$45","v":0},null,null,null,null,null,null,null,null,null,null,null,null,null,null,null,null,null,"DISTRIBUTION SUBSTATION ",null,null,null,null,{"$f":"SAR!$K$30","v":0},null,null,null,null,null,null,null,null,null,null,null,null,null,null,null,null,null,null,null,"PLANT REF",null,null,null,null,{"$f":"SAR!$K$33","v":0}]
[]
[null,null,null,null,null,null,null,null,null,null,null,null,null,null,null,null,null,null,null,null,null,null,null,null,null,null,null,null,null,null,null,null,null,null,null,null,null,null,null,null,null,null,null,null,null,null,null,null,null,null,null,null,null,null,null,null,null,null,null,null,null,null,null,null,null,null,null,null,null,null,null,null,null,null,null,null,null,null,null,null,null,null,null,null,null,null,null,null,null,null,null,null,null,null,null,null,null,null,null,null,null,null,null,null,null,null,null,null,null,null,null,null,null,null,null,null,null,null,null,null,null,null,null,null,null,null,null,null,null,null,null,null,null,null,null,null,null,null,null,null,null,null,null,null,null,null,null,null,null,null,null,null,null,null,null,null,null,null,null,null,null,null,null,null,null,null,null,null,null,null,null,null,null,null,null,null,null,null,null,null,null,null,null,null,118]
[]
[null,null,null,null,null,null,null,null,null,null,null,null,null,null,null,null,null,null,null,null,null,null,null,"LARGE 'BEFORE' DIAGRAM"]
[]
[null,null,null,null,null,null,null,null,null,null,null,null,null,null,null,null,null,null,null,null,null,null,null,null,null,null,null,null,null,null,null,null,null,null,null,null,null,null,null,null,null,null,null,null,null,null,null,null,null,null,null,null,null,null,null,null,null,null,null,null,null,null,null,null,null,null,null,null,null,null,null,null,null,null,null,null,null,null,null,null,null,null,null,null,null,null,null,null,"DOC QUICK LINK"]
[]
[]
[]
[]
[]
[]
[]
[]
[]
[]
[]
[]
[]
[]
[]
[]
[]
[]
[]
[]
[]
[]
[]
[]
[]
[]
[]
[]
[]
[]
[]
[null,null,null,null,null,"ENTER TEXT HERE",null,null,null,null,null,null,null,null,null,null,null,null,null,null,null,{"$f":"GB1","v":68}]
[]
[]
[]
[]
[]
[]
[]
[]
[]
[]
[]
[]
[]
[]
[]
[]
[]
[]
[]
[]
[]
[]
[]
[]
[]
[]
[]
[]
[]
[]
[]
[]
[]
[]
[]
[]
[]
[]
[]
[]
[]
[]
[]
[]
[]
[null,null,null,null,null,null,null,null,null,null,null,null,null,null,null,null,null,null,null,null,null,null,null,"DESCRIPTION OF WORK"]

{"sheet":"DOC 1C","index":8,"n_rows":93,"n_cols":184,"rows_kept":93,"cut":false,"hidden":false,"merged":[[101,22,101,86],[12,23,14,85],[15,23,16,85],[17,23,90,85],[92,23,100,28],[92,29,100,85],[0,183,6,189],[7,183,9,189],[10,183,12,189],[1,65,3,69],[1,71,6,73],[1,74,6,85],[4,65,6,69],[8,51,10,69],[8,71,10,75],[8,76,10,85],[4,46,6,49],[4,50,6,60],[4,61,6,64],[1,23,6,33],[1,34,6,44],[1,46,3,49],[1,50,3,60],[1,61,3,64],[14,88,16,100],[46,5,50,20],[46,21,50,21],[7,23,7,85],[8,23,10,27],[8,28,10,44],[8,46,10,50]]}
[null,null,null,null,null,null,null,null,null,null,null,null,null,null,null,null,null,null,null,null,null,null,null,null,null,null,null,null,null,null,null,null,null,null,null,null,null,null,null,null,null,null,null,null,null,null,null,null,null,null,null,null,null,null,null,null,null,null,null,null,null,null,null,null,null,null,null,null,null,null,null,null,null,null,null,null,null,null,null,null,null,null,null,null,null,null,null,null,null,null,null,null,null,null,null,null,null,null,null,null,null,null,null,null,{"$f":"IF(DA3=\"Y\",1,0)","v":1},null,null,null,null,null,null,null,null,null,null,null,null,null,null,null,null,null,null,null,null,null,null,null,null,null,null,null,null,null,null,null,null,null,null,null,null,null,null,null,null,null,null,null,null,null,null,null,null,null,null,null,null,null,null,null,null,null,null,null,null,null,null,null,null,null,null,null,null,null,null,null,null,null,null,null,null,null,null,70]
[null,null,null,null,null,null,null,null,null,null,null,null,null,null,null,null,null,null,null,null,null,null,null,null,null,null,null,null,null,null,null,null,null,null,"DOC 1C",null,null,null,null,null,null,null,null,null,null,null,"ENGINEER",null,null,null,{"$f":"SAR!$K$13","v":""},null,null,null,null,null,null,null,null,null,null,"VOLTAGE",null,null,null,{"$f":"SAR!$K$36","v":0},null,null,null,null,null,"SATS",null,null,{"$f":"SAR!$BA$2","v":0}]
[null,null,null,null,null,null,null,null,null,null,null,null,null,null,null,null,null,null,null,null,null,null,null,null,null,null,null,null,null,null,null,null,null,null,null,null,null,null,null,null,null,null,null,null,null,null,null,null,null,null,null,null,null,null,null,null,null,null,null,null,null,null,null,null,null,null,null,null,null,null,null,null,null,null,null,null,null,null,null,null,null,null,null,null,null,null,null,null,null,null,null,null,null,null,null,null,null,null,null,null,null,null,null,null,"Y",{"$f":"IF(V47>70,1,0)","v":0}]
[]
[null,null,null,null,null,null,null,null,null,null,null,null,null,null,null,null,null,null,null,null,null,null,null,null,null,null,null,null,null,null,null,null,null,null,null,null,null,null,null,null,null,null,null,null,null,null,"AREA",null,null,null,{"$f":"SAR!$K$39","v":0},null,null,null,null,null,null,null,null,null,null,"PROJECT DATE",null,null,null,{"$f":"SAR!$K$42","v":"00:00:00"}]
[]
[]
[null,null,null,null,null,null,null,null,null,null,null,null,null,null,null,null,null,null,null,null,null,null,null,null,null,null,null,null,null,null,null,null,null,null,null,null,null,null,null,null,null,null,null,null,null,null,null,null,null,null,null,null,null,null,null,null,null,null,null,null,null,null,null,null,null,null,null,null,null,null,null,null,null,null,null,null,null,null,null,null,null,null,null,null,null,null,null,null,null,null,null,null,null,null,null,null,null,null,null,null,null,null,null,null,null,null,null,null,null,null,null,null,null,null,null,null,null,null,null,null,null,null,null,null,null,null,null,null,null,null,null,null,null,null,null,null,null,null,null,null,null,null,null,null,null,null,null,null,null,null,null,null,null,null,null,null,null,null,null,null,null,null,null,null,null,null,null,null,null,null,null,null,null,null,null,null,null,null,null,null,null,null,null,"Shape Count"]
[null,null,null,null,null,null,null,null,null,null,null,null,null,null,null,null,null,null,null,null,null,null,null,"PRIMARY SUBSTATION ",null,null,null,null,{"$f":"SAR!$K$45","v":0},null,null,null,null,null,null,null,null,null,null,null,null,null,null,null,null,null,"DISTRIBUTION SUBSTATION ",null,null,null,null,{"$f":"SAR!$K$30","v":0},null,null,null,null,null,null,null,null,null,null,null,null,null,null,null,null,null,null,null,"PLANT REF",null,null,null,null,{"$f":"SAR!$K$33","v":0}]
[]
[null,null,null,null,null,null,null,null,null,null,null,null,null,null,null,null,null,null,null,null,null,null,null,null,null,null,null,null,null,null,null,null,null,null,null,null,null,null,null,null,null,null,null,null,null,null,null,null,null,null,null,null,null,null,null,null,null,null,null,null,null,null,null,null,null,null,null,null,null,null,null,null,null,null,null,null,null,null,null,null,null,null,null,null,null,null,null,null,null,null,null,null,null,null,null,null,null,null,null,null,null,null,null,null,null,null,null,null,null,null,null,null,null,null,null,null,null,null,null,null,null,null,null,null,null,null,null,null,null,null,null,null,null,null,null,null,null,null,null,null,null,null,null,null,null,null,null,null,null,null,null,null,null,null,null,null,null,null,null,null,null,null,null,null,null,null,null,null,null,null,null,null,null,null,null,null,null,null,null,null,null,null,null,118]
[]
[null,null,null,null,null,null,null,null,null,null,null,null,null,null,null,null,null,null,null,null,null,null,null,"LARGE 'AFTER' DIAGRAM"]
[]
[null,null,null,null,null,null,null,null,null,null,null,null,null,null,null,null,null,null,null,null,null,null,null,null,null,null,null,null,null,null,null,null,null,null,null,null,null,null,null,null,null,null,null,null,null,null,null,null,null,null,null,null,null,null,null,null,null,null,null,null,null,null,null,null,null,null,null,null,null,null,null,null,null,null,null,null,null,null,null,null,null,null,null,null,null,null,null,null,"DOC QUICK LINK"]
[]
[]
[]
[]
[]
[]
[]
[]
[]
[]
[]
[]
[]
[]
[]
[]
[]
[]
[]
[]
[]
[]
[]
[]
[]
[]
[]
[]
[]
[]
[]
[null,null,null,null,null,"ENTER TEXT HERE",null,null,null,null,null,null,null,null,null,null,null,null,null,null,null,{"$f":"GB1","v":70}]
[]
[]
[]
[]
[]
[]
[]
[]
[]
[]
[]
[]
[]
[]
[]
[]
[]
[]
[]
[]
[]
[]
[]
[]
[]
[]
[]
[]
[]
[]
[]
[]
[]
[]
[]
[]
[]
[]
[]
[]
[]
[]
[]
[]
[]
[null,null,null,null,null,null,null,null,null,null,null,null,null,null,null,null,null,null,null,null,null,null,null,"DESCRIPTION OF WORK"]

{"sheet":"DOC 1D","index":9,"n_rows":105,"n_cols":106,"rows_kept":105,"cut":false,"hidden":false,"merged":[[107,0,107,64],[104,49,106,61],[104,62,106,63],[99,12,106,30],[98,34,100,46],[98,47,100,48],[101,34,103,46],[101,47,103,48],[104,34,106,46],[104,47,106,48],[98,49,100,61],[98,62,100,63],[101,49,103,61],[101,62,103,63],[99,1,101,10],[99,11,101,11],[95,1,97,10],[95,11,97,11],[95,12,97,30],[95,34,97,63],[48,0,52,0],[24,1,93,63],[95,31,97,31],[1,1,6,11],[1,12,6,22],[1,24,3,27],[1,28,3,38],[1,39,3,42],[1,43,3,47],[1,49,6,51],[1,52,6,63],[4,24,6,27],[4,28,6,38],[4,39,6,42],[4,43,6,47],[7,1,7,63],[8,1,10,5],[8,6,10,22],[8,24,10,28],[8,29,10,47],[8,49,10,53],[8,54,10,63],[20,1,22,63],[12,45,14,63],[12,1,14,10],[12,11,14,11],[12,34,14,43],[12,44,14,44],[14,66,16,78],[8,64,10,64],[16,1,18,63],[16,64,18,64],[12,64,14,64],[12,12,14,27],[12,28,14,30]]}
[null,null,null,null,null,null,null,null,null,null,null,null,null,null,null,null,null,null,null,null,null,null,null,null,null,null,null,null,null,null,null,null,null,null,null,null,null,null,null,null,null,null,null,null,null,null,null,null,null,null,null,null,null,null,null,null,null,null,null,null,null,null,null,null,null,null,null,null,null,null,null,null,null,null,null,null,null,null,null,null,null,null,null,null,null,null,null,null,null,null,null,null,null,null,null,null,null,null,null,null,null,null,null,null,{"$f":"IF(DA3=\"Y\",1,0)","v":1}]
[null,null,null,null,null,null,null,null,null,null,null,null,"DOC 1D",null,null,null,null,null,null,null,null,null,null,null,"ENGINEER",null,null,null,{"$f":"SAR!$K$13","v":""},null,null,null,null,null,null,null,null,null,null,"VOLTAGE",null,null,null,{"$f":"SAR!$K$36","v":0},null,null,null,null,null,"SATS",null,null,{"$f":"SAR!$BA$2","v":0}]
[null,null,null,null,null,null,null,null,null,null,null,null,null,null,null,null,null,null,null,null,null,null,null,null,null,null,null,null,null,null,null,null,null,null,null,null,null,null,null,null,null,null,null,null,null,null,null,null,null,null,null,null,null,null,null,null,null,null,null,null,null,null,null,null,null,null,null,null,null,null,null,null,null,null,null,null,null,null,null,null,null,null,null,null,null,null,null,null,null,null,null,null,null,null,null,null,null,null,null,null,null,null,null,null,"Y",{"$f":"IF(COUNTA(M96,M100,AV99,AV102,AV105,BK105,BK102,BK99)>0,\"1\",0)","v":0}]
[]
[null,null,null,null,null,null,null,null,null,null,null,null,null,null,null,null,null,null,null,null,null,null,null,null,"AREA",null,null,null,{"$f":"SAR!$K$39","v":0},null,null,null,null,null,null,null,null,null,null,"PROJECT DATE",null,null,null,{"$f":"SAR!$K$42","v":"00:00:00"}]
[]
[]
[]
[null,"PRIMARY SUBSTATION ",null,null,null,null,{"$f":"SAR!$K$45","v":0},null,null,null,null,null,null,null,null,null,null,null,null,null,null,null,null,null,"DISTRIBUTION SUBSTATION ",null,null,null,null,{"$f":"SAR!$K$30","v":0},null,null,null,null,null,null,null,null,null,null,null,null,null,null,null,null,null,null,null,"PLANT REF",null,null,null,null,{"$f":"SAR!$K$33","v":0}]
[]
[]
[]
[null,"COMMISSIONING DRIVER",null,null,null,null,null,null,null,null,null,{"$f":"IF(M13=\"\",0,1)","v":0},null,null,null,null,null,null,null,null,null,null,null,null,null,null,null,null,{"$f":"IFERROR(VLOOKUP(M13,CODES!$A$5:$B$36,2,FALSE),\"\")","v":""},null,null,null,null,null,"PROJECT CODE",null,null,null,null,null,null,null,null,null,null,{"$f":"SAR!J78","v":""},null,null,null,null,null,null,null,null,null,null,null,null,null,null,null,null,null,null,{"$f":"IF(BM9>0,17,0)","v":0}]
[]
[null,null,null,null,null,null,null,null,null,null,null,null,null,null,null,null,null,null,null,null,null,null,null,null,null,null,null,null,null,null,null,null,null,null,null,null,null,null,null,null,null,null,null,null,null,null,null,null,null,null,null,null,null,null,null,null,null,null,null,null,null,null,null,null,null,null,"DOC QUICK LINK"]
[]
[null,"AS LAID DRAWING "]
[]
[]
[]
[null,"ALL WORK TO BE SKECTCHED, AND TO BE MEASURED FROM EXISTING OS FEATURES. WE REQUIRE 2 MEASUREMENTS PER JOINT AND INTERMEDIATE MEASUREMENTS FOR CABLE LAY."]
[]
[]
[]
[]
[]
[]
[]
[]
[]
[]
[]
[]
[]
[]
[]
[]
[]
[]
[]
[]
[]
[]
[]
[]
[]
[]
[]
[]
[]
[]
[]
[]
[]
[]
[]
[]
[]
[]
[]
[]
[]
[]
[]
[]
[]
[]
[]
[]
[]
[]
[]
[]
[]
[]
[]
[]
[]
[]
[]
[]
[]
[]
[]
[]
[]
[]
[]
[]
[]
[]
[]
[]
[]
[]
[null,"PHASE",null,null,null,null,null,null,null,null,null,null,null,null,null,null,null,null,null,null,null,null,null,null,null,null,null,null,null,null,null,"i",null,null,"CABLE TYPE(S) USED "]
[]
[]
[null,null,null,null,null,null,null,null,null,null,null,null,null,null,null,null,null,null,null,null,null,null,null,null,null,null,null,null,null,null,null,null,null,null,"AUXILIARY",null,null,null,null,null,null,null,null,null,null,null,null,null,null,"6.6 KV"]
[null,"JOINTS USED"]
[]
[null,null,null,null,null,null,null,null,null,null,null,null,null,null,null,null,null,null,null,null,null,null,null,null,null,null,null,null,null,null,null,null,null,null,"SERVICE",null,null,null,null,null,null,null,null,null,null,null,null,null,null,"11KV"]
[]
[]
[null,null,null,null,null,null,null,null,null,null,null,null,null,null,null,null,null,null,null,null,null,null,null,null,null,null,null,null,null,null,null,null,null,null,"LV",null,null,null,null,null,null,null,null,null,null,null,null,null,null,"33/132KV"]

{"sheet":"DECOMM A","index":10,"n_rows":106,"n_cols":162,"rows_kept":106,"cut":false,"hidden":false,"merged":[[86,34,88,40],[86,41,88,42],[86,43,88,44],[89,22,91,23],[86,1,88,6],[86,7,88,8],[16,45,18,63],[0,104,1,104],[2,104,4,104],[5,104,7,104],[74,43,76,44],[74,45,76,46],[74,47,76,48],[77,26,79,31],[77,32,79,33],[77,34,79,40],[77,41,79,42],[77,43,79,44],[77,45,79,46],[77,47,79,48],[80,26,82,31],[80,32,82,33],[80,34,82,40],[80,41,82,42],[101,0,101,64],[89,26,91,31],[89,32,91,33],[89,34,91,40],[89,41,91,42],[89,43,91,44],[89,45,91,46],[89,47,91,48],[83,26,85,31],[83,32,85,33],[83,34,85,40],[83,41,85,42],[83,43,85,44],[83,45,85,46],[83,47,85,48],[86,26,88,31],[86,32,88,33],[86,47,88,48],[89,1,91,6],[89,7,91,8],[83,1,85,6],[83,7,85,8],[83,9,85,15],[83,16,85,17],[80,43,82,44],[80,45,82,46],[80,47,82,48],[89,9,91,15],[89,16,91,17],[89,18,91,19],[89,20,91,21],[68,41,70,42],[68,43,70,44],[68,45,70,46],[68,47,70,48],[86,9,88,15],[86,16,88,17],[86,18,88,19],[86,20,88,21],[86,22,88,23],[74,18,76,19],[74,20,76,21],[74,22,76,23],[86,45,88,46],[71,26,73,31],[71,32,73,33],[71,34,73,40],[71,41,73,42],[71,43,73,44],[71,45,73,46],[71,47,73,48],[74,26,76,31],[74,32,76,33],[74,34,76,40],[74,41,76,42],[62,41,64,42],[62,43,64,44],[62,45,64,46],[62,47,64,48],[65,26,67,31],[65,32,67,33],[65,34,67,40],[65,41,67,42],[65,43,67,44],[65,45,67,46],[65,47,67,48],[62,26,64,31],[62,32,64,33],[62,34,64,40],[68,26,70,31],[68,32,70,33],[68,34,70,40],[53,41,55,42],[53,43,55,44],[53,45,55,46],[53,47,55,48],[56,41,58,42],[56,43,58,44],[56,45,58,46],[56,47,58,48],[59,26,61,31],[59,32,61,33],[59,34,61,40],[59,41,61,42],[59,43,61,44],[59,45,61,46],[59,47,61,48],[80,1,82,6],[80,7,82,8],[80,9,82,15],[80,16,82,17],[80,18,82,19],[80,20,82,21],[80,22,82,23],[21,26,23,48],[24,26,40,31],[24,32,40,33],[24,34,37,40],[24,41,37,42],[24,43,37,44],[24,45,37,46],[24,47,37,48],[38,34,40,40],[38,41,40,42],[38,43,40,44],[38,45,40,46],[38,47,40,48],[50,41,52,42],[50,43,52,44],[50,45,52,46],[50,47,52,48],[47,34,49,40],[50,26,52,31],[50,32,52,33],[50,34,52,40],[56,26,58,31],[56,32,58,33],[56,34,58,40],[83,18,85,19],[83,20,85,21],[83,22,85,23],[71,18,73,19],[71,20,73,21],[71,22,73,23],[53,26,55,31],[53,32,55,33],[53,34,55,40],[68,1,70,6],[68,7,70,8],[68,9,70,15],[68,16,70,17],[68,18,70,19],[68,20,70,21],[68,22,70,23],[77,1,79,6],[77,7,79,8],[77,9,79,15],[77,16,79,17],[77,18,79,19],[77,20,79,21],[77,22,79,23],[71,1,73,6],[71,7,73,8],[71,9,73,15],[71,16,73,17],[74,1,76,6],[74,7,76,8],[74,9,76,15],[74,16,76,17],[62,1,64,6],[62,7,64,8],[62,9,64,15],[62,16,64,17],[62,18,64,19],[62,20,64,21],[62,22,64,23],[65,1,67,6],[65,7,67,8],[65,9,67,15],[65,16,67,17],[65,18,67,19],[65,20,67,21],[65,22,67,23],[56,1,58,6],[56,7,58,8],[56,9,58,15],[56,16,58,17],[56,18,58,19],[56,20,58,21],[56,22,58,23],[59,1,61,6],[59,7,61,8],[59,9,61,15],[59,16,61,17],[59,18,61,19],[59,20,61,21],[59,22,61,23],[50,1,52,6],[50,7,52,8],[50,9,52,15],[50,16,52,17],[50,18,52,19],[50,20,52,21],[50,22,52,23],[53,1,55,6],[53,7,55,8],[53,9,55,15],[53,16,55,17],[53,18,55,19],[53,20,55,21],[53,22,55,23],[41,43,43,44],[41,45,43,46],[41,47,43,48],[41,1,43,6],[38,58,40,59],[38,56,40,57],[41,60,43,61],[41,26,43,31],[47,1,49,6],[47,7,49,8],[47,9,49,15],[47,16,49,17],[47,18,49,19],[47,20,49,21],[47,22,49,23],[41,41,43,42],[47,41,49,42],[47,43,49,44],[47,45,49,46],[47,47,49,48],[41,32,43,33],[41,34,43,40],[47,26,49,31],[47,32,49,33],[21,1,23,23],[24,1,40,6],[24,7,40,8],[24,9,37,15],[24,16,37,17],[24,18,37,19],[24,20,37,21],[24,22,37,23],[38,9,40,15],[38,16,40,17],[38,18,40,19],[38,20,40,21],[38,22,40,23],[39,161,41,161],[39,160,41,160],[39,159,41,159],[39,158,41,158],[39,157,41,157],[39,156,41,156],[7,1,7,63],[8,1,10,5],[8,6,10,22],[8,24,10,28],[8,29,10,47],[8,49,10,53],[8,54,10,63],[12,1,14,63],[29,134,31,134],[29,135,31,135],[29,136,31,136],[26,138,28,138],[16,34,18,43],[17,127,19,131],[41,56,43,57],[41,58,43,59],[24,58,37,59],[23,127,25,131],[86,0,88,0],[1,1,6,11],[1,12,6,22],[1,24,3,27],[1,28,3,38],[1,39,3,42],[1,43,3,47],[1,49,6,51],[1,52,6,63],[4,24,6,27],[4,28,6,38],[4,39,6,42],[4,43,6,47],[41,7,43,8],[41,9,43,15],[24,51,40,55],[41,16,43,17],[41,18,43,19],[41,20,43,21],[41,22,43,23],[44,1,46,6],[44,7,46,8],[44,9,46,15],[44,16,46,17],[103,1,103,15],[103,17,103,31],[103,33,103,47],[103,49,103,63],[71,62,73,63],[62,62,64,63],[50,56,52,57],[0,77,2,78],[0,79,2,80],[3,77,5,80],[13,64,14,64],[44,18,46,19],[44,20,46,21],[44,22,46,23],[44,26,46,31],[44,32,46,33],[44,34,46,40],[44,41,46,42],[44,43,46,44],[44,45,46,46],[44,47,46,48],[24,60,37,61],[24,62,37,63],[24,56,37,57],[23,132,25,132],[23,133,25,133],[23,134,25,134],[23,135,25,135],[23,136,25,136],[23,137,25,137],[26,142,28,142],[23,138,25,138],[23,139,25,140],[32,127,34,131],[32,143,34,144],[32,141,34,141],[32,142,34,142],[32,132,34,132],[32,133,34,133],[32,138,34,138],[35,141,37,141],[35,142,37,142],[32,134,34,134],[32,135,34,135],[32,136,34,136],[32,137,34,137],[32,139,34,140],[35,139,37,140],[41,127,43,131],[41,143,43,144],[41,145,43,146],[41,147,43,148],[41,149,43,150],[35,147,37,148],[35,149,37,150],[38,127,40,131],[38,143,40,144],[38,145,40,146],[38,147,40,148],[35,138,37,138],[35,132,37,132],[35,133,37,133],[35,134,37,134],[35,135,37,135],[35,136,37,136],[35,137,37,137],[41,132,43,132],[41,133,43,133],[41,134,43,134],[41,135,43,135],[41,136,43,136],[35,127,37,131],[44,145,46,146],[44,147,46,148],[44,149,46,150],[47,127,49,131],[47,143,49,144],[47,145,49,146],[44,127,46,131],[44,143,46,144],[44,141,46,141],[44,142,46,142],[44,132,46,132],[44,133,46,133],[50,149,52,150],[53,127,55,131],[53,143,55,144],[53,145,55,146],[53,147,55,148],[53,149,55,150],[47,147,49,148],[47,149,49,150],[50,127,52,131],[50,143,52,144],[50,145,52,146],[50,147,52,148],[53,132,55,132],[53,133,55,133],[53,134,55,134],[53,135,55,135],[53,136,55,136],[53,137,55,137],[47,138,49,138],[50,138,52,138],[53,138,55,138],[47,139,49,140],[50,139,52,140],[53,139,55,140],[56,147,58,148],[56,149,58,150],[59,127,61,131],[59,143,61,144],[59,145,61,146],[56,127,58,131],[56,143,58,144],[56,138,58,138],[56,141,58,141],[56,142,58,142],[59,138,61,138],[56,132,58,132],[56,133,58,133],[56,134,58,134],[56,135,58,135],[56,136,58,136],[56,137,58,137],[59,133,61,133],[59,134,61,134],[59,135,61,135],[59,136,61,136],[59,137,61,137],[59,147,61,148],[59,149,61,150],[68,145,70,146],[68,147,70,148],[68,149,70,150],[68,127,70,131],[68,143,70,144],[68,138,70,138],[68,141,70,141],[68,142,70,142],[62,149,64,150],[65,127,67,131],[65,143,67,144],[65,145,67,146],[65,147,67,148],[65,149,67,150],[62,127,64,131],[62,143,64,144],[62,145,64,146],[62,147,64,148],[56,145,58,146],[62,138,64,138],[65,138,67,138],[38,138,40,138],[41,138,43,138],[44,138,46,138],[41,139,43,140],[44,139,46,140],[56,139,58,140],[59,139,61,140],[62,139,64,140],[65,139,67,140],[62,141,64,141],[62,142,64,142],[65,141,67,141],[65,142,67,142],[47,141,49,141],[47,142,49,142],[50,141,52,141],[50,142,52,142],[53,141,55,141],[53,142,55,142],[59,141,61,141],[59,142,61,142],[50,137,52,137],[44,134,46,134],[44,135,46,135],[44,136,46,136],[44,137,46,137],[47,132,49,132],[47,133,49,133],[47,134,49,134],[47,135,49,135],[47,136,49,136],[47,137,49,137],[50,132,52,132],[41,141,43,141],[41,142,43,142],[68,132,70,132],[68,133,70,133],[68,134,70,134],[68,135,70,135],[68,136,70,136],[68,137,70,137],[65,132,67,132],[65,133,67,133],[65,134,67,134],[65,135,67,135],[65,136,67,136],[65,137,67,137],[62,132,64,132],[62,133,64,133],[62,134,64,134],[62,135,64,135],[68,139,70,140],[62,136,64,136],[62,137,64,137],[50,134,52,134],[50,135,52,135],[50,136,52,136],[74,56,76,57],[74,58,76,59],[74,60,76,61],[74,62,76,63],[77,56,79,57],[77,58,79,59],[77,60,79,61],[77,62,79,63],[65,56,67,57],[59,132,61,132],[62,56,64,57],[62,58,64,59],[62,60,64,61],[56,56,58,57],[56,58,58,59],[56,60,58,61],[44,56,46,57],[44,58,46,59],[44,60,46,61],[44,62,46,63],[47,56,49,57],[47,58,49,59],[47,60,49,61],[47,62,49,63],[50,58,52,59],[6,152,8,152],[6,153,8,153],[89,60,91,61],[89,62,91,63],[80,62,82,63],[83,56,85,57],[83,58,85,59],[83,60,85,61],[83,62,85,63],[80,56,82,57],[80,58,82,59],[80,60,82,61],[65,58,67,59],[65,60,67,61],[65,62,67,63],[68,56,70,57],[68,58,70,59],[68,60,70,61],[68,62,70,63],[71,56,73,57],[71,58,73,59],[71,60,73,61],[56,62,58,63],[59,56,61,57],[15,158,17,158],[15,159,17,159],[15,160,17,160],[15,161,17,161],[9,152,11,152],[9,153,11,153],[12,152,14,152],[12,153,14,153],[15,152,17,152],[15,153,17,153],[12,158,14,158],[12,157,14,157],[12,156,14,156],[9,161,11,161],[9,160,11,160],[9,159,11,159],[9,158,11,158],[9,157,11,157],[9,156,11,156],[12,161,14,161],[12,160,14,160],[12,159,14,159],[18,153,20,153],[36,156,38,156],[36,157,38,157],[36,158,38,158],[36,160,38,160],[30,156,32,156],[30,157,32,157],[30,158,32,158],[30,159,32,159],[30,160,32,160],[86,56,88,57],[86,58,88,59],[86,60,88,61],[86,62,88,63],[89,56,91,57],[89,58,91,59],[39,152,41,152],[36,161,38,161],[33,161,35,161],[33,152,35,152],[33,153,35,153],[33,156,35,156],[33,157,35,157],[33,158,35,158],[33,159,35,159],[36,152,38,152],[36,153,38,153],[59,58,61,59],[59,60,61,61],[59,62,61,63],[50,60,52,61],[50,62,52,63],[53,56,55,57],[53,58,55,59],[74,51,76,55],[77,51,79,55],[80,51,82,55],[83,51,85,55],[86,51,88,55],[89,51,91,55],[56,51,58,55],[59,51,61,55],[62,51,64,55],[65,51,67,55],[68,51,70,55],[71,51,73,55],[45,160,47,160],[39,153,41,153],[53,0,55,0],[27,157,29,157],[27,158,29,158],[27,159,29,159],[27,160,29,160],[36,159,38,159],[42,156,44,156],[42,157,44,157],[42,158,44,158],[42,159,44,159],[42,160,44,160],[33,160,35,160],[27,156,29,156],[27,152,29,152],[27,153,29,153],[41,51,43,55],[44,51,46,55],[47,51,49,55],[53,60,55,61],[53,62,55,63],[41,137,43,137],[38,141,40,141],[89,0,91,0],[30,153,32,153],[44,0,46,0],[47,0,49,0],[50,0,52,0],[24,153,26,153],[21,156,23,156],[21,157,23,157],[21,158,23,158],[24,156,26,156],[24,157,26,157],[24,158,26,158],[56,0,58,0],[59,0,61,0],[62,0,64,0],[65,0,67,0],[71,0,73,0],[74,0,76,0],[77,0,79,0],[80,0,82,0],[83,0,85,0],[42,152,44,152],[68,0,70,0],[24,152,26,152],[0,156,2,156],[0,157,2,157],[0,158,2,158],[0,159,2,159],[0,160,2,160],[0,161,2,161],[3,152,5,152],[3,153,5,153],[3,156,5,156],[3,157,5,157],[3,158,5,158],[3,159,5,159],[3,160,5,160],[3,161,5,161],[0,152,2,152],[0,153,2,153],[36,0,38,0],[39,0,40,0],[41,0,43,0],[17,132,19,137],[17,139,19,140],[17,141,19,142],[6,161,8,161],[6,160,8,160],[6,159,8,159],[6,158,8,158],[6,157,8,157],[6,156,8,156],[17,149,19,150],[17,147,19,148],[17,145,19,146],[15,156,17,156],[15,157,17,157],[24,160,26,160],[21,160,23,160],[21,152,23,152],[21,153,23,153],[18,152,20,152],[30,161,32,161],[21,51,23,63],[24,161,26,161],[21,161,23,161],[18,156,20,156],[18,157,20,157],[18,158,20,158],[50,51,52,55],[53,51,55,55],[45,161,47,161],[45,152,47,152],[45,153,47,153],[30,152,32,152],[27,161,29,161],[21,159,23,159],[24,159,26,159],[18,159,20,159],[18,160,20,160],[18,161,20,161],[42,161,44,161],[42,153,44,153],[45,156,47,156],[45,157,47,157],[45,158,47,158],[45,159,47,159],[50,133,52,133],[38,149,40,150],[38,139,40,140],[38,137,40,137],[38,136,40,136],[38,135,40,135],[38,134,40,134],[38,133,40,133],[38,132,40,132],[35,145,37,146],[35,143,37,144],[38,142,40,142],[32,149,34,150],[32,147,34,148],[32,145,34,146],[29,149,31,150],[29,147,31,148],[29,145,31,146],[29,143,31,144],[29,142,31,142],[29,141,31,141],[29,139,31,140],[29,138,31,138],[29,137,31,137],[29,133,31,133],[29,132,31,132],[29,127,31,131],[26,149,28,150],[26,147,28,148],[26,145,28,146],[26,143,28,144],[26,141,28,141],[26,139,28,140],[26,137,28,137],[26,136,28,136],[26,135,28,135],[26,134,28,134],[26,133,28,133],[26,132,28,132],[26,127,28,131],[23,149,25,150],[23,147,25,148],[23,143,25,144],[23,142,25,142],[23,141,25,141],[20,149,22,150],[20,147,22,148],[20,145,22,146],[20,143,22,144],[20,142,22,142],[20,141,22,141],[23,145,25,146],[20,139,22,140],[20,138,22,138],[20,137,22,137],[20,136,22,136],[20,135,22,135],[20,134,22,134],[20,133,22,133],[20,132,22,132],[20,127,22,131],[3,132,16,137],[3,127,16,131],[0,127,2,150],[17,143,19,144],[17,138,19,138],[3,149,16,150],[3,147,16,148],[3,145,16,146],[3,143,16,144],[3,141,16,142],[3,139,16,140],[3,138,16,138],[92,0,94,0],[92,1,94,6],[92,7,94,8],[92,9,94,15],[92,16,94,17],[92,18,94,19],[92,20,94,21],[92,22,94,23],[92,26,94,31],[92,32,94,33],[92,34,94,40],[92,41,94,42],[92,43,94,44],[92,45,94,46],[92,47,94,48],[92,51,94,55],[92,56,94,57],[92,58,94,59],[95,32,97,33],[95,34,97,40],[95,41,97,42],[95,43,97,44],[95,45,97,46],[95,47,97,48],[95,51,97,55],[95,56,97,57],[95,58,97,59],[95,0,97,0],[95,1,97,6],[95,7,97,8],[95,9,97,15],[95,16,97,17],[95,18,97,19],[95,20,97,21],[95,22,97,23],[95,26,97,31],[98,0,100,0],[98,1,100,6],[98,7,100,8],[98,9,100,15],[98,16,100,17],[98,18,100,19],[98,20,100,21],[98,22,100,23],[98,26,100,31],[98,32,100,33],[98,34,100,40],[98,41,100,42],[98,43,100,44],[98,45,100,46],[98,47,100,48],[98,51,100,55],[98,56,100,57],[98,58,100,59],[14,67,16,79],[23,67,25,79],[27,67,29,71],[27,72,29,79],[30,67,32,71],[30,72,32,79],[33,67,35,71],[33,72,35,79],[98,60,100,61],[98,62,100,63],[92,60,94,61],[92,62,94,63],[95,60,97,61],[95,62,97,63],[41,62,43,63],[38,62,40,63],[38,60,40,61]]}
[null,null,null,null,null,null,null,null,null,null,null,null,null,null,null,null,null,null,null,null,null,null,null,null,null,null,null,null,null,null,null,null,null,null,null,null,null,null,null,null,null,null,null,null,null,null,null,null,null,null,null,null,null,null,null,null,null,null,null,null,null,null,null,null,null,null,null,null,null,null,null,null,null,null,null,null,null,{"$f":"BM18","v":0},null,{"$f":"BN18","v":0},null,null,null,null,null,null,null,null,null,null,null,null,null,null,null,null,null,null,null,null,null,null,null,null,"PRINT?",null,null,null,null,null,null,null,null,null,null,null,"TYPE","VOLTAGE","ELLIPSE",null,null,null,null,null,null,null,null,"ANY OTHER EQUIPMENT TO BE DECOMMISSIONED",null,null,null,null,null,null,null,null,null,null,null,null,null,null,null,null,null,null,null,null,null,null,null,null,0,2,null,null,{"$f":"MID(#REF!,1,1)","v":{"$error":"#REF!"}},{"$f":"MID(#REF!,2,1)","v":{"$error":"#REF!"}},{"$f":"MID(#REF!,3,1)","v":{"$error":"#REF!"}},{"$f":"MID(#REF!,4,1)","v":{"$error":"#REF!"}},{"$f":"MID(#REF!,5,1)","v":{"$error":"#REF!"}},{"$f":"MID(#REF!,6,1)","v":{"$error":"#REF!"}}]
[null,null,null,null,null,null,null,null,null,null,null,null,"DECOMM A",null,null,null,null,null,null,null,null,null,null,null,"ENGINEER",null,null,null,{"$f":"SAR!$K$13","v":""},null,null,null,null,null,null,null,null,null,null,"VOLTAGE",null,null,null,{"$f":"SAR!$K$36","v":0},null,null,null,null,null,"SATS",null,null,{"$f":"SAR!$BA$2","v":0}]
[null,null,null,null,null,null,null,null,null,null,null,null,null,null,null,null,null,null,null,null,null,null,null,null,null,null,null,null,null,null,null,null,null,null,null,null,null,null,null,null,null,null,null,null,null,null,null,null,null,null,null,null,null,null,null,null,null,null,null,null,null,null,null,null,null,null,null,null,null,null,null,null,null,null,null,null,null,null,null,null,null,null,null,null,null,null,null,null,null,null,null,null,null,null,null,null,null,null,null,null,null,null,null,null,{"$f":"IF(BZ1=0,\"\",\"Y\")","v":""},null,null,null,null,null,null,null,null,null,null,null,"ABS",{"$f":"$BM$14","v":0},"SW"]
[null,null,null,null,null,null,null,null,null,null,null,null,null,null,null,null,null,null,null,null,null,null,null,null,null,null,null,null,null,null,null,null,null,null,null,null,null,null,null,null,null,null,null,null,null,null,null,null,null,null,null,null,null,null,null,null,null,null,null,null,null,null,null,null,null,null,null,null,null,null,null,null,null,null,null,null,null,{"$f":"BZ1/CB1","v":{"$error":"#DIV/0!"}},null,null,null,null,null,null,null,null,null,null,null,null,null,null,null,null,null,null,null,null,null,null,null,null,null,null,null,null,null,null,null,null,null,null,null,null,null,null,"ACTUATOR",0,"AU",null,null,null,null,null,null,null,null,"EQUIPMENT TYPE\n(PICK FROM LIST)",null,null,null,null,"PLANT REF",null,null,null,null,null,"VOLTAGE","ELLIPSE GROUP",null,"UNIT NUMBER \n(01 UNLESS SPECIFIED)",null,"DRIVER",null,"CONDITION",null,"STATUS",null,"REMOVED BY",null,null,0,3,null,null,{"$f":"MID(#REF!,1,1)","v":{"$error":"#REF!"}},{"$f":"MID(#REF!,2,1)","v":{"$error":"#REF!"}},{"$f":"MID(#REF!,3,1)","v":{"$error":"#REF!"}},{"$f":"MID(#REF!,4,1)","v":{"$error":"#REF!"}},{"$f":"MID(#REF!,5,1)","v":{"$error":"#REF!"}},{"$f":"MID(#REF!,6,1)","v":{"$error":"#REF!"}}]
[null,null,null,null,null,null,null,null,null,null,null,null,null,null,null,null,null,null,null,null,null,null,null,null,"AREA",null,null,null,{"$f":"SAR!$K$39","v":0},null,null,null,null,null,null,null,null,null,null,"PROJECT DATE",null,null,null,{"$f":"SAR!$K$42","v":"00:00:00"},null,null,null,null,null,null,null,null,null,null,null,null,null,null,null,null,null,null,null,null,null,null,null,null,null,null,null,null,null,null,null,null,null,null,null,null,null,null,null,null,null,null,null,null,null,null,null,null,null,null,null,null,null,null,null,null,null,null,null,null,null,null,null,null,null,null,null,null,null,null,null,null,"AR AUX SUPPLY BOARD",0,"AB"]
[null,null,null,null,null,null,null,null,null,null,null,null,null,null,null,null,null,null,null,null,null,null,null,null,null,null,null,null,null,null,null,null,null,null,null,null,null,null,null,null,null,null,null,null,null,null,null,null,null,null,null,null,null,null,null,null,null,null,null,null,null,null,null,null,null,null,null,null,null,null,null,null,null,null,null,null,null,null,null,null,null,null,null,null,null,null,null,null,null,null,null,null,null,null,null,null,null,null,null,null,null,null,null,null,null,null,null,null,null,null,null,null,null,null,null,null,"BATTERY",0,"BA"]
[null,null,null,null,null,null,null,null,null,null,null,null,null,null,null,null,null,null,null,null,null,null,null,null,null,null,null,null,null,null,null,null,null,null,null,null,null,null,null,null,null,null,null,null,null,null,null,null,null,null,null,null,null,null,null,null,null,null,null,null,null,null,null,null,null,null,null,null,null,null,null,null,null,null,null,null,null,null,null,null,null,null,null,null,null,null,null,null,null,null,null,null,null,null,null,null,null,null,null,null,null,null,null,null,null,null,null,null,null,null,null,null,null,null,null,null,"BATTERY CHARGER",0,"CH",null,null,null,null,null,null,null,null,null,null,null,null,null,null,null,null,null,null,null,null,null,null,null,null,null,null,null,null,null,null,null,null,null,0,1,null,null,{"$f":"MID(#REF!,1,1)","v":{"$error":"#REF!"}},{"$f":"MID(#REF!,2,1)","v":{"$error":"#REF!"}},{"$f":"MID(#REF!,3,1)","v":{"$error":"#REF!"}},{"$f":"MID(#REF!,4,1)","v":{"$error":"#REF!"}},{"$f":"MID(#REF!,5,1)","v":{"$error":"#REF!"}},{"$f":"MID(#REF!,6,1)","v":{"$error":"#REF!"}}]
[null,null,null,null,null,null,null,null,null,null,null,null,null,null,null,null,null,null,null,null,null,null,null,null,null,null,null,null,null,null,null,null,null,null,null,null,null,null,null,null,null,null,null,null,null,null,null,null,null,null,null,null,null,null,null,null,null,null,null,null,null,null,null,null,null,null,null,null,null,null,null,null,null,null,null,null,null,null,null,null,null,null,null,null,null,null,null,null,null,null,null,null,null,null,null,null,null,null,null,null,null,null,null,null,null,null,null,null,null,null,null,null,null,null,null,null,"BUSBAR",{"$f":"$BM$14","v":0},"BB"]
[null,"PRIMARY SUBSTATION ",null,null,null,null,{"$f":"SAR!$K$45","v":0},null,null,null,null,null,null,null,null,null,null,null,null,null,null,null,null,null,"DISTRIBUTION SUBSTATION ",null,null,null,null,{"$f":"SAR!$K$30","v":0},null,null,null,null,null,null,null,null,null,null,null,null,null,null,null,null,null,null,null,"PLANT REF",null,null,null,null,{"$f":"SAR!$K$33","v":0},null,null,null,null,null,null,null,null,null,null,null,null,null,null,null,null,null,null,null,null,null,null,null,null,null,null,null,null,null,null,null,null,null,null,null,null,null,null,null,null,null,null,null,null,null,null,null,null,null,null,null,null,null,null,null,null,null,null,null,null,null,"BUSBAR CABLE BOX",{"$f":"$BM$14","v":0},"SW"]
[null,null,null,null,null,null,null,null,null,null,null,null,null,null,null,null,null,null,null,null,null,null,null,null,null,null,null,null,null,null,null,null,null,null,null,null,null,null,null,null,null,null,null,null,null,null,null,null,null,null,null,null,null,null,null,null,null,null,null,null,null,null,null,null,null,null,null,null,null,null,null,null,null,null,null,null,null,null,null,null,null,null,null,null,null,null,null,null,null,null,null,null,null,null,null,null,null,null,null,null,null,null,null,null,null,null,null,null,null,null,null,null,null,null,null,null,"BUSBAR RISER",0,"SW",null,null,null,null,null,null,null,null,null,null,null,null,null,null,null,null,null,null,null,null,null,null,null,null,null,null,null,null,null,null,null,null,null,0,1,null,null,{"$f":"MID(#REF!,1,1)","v":{"$error":"#REF!"}},{"$f":"MID(#REF!,2,1)","v":{"$error":"#REF!"}},{"$f":"MID(#REF!,3,1)","v":{"$error":"#REF!"}},{"$f":"MID(#REF!,4,1)","v":{"$error":"#REF!"}},{"$f":"MID(#REF!,5,1)","v":{"$error":"#REF!"}},{"$f":"MID(#REF!,6,1)","v":{"$error":"#REF!"}}]
[null,null,null,null,null,null,null,null,null,null,null,null,null,null,null,null,null,null,null,null,null,null,null,null,null,null,null,null,null,null,null,null,null,null,null,null,null,null,null,null,null,null,null,null,null,null,null,null,null,null,null,null,null,null,null,null,null,null,null,null,null,null,null,null,null,null,null,null,null,null,null,null,null,null,null,null,null,null,null,null,null,null,null,null,null,null,null,null,null,null,null,null,null,null,null,null,null,null,null,null,null,null,null,null,null,null,null,null,null,null,null,null,null,null,null,null,"CABLE BRIDGE",0,"CE"]
[null,null,null,null,null,null,null,null,null,null,null,null,null,null,null,null,null,null,null,null,null,null,null,null,null,null,null,null,null,null,null,null,null,null,null,null,null,null,null,null,null,null,null,null,null,null,null,null,null,null,null,null,null,null,null,null,null,null,null,null,null,null,null,null,null,null,null,null,null,null,null,null,null,null,null,null,null,null,null,null,null,null,null,null,null,null,null,null,null,null,null,null,null,null,null,null,null,null,null,null,null,null,null,null,null,null,null,null,null,null,null,null,null,null,null,null,"CIRCUIT BREAKER",{"$f":"$BM$14","v":0},"SW"]
[null,"DECOMMISSIONING INFORMATION (PLANT EQUIPMENT)",null,null,null,null,null,null,null,null,null,null,null,null,null,null,null,null,null,null,null,null,null,null,null,null,null,null,null,null,null,null,null,null,null,null,null,null,null,null,null,null,null,null,null,null,null,null,null,null,null,null,null,null,null,null,null,null,null,null,null,null,null,null,null,null,null,null,null,null,null,null,null,null,null,null,null,null,null,null,null,null,null,null,null,null,null,null,null,null,null,null,null,null,null,null,null,null,null,null,null,null,null,null,null,null,null,null,null,null,null,null,null,null,null,null,"FAULT THROWER",{"$f":"$BM$14","v":0},"FT",null,null,null,null,null,null,null,null,null,null,null,null,null,null,null,null,null,null,null,null,null,null,null,null,null,null,null,null,null,null,null,null,null,0,1,null,null,{"$f":"MID(#REF!,1,1)","v":{"$error":"#REF!"}},{"$f":"MID(#REF!,2,1)","v":{"$error":"#REF!"}},{"$f":"MID(#REF!,3,1)","v":{"$error":"#REF!"}},{"$f":"MID(#REF!,4,1)","v":{"$error":"#REF!"}},{"$f":"MID(#REF!,5,1)","v":{"$error":"#REF!"}},{"$f":"MID(#REF!,6,1)","v":{"$error":"#REF!"}}]
[null,null,null,null,null,null,null,null,null,null,null,null,null,null,null,null,null,null,null,null,null,null,null,null,null,null,null,null,null,null,null,null,null,null,null,null,null,null,null,null,null,null,null,null,null,null,null,null,null,null,null,null,null,null,null,null,null,null,null,null,null,null,null,null,null,null,null,null,null,null,null,null,null,null,null,null,null,null,null,null,null,null,null,null,null,null,null,null,null,null,null,null,null,null,null,null,null,null,null,null,null,null,null,null,null,null,null,null,null,null,null,null,null,null,null,null,"FEEDER PILLAR",0,"FP"]
[null,null,null,null,null,null,null,null,null,null,null,null,null,null,null,null,null,null,null,null,null,null,null,null,null,null,null,null,null,null,null,null,null,null,null,null,null,null,null,null,null,null,null,null,null,null,null,null,null,null,null,null,null,null,null,null,null,null,null,null,null,null,null,null,null,null,null,"DOC QUICK LINK",null,null,null,null,null,null,null,null,null,null,null,null,null,null,null,null,null,null,null,null,null,null,null,null,null,null,null,null,null,null,null,null,null,null,null,null,null,null,null,null,null,null,null,null,null,null,null,null,"GAR",0,"GAR"]
[null,null,null,null,null,null,null,null,null,null,null,null,null,null,null,null,null,null,null,null,null,null,null,null,null,null,null,null,null,null,null,null,null,null,null,null,null,null,null,null,null,null,null,null,null,null,null,null,null,null,null,null,null,null,null,null,null,null,null,null,null,null,null,null,null,null,null,null,null,null,null,null,null,null,null,null,null,null,null,null,null,null,null,null,null,null,null,null,null,null,null,null,null,null,null,null,null,null,null,null,null,null,null,null,null,null,null,null,null,null,null,null,null,null,null,null,"GVR",0,"GVR",null,null,null,null,null,null,null,null,null,null,null,null,null,null,null,null,null,null,null,null,null,null,null,null,null,null,null,null,null,null,null,null,null,0,1,null,null,{"$f":"MID(#REF!,1,1)","v":{"$error":"#REF!"}},{"$f":"MID(#REF!,2,1)","v":{"$error":"#REF!"}},{"$f":"MID(#REF!,3,1)","v":{"$error":"#REF!"}},{"$f":"MID(#REF!,4,1)","v":{"$error":"#REF!"}},{"$f":"MID(#REF!,5,1)","v":{"$error":"#REF!"}},{"$f":"MID(#REF!,6,1)","v":{"$error":"#REF!"}}]
[null,null,null,null,null,null,null,null,null,null,null,null,null,null,null,null,null,null,null,null,null,null,null,null,null,null,null,null,null,null,null,null,null,null,"PROJECT CODE",null,null,null,null,null,null,null,null,null,null,{"$f":"SAR!J78","v":""},null,null,null,null,null,null,null,null,null,null,null,null,null,null,null,null,null,null,null,null,null,null,null,null,null,null,null,null,null,null,null,null,null,null,null,null,null,null,null,null,null,null,null,null,null,null,null,null,null,null,null,null,null,null,null,null,null,null,null,null,null,null,null,null,null,null,null,null,null,null,"GVR CONTROL BOX",0,"BXSW"]
[null,null,null,null,null,null,null,null,null,null,null,null,null,null,null,null,null,null,null,null,null,null,null,null,null,null,null,null,null,null,null,null,null,null,null,null,null,null,null,null,null,null,null,null,null,null,null,null,null,null,null,null,null,null,null,null,null,null,null,null,null,null,null,null,{"$f":"Y43+Y46+Y49+Y52+Y55+Y58+Y64+Y70+Y61+Y67+Y73+Y76+Y79+Y82+Y88+Y91+Y94+Y97+Y100+Y85+AX43+AX46+AX52+AX55+AX58+AX61+AX64+AX67+AX70+AX73+AX49+AX76+AX79+AX82+AX85+AX88+AX91+AX94+AX97+AX100+BM43+BM49+BM46+BM52+BM55+BM58+BM61+BM64+BM70+BM67+BM73+BM79+BM76+BM82+BM85+BM88+BM91+BM94+BM97+BM100","v":0},{"$f":"Z43+Z46+Z49+Z52+Z55+Z58+Z64+Z70+Z61+Z67+Z73+Z76+Z79+Z82+Z88+Z91+Z94+Z97+Z100+Z85+AY43+AY46+AY52+AY55+AY58+AY61+AY64+AY67+AY70+AY73+AY49+AY76+AY79+AY82+AY85+AY88+AY91+AY94+AY97+AY100+BN43+BN49+BN46+BN52+BN55+BN58+BN61+BN64+BN70+BN67+BN73+BN79+BN76+BN82+BN85+BN88+BN91+BN94+BN97+BN100","v":0},null,null,null,null,null,null,null,null,null,null,null,null,null,null,null,null,null,null,null,null,null,null,null,null,null,null,null,null,null,null,null,null,null,null,null,null,null,null,null,null,null,null,null,null,null,null,null,null,null,null,"HV FUSE",0,"HF",null,null,null,null,null,null,null,null,"i",null,null,null,null,null,null,null,null,null,null,"i",null,null,null,null,"i",null,"i",null,"i",null,"i"]
[null,null,null,null,null,null,null,null,null,null,null,null,null,null,null,null,null,null,null,null,null,null,null,null,null,null,null,null,null,null,null,null,null,null,null,null,null,null,null,null,null,null,null,null,null,null,null,null,null,null,null,null,null,null,null,null,null,null,null,null,null,null,null,null,null,null,null,null,null,null,null,null,null,null,null,null,null,null,null,null,null,null,null,null,null,null,null,null,null,null,null,null,null,null,null,null,null,null,null,null,null,null,null,null,null,null,null,null,null,null,null,null,null,null,null,null,"LV BOARD / CABINET",1,"LD",null,null,null,null,null,null,null,null,null,null,null,null,null,null,null,null,null,null,null,null,null,null,null,null,null,null,null,null,null,null,null,null,null,0,1,null,null,{"$f":"MID(#REF!,1,1)","v":{"$error":"#REF!"}},{"$f":"MID(#REF!,2,1)","v":{"$error":"#REF!"}},{"$f":"MID(#REF!,3,1)","v":{"$error":"#REF!"}},{"$f":"MID(#REF!,4,1)","v":{"$error":"#REF!"}},{"$f":"MID(#REF!,5,1)","v":{"$error":"#REF!"}},{"$f":"MID(#REF!,6,1)","v":{"$error":"#REF!"}}]
[null,null,null,null,null,null,null,null,null,null,null,null,null,null,null,null,null,null,null,null,null,null,null,null,null,null,null,null,null,null,null,null,null,null,null,null,null,null,null,null,null,null,null,null,null,null,null,null,null,null,null,null,null,null,null,null,null,null,null,null,null,null,null,null,null,null,null,null,null,null,null,null,null,null,null,null,null,null,null,null,null,null,null,null,null,null,null,null,null,null,null,null,null,null,null,null,null,null,null,null,null,null,null,null,null,null,null,null,null,null,null,null,null,null,null,null,"LV CIRCUIT",1,"LC"]
[null,null,null,null,null,null,null,null,null,null,null,null,null,null,null,null,null,null,null,null,null,null,null,null,null,null,null,null,null,null,null,null,null,null,null,null,null,null,null,null,null,null,null,null,null,null,null,null,null,null,null,null,null,null,null,null,null,null,null,null,null,null,null,null,null,null,null,null,null,null,null,null,null,null,null,null,null,null,null,null,null,null,null,null,null,null,null,null,null,null,null,null,null,null,null,null,null,null,null,null,null,null,null,null,null,null,null,null,null,null,null,null,null,null,null,null,"METERING",{"$f":"$BM$14","v":0},"SW",null,null,null,null,null,null,null,null,null,null,null,null,null,null,null,null,null,null,null,{"$f":"IF($DX21=\"\",\"\",VLOOKUP($DX21,$DM$2:$DO$34,2,FALSE))","v":""},{"$f":"IF($DX21=\"\",\"\",VLOOKUP($DX21,$DM$2:$DO$34,3,FALSE))","v":""},null,0,1]
[null,"EQUIPMENT TO BE DECOMMISSIONED AT SITE",null,null,null,null,null,null,null,null,null,null,null,null,null,null,null,null,null,null,null,null,null,null,null,null,"ANY OTHER EQUIPMENT TO BE DECOMMISSIONED",null,null,null,null,null,null,null,null,null,null,null,null,null,null,null,null,null,null,null,null,null,null,null,null,"LINK BOXES TO BE DECOMMISSIONED",null,null,null,null,null,null,null,null,null,null,null,null,null,null,null,null,null,null,null,null,null,null,null,null,null,null,null,null,null,null,null,null,null,null,null,null,null,null,null,null,null,null,null,null,null,null,null,null,null,null,null,null,null,null,null,null,null,null,null,null,null,null,null,null,"MURAL",{"$f":"$BM$14","v":0},"MU",null,null,null,null,null,null,null,null,null,null,null,null,null,null,null,null,null,null,null,null,null,null,null,null,null,null,null,null,null,null,null,null,null,0,1,null,null,{"$f":"MID(#REF!,1,1)","v":{"$error":"#REF!"}},{"$f":"MID(#REF!,2,1)","v":{"$error":"#REF!"}},{"$f":"MID(#REF!,3,1)","v":{"$error":"#REF!"}},{"$f":"MID(#REF!,4,1)","v":{"$error":"#REF!"}},{"$f":"MID(#REF!,5,1)","v":{"$error":"#REF!"}},{"$f":"MID(#REF!,6,1)","v":{"$error":"#REF!"}}]
[null,null,null,null,null,null,null,null,null,null,null,null,null,null,null,null,null,null,null,null,null,null,null,null,null,null,null,null,null,null,null,null,null,null,null,null,null,null,null,null,null,null,null,null,null,null,null,null,null,null,null,null,null,null,null,null,null,null,null,null,null,null,null,null,null,null,null,null,null,null,null,null,null,null,null,null,null,null,null,null,null,null,null,null,null,null,null,null,null,null,null,null,null,null,null,null,null,null,null,null,null,null,null,null,null,null,null,null,null,null,null,null,null,null,null,null,"REGULATOR",0,"TX"]
[null,null,null,null,null,null,null,null,null,null,null,null,null,null,null,null,null,null,null,null,null,null,null,null,null,null,null,null,null,null,null,null,null,null,null,null,null,null,null,null,null,null,null,null,null,null,null,null,null,null,null,null,null,null,null,null,null,null,null,null,null,null,null,null,null,null,null,"OTHER (PLEASE SPECIFY)",null,null,null,null,null,null,null,null,null,null,null,null,null,null,null,null,null,null,null,null,null,null,null,null,null,null,null,null,null,null,null,null,null,null,null,null,null,null,null,null,null,null,null,null,null,null,null,null,"REMOTE CONTROL",0,"RC",null,null,null,null,null,null,null,null,null,null,null,null,null,null,null,null,null,null,null,{"$f":"IF($DX24=\"\",\"\",VLOOKUP($DX24,$DM$2:$DO$34,2,FALSE))","v":""},{"$f":"IF($DX24=\"\",\"\",VLOOKUP($DX24,$DM$2:$DO$34,3,FALSE))","v":""},null,0,1]
[null,"PLANT REF",null,null,null,null,null,"UNIT NUMBER \n(01 UNLESS SPECIFIED)",null,"EQUIPMENT TYPE\n(PICK FROM LIST)",null,null,null,null,null,null,"DRIVER",null,"CONDITION",null,"STATUS",null,"REMOVED BY",null,null,null,"PLANT REF",null,null,null,null,null,"UNIT NUMBER \n(01 UNLESS SPECIFIED)",null,"EQUIPMENT TYPE\n(PICK FROM LIST)",null,null,null,null,null,null,"DRIVER",null,"CONDITION",null,"STATUS",null,"REMOVED BY",null,null,null,"LINK BOX NUMBER",null,null,null,null,"DRIVER",null,"CONDITION",null,"STATUS",null,"REMOVED BY",null,null,null,null,null,null,null,null,null,null,null,null,null,null,null,null,null,null,null,null,null,null,null,null,null,null,null,null,null,null,null,null,null,null,null,null,null,null,null,null,null,null,null,null,null,null,null,null,null,null,null,null,null,"RING MAIN UNIT",0,"RM",null,null,null,null,null,null,null,null,null,null,null,null,null,null,null,null,null,null,null,null,null,null,null,null,null,null,null,null,null,null,null,null,null,0,1,null,null,{"$f":"MID(#REF!,1,1)","v":{"$error":"#REF!"}},{"$f":"MID(#REF!,2,1)","v":{"$error":"#REF!"}},{"$f":"MID(#REF!,3,1)","v":{"$error":"#REF!"}},{"$f":"MID(#REF!,4,1)","v":{"$error":"#REF!"}},{"$f":"MID(#REF!,5,1)","v":{"$error":"#REF!"}},{"$f":"MID(#REF!,6,1)","v":{"$error":"#REF!"}}]
[null,null,null,null,null,null,null,null,null,null,null,null,null,null,null,null,null,null,null,null,null,null,null,null,null,null,null,null,null,null,null,null,null,null,null,null,null,null,null,null,null,null,null,null,null,null,null,null,null,null,null,null,null,null,null,null,null,null,null,null,null,null,null,null,null,null,null,null,null,null,null,null,null,null,null,null,null,null,null,null,null,null,null,null,null,null,null,null,null,null,null,null,null,null,null,null,null,null,null,null,null,null,null,null,null,null,null,null,null,null,null,null,null,null,null,null,"SECTIONALISER",0,"SW"]
[null,null,null,null,null,null,null,null,null,null,null,null,null,null,null,null,null,null,null,null,null,null,null,null,null,null,null,null,null,null,null,null,null,null,null,null,null,null,null,null,null,null,null,null,null,null,null,null,null,null,null,null,null,null,null,null,null,null,null,null,null,null,null,null,null,null,null,null,null,null,null,null,null,null,null,null,null,null,null,null,null,null,null,null,null,null,null,null,null,null,null,null,null,null,null,null,null,null,null,null,null,null,null,null,null,null,null,null,null,null,null,null,null,null,null,null,"SITE",0,"ST",null,null,null,null,null,null,null,null,null,null,null,null,null,null,null,null,null,null,null,{"$f":"IF($DX27=\"\",\"\",VLOOKUP($DX27,$DM$2:$DO$34,2,FALSE))","v":""},{"$f":"IF($DX27=\"\",\"\",VLOOKUP($DX27,$DM$2:$DO$34,3,FALSE))","v":""},null,0,1]
[null,null,null,null,null,null,null,null,null,null,null,null,null,null,null,null,null,null,null,null,null,null,null,null,null,null,null,null,null,null,null,null,null,null,null,null,null,null,null,null,null,null,null,null,null,null,null,null,null,null,null,null,null,null,null,null,null,null,null,null,null,null,null,null,null,null,null,null,null,null,null,null,null,null,null,null,null,null,null,null,null,null,null,null,null,null,null,null,null,null,null,null,null,null,null,null,null,null,null,null,null,null,null,null,null,null,null,null,null,null,null,null,null,null,null,null,"SITE EARTHING",0,"SE",null,null,null,null,null,null,null,null,null,null,null,null,null,null,null,null,null,null,null,null,null,null,null,null,null,null,null,null,null,null,null,null,null,0,1,null,null,{"$f":"MID(#REF!,1,1)","v":{"$error":"#REF!"}},{"$f":"MID(#REF!,2,1)","v":{"$error":"#REF!"}},{"$f":"MID(#REF!,3,1)","v":{"$error":"#REF!"}},{"$f":"MID(#REF!,4,1)","v":{"$error":"#REF!"}},{"$f":"MID(#REF!,5,1)","v":{"$error":"#REF!"}},{"$f":"MID(#REF!,6,1)","v":{"$error":"#REF!"}}]
[null,null,null,null,null,null,null,null,null,null,null,null,null,null,null,null,null,null,null,null,null,null,null,null,null,null,null,null,null,null,null,null,null,null,null,null,null,null,null,null,null,null,null,null,null,null,null,null,null,null,null,null,null,null,null,null,null,null,null,null,null,null,null,null,null,null,null,null,null,null,null,null,null,null,null,null,null,null,null,null,null,null,null,null,null,null,null,null,null,null,null,null,null,null,null,null,null,null,null,null,null,null,null,null,null,null,null,null,null,null,null,null,null,null,null,null,"SUBSTATION",0,"SS"]
[null,null,null,null,null,null,null,null,null,null,null,null,null,null,null,null,null,null,null,null,null,null,null,null,null,null,null,null,null,null,null,null,null,null,null,null,null,null,null,null,null,null,null,null,null,null,null,null,null,null,null,null,null,null,null,null,null,null,null,null,null,null,null,null,null,null,null,null,null,null,null,null,null,null,null,null,null,null,null,null,null,null,null,null,null,null,null,null,null,null,null,null,null,null,null,null,null,null,null,null,null,null,null,null,null,null,null,null,null,null,null,null,null,null,null,null,"SWITCH",{"$f":"$BM$14","v":0},"SW",null,null,null,null,null,null,null,null,null,null,null,null,null,null,null,null,null,null,null,{"$f":"IF($DX30=\"\",\"\",VLOOKUP($DX30,$DM$2:$DO$34,2,FALSE))","v":""},{"$f":"IF($DX30=\"\",\"\",VLOOKUP($DX30,$DM$2:$DO$34,3,FALSE))","v":""},null,0,1]
[null,null,null,null,null,null,null,null,null,null,null,null,null,null,null,null,null,null,null,null,null,null,null,null,null,null,null,null,null,null,null,null,null,null,null,null,null,null,null,null,null,null,null,null,null,null,null,null,null,null,null,null,null,null,null,null,null,null,null,null,null,null,null,null,null,null,null,null,null,null,null,null,null,null,null,null,null,null,null,null,null,null,null,null,null,null,null,null,null,null,null,null,null,null,null,null,null,null,null,null,null,null,null,null,null,null,null,null,null,null,null,null,null,null,null,null,"TAP CHANGER",{"$f":"$BM$14","v":0},"TC",null,null,null,null,null,null,null,null,null,null,null,null,null,null,null,null,null,null,null,null,null,null,null,null,null,null,null,null,null,null,null,null,null,0,1,null,null,{"$f":"MID(#REF!,1,1)","v":{"$error":"#REF!"}},{"$f":"MID(#REF!,2,1)","v":{"$error":"#REF!"}},{"$f":"MID(#REF!,3,1)","v":{"$error":"#REF!"}},{"$f":"MID(#REF!,4,1)","v":{"$error":"#REF!"}},{"$f":"MID(#REF!,5,1)","v":{"$error":"#REF!"}},{"$f":"MID(#REF!,6,1)","v":{"$error":"#REF!"}}]
[null,null,null,null,null,null,null,null,null,null,null,null,null,null,null,null,null,null,null,null,null,null,null,null,null,null,null,null,null,null,null,null,null,null,null,null,null,null,null,null,null,null,null,null,null,null,null,null,null,null,null,null,null,null,null,null,null,null,null,null,null,null,null,null,null,null,null,null,null,null,null,null,null,null,null,null,null,null,null,null,null,null,null,null,null,null,null,null,null,null,null,null,null,null,null,null,null,null,null,null,null,null,null,null,null,null,null,null,null,null,null,null,null,null,null,null,"TRANSFORMER",0,"TX"]
[null,null,null,null,null,null,null,null,null,null,null,null,null,null,null,null,null,null,null,null,null,null,null,null,null,null,null,null,null,null,null,null,null,null,null,null,null,null,null,null,null,null,null,null,null,null,null,null,null,null,null,null,null,null,null,null,null,null,null,null,null,null,null,null,null,null,null,null,null,null,null,null,null,null,null,null,null,null,null,null,null,null,null,null,null,null,null,null,null,null,null,null,null,null,null,null,null,null,null,null,null,null,null,null,null,null,null,null,null,null,null,null,null,null,null,null,"TRANSFORMER COOLER",0,"TO",null,null,null,null,null,null,null,null,null,null,null,null,null,null,null,null,null,null,null,{"$f":"IF($DX33=\"\",\"\",VLOOKUP($DX33,$DM$2:$DO$34,2,FALSE))","v":""},{"$f":"IF($DX33=\"\",\"\",VLOOKUP($DX33,$DM$2:$DO$34,3,FALSE))","v":""},null,0,1]
[null,null,null,null,null,null,null,null,null,null,null,null,null,null,null,null,null,null,null,null,null,null,null,null,null,null,null,null,null,null,null,null,null,null,null,null,null,null,null,null,null,null,null,null,null,null,null,null,null,null,null,null,null,null,null,null,null,null,null,null,null,null,null,null,null,null,null,null,null,null,null,null,null,null,null,null,null,null,null,null,null,null,null,null,null,null,null,null,null,null,null,null,null,null,null,null,null,null,null,null,null,null,null,null,null,null,null,null,null,null,null,null,null,null,null,null,"TRANSFORMER EARTHING",0,"TE",null,null,null,null,null,null,null,null,null,null,null,null,null,null,null,null,null,null,null,null,null,null,null,null,null,null,null,null,null,null,null,null,null,0,1,null,null,{"$f":"MID(#REF!,1,1)","v":{"$error":"#REF!"}},{"$f":"MID(#REF!,2,1)","v":{"$error":"#REF!"}},{"$f":"MID(#REF!,3,1)","v":{"$error":"#REF!"}},{"$f":"MID(#REF!,4,1)","v":{"$error":"#REF!"}},{"$f":"MID(#REF!,5,1)","v":{"$error":"#REF!"}},{"$f":"MID(#REF!,6,1)","v":{"$error":"#REF!"}}]
[]
[null,null,null,null,null,null,null,null,null,null,null,null,null,null,null,null,null,null,null,null,null,null,null,null,null,null,null,null,null,null,null,null,null,null,null,null,null,null,null,null,null,null,null,null,null,null,null,null,null,null,null,null,null,null,null,null,null,null,null,null,null,null,null,null,null,null,null,null,null,null,null,null,null,null,null,null,null,null,null,null,null,null,null,null,null,null,null,null,null,null,null,null,null,null,null,null,null,null,null,null,null,null,null,null,null,null,null,null,null,null,null,null,null,null,null,null,null,null,null,null,null,null,null,null,null,null,null,null,null,null,null,null,null,null,null,null,null,null,{"$f":"IF($DX36=\"\",\"\",VLOOKUP($DX36,$DM$2:$DO$34,2,FALSE))","v":""},{"$f":"IF($DX36=\"\",\"\",VLOOKUP($DX36,$DM$2:$DO$34,3,FALSE))","v":""},null,0,1]
[null,null,null,null,null,null,null,null,null,null,null,null,null,null,null,null,null,null,null,null,null,null,null,null,null,null,null,null,null,null,null,null,null,null,null,null,null,null,null,null,null,null,null,null,null,null,null,null,null,null,null,null,null,null,null,null,null,null,null,null,null,null,null,null,null,null,null,null,null,null,null,null,null,null,null,null,null,null,null,null,null,null,null,null,null,null,null,null,null,null,null,null,null,null,null,null,null,null,null,null,null,null,null,null,null,null,null,null,null,null,null,null,null,null,null,null,null,null,null,null,null,null,null,null,null,null,null,null,null,null,null,null,null,null,null,null,null,null,null,null,null,null,null,null,null,null,null,null,null,null,null,null,0,1,null,null,{"$f":"MID(#REF!,1,1)","v":{"$error":"#REF!"}},{"$f":"MID(#REF!,2,1)","v":{"$error":"#REF!"}},{"$f":"MID(#REF!,3,1)","v":{"$error":"#REF!"}},{"$f":"MID(#REF!,4,1)","v":{"$error":"#REF!"}},{"$f":"MID(#REF!,5,1)","v":{"$error":"#REF!"}},{"$f":"MID(#REF!,6,1)","v":{"$error":"#REF!"}}]
[]
[null,null,null,null,null,null,null,null,null,"i",null,null,null,null,null,null,"i",null,"i",null,"i",null,"i",null,null,null,null,null,null,null,null,null,null,null,"i",null,null,null,null,null,null,"i",null,"i",null,"i",null,"i",null,null,null,null,null,null,null,null,"i",null,"i",null,"i",null,"i",null,null,null,null,null,null,null,null,null,null,null,null,null,null,null,null,null,null,null,null,null,null,null,null,null,null,null,null,null,null,null,null,null,null,null,null,null,null,null,null,null,null,null,null,null,null,null,null,null,null,null,null,null,null,null,null,null,null,null,null,null,null,null,null,null,null,null,null,null,null,null,null,null,null,null,{"$f":"IF($DX39=\"\",\"\",VLOOKUP($DX39,$DM$2:$DO$34,2,FALSE))","v":""},{"$f":"IF($DX39=\"\",\"\",VLOOKUP($DX39,$DM$2:$DO$34,3,FALSE))","v":""},null,0,1]
[null,null,null,null,null,null,null,null,null,null,null,null,null,null,null,null,null,null,null,null,null,null,null,null,null,null,null,null,null,null,null,null,null,null,null,null,null,null,null,null,null,null,null,null,null,null,null,null,null,null,null,null,null,null,null,null,null,null,null,null,null,null,null,null,null,null,null,null,null,null,null,null,null,null,null,null,null,null,null,null,null,null,null,null,null,null,null,null,null,null,null,null,null,null,null,null,null,null,null,null,null,null,null,null,null,null,null,null,null,null,null,null,null,null,null,null,null,null,null,null,null,null,null,null,null,null,null,null,null,null,null,null,null,null,null,null,null,null,null,null,null,null,null,null,null,null,null,null,null,null,null,null,0,1,null,null,{"$f":"MID(#REF!,1,1)","v":{"$error":"#REF!"}},{"$f":"MID(#REF!,2,1)","v":{"$error":"#REF!"}},{"$f":"MID(#REF!,3,1)","v":{"$error":"#REF!"}},{"$f":"MID(#REF!,4,1)","v":{"$error":"#REF!"}},{"$f":"MID(#REF!,5,1)","v":{"$error":"#REF!"}},{"$f":"MID(#REF!,6,1)","v":{"$error":"#REF!"}}]
[]
[null,null,null,null,null,null,null,null,null,null,null,null,null,null,null,null,null,null,null,null,null,null,null,null,null,null,null,null,null,null,null,null,null,null,null,null,null,null,null,null,null,null,null,null,null,null,null,null,null,null,null,null,null,null,null,null,null,null,null,null,null,null,null,null,null,null,null,null,null,null,null,null,null,null,null,null,null,null,null,null,null,null,null,null,null,null,null,null,null,null,null,null,null,null,null,null,null,null,null,null,null,null,null,null,null,null,null,null,null,null,null,null,null,null,null,null,null,null,null,null,null,null,null,null,null,null,null,null,null,null,null,null,null,null,null,null,null,null,{"$f":"IF($DX42=\"\",\"\",VLOOKUP($DX42,$DM$2:$DO$34,2,FALSE))","v":""},{"$f":"IF($DX42=\"\",\"\",VLOOKUP($DX42,$DM$2:$DO$34,3,FALSE))","v":""},null,0,1]
[null,null,null,null,null,null,null,null,null,null,null,null,null,null,null,null,null,null,null,null,null,null,null,null,{"$f":"COUNTA(B42:X44)","v":0},{"$f":"IF(Y43>0,7,0)","v":0},null,null,null,null,null,null,null,null,null,null,null,null,null,null,null,null,null,null,null,null,null,null,null,{"$f":"COUNTA(AA42:AW44)","v":0},{"$f":"IF(AX43>0,7,0)","v":0},null,null,null,null,null,null,null,null,null,null,null,null,null,{"$f":"COUNTA(AZ42:BL44)","v":0},{"$f":"IF(BM43>0,5,0)","v":0},null,null,null,null,null,null,null,null,null,null,null,null,null,null,null,null,null,null,null,null,null,null,null,null,null,null,null,null,null,null,null,null,null,null,null,null,null,null,null,null,null,null,null,null,null,null,null,null,null,null,null,null,null,null,null,null,null,null,null,null,null,null,null,null,null,null,null,null,null,null,null,null,null,null,null,null,null,null,null,null,null,null,null,null,null,null,0,1,null,null,{"$f":"MID(#REF!,1,1)","v":{"$error":"#REF!"}},{"$f":"MID(#REF!,2,1)","v":{"$error":"#REF!"}},{"$f":"MID(#REF!,3,1)","v":{"$error":"#REF!"}},{"$f":"MID(#REF!,4,1)","v":{"$error":"#REF!"}},{"$f":"MID(#REF!,5,1)","v":{"$error":"#REF!"}},{"$f":"MID(#REF!,6,1)","v":{"$error":"#REF!"}}]
[]
[null,null,null,null,null,null,null,null,null,null,null,null,null,null,null,null,null,null,null,null,null,null,null,null,null,null,null,null,null,null,null,null,null,null,null,null,null,null,null,null,null,null,null,null,null,null,null,null,null,null,null,null,null,null,null,null,null,null,null,null,null,null,null,null,null,null,null,null,null,null,null,null,null,null,null,null,null,null,null,null,null,null,null,null,null,null,null,null,null,null,null,null,null,null,null,null,null,null,null,null,null,null,null,null,null,null,null,null,null,null,null,null,null,null,null,null,null,null,null,null,null,null,null,null,null,null,null,null,null,null,null,null,null,null,null,null,null,null,{"$f":"IF($DX45=\"\",\"\",VLOOKUP($DX45,$DM$2:$DO$34,2,FALSE))","v":""},{"$f":"IF($DX45=\"\",\"\",VLOOKUP($DX45,$DM$2:$DO$34,3,FALSE))","v":""},null,0,1]
[null,null,null,null,null,null,null,null,null,null,null,null,null,null,null,null,null,null,null,null,null,null,null,null,{"$f":"COUNTA(B45:X47)","v":0},{"$f":"IF(Y46>0,7,0)","v":0},null,null,null,null,null,null,null,null,null,null,null,null,null,null,null,null,null,null,null,null,null,null,null,{"$f":"COUNTA(AA45:AW47)","v":0},{"$f":"IF(AX46>0,7,0)","v":0},null,null,null,null,null,null,null,null,null,null,null,null,null,{"$f":"COUNTA(AZ45:BL47)","v":0},{"$f":"IF(BM46>0,5,0)","v":0},null,null,null,null,null,null,null,null,null,null,null,null,null,null,null,null,null,null,null,null,null,null,null,null,null,null,null,null,null,null,null,null,null,null,null,null,null,null,null,null,null,null,null,null,null,null,null,null,null,null,null,null,null,null,null,null,null,null,null,null,null,null,null,null,null,null,null,null,null,null,null,null,null,null,null,null,null,null,null,null,null,null,null,null,null,null,0,1,null,null,{"$f":"MID(#REF!,1,1)","v":{"$error":"#REF!"}},{"$f":"MID(#REF!,2,1)","v":{"$error":"#REF!"}},{"$f":"MID(#REF!,3,1)","v":{"$error":"#REF!"}},{"$f":"MID(#REF!,4,1)","v":{"$error":"#REF!"}},{"$f":"MID(#REF!,5,1)","v":{"$error":"#REF!"}},{"$f":"MID(#REF!,6,1)","v":{"$error":"#REF!"}}]
[]
[null,null,null,null,null,null,null,null,null,null,null,null,null,null,null,null,null,null,null,null,null,null,null,null,null,null,null,null,null,null,null,null,null,null,null,null,null,null,null,null,null,null,null,null,null,null,null,null,null,null,null,null,null,null,null,null,null,null,null,null,null,null,null,null,null,null,null,null,null,null,null,null,null,null,null,null,null,null,null,null,null,null,null,null,null,null,null,null,null,null,null,null,null,null,null,null,null,null,null,null,null,null,null,null,null,null,null,null,null,null,null,null,null,null,null,null,null,null,null,null,null,null,null,null,null,null,null,null,null,null,null,null,null,null,null,null,null,null,{"$f":"IF($DX48=\"\",\"\",VLOOKUP($DX48,$DM$2:$DO$34,2,FALSE))","v":""},{"$f":"IF($DX48=\"\",\"\",VLOOKUP($DX48,$DM$2:$DO$34,3,FALSE))","v":""},null,0,1]
[null,null,null,null,null,null,null,null,null,null,null,null,null,null,null,null,null,null,null,null,null,null,null,null,{"$f":"COUNTA(B48:X50)","v":0},{"$f":"IF(Y49>0,7,0)","v":0},null,null,null,null,null,null,null,null,null,null,null,null,null,null,null,null,null,null,null,null,null,null,null,{"$f":"COUNTA(AA48:AW50)","v":0},{"$f":"IF(AX49>0,7,0)","v":0},null,null,null,null,null,null,null,null,null,null,null,null,null,{"$f":"COUNTA(AZ48:BL50)","v":0},{"$f":"IF(BM49>0,5,0)","v":0}]
[]
[null,null,null,null,null,null,null,null,null,null,null,null,null,null,null,null,null,null,null,null,null,null,null,null,null,null,null,null,null,null,null,null,null,null,null,null,null,null,null,null,null,null,null,null,null,null,null,null,null,null,null,null,null,null,null,null,null,null,null,null,null,null,null,null,null,null,null,null,null,null,null,null,null,null,null,null,null,null,null,null,null,null,null,null,null,null,null,null,null,null,null,null,null,null,null,null,null,null,null,null,null,null,null,null,null,null,null,null,null,null,null,null,null,null,null,null,null,null,null,null,null,null,null,null,null,null,null,null,null,null,null,null,null,null,null,null,null,null,{"$f":"IF($DX51=\"\",\"\",VLOOKUP($DX51,$DM$2:$DO$34,2,FALSE))","v":""},{"$f":"IF($DX51=\"\",\"\",VLOOKUP($DX51,$DM$2:$DO$34,3,FALSE))","v":""},null,0,1]
[null,null,null,null,null,null,null,null,null,null,null,null,null,null,null,null,null,null,null,null,null,null,null,null,{"$f":"COUNTA(B51:X53)","v":0},{"$f":"IF(Y52>0,7,0)","v":0},null,null,null,null,null,null,null,null,null,null,null,null,null,null,null,null,null,null,null,null,null,null,null,{"$f":"COUNTA(AA51:AW53)","v":0},{"$f":"IF(AX52>0,7,0)","v":0},null,null,null,null,null,null,null,null,null,null,null,null,null,{"$f":"COUNTA(AZ51:BL53)","v":0},{"$f":"IF(BM52>0,5,0)","v":0}]
[]
[null,null,null,null,null,null,null,null,null,null,null,null,null,null,null,null,null,null,null,null,null,null,null,null,null,null,null,null,null,null,null,null,null,null,null,null,null,null,null,null,null,null,null,null,null,null,null,null,null,null,null,null,null,null,null,null,null,null,null,null,null,null,null,null,null,null,null,null,null,null,null,null,null,null,null,null,null,null,null,null,null,null,null,null,null,null,null,null,null,null,null,null,null,null,null,null,null,null,null,null,null,null,null,null,null,null,null,null,null,null,null,null,null,null,null,null,null,null,null,null,null,null,null,null,null,null,null,null,null,null,null,null,null,null,null,null,null,null,{"$f":"IF($DX54=\"\",\"\",VLOOKUP($DX54,$DM$2:$DO$34,2,FALSE))","v":""},{"$f":"IF($DX54=\"\",\"\",VLOOKUP($DX54,$DM$2:$DO$34,3,FALSE))","v":""},null,0,1]
[null,null,null,null,null,null,null,null,null,null,null,null,null,null,null,null,null,null,null,null,null,null,null,null,{"$f":"COUNTA(B54:X56)","v":0},{"$f":"IF(Y55>0,7,0)","v":0},null,null,null,null,null,null,null,null,null,null,null,null,null,null,null,null,null,null,null,null,null,null,null,{"$f":"COUNTA(AA54:AW56)","v":0},{"$f":"IF(AX55>0,7,0)","v":0},null,null,null,null,null,null,null,null,null,null,null,null,null,{"$f":"COUNTA(AZ54:BL56)","v":0},{"$f":"IF(BM55>0,5,0)","v":0}]
[]
[null,null,null,null,null,null,null,null,null,null,null,null,null,null,null,null,null,null,null,null,null,null,null,null,null,null,null,null,null,null,null,null,null,null,null,null,null,null,null,null,null,null,null,null,null,null,null,null,null,null,null,null,null,null,null,null,null,null,null,null,null,null,null,null,null,null,null,null,null,null,null,null,null,null,null,null,null,null,null,null,null,null,null,null,null,null,null,null,null,null,null,null,null,null,null,null,null,null,null,null,null,null,null,null,null,null,null,null,null,null,null,null,null,null,null,null,null,null,null,null,null,null,null,null,null,null,null,null,null,null,null,null,null,null,null,null,null,null,{"$f":"IF($DX57=\"\",\"\",VLOOKUP($DX57,$DM$2:$DO$34,2,FALSE))","v":""},{"$f":"IF($DX57=\"\",\"\",VLOOKUP($DX57,$DM$2:$DO$34,3,FALSE))","v":""},null,0,1]
[null,null,null,null,null,null,null,null,null,null,null,null,null,null,null,null,null,null,null,null,null,null,null,null,{"$f":"COUNTA(B57:X59)","v":0},{"$f":"IF(Y58>0,7,0)","v":0},null,null,null,null,null,null,null,null,null,null,null,null,null,null,null,null,null,null,null,null,null,null,null,{"$f":"COUNTA(AA57:AW59)","v":0},{"$f":"IF(AX58>0,7,0)","v":0},null,null,null,null,null,null,null,null,null,null,null,null,null,{"$f":"COUNTA(AZ57:BL59)","v":0},{"$f":"IF(BM58>0,5,0)","v":0}]
[]
[null,null,null,null,null,null,null,null,null,null,null,null,null,null,null,null,null,null,null,null,null,null,null,null,null,null,null,null,null,null,null,null,null,null,null,null,null,null,null,null,null,null,null,null,null,null,null,null,null,null,null,null,null,null,null,null,null,null,null,null,null,null,null,null,null,null,null,null,null,null,null,null,null,null,null,null,null,null,null,null,null,null,null,null,null,null,null,null,null,null,null,null,null,null,null,null,null,null,null,null,null,null,null,null,null,null,null,null,null,null,null,null,null,null,null,null,null,null,null,null,null,null,null,null,null,null,null,null,null,null,null,null,null,null,null,null,null,null,{"$f":"IF($DX60=\"\",\"\",VLOOKUP($DX60,$DM$2:$DO$34,2,FALSE))","v":""},{"$f":"IF($DX60=\"\",\"\",VLOOKUP($DX60,$DM$2:$DO$34,3,FALSE))","v":""},null,0,1]
[null,null,null,null,null,null,null,null,null,null,null,null,null,null,null,null,null,null,null,null,null,null,null,null,{"$f":"COUNTA(B60:X62)","v":0},{"$f":"IF(Y61>0,7,0)","v":0},null,null,null,null,null,null,null,null,null,null,null,null,null,null,null,null,null,null,null,null,null,null,null,{"$f":"COUNTA(AA60:AW62)","v":0},{"$f":"IF(AX61>0,7,0)","v":0},null,null,null,null,null,null,null,null,null,null,null,null,null,{"$f":"COUNTA(AZ60:BL62)","v":0},{"$f":"IF(BM61>0,5,0)","v":0}]
[]
[null,null,null,null,null,null,null,null,null,null,null,null,null,null,null,null,null,null,null,null,null,null,null,null,null,null,null,null,null,null,null,null,null,null,null,null,null,null,null,null,null,null,null,null,null,null,null,null,null,null,null,null,null,null,null,null,null,null,null,null,null,null,null,null,null,null,null,null,null,null,null,null,null,null,null,null,null,null,null,null,null,null,null,null,null,null,null,null,null,null,null,null,null,null,null,null,null,null,null,null,null,null,null,null,null,null,null,null,null,null,null,null,null,null,null,null,null,null,null,null,null,null,null,null,null,null,null,null,null,null,null,null,null,null,null,null,null,null,{"$f":"IF($DX63=\"\",\"\",VLOOKUP($DX63,$DM$2:$DO$34,2,FALSE))","v":""},{"$f":"IF($DX63=\"\",\"\",VLOOKUP($DX63,$DM$2:$DO$34,3,FALSE))","v":""},null,0,1]
[null,null,null,null,null,null,null,null,null,null,null,null,null,null,null,null,null,null,null,null,null,null,null,null,{"$f":"COUNTA(B63:X65)","v":0},{"$f":"IF(Y64>0,7,0)","v":0},null,null,null,null,null,null,null,null,null,null,null,null,null,null,null,null,null,null,null,null,null,null,null,{"$f":"COUNTA(AA63:AW65)","v":0},{"$f":"IF(AX64>0,7,0)","v":0},null,null,null,null,null,null,null,null,null,null,null,null,null,{"$f":"COUNTA(AZ63:BL65)","v":0},{"$f":"IF(BM64>0,5,0)","v":0}]
[]
[null,null,null,null,null,null,null,null,null,null,null,null,null,null,null,null,null,null,null,null,null,null,null,null,null,null,null,null,null,null,null,null,null,null,null,null,null,null,null,null,null,null,null,null,null,null,null,null,null,null,null,null,null,null,null,null,null,null,null,null,null,null,null,null,null,null,null,null,null,null,null,null,null,null,null,null,null,null,null,null,null,null,null,null,null,null,null,null,null,null,null,null,null,null,null,null,null,null,null,null,null,null,null,null,null,null,null,null,null,null,null,null,null,null,null,null,null,null,null,null,null,null,null,null,null,null,null,null,null,null,null,null,null,null,null,null,null,null,{"$f":"IF($DX66=\"\",\"\",VLOOKUP($DX66,$DM$2:$DO$34,2,FALSE))","v":""},{"$f":"IF($DX66=\"\",\"\",VLOOKUP($DX66,$DM$2:$DO$34,3,FALSE))","v":""},null,0,1]
[null,null,null,null,null,null,null,null,null,null,null,null,null,null,null,null,null,null,null,null,null,null,null,null,{"$f":"COUNTA(B66:X68)","v":0},{"$f":"IF(Y67>0,7,0)","v":0},null,null,null,null,null,null,null,null,null,null,null,null,null,null,null,null,null,null,null,null,null,null,null,{"$f":"COUNTA(AA66:AW68)","v":0},{"$f":"IF(AX67>0,7,0)","v":0},null,null,null,null,null,null,null,null,null,null,null,null,null,{"$f":"COUNTA(AZ66:BL68)","v":0},{"$f":"IF(BM67>0,5,0)","v":0}]
[]
[null,null,null,null,null,null,null,null,null,null,null,null,null,null,null,null,null,null,null,null,null,null,null,null,null,null,null,null,null,null,null,null,null,null,null,null,null,null,null,null,null,null,null,null,null,null,null,null,null,null,null,null,null,null,null,null,null,null,null,null,null,null,null,null,null,null,null,null,null,null,null,null,null,null,null,null,null,null,null,null,null,null,null,null,null,null,null,null,null,null,null,null,null,null,null,null,null,null,null,null,null,null,null,null,null,null,null,null,null,null,null,null,null,null,null,null,null,null,null,null,null,null,null,null,null,null,null,null,null,null,null,null,null,null,null,null,null,null,{"$f":"IF($DX69=\"\",\"\",VLOOKUP($DX69,$DM$2:$DO$34,2,FALSE))","v":""},{"$f":"IF($DX69=\"\",\"\",VLOOKUP($DX69,$DM$2:$DO$34,3,FALSE))","v":""},null,0,1]
[null,null,null,null,null,null,null,null,null,null,null,null,null,null,null,null,null,null,null,null,null,null,null,null,{"$f":"COUNTA(B69:X71)","v":0},{"$f":"IF(Y70>0,7,0)","v":0},null,null,null,null,null,null,null,null,null,null,null,null,null,null,null,null,null,null,null,null,null,null,null,{"$f":"COUNTA(AA69:AW71)","v":0},{"$f":"IF(AX70>0,7,0)","v":0},null,null,null,null,null,null,null,null,null,null,null,null,null,{"$f":"COUNTA(AZ69:BL71)","v":0},{"$f":"IF(BM70>0,5,0)","v":0}]
[]
[]
[null,null,null,null,null,null,null,null,null,null,null,null,null,null,null,null,null,null,null,null,null,null,null,null,{"$f":"COUNTA(B72:X74)","v":0},{"$f":"IF(Y73>0,7,0)","v":0},null,null,null,null,null,null,null,null,null,null,null,null,null,null,null,null,null,null,null,null,null,null,null,{"$f":"COUNTA(AA72:AW74)","v":0},{"$f":"IF(AX73>0,7,0)","v":0},null,null,null,null,null,null,null,null,null,null,null,null,null,{"$f":"COUNTA(AZ72:BL74)","v":0},{"$f":"IF(BM73>0,5,0)","v":0}]
[]
[]
[null,null,null,null,null,null,null,null,null,null,null,null,null,null,null,null,null,null,null,null,null,null,null,null,{"$f":"COUNTA(B75:X77)","v":0},{"$f":"IF(Y76>0,7,0)","v":0},null,null,null,null,null,null,null,null,null,null,null,null,null,null,null,null,null,null,null,null,null,null,null,{"$f":"COUNTA(AA75:AW77)","v":0},{"$f":"IF(AX76>0,7,0)","v":0},null,null,null,null,null,null,null,null,null,null,null,null,null,{"$f":"COUNTA(AZ75:BL77)","v":0},{"$f":"IF(BM76>0,5,0)","v":0}]
[]
[]
[null,null,null,null,null,null,null,null,null,null,null,null,null,null,null,null,null,null,null,null,null,null,null,null,{"$f":"COUNTA(B78:X80)","v":0},{"$f":"IF(Y79>0,7,0)","v":0},null,null,null,null,null,null,null,null,null,null,null,null,null,null,null,null,null,null,null,null,null,null,null,{"$f":"COUNTA(AA78:AW80)","v":0},{"$f":"IF(AX79>0,7,0)","v":0},null,null,null,null,null,null,null,null,null,null,null,null,null,{"$f":"COUNTA(AZ78:BL80)","v":0},{"$f":"IF(BM79>0,5,0)","v":0}]
[]
[]
[null,null,null,null,null,null,null,null,null,null,null,null,null,null,null,null,null,null,null,null,null,null,null,null,{"$f":"COUNTA(B81:X83)","v":0},{"$f":"IF(Y82>0,7,0)","v":0},null,null,null,null,null,null,null,null,null,null,null,null,null,null,null,null,null,null,null,null,null,null,null,{"$f":"COUNTA(AA81:AW83)","v":0},{"$f":"IF(AX82>0,7,0)","v":0},null,null,null,null,null,null,null,null,null,null,null,null,null,{"$f":"COUNTA(AZ81:BL83)","v":0},{"$f":"IF(BM82>0,5,0)","v":0}]
[]
[]
[null,null,null,null,null,null,null,null,null,null,null,null,null,null,null,null,null,null,null,null,null,null,null,null,{"$f":"COUNTA(B84:X86)","v":0},{"$f":"IF(Y85>0,7,0)","v":0},null,null,null,null,null,null,null,null,null,null,null,null,null,null,null,null,null,null,null,null,null,null,null,{"$f":"COUNTA(AA84:AW86)","v":0},{"$f":"IF(AX85>0,7,0)","v":0},null,null,null,null,null,null,null,null,null,null,null,null,null,{"$f":"COUNTA(AZ84:BL86)","v":0},{"$f":"IF(BM85>0,5,0)","v":0}]
[]
[]
[null,null,null,null,null,null,null,null,null,null,null,null,null,null,null,null,null,null,null,null,null,null,null,null,{"$f":"COUNTA(B87:X89)","v":0},{"$f":"IF(Y88>0,7,0)","v":0},null,null,null,null,null,null,null,null,null,null,null,null,null,null,null,null,null,null,null,null,null,null,null,{"$f":"COUNTA(AA87:AW89)","v":0},{"$f":"IF(AX88>0,7,0)","v":0},null,null,null,null,null,null,null,null,null,null,null,null,null,{"$f":"COUNTA(AZ87:BL89)","v":0},{"$f":"IF(BM88>0,5,0)","v":0}]
[]
[]
[null,null,null,null,null,null,null,null,null,null,null,null,null,null,null,null,null,null,null,null,null,null,null,null,{"$f":"COUNTA(B90:X92)","v":0},{"$f":"IF(Y91>0,7,0)","v":0},null,null,null,null,null,null,null,null,null,null,null,null,null,null,null,null,null,null,null,null,null,null,null,{"$f":"COUNTA(AA90:AW92)","v":0},{"$f":"IF(AX91>0,7,0)","v":0},null,null,null,null,null,null,null,null,null,null,null,null,null,{"$f":"COUNTA(AZ90:BL92)","v":0},{"$f":"IF(BM91>0,5,0)","v":0}]
[]
[]
[null,null,null,null,null,null,null,null,null,null,null,null,null,null,null,null,null,null,null,null,null,null,null,null,{"$f":"COUNTA(B93:X95)","v":0},{"$f":"IF(Y94>0,7,0)","v":0},null,null,null,null,null,null,null,null,null,null,null,null,null,null,null,null,null,null,null,null,null,null,null,{"$f":"COUNTA(AA93:AW95)","v":0},{"$f":"IF(AX94>0,7,0)","v":0},null,null,null,null,null,null,null,null,null,null,null,null,null,{"$f":"COUNTA(AZ93:BL95)","v":0},{"$f":"IF(BM94>0,5,0)","v":0}]
[]
[]
[null,null,null,null,null,null,null,null,null,null,null,null,null,null,null,null,null,null,null,null,null,null,null,null,{"$f":"COUNTA(B96:X98)","v":0},{"$f":"IF(Y97>0,7,0)","v":0},null,null,null,null,null,null,null,null,null,null,null,null,null,null,null,null,null,null,null,null,null,null,null,{"$f":"COUNTA(AA96:AW98)","v":0},{"$f":"IF(AX97>0,7,0)","v":0},null,null,null,null,null,null,null,null,null,null,null,null,null,{"$f":"COUNTA(AZ96:BL98)","v":0},{"$f":"IF(BM97>0,5,0)","v":0}]
[]
[]
[null,null,null,null,null,null,null,null,null,null,null,null,null,null,null,null,null,null,null,null,null,null,null,null,{"$f":"COUNTA(B99:X101)","v":0},{"$f":"IF(Y100>0,7,0)","v":0},null,null,null,null,null,null,null,null,null,null,null,null,null,null,null,null,null,null,null,null,null,null,null,{"$f":"COUNTA(AA99:AW101)","v":0},{"$f":"IF(AX100>0,7,0)","v":0},null,null,null,null,null,null,null,null,null,null,null,null,null,{"$f":"COUNTA(AZ99:BL101)","v":0},{"$f":"IF(BM100>0,5,0)","v":0}]
[]
[]
[]
[]
[]
[null,1,2,3,4,5,6,7,8,9,10,11,12,13,14,15,16,17,18,19,20,21,22,23,24,25,26,27,28,29,30,31,32,33,34,35,36,37,38,39,40,41,42,43,44,45,46,47,48,49,50,51,52,53,54,55,56,57,58,59,60,61,62,63]

{"sheet":"DECOMM B","index":11,"n_rows":179,"n_cols":105,"rows_kept":179,"cut":false,"hidden":false,"merged":[[172,53,174,54],[172,55,174,55],[172,56,174,56],[175,44,177,45],[175,53,177,54],[175,55,177,55],[175,56,177,56],[178,44,180,45],[178,53,180,54],[178,55,180,55],[178,56,180,56],[157,44,159,45],[157,53,159,54],[157,55,159,55],[157,56,159,56],[160,44,162,45],[160,53,162,54],[160,55,162,55],[160,56,162,56],[163,44,165,45],[163,53,165,54],[163,55,165,55],[163,56,165,56],[166,44,168,45],[166,53,168,54],[166,55,168,55],[166,56,168,56],[169,44,171,45],[169,53,171,54],[169,55,171,55],[169,56,171,56],[142,53,144,54],[142,55,144,55],[142,56,144,56],[145,44,147,45],[145,53,147,54],[145,55,147,55],[145,56,147,56],[148,44,150,45],[148,53,150,54],[148,55,150,55],[148,56,150,56],[151,44,153,45],[151,53,153,54],[151,55,153,55],[151,56,153,56],[154,44,156,45],[154,53,156,54],[154,55,156,55],[154,56,156,56],[148,51,150,52],[127,55,129,55],[127,56,129,56],[130,44,132,45],[130,53,132,54],[130,55,132,55],[130,56,132,56],[133,44,135,45],[133,53,135,54],[133,55,135,55],[133,56,135,56],[136,44,138,45],[136,53,138,54],[136,55,138,55],[136,56,138,56],[139,44,141,45],[139,53,141,54],[139,55,141,55],[139,56,141,56],[133,47,135,48],[133,49,135,50],[133,51,135,52],[127,53,129,54],[121,56,123,56],[124,44,126,45],[124,53,126,54],[124,55,126,55],[124,56,126,56],[24,36,40,37],[41,44,43,45],[44,44,46,45],[47,44,49,45],[50,44,52,45],[53,44,55,45],[56,44,58,45],[59,44,61,45],[62,44,64,45],[65,44,67,45],[68,44,70,45],[71,44,73,45],[74,44,76,45],[77,44,79,45],[80,44,82,45],[83,44,85,45],[124,40,126,41],[124,42,126,43],[124,47,126,48],[124,49,126,50],[124,36,126,37],[124,38,126,39],[124,51,126,52],[74,51,76,52],[74,53,76,54],[74,47,76,48],[95,53,97,54],[178,36,180,37],[178,38,180,39],[178,40,180,41],[178,42,180,43],[178,47,180,48],[178,49,180,50],[172,11,174,12],[175,11,177,12],[178,11,180,12],[20,1,23,32],[178,51,180,52],[24,11,40,12],[104,11,120,12],[121,11,123,12],[124,11,126,12],[127,11,129,12],[133,11,135,12],[136,11,138,12],[139,11,141,12],[89,44,91,45],[92,44,94,45],[95,44,97,45],[98,44,100,45],[24,44,40,45],[104,44,120,45],[121,44,123,45],[172,44,174,45],[154,5,156,6],[154,7,156,8],[154,9,156,10],[154,13,156,14],[154,15,156,16],[154,17,156,18],[154,19,156,20],[154,21,156,22],[154,23,156,24],[154,25,156,26],[154,27,156,28],[166,13,168,14],[166,15,168,16],[166,17,168,18],[166,19,168,20],[166,21,168,22],[166,23,168,24],[166,25,168,26],[166,27,168,28],[154,11,156,12],[157,11,159,12],[160,11,162,12],[166,3,168,4],[166,5,168,6],[166,7,168,8],[166,9,168,10],[178,1,180,2],[178,3,180,4],[178,5,180,6],[178,7,180,8],[178,9,180,10],[178,13,180,14],[178,15,180,16],[178,17,180,18],[178,19,180,20],[178,21,180,22],[178,23,180,24],[178,25,180,26],[178,27,180,28],[178,29,180,30],[178,31,180,32],[178,33,180,33],[178,34,180,35],[175,1,177,2],[175,3,177,4],[175,5,177,6],[175,7,177,8],[175,9,177,10],[175,13,177,14],[175,15,177,16],[175,17,177,18],[175,19,177,20],[175,21,177,22],[175,23,177,24],[175,25,177,26],[175,27,177,28],[175,29,177,30],[175,31,177,32],[175,33,177,33],[175,34,177,35],[175,36,177,37],[175,38,177,39],[175,40,177,41],[175,42,177,43],[175,47,177,48],[175,49,177,50],[175,51,177,52],[169,47,171,48],[169,49,171,50],[169,51,171,52],[172,1,174,2],[172,3,174,4],[172,5,174,6],[172,7,174,8],[172,9,174,10],[172,13,174,14],[172,15,174,16],[172,17,174,18],[172,19,174,20],[172,21,174,22],[172,23,174,24],[172,25,174,26],[172,27,174,28],[172,29,174,30],[172,31,174,32],[172,33,174,33],[172,34,174,35],[172,36,174,37],[169,1,171,2],[169,3,171,4],[172,38,174,39],[172,40,174,41],[172,42,174,43],[172,47,174,48],[172,49,174,50],[172,51,174,52],[166,36,168,37],[166,38,168,39],[166,40,168,41],[166,42,168,43],[166,47,168,48],[166,49,168,50],[166,51,168,52],[169,5,171,6],[169,7,171,8],[169,9,171,10],[169,13,171,14],[169,15,171,16],[169,17,171,18],[169,19,171,20],[169,21,171,22],[169,23,171,24],[169,25,171,26],[169,27,171,28],[169,29,171,30],[169,31,171,32],[166,11,168,12],[169,11,171,12],[169,33,171,33],[169,34,171,35],[169,36,171,37],[169,38,171,39],[169,40,171,41],[169,42,171,43],[166,29,168,30],[166,31,168,32],[166,33,168,33],[166,34,168,35],[160,49,162,50],[160,51,162,52],[163,1,165,2],[163,3,165,4],[163,5,165,6],[163,7,165,8],[163,9,165,10],[163,13,165,14],[163,15,165,16],[163,17,165,18],[163,19,165,20],[163,21,165,22],[163,23,165,24],[163,25,165,26],[163,27,165,28],[163,29,165,30],[163,31,165,32],[163,33,165,33],[163,34,165,35],[163,36,165,37],[163,38,165,39],[163,40,165,41],[163,42,165,43],[163,47,165,48],[163,49,165,50],[163,11,165,12],[163,51,165,52],[166,1,168,2],[157,40,159,41],[157,42,159,43],[157,47,159,48],[157,49,159,50],[157,51,159,52],[160,1,162,2],[160,3,162,4],[160,5,162,6],[160,7,162,8],[160,9,162,10],[160,13,162,14],[160,15,162,16],[160,17,162,18],[160,19,162,20],[160,21,162,22],[160,23,162,24],[160,25,162,26],[160,27,162,28],[160,29,162,30],[160,31,162,32],[160,33,162,33],[160,34,162,35],[160,36,162,37],[160,38,162,39],[160,40,162,41],[160,42,162,43],[160,47,162,48],[154,33,156,33],[154,34,156,35],[154,36,156,37],[154,38,156,39],[154,40,156,41],[154,42,156,43],[154,47,156,48],[154,49,156,50],[154,51,156,52],[157,1,159,2],[157,3,159,4],[157,5,159,6],[157,7,159,8],[157,9,159,10],[157,13,159,14],[157,15,159,16],[157,17,159,18],[157,19,159,20],[157,21,159,22],[157,23,159,24],[157,25,159,26],[157,27,159,28],[157,29,159,30],[157,31,159,32],[157,33,159,33],[157,34,159,35],[157,36,159,37],[154,1,156,2],[154,3,156,4],[154,29,156,30],[154,31,156,32],[157,38,159,39],[151,1,153,2],[151,3,153,4],[151,5,153,6],[151,7,153,8],[151,9,153,10],[151,13,153,14],[151,15,153,16],[151,17,153,18],[151,19,153,20],[151,21,153,22],[151,23,153,24],[151,25,153,26],[151,27,153,28],[151,29,153,30],[151,31,153,32],[151,33,153,33],[151,34,153,35],[151,11,153,12],[151,36,153,37],[151,38,153,39],[151,40,153,41],[151,42,153,43],[151,47,153,48],[151,49,153,50],[151,51,153,52],[145,47,147,48],[145,49,147,50],[145,51,147,52],[148,36,150,37],[148,38,150,39],[148,40,150,41],[148,42,150,43],[148,47,150,48],[148,49,150,50],[148,1,150,2],[148,3,150,4],[148,5,150,6],[148,7,150,8],[148,9,150,10],[148,13,150,14],[148,15,150,16],[148,17,150,18],[148,19,150,20],[148,21,150,22],[148,23,150,24],[148,25,150,26],[148,27,150,28],[148,29,150,30],[148,31,150,32],[148,33,150,33],[148,34,150,35],[148,11,150,12],[142,38,144,39],[142,40,144,41],[142,42,144,43],[142,47,144,48],[142,49,144,50],[142,51,144,52],[145,1,147,2],[145,3,147,4],[145,5,147,6],[145,7,147,8],[145,9,147,10],[145,13,147,14],[145,15,147,16],[145,17,147,18],[145,19,147,20],[145,21,147,22],[145,23,147,24],[145,25,147,26],[145,27,147,28],[145,29,147,30],[145,31,147,32],[145,33,147,33],[145,34,147,35],[145,36,147,37],[145,38,147,39],[145,40,147,41],[145,42,147,43],[142,11,144,12],[145,11,147,12],[142,44,144,45],[139,33,141,33],[139,34,141,35],[139,36,141,37],[139,38,141,39],[139,40,141,41],[139,42,141,43],[139,47,141,48],[139,49,141,50],[139,51,141,52],[142,1,144,2],[142,3,144,4],[142,5,144,6],[142,7,144,8],[142,9,144,10],[142,13,144,14],[142,15,144,16],[142,17,144,18],[142,19,144,20],[142,21,144,22],[142,23,144,24],[142,25,144,26],[142,27,144,28],[142,29,144,30],[142,31,144,32],[142,33,144,33],[142,34,144,35],[142,36,144,37],[139,1,141,2],[139,3,141,4],[139,17,141,18],[139,19,141,20],[139,21,141,22],[139,23,141,24],[139,25,141,26],[139,27,141,28],[139,29,141,30],[139,31,141,32],[136,1,138,2],[136,3,138,4],[136,5,138,6],[136,7,138,8],[136,9,138,10],[136,13,138,14],[136,15,138,16],[136,17,138,18],[136,19,138,20],[136,21,138,22],[136,23,138,24],[136,25,138,26],[136,27,138,28],[136,29,138,30],[136,31,138,32],[139,5,141,6],[139,7,141,8],[139,9,141,10],[139,13,141,14],[139,15,141,16],[133,1,135,2],[133,3,135,4],[133,5,135,6],[133,7,135,8],[133,9,135,10],[133,13,135,14],[133,15,135,16],[133,17,135,18],[133,19,135,20],[133,21,135,22],[133,23,135,24],[133,25,135,26],[133,27,135,28],[133,29,135,30],[133,31,135,32],[133,33,135,33],[133,34,135,35],[130,36,132,37],[130,38,132,39],[130,40,132,41],[130,42,132,43],[130,47,132,48],[130,11,132,12],[136,33,138,33],[136,34,138,35],[136,36,138,37],[136,38,138,39],[136,40,138,41],[136,42,138,43],[136,47,138,48],[136,49,138,50],[136,51,138,52],[130,49,132,50],[130,51,132,52],[133,36,135,37],[133,38,135,39],[133,40,135,41],[133,42,135,43],[127,17,129,18],[127,19,129,20],[127,21,129,22],[127,23,129,24],[127,25,129,26],[127,27,129,28],[127,29,129,30],[127,31,129,32],[127,33,129,33],[127,34,129,35],[130,1,132,2],[130,3,132,4],[130,5,132,6],[130,7,132,8],[130,9,132,10],[130,13,132,14],[130,15,132,16],[130,17,132,18],[130,19,132,20],[130,21,132,22],[130,23,132,24],[130,25,132,26],[130,27,132,28],[130,29,132,30],[130,31,132,32],[130,33,132,33],[130,34,132,35],[121,29,123,30],[121,31,123,32],[127,36,129,37],[127,38,129,39],[127,40,129,41],[127,44,129,45],[127,42,129,43],[127,47,129,48],[127,49,129,50],[127,51,129,52],[124,1,126,2],[124,3,126,4],[124,5,126,6],[124,7,126,8],[124,9,126,10],[124,13,126,14],[124,15,126,16],[124,17,126,18],[124,19,126,20],[124,21,126,22],[124,23,126,24],[124,25,126,26],[124,27,126,28],[124,29,126,30],[124,31,126,32],[124,33,126,33],[124,34,126,35],[127,1,129,2],[127,3,129,4],[127,5,129,6],[127,7,129,8],[127,9,129,10],[121,55,123,55],[98,36,100,37],[104,1,120,4],[104,5,120,10],[104,13,120,18],[104,19,120,30],[104,31,120,32],[104,34,120,35],[121,33,123,33],[121,34,123,35],[104,36,120,37],[104,38,120,39],[121,36,123,37],[121,38,123,39],[121,40,123,41],[121,42,123,43],[121,47,123,48],[121,49,123,50],[121,51,123,52],[121,1,123,2],[121,3,123,4],[121,5,123,6],[121,7,123,8],[121,9,123,10],[121,13,123,14],[121,15,123,16],[121,17,123,18],[121,19,123,20],[121,21,123,22],[121,23,123,24],[121,25,123,26],[121,27,123,28],[104,53,117,54],[118,53,120,54],[121,53,123,54],[98,38,100,39],[98,40,100,41],[98,42,100,43],[98,47,100,48],[98,49,100,50],[98,33,100,33],[98,34,100,35],[104,40,120,41],[104,42,120,43],[104,47,117,48],[104,49,117,50],[104,51,117,52],[118,47,120,48],[118,49,120,50],[118,51,120,52],[86,36,88,37],[89,36,91,37],[86,34,88,35],[98,1,100,2],[98,3,100,4],[98,5,100,6],[98,7,100,8],[98,9,100,10],[98,11,100,12],[98,13,100,14],[98,15,100,16],[71,55,73,55],[74,55,76,55],[77,55,79,55],[80,55,82,55],[83,55,85,55],[86,55,88,55],[89,55,91,55],[92,55,94,55],[95,55,97,55],[77,49,79,50],[77,51,79,52],[77,53,79,54],[71,49,73,50],[71,51,73,52],[71,53,73,54],[71,47,73,48],[86,44,88,45],[95,49,97,50],[95,51,97,52],[98,55,100,55],[74,49,76,50],[47,56,49,56],[50,56,52,56],[53,56,55,56],[56,56,58,56],[59,56,61,56],[62,56,64,56],[65,56,67,56],[68,56,70,56],[71,56,73,56],[74,56,76,56],[77,56,79,56],[80,56,82,56],[83,56,85,56],[86,56,88,56],[89,56,91,56],[47,55,49,55],[50,55,52,55],[53,55,55,55],[56,55,58,55],[59,55,61,55],[62,55,64,55],[65,55,67,55],[68,55,70,55],[65,49,67,50],[65,51,67,52],[65,53,67,54],[89,51,91,52],[89,53,91,54],[98,25,100,26],[98,27,100,28],[92,56,94,56],[68,49,70,50],[68,51,70,52],[98,31,100,32],[95,1,97,2],[95,3,97,4],[95,5,97,6],[80,31,82,32],[80,51,82,52],[80,53,82,54],[80,47,82,48],[86,40,88,41],[89,40,91,41],[86,38,88,39],[89,38,91,39],[89,31,91,32],[89,34,91,35],[86,1,88,2],[86,3,88,4],[95,25,97,26],[95,27,97,28],[95,29,97,30],[95,31,97,32],[92,1,94,2],[92,3,94,4],[92,5,94,6],[92,7,94,8],[92,36,94,37],[89,5,91,6],[89,7,91,8],[98,29,100,30],[80,9,82,10],[80,11,82,12],[80,13,82,14],[89,9,91,10],[89,11,91,12],[89,13,91,14],[89,15,91,16],[89,17,91,18],[89,19,91,20],[89,29,91,30],[86,5,88,6],[86,7,88,8],[86,9,88,10],[86,11,88,12],[86,13,88,14],[86,29,88,30],[80,15,82,16],[80,17,82,18],[80,19,82,20],[80,21,82,22],[80,23,82,24],[80,25,82,26],[80,27,82,28],[83,7,85,8],[92,9,94,10],[89,23,91,24],[83,13,85,14],[83,15,85,16],[83,17,85,18],[56,27,58,28],[56,29,58,30],[77,15,79,16],[77,17,79,18],[77,19,79,20],[77,21,79,22],[77,23,79,24],[68,29,70,30],[74,19,76,20],[74,21,76,22],[74,23,76,24],[74,25,76,26],[74,27,76,28],[74,29,76,30],[65,17,67,18],[65,19,67,20],[65,21,67,22],[65,23,67,24],[65,25,67,26],[65,27,67,28],[65,29,67,30],[56,21,58,22],[56,23,58,24],[56,25,58,26],[56,31,58,32],[83,19,85,20],[83,21,85,22],[83,23,85,24],[83,25,85,26],[83,27,85,28],[59,17,61,18],[59,19,61,20],[59,21,61,22],[59,23,61,24],[59,25,61,26],[92,34,94,35],[92,11,94,12],[92,13,94,14],[92,15,94,16],[92,17,94,18],[92,19,94,20],[92,21,94,22],[92,23,94,24],[92,25,94,26],[92,27,94,28],[92,29,94,30],[92,31,94,32],[80,29,82,30],[74,13,76,14],[74,15,76,16],[74,17,76,18],[59,33,61,33],[77,13,79,14],[86,31,88,32],[89,25,91,26],[89,27,91,28],[89,21,91,22],[53,1,55,2],[53,3,55,4],[53,5,55,6],[53,7,55,8],[53,9,55,10],[53,11,55,12],[53,13,55,14],[53,15,55,16],[53,17,55,18],[53,19,55,20],[53,21,55,22],[53,23,55,24],[53,25,55,26],[53,27,55,28],[53,29,55,30],[53,31,55,32],[83,29,85,30],[83,31,85,32],[80,1,82,2],[80,3,82,4],[80,5,82,6],[80,7,82,8],[56,7,58,8],[56,9,58,10],[56,11,58,12],[56,13,58,14],[56,15,58,16],[56,17,58,18],[56,19,58,20],[83,9,85,10],[83,11,85,12],[50,19,52,20],[50,21,52,22],[50,23,52,24],[50,25,52,26],[50,27,52,28],[50,29,52,30],[50,31,52,32],[47,11,49,12],[47,13,49,14],[47,15,49,16],[47,17,49,18],[47,19,49,20],[47,21,49,22],[47,23,49,24],[47,25,49,26],[47,27,49,28],[47,29,49,30],[47,31,49,32],[44,1,46,2],[44,3,46,4],[44,5,46,6],[44,7,46,8],[44,9,46,10],[44,11,46,12],[44,13,46,14],[0,104,1,104],[2,104,4,104],[5,104,7,104],[0,76,2,77],[0,78,2,79],[3,76,5,79],[1,52,6,63],[41,34,43,35],[41,36,43,37],[41,38,43,39],[41,40,43,41],[1,1,6,11],[1,12,6,22],[1,24,3,27],[1,28,3,38],[1,39,3,42],[1,43,3,47],[41,5,43,6],[41,7,43,8],[41,9,43,10],[41,11,43,12],[41,13,43,14],[41,15,43,16],[41,17,43,18],[41,19,43,20],[41,21,43,22],[41,23,43,24],[41,25,43,26],[41,27,43,28],[41,29,43,30],[41,31,43,32],[41,55,43,55],[4,24,6,27],[12,1,14,63],[13,64,14,64],[20,34,23,43],[20,47,23,54],[4,28,6,38],[4,39,6,42],[4,43,6,47],[7,1,7,63],[8,1,10,5],[8,6,10,22],[41,49,43,50],[41,51,43,52],[41,53,43,54],[41,42,43,43],[41,33,43,33],[44,53,46,54],[44,47,46,48],[44,17,46,18],[44,19,46,20],[44,21,46,22],[44,23,46,24],[44,25,46,26],[44,27,46,28],[44,29,46,30],[44,31,46,32],[44,55,46,55],[41,56,43,56],[44,56,46,56],[8,49,10,53],[8,54,10,63],[41,0,43,0],[38,47,40,48],[38,49,40,50],[38,51,40,52],[38,53,40,54],[24,47,37,48],[24,49,37,50],[24,51,37,52],[24,53,37,54],[24,42,40,43],[24,40,40,41],[24,38,40,39],[24,34,40,35],[44,15,46,16],[44,49,46,50],[44,51,46,52],[41,47,43,48],[44,33,46,33],[44,34,46,35],[44,40,46,41],[24,1,40,4],[24,5,40,10],[24,13,40,18],[24,19,40,30],[24,31,40,32],[41,1,43,2],[41,3,43,4],[47,49,49,50],[47,51,49,52],[47,53,49,54],[47,47,49,48],[44,0,46,0],[47,33,49,33],[53,0,55,0],[44,42,46,43],[50,33,52,33],[50,0,52,0],[47,0,49,0],[53,49,55,50],[53,51,55,52],[53,53,55,54],[53,47,55,48],[50,49,52,50],[50,51,52,52],[50,53,52,54],[50,47,52,48],[53,42,55,43],[50,34,52,35],[53,34,55,35],[50,38,52,39],[53,38,55,39],[53,33,55,33],[50,42,52,43],[53,36,55,37],[47,1,49,2],[47,3,49,4],[47,5,49,6],[47,7,49,8],[47,9,49,10],[56,49,58,50],[56,51,58,52],[56,53,58,54],[56,47,58,48],[56,0,58,0],[56,42,58,43],[56,34,58,35],[56,38,58,39],[56,33,58,33],[56,36,58,37]],"merged_total":1282,"flags":["merged_cut"]}
[null,null,null,null,null,null,null,null,null,null,null,null,null,null,null,null,null,null,null,null,null,null,null,null,null,null,null,null,null,null,null,null,null,null,null,null,null,null,null,null,null,null,null,null,null,null,null,null,null,null,null,null,null,null,null,null,null,null,null,null,null,null,null,null,null,null,null,null,null,null,null,null,null,null,null,null,{"$f":"BM17","v":0},null,{"$f":"BM18","v":0},null,null,null,null,null,null,null,null,null,null,null,null,null,null,null,null,null,null,null,null,null,null,null,null,null,"PRINT?"]
[null,null,null,null,null,null,null,null,null,null,null,null,"DECOMM B",null,null,null,null,null,null,null,null,null,null,null,"ENGINEER",null,null,null,{"$f":"SAR!$K$13","v":""},null,null,null,null,null,null,null,null,null,null,"VOLTAGE",null,null,null,{"$f":"SAR!$K$36","v":0},null,null,null,null,null,"SATS",null,null,{"$f":"SAR!$BA$2","v":0}]
[null,null,null,null,null,null,null,null,null,null,null,null,null,null,null,null,null,null,null,null,null,null,null,null,null,null,null,null,null,null,null,null,null,null,null,null,null,null,null,null,null,null,null,null,null,null,null,null,null,null,null,null,null,null,null,null,null,null,null,null,null,null,null,null,null,null,null,null,null,null,null,null,null,null,null,null,null,null,null,null,null,null,null,null,null,null,null,null,null,null,null,null,null,null,null,null,null,null,null,null,null,null,null,null,{"$f":"IF(BY1=0,\"\",\"Y\")","v":""}]
[null,null,null,null,null,null,null,null,null,null,null,null,null,null,null,null,null,null,null,null,null,null,null,null,null,null,null,null,null,null,null,null,null,null,null,null,null,null,null,null,null,null,null,null,null,null,null,null,null,null,null,null,null,null,null,null,null,null,null,null,null,null,null,null,null,null,null,null,null,null,null,null,null,null,null,null,{"$f":"BY1/CA1","v":{"$error":"#DIV/0!"}}]
[null,null,null,null,null,null,null,null,null,null,null,null,null,null,null,null,null,null,null,null,null,null,null,null,"AREA",null,null,null,{"$f":"SAR!$K$39","v":0},null,null,null,null,null,null,null,null,null,null,"PROJECT DATE",null,null,null,{"$f":"SAR!$K$42","v":"00:00:00"}]
[]
[]
[]
[null,"PRIMARY SUBSTATION ",null,null,null,null,{"$f":"SAR!$K$45","v":0},null,null,null,null,null,null,null,null,null,null,null,null,null,null,null,null,null,"DISTRIBUTION SUBSTATION ",null,null,null,null,{"$f":"SAR!$K$30","v":0},null,null,null,null,null,null,null,null,null,null,null,null,null,null,null,null,null,null,null,"PLANT REF",null,null,null,null,{"$f":"SAR!$K$33","v":0}]
[]
[]
[]
[null,"DECOMMISSIONING INFORMATION (POLES)"]
[]
[null,null,null,null,null,null,null,null,null,null,null,null,null,null,null,null,null,null,null,null,null,null,null,null,null,null,null,null,null,null,null,null,null,null,null,null,null,null,null,null,null,null,null,null,null,null,null,null,null,null,null,null,null,null,null,null,null,null,null,null,null,null,null,null,null,null,"DOC QUICK LINK"]
[]
[null,null,null,null,null,null,null,null,null,null,null,null,null,null,null,null,null,null,null,null,null,null,null,null,null,null,null,null,null,null,null,null,null,null,"PROJECT CODE",null,null,null,null,null,null,null,null,null,null,{"$f":"SAR!J78","v":""},null,null,null,null,null,null,null,null,null,null,null,null,null,null,null,null,null,null,{"$f":"SUM(BD42:BD101,BD122:BD181)","v":0}]
[null,null,null,null,null,null,null,null,null,null,null,null,null,null,null,null,null,null,null,null,null,null,null,null,null,null,null,null,null,null,null,null,null,null,null,null,null,null,null,null,null,null,null,null,null,null,null,null,null,null,null,null,null,null,null,null,null,null,null,null,null,null,null,null,{"$f":"SUM(BE42:BE101,BE122:BE181)","v":0}]
[]
[]
[null,"STRUCTURED PLANT NUMBER",null,null,null,null,null,null,null,null,null,null,null,null,null,null,null,null,null,null,null,null,null,null,null,null,null,null,null,null,null,null,null,null,"ITEMS DISPOSED",null,null,null,null,null,null,null,null,null,null,null,null,"DECOMM CODES "]
[]
[]
[null,null,null,null,null,null,null,null,null,null,null,null,null,null,null,null,null,null,null,null,null,null,null,null,null,null,null,null,null,null,null,null,null,null,null,null,null,null,null,null,null,null,null,null,null,null,null,null,null,null,null,null,null,null,null,null,null,null,null,null,null,null,null,null,null,null,"OTHER (PLEASE SPECIFY)"]
[null,"AREA",null,null,null,"UNIT",null,null,null,null,null,"VOLTAGE",null,"LINE",null,null,null,null,null,"POLE I.D. \n(6 DIGIT)",null,null,null,null,null,null,null,null,null,null,null,"POLE SUFFIX (A, B, C ETC)",null,null,"POLE REMOVED",null,"POLE REPLACED",null,"TOP CROSSARM ",null,"TEE CROSSARM ",null,"No. OF STAYS",null,"LV ARRANGEMENT ",null,null,"DRIVER",null,"CONDITION",null,"STATUS",null,"REMOVED BY"]
[]
[]
[]
[]
[]
[]
[]
[]
[]
[]
[]
[]
[]
[null,null,null,null,null,null,null,null,null,null,null,null,null,null,null,null,null,null,null,null,null,null,null,null,null,null,null,null,null,null,null,null,null,null,null,null,null,null,null,null,null,null,null,null,null,null,null,"i",null,"i",null,"i",null,"i"]
[]
[]
[null,null,null,null,null,null,null,null,null,null,null,null,null,null,null,null,null,null,null,null,null,null,null,null,null,null,null,null,null,null,null,null,null,{"$f":"CONCATENATE(B42,D42,F42,H42,J42,L42,N42,P42,R42,T42,V42,X42,Z42,AB42,AD42,AF42)","v":""},null,null,null,null,null,null,null,null,null,null,null,null,null,null,null,null,null,null,null,null,null,{"$f":"COUNTA(B42,AI42:AT44,AV42:BC44)","v":0},{"$f":"IF(BD42>0,11,0)","v":0}]
[]
[]
[null,null,null,null,null,null,null,null,null,null,null,null,null,null,null,null,null,null,null,null,null,null,null,null,null,null,null,null,null,null,null,null,null,{"$f":"CONCATENATE(B45,D45,F45,H45,J45,L45,N45,P45,R45,T45,V45,X45,Z45,AB45,AD45,AF45)","v":""},null,null,null,null,null,null,null,null,null,null,null,null,null,null,null,null,null,null,null,null,null,{"$f":"COUNTA(B45,AI45:AT47,AV45:BC47)","v":0},{"$f":"IF(BD45>0,11,0)","v":0}]
[]
[]
[null,null,null,null,null,null,null,null,null,null,null,null,null,null,null,null,null,null,null,null,null,null,null,null,null,null,null,null,null,null,null,null,null,{"$f":"CONCATENATE(B48,D48,F48,H48,J48,L48,N48,P48,R48,T48,V48,X48,Z48,AB48,AD48,AF48)","v":""},null,null,null,null,null,null,null,null,null,null,null,null,null,null,null,null,null,null,null,null,null,{"$f":"COUNTA(B48,AI48:AT50,AV48:BC50)","v":0},{"$f":"IF(BD48>0,11,0)","v":0}]
[]
[]
[null,null,null,null,null,null,null,null,null,null,null,null,null,null,null,null,null,null,null,null,null,null,null,null,null,null,null,null,null,null,null,null,null,{"$f":"CONCATENATE(B51,D51,F51,H51,J51,L51,N51,P51,R51,T51,V51,X51,Z51,AB51,AD51,AF51)","v":""},null,null,null,null,null,null,null,null,null,null,null,null,null,null,null,null,null,null,null,null,null,{"$f":"COUNTA(B51,AI51:AT53,AV51:BC53)","v":0},{"$f":"IF(BD51>0,11,0)","v":0}]
[]
[]
[null,null,null,null,null,null,null,null,null,null,null,null,null,null,null,null,null,null,null,null,null,null,null,null,null,null,null,null,null,null,null,null,null,{"$f":"CONCATENATE(B54,D54,F54,H54,J54,L54,N54,P54,R54,T54,V54,X54,Z54,AB54,AD54,AF54)","v":""},null,null,null,null,null,null,null,null,null,null,null,null,null,null,null,null,null,null,null,null,null,{"$f":"COUNTA(B54,AI54:AT56,AV54:BC56)","v":0},{"$f":"IF(BD54>0,11,0)","v":0}]
[]
[]
[null,null,null,null,null,null,null,null,null,null,null,null,null,null,null,null,null,null,null,null,null,null,null,null,null,null,null,null,null,null,null,null,null,{"$f":"CONCATENATE(B57,D57,F57,H57,J57,L57,N57,P57,R57,T57,V57,X57,Z57,AB57,AD57,AF57)","v":""},null,null,null,null,null,null,null,null,null,null,null,null,null,null,null,null,null,null,null,null,null,{"$f":"COUNTA(B57,AI57:AT59,AV57:BC59)","v":0},{"$f":"IF(BD57>0,11,0)","v":0}]
[]
[]
[null,null,null,null,null,null,null,null,null,null,null,null,null,null,null,null,null,null,null,null,null,null,null,null,null,null,null,null,null,null,null,null,null,{"$f":"CONCATENATE(B60,D60,F60,H60,J60,L60,N60,P60,R60,T60,V60,X60,Z60,AB60,AD60,AF60)","v":""},null,null,null,null,null,null,null,null,null,null,null,null,null,null,null,null,null,null,null,null,null,{"$f":"COUNTA(B60,AI60:AT62,AV60:BC62)","v":0},{"$f":"IF(BD60>0,11,0)","v":0}]
[]
[]
[null,null,null,null,null,null,null,null,null,null,null,null,null,null,null,null,null,null,null,null,null,null,null,null,null,null,null,null,null,null,null,null,null,{"$f":"CONCATENATE(B63,D63,F63,H63,J63,L63,N63,P63,R63,T63,V63,X63,Z63,AB63,AD63,AF63)","v":""},null,null,null,null,null,null,null,null,null,null,null,null,null,null,null,null,null,null,null,null,null,{"$f":"COUNTA(B63,AI63:AT65,AV63:BC65)","v":0},{"$f":"IF(BD63>0,11,0)","v":0}]
[]
[]
[null,null,null,null,null,null,null,null,null,null,null,null,null,null,null,null,null,null,null,null,null,null,null,null,null,null,null,null,null,null,null,null,null,{"$f":"CONCATENATE(B66,D66,F66,H66,J66,L66,N66,P66,R66,T66,V66,X66,Z66,AB66,AD66,AF66)","v":""},null,null,null,null,null,null,null,null,null,null,null,null,null,null,null,null,null,null,null,null,null,{"$f":"COUNTA(B66,AI66:AT68,AV66:BC68)","v":0},{"$f":"IF(BD66>0,11,0)","v":0}]
[]
[]
[null,null,null,null,null,null,null,null,null,null,null,null,null,null,null,null,null,null,null,null,null,null,null,null,null,null,null,null,null,null,null,null,null,{"$f":"CONCATENATE(B69,D69,F69,H69,J69,L69,N69,P69,R69,T69,V69,X69,Z69,AB69,AD69,AF69)","v":""},null,null,null,null,null,null,null,null,null,null,null,null,null,null,null,null,null,null,null,null,null,{"$f":"COUNTA(B69,AI69:AT71,AV69:BC71)","v":0},{"$f":"IF(BD69>0,11,0)","v":0}]
[]
[]
[null,null,null,null,null,null,null,null,null,null,null,null,null,null,null,null,null,null,null,null,null,null,null,null,null,null,null,null,null,null,null,null,null,{"$f":"CONCATENATE(B72,D72,F72,H72,J72,L72,N72,P72,R72,T72,V72,X72,Z72,AB72,AD72,AF72)","v":""},null,null,null,null,null,null,null,null,null,null,null,null,null,null,null,null,null,null,null,null,null,{"$f":"COUNTA(B72,AI72:AT74,AV72:BC74)","v":0},{"$f":"IF(BD72>0,11,0)","v":0}]
[]
[]
[null,null,null,null,null,null,null,null,null,null,null,null,null,null,null,null,null,null,null,null,null,null,null,null,null,null,null,null,null,null,null,null,null,{"$f":"CONCATENATE(B75,D75,F75,H75,J75,L75,N75,P75,R75,T75,V75,X75,Z75,AB75,AD75,AF75)","v":""},null,null,null,null,null,null,null,null,null,null,null,null,null,null,null,null,null,null,null,null,null,{"$f":"COUNTA(B75,AI75:AT77,AV75:BC77)","v":0},{"$f":"IF(BD75>0,11,0)","v":0}]
[]
[]
[null,null,null,null,null,null,null,null,null,null,null,null,null,null,null,null,null,null,null,null,null,null,null,null,null,null,null,null,null,null,null,null,null,{"$f":"CONCATENATE(B78,D78,F78,H78,J78,L78,N78,P78,R78,T78,V78,X78,Z78,AB78,AD78,AF78)","v":""},null,null,null,null,null,null,null,null,null,null,null,null,null,null,null,null,null,null,null,null,null,{"$f":"COUNTA(B78,AI78:AT80,AV78:BC80)","v":0},{"$f":"IF(BD78>0,11,0)","v":0}]
[]
[]
[null,null,null,null,null,null,null,null,null,null,null,null,null,null,null,null,null,null,null,null,null,null,null,null,null,null,null,null,null,null,null,null,null,{"$f":"CONCATENATE(B81,D81,F81,H81,J81,L81,N81,P81,R81,T81,V81,X81,Z81,AB81,AD81,AF81)","v":""},null,null,null,null,null,null,null,null,null,null,null,null,null,null,null,null,null,null,null,null,null,{"$f":"COUNTA(B81,AI81:AT83,AV81:BC83)","v":0},{"$f":"IF(BD81>0,11,0)","v":0}]
[]
[]
[null,null,null,null,null,null,null,null,null,null,null,null,null,null,null,null,null,null,null,null,null,null,null,null,null,null,null,null,null,null,null,null,null,{"$f":"CONCATENATE(B84,D84,F84,H84,J84,L84,N84,P84,R84,T84,V84,X84,Z84,AB84,AD84,AF84)","v":""},null,null,null,null,null,null,null,null,null,null,null,null,null,null,null,null,null,null,null,null,null,{"$f":"COUNTA(B84,AI84:AT86,AV84:BC86)","v":0},{"$f":"IF(BD84>0,11,0)","v":0}]
[]
[]
[null,null,null,null,null,null,null,null,null,null,null,null,null,null,null,null,null,null,null,null,null,null,null,null,null,null,null,null,null,null,null,null,null,{"$f":"CONCATENATE(B87,D87,F87,H87,J87,L87,N87,P87,R87,T87,V87,X87,Z87,AB87,AD87,AF87)","v":""},null,null,null,null,null,null,null,null,null,null,null,null,null,null,null,null,null,null,null,null,null,{"$f":"COUNTA(B87,AI87:AT89,AV87:BC89)","v":0},{"$f":"IF(BD87>0,11,0)","v":0}]
[]
[]
[null,null,null,null,null,null,null,null,null,null,null,null,null,null,null,null,null,null,null,null,null,null,null,null,null,null,null,null,null,null,null,null,null,{"$f":"CONCATENATE(B90,D90,F90,H90,J90,L90,N90,P90,R90,T90,V90,X90,Z90,AB90,AD90,AF90)","v":""},null,null,null,null,null,null,null,null,null,null,null,null,null,null,null,null,null,null,null,null,null,{"$f":"COUNTA(B90,AI90:AT92,AV90:BC92)","v":0},{"$f":"IF(BD90>0,11,0)","v":0}]
[]
[]
[null,null,null,null,null,null,null,null,null,null,null,null,null,null,null,null,null,null,null,null,null,null,null,null,null,null,null,null,null,null,null,null,null,{"$f":"CONCATENATE(B93,D93,F93,H93,J93,L93,N93,P93,R93,T93,V93,X93,Z93,AB93,AD93,AF93)","v":""},null,null,null,null,null,null,null,null,null,null,null,null,null,null,null,null,null,null,null,null,null,{"$f":"COUNTA(B93,AI93:AT95,AV93:BC95)","v":0},{"$f":"IF(BD93>0,11,0)","v":0}]
[]
[]
[null,null,null,null,null,null,null,null,null,null,null,null,null,null,null,null,null,null,null,null,null,null,null,null,null,null,null,null,null,null,null,null,null,{"$f":"CONCATENATE(B96,D96,F96,H96,J96,L96,N96,P96,R96,T96,V96,X96,Z96,AB96,AD96,AF96)","v":""},null,null,null,null,null,null,null,null,null,null,null,null,null,null,null,null,null,null,null,null,null,{"$f":"COUNTA(B96,AI96:AT98,AV96:BC98)","v":0},{"$f":"IF(BD96>0,11,0)","v":0}]
[]
[]
[null,null,null,null,null,null,null,null,null,null,null,null,null,null,null,null,null,null,null,null,null,null,null,null,null,null,null,null,null,null,null,null,null,{"$f":"CONCATENATE(B99,D99,F99,H99,J99,L99,N99,P99,R99,T99,V99,X99,Z99,AB99,AD99,AF99)","v":""},null,null,null,null,null,null,null,null,null,null,null,null,null,null,null,null,null,null,null,null,null,{"$f":"COUNTA(B99,AI99:AT101,AV99:BC101)","v":0},{"$f":"IF(BD99>0,11,0)","v":0}]
[]
[]
[]
[]
[]
[null,"AREA",null,null,null,"UNIT",null,null,null,null,null,"VOLTAGE",null,"LINE",null,null,null,null,null,"POLE I.D. \n(6 DIGIT)",null,null,null,null,null,null,null,null,null,null,null,"POLE SUFFIX (A, B, C ETC)",null,null,"POLE REMOVED",null,"POLE REPLACED",null,"TOP CROSSARM ",null,"TEE CROSSARM ",null,"No. OF STAYS",null,"LV ARRANGEMENT ",null,null,"DRIVER",null,"CONDITION",null,"STATUS",null,"REMOVED BY"]
[]
[]
[]
[]
[]
[]
[]
[]
[]
[]
[]
[]
[]
[null,null,null,null,null,null,null,null,null,null,null,null,null,null,null,null,null,null,null,null,null,null,null,null,null,null,null,null,null,null,null,null,null,null,null,null,null,null,null,null,null,null,null,null,null,null,null,"i",null,"i",null,"i",null,"i"]
[]
[]
[null,null,null,null,null,null,null,null,null,null,null,null,null,null,null,null,null,null,null,null,null,null,null,null,null,null,null,null,null,null,null,null,null,{"$f":"CONCATENATE(B122,D122,F122,H122,J122,L122,N122,P122,R122,T122,V122,X122,Z122,AB122,AD122,AF122)","v":""},null,null,null,null,null,null,null,null,null,null,null,null,null,null,null,null,null,null,null,null,null,{"$f":"COUNTA(B122,AI122:AT124,AV122:BC124)","v":0},{"$f":"IF(BD122>0,11,0)","v":0}]
[]
[]
[null,null,null,null,null,null,null,null,null,null,null,null,null,null,null,null,null,null,null,null,null,null,null,null,null,null,null,null,null,null,null,null,null,"",null,null,null,null,null,null,null,null,null,null,null,null,null,null,null,null,null,null,null,null,null,{"$f":"COUNTA(B125,AI125:AT127,AV125:BC127)","v":0},{"$f":"IF(BD125>0,11,0)","v":0}]
[]
[]
[null,null,null,null,null,null,null,null,null,null,null,null,null,null,null,null,null,null,null,null,null,null,null,null,null,null,null,null,null,null,null,null,null,"",null,null,null,null,null,null,null,null,null,null,null,null,null,null,null,null,null,null,null,null,null,{"$f":"COUNTA(B128,AI128:AT130,AV128:BC130)","v":0},{"$f":"IF(BD128>0,11,0)","v":0}]
[]
[]
[null,null,null,null,null,null,null,null,null,null,null,null,null,null,null,null,null,null,null,null,null,null,null,null,null,null,null,null,null,null,null,null,null,"",null,null,null,null,null,null,null,null,null,null,null,null,null,null,null,null,null,null,null,null,null,{"$f":"COUNTA(B131,AI131:AT133,AV131:BC133)","v":0},{"$f":"IF(BD131>0,11,0)","v":0}]
[]
[]
[null,null,null,null,null,null,null,null,null,null,null,null,null,null,null,null,null,null,null,null,null,null,null,null,null,null,null,null,null,null,null,null,null,"",null,null,null,null,null,null,null,null,null,null,null,null,null,null,null,null,null,null,null,null,null,{"$f":"COUNTA(B134,AI134:AT136,AV134:BC136)","v":0},{"$f":"IF(BD134>0,11,0)","v":0}]
[]
[]
[null,null,null,null,null,null,null,null,null,null,null,null,null,null,null,null,null,null,null,null,null,null,null,null,null,null,null,null,null,null,null,null,null,"",null,null,null,null,null,null,null,null,null,null,null,null,null,null,null,null,null,null,null,null,null,{"$f":"COUNTA(B137,AI137:AT139,AV137:BC139)","v":0},{"$f":"IF(BD137>0,11,0)","v":0}]
[]
[]
[null,null,null,null,null,null,null,null,null,null,null,null,null,null,null,null,null,null,null,null,null,null,null,null,null,null,null,null,null,null,null,null,null,"",null,null,null,null,null,null,null,null,null,null,null,null,null,null,null,null,null,null,null,null,null,{"$f":"COUNTA(B140,AI140:AT142,AV140:BC142)","v":0},{"$f":"IF(BD140>0,11,0)","v":0}]
[]
[]
[null,null,null,null,null,null,null,null,null,null,null,null,null,null,null,null,null,null,null,null,null,null,null,null,null,null,null,null,null,null,null,null,null,"",null,null,null,null,null,null,null,null,null,null,null,null,null,null,null,null,null,null,null,null,null,{"$f":"COUNTA(B143,AI143:AT145,AV143:BC145)","v":0},{"$f":"IF(BD143>0,11,0)","v":0}]
[]
[]
[null,null,null,null,null,null,null,null,null,null,null,null,null,null,null,null,null,null,null,null,null,null,null,null,null,null,null,null,null,null,null,null,null,"",null,null,null,null,null,null,null,null,null,null,null,null,null,null,null,null,null,null,null,null,null,{"$f":"COUNTA(B146,AI146:AT148,AV146:BC148)","v":0},{"$f":"IF(BD146>0,11,0)","v":0}]
[]
[]
[null,null,null,null,null,null,null,null,null,null,null,null,null,null,null,null,null,null,null,null,null,null,null,null,null,null,null,null,null,null,null,null,null,"",null,null,null,null,null,null,null,null,null,null,null,null,null,null,null,null,null,null,null,null,null,{"$f":"COUNTA(B149,AI149:AT151,AV149:BC151)","v":0},{"$f":"IF(BD149>0,11,0)","v":0}]
[]
[]
[null,null,null,null,null,null,null,null,null,null,null,null,null,null,null,null,null,null,null,null,null,null,null,null,null,null,null,null,null,null,null,null,null,"",null,null,null,null,null,null,null,null,null,null,null,null,null,null,null,null,null,null,null,null,null,{"$f":"COUNTA(B152,AI152:AT154,AV152:BC154)","v":0},{"$f":"IF(BD152>0,11,0)","v":0}]
[]
[]
[null,null,null,null,null,null,null,null,null,null,null,null,null,null,null,null,null,null,null,null,null,null,null,null,null,null,null,null,null,null,null,null,null,"",null,null,null,null,null,null,null,null,null,null,null,null,null,null,null,null,null,null,null,null,null,{"$f":"COUNTA(B155,AI155:AT157,AV155:BC157)","v":0},{"$f":"IF(BD155>0,11,0)","v":0}]
[]
[]
[null,null,null,null,null,null,null,null,null,null,null,null,null,null,null,null,null,null,null,null,null,null,null,null,null,null,null,null,null,null,null,null,null,"",null,null,null,null,null,null,null,null,null,null,null,null,null,null,null,null,null,null,null,null,null,{"$f":"COUNTA(B158,AI158:AT160,AV158:BC160)","v":0},{"$f":"IF(BD158>0,11,0)","v":0}]
[]
[]
[null,null,null,null,null,null,null,null,null,null,null,null,null,null,null,null,null,null,null,null,null,null,null,null,null,null,null,null,null,null,null,null,null,"",null,null,null,null,null,null,null,null,null,null,null,null,null,null,null,null,null,null,null,null,null,{"$f":"COUNTA(B161,AI161:AT163,AV161:BC163)","v":0},{"$f":"IF(BD161>0,11,0)","v":0}]
[]
[]
[null,null,null,null,null,null,null,null,null,null,null,null,null,null,null,null,null,null,null,null,null,null,null,null,null,null,null,null,null,null,null,null,null,"",null,null,null,null,null,null,null,null,null,null,null,null,null,null,null,null,null,null,null,null,null,{"$f":"COUNTA(B164,AI164:AT166,AV164:BC166)","v":0},{"$f":"IF(BD164>0,11,0)","v":0}]
[]
[]
[null,null,null,null,null,null,null,null,null,null,null,null,null,null,null,null,null,null,null,null,null,null,null,null,null,null,null,null,null,null,null,null,null,"",null,null,null,null,null,null,null,null,null,null,null,null,null,null,null,null,null,null,null,null,null,{"$f":"COUNTA(B167,AI167:AT169,AV167:BC169)","v":0},{"$f":"IF(BD167>0,11,0)","v":0}]
[]
[]
[null,null,null,null,null,null,null,null,null,null,null,null,null,null,null,null,null,null,null,null,null,null,null,null,null,null,null,null,null,null,null,null,null,"",null,null,null,null,null,null,null,null,null,null,null,null,null,null,null,null,null,null,null,null,null,{"$f":"COUNTA(B170,AI170:AT172,AV170:BC172)","v":0},{"$f":"IF(BD170>0,11,0)","v":0}]
[]
[]
[null,null,null,null,null,null,null,null,null,null,null,null,null,null,null,null,null,null,null,null,null,null,null,null,null,null,null,null,null,null,null,null,null,"",null,null,null,null,null,null,null,null,null,null,null,null,null,null,null,null,null,null,null,null,null,{"$f":"COUNTA(B173,AI173:AT175,AV173:BC175)","v":0},{"$f":"IF(BD173>0,11,0)","v":0}]
[]
[]
[null,null,null,null,null,null,null,null,null,null,null,null,null,null,null,null,null,null,null,null,null,null,null,null,null,null,null,null,null,null,null,null,null,"",null,null,null,null,null,null,null,null,null,null,null,null,null,null,null,null,null,null,null,null,null,{"$f":"COUNTA(B176,AI176:AT178,AV176:BC178)","v":0},{"$f":"IF(BD176>0,11,0)","v":0}]
[]
[]
[null,null,null,null,null,null,null,null,null,null,null,null,null,null,null,null,null,null,null,null,null,null,null,null,null,null,null,null,null,null,null,null,null,"",null,null,null,null,null,null,null,null,null,null,null,null,null,null,null,null,null,null,null,null,null,{"$f":"COUNTA(B179,AI179:AT181,AV179:BC181)","v":0},{"$f":"IF(BD179>0,11,0)","v":0}]

{"sheet":"DOC 2A","index":12,"n_rows":111,"n_cols":105,"rows_kept":111,"cut":false,"hidden":false,"merged":[[73,63,75,63],[1,52,6,63],[8,49,10,53],[21,52,23,54],[1,39,3,42],[30,66,32,70],[30,71,32,78],[33,66,35,70],[33,71,35,78],[4,39,6,42],[8,64,10,64],[12,64,14,64],[7,1,7,63],[33,15,35,31],[8,29,10,47],[41,1,43,63],[44,1,44,63],[36,43,38,43],[30,43,32,43],[30,33,32,42],[30,12,32,31],[21,1,32,10],[24,61,26,63],[21,11,23,11],[0,104,1,104],[2,104,4,104],[5,104,7,104],[0,78,2,79],[3,76,5,79],[14,66,16,78],[23,66,25,78],[27,66,29,70],[27,71,29,78],[0,76,2,77],[33,44,35,59],[33,43,35,43],[33,33,35,42],[21,55,23,57],[21,58,23,60],[36,33,38,42],[36,15,38,31],[33,12,35,14],[36,12,38,14],[33,60,35,62],[36,44,38,59],[36,60,38,62],[27,12,29,31],[27,33,29,42],[27,43,29,43],[27,44,29,62],[50,0,52,0],[53,0,55,0],[56,0,58,0],[45,64,47,64],[41,64,43,64],[16,64,18,64],[21,64,23,64],[24,64,26,64],[45,33,47,42],[53,33,55,42],[56,1,58,10],[53,11,55,11],[21,0,23,0],[24,0,26,0],[27,0,29,0],[30,0,32,0],[33,0,35,0],[36,0,38,0],[21,33,26,42],[30,44,32,59],[30,60,32,62],[33,1,38,10],[30,11,32,11],[33,11,35,11],[107,9,109,10],[107,11,109,12],[101,11,103,12],[101,13,103,14],[110,3,112,4],[110,5,112,6],[110,7,112,8],[107,3,109,4],[107,5,109,6],[107,7,109,8],[107,13,109,14],[104,11,106,12],[104,13,106,14],[104,3,106,4],[104,5,106,6],[104,7,106,8],[104,1,106,2],[62,1,64,10],[65,11,67,11],[65,1,67,10],[68,1,70,10],[76,1,97,62],[59,11,61,11],[59,1,61,10],[98,0,98,64],[68,11,70,11],[101,9,103,10],[101,3,103,4],[101,5,103,6],[101,7,103,8],[104,9,106,10],[59,0,61,0],[62,0,64,0],[65,0,67,0],[68,0,70,0],[62,11,64,11],[73,1,75,62],[59,12,61,30],[65,12,67,30],[62,12,64,27],[56,11,58,11],[53,43,55,43],[53,1,55,10],[68,12,70,27],[68,28,70,30],[50,1,52,10],[50,11,52,11],[36,32,38,32],[45,44,47,62],[45,43,47,43],[50,33,52,42],[50,44,52,62],[50,43,52,43],[50,28,52,30],[50,12,52,27],[53,12,55,27],[53,28,55,30],[56,12,58,27],[56,28,58,30],[62,28,64,30],[53,44,55,59],[53,60,55,62],[36,11,38,11],[1,49,6,51],[21,46,23,48],[24,46,26,48],[21,44,23,45],[1,24,3,27],[4,24,6,27],[8,24,10,28],[12,1,14,63],[16,1,18,10],[16,11,18,11],[1,1,6,11],[8,1,10,5],[16,44,18,62],[24,58,26,60],[16,43,18,43],[24,49,26,51],[15,1,15,63],[8,6,10,22],[16,33,18,42],[1,12,6,22],[1,28,3,38],[1,43,3,47],[4,28,6,38],[4,43,6,47],[16,12,18,27],[16,28,18,30],[24,11,26,11],[8,54,10,63],[21,49,23,51],[24,12,26,31],[21,12,23,31],[21,61,23,63],[27,11,29,11],[24,44,26,45],[24,52,26,54],[24,55,26,57],[21,43,23,43],[24,43,26,43]]}
[null,null,null,null,null,null,null,null,null,null,null,null,null,null,null,null,null,null,null,null,null,null,null,null,null,null,null,null,null,null,null,null,null,null,null,null,null,null,null,null,null,null,null,null,null,null,null,null,null,null,null,null,null,null,null,null,null,null,null,null,null,null,null,null,null,null,null,null,null,null,null,null,null,null,null,null,{"$f":"BM13","v":0},null,{"$f":"BM17","v":0},null,null,null,null,null,null,null,null,null,null,null,null,null,null,null,null,null,null,null,null,null,null,null,null,null,"PRINT?"]
[null,null,null,null,null,null,null,null,null,null,null,null,"DOC 2A",null,null,null,null,null,null,null,null,null,null,null,"ENGINEER",null,null,null,{"$f":"SAR!$K$13","v":""},null,null,null,null,null,null,null,null,null,null,"VOLTAGE",null,null,null,{"$f":"SAR!$K$36","v":0},null,null,null,null,null,"SATS",null,null,{"$f":"SAR!$BA$2","v":0}]
[null,null,null,null,null,null,null,null,null,null,null,null,null,null,null,null,null,null,null,null,null,null,null,null,null,null,null,null,null,null,null,null,null,null,null,null,null,null,null,null,null,null,null,null,null,null,null,null,null,null,null,null,null,null,null,null,null,null,null,null,null,null,null,null,null,null,null,null,null,null,null,null,null,null,null,null,null,null,null,null,null,null,null,null,null,null,null,null,null,null,null,null,null,null,null,null,null,null,null,null,null,null,null,null,{"$f":"IF(BY1=0,\"\",\"Y\")","v":""}]
[null,null,null,null,null,null,null,null,null,null,null,null,null,null,null,null,null,null,null,null,null,null,null,null,null,null,null,null,null,null,null,null,null,null,null,null,null,null,null,null,null,null,null,null,null,null,null,null,null,null,null,null,null,null,null,null,null,null,null,null,null,null,null,null,null,null,null,null,null,null,null,null,null,null,null,null,{"$f":"BY1/CA1","v":{"$error":"#DIV/0!"}}]
[null,null,null,null,null,null,null,null,null,null,null,null,null,null,null,null,null,null,null,null,null,null,null,null,"AREA",null,null,null,{"$f":"SAR!$K$39","v":0},null,null,null,null,null,null,null,null,null,null,"PROJECT DATE",null,null,null,{"$f":"SAR!$K$42","v":"00:00:00"}]
[]
[]
[]
[null,"PRIMARY SUBSTATION ",null,null,null,null,{"$f":"SAR!$K$45","v":0},null,null,null,null,null,null,null,null,null,null,null,null,null,null,null,null,null,"DISTRIBUTION SUBSTATION ",null,null,null,null,{"$f":"SAR!$K$30","v":0},null,null,null,null,null,null,null,null,null,null,null,null,null,null,null,null,null,null,null,"PLANT REF",null,null,null,null,{"$f":"SAR!$K$33","v":0}]
[]
[]
[]
[null,"SITE INFORMATION",null,null,null,null,null,null,null,null,null,null,null,null,null,null,null,null,null,null,null,null,null,null,null,null,null,null,null,null,null,null,null,null,null,null,null,null,null,null,null,null,null,null,null,null,null,null,null,null,null,null,null,null,null,null,null,null,null,null,null,null,null,null,{"$f":"SUM(L17,L22,AR22:AR27,AR31:AR39,AR54,L51:L65,L69)","v":0}]
[]
[null,null,null,null,null,null,null,null,null,null,null,null,null,null,null,null,null,null,null,null,null,null,null,null,null,null,null,null,null,null,null,null,null,null,null,null,null,null,null,null,null,null,null,null,null,null,null,null,null,null,null,null,null,null,null,null,null,null,null,null,null,null,null,null,null,null,"DOC QUICK LINK"]
[]
[null,"COMMISSIONING DRIVER",null,null,null,null,null,null,null,null,null,{"$f":"IF(M17=\"\",0,1)","v":0},null,null,null,null,null,null,null,null,null,null,null,null,null,null,null,null,{"$f":"IFERROR(VLOOKUP(M17,CODES!A$5:B$36,2,FALSE),\"\")","v":""},null,null,null,null,"PROJECT CODE",null,null,null,null,null,null,null,null,null,null,{"$f":"SAR!J78","v":""},null,null,null,null,null,null,null,null,null,null,null,null,null,null,null,null,null,null,null,{"$f":"IF(BM13>0,14,0)","v":0}]
[]
[]
[]
[]
[null,"SUBSTATION ADDRESS",null,null,null,null,null,null,null,null,null,{"$f":"IF(M22=\"\",0,1)","v":0},null,null,null,null,null,null,null,null,null,null,null,null,null,null,null,null,null,null,null,null,null,"12 DIGIT GRID REF \n(NO PREFIX LETTERS)",null,null,null,null,null,null,null,null,null,{"$f":"IF(BM22=6,1,0)","v":0},"X",null,null,null,null,null,null,null,null,null,null,null,null,null,null,null,null,null,null,null,{"$f":"COUNT(AU22:BL24)","v":0}]
[]
[null,null,null,null,null,null,null,null,null,null,null,null,null,null,null,null,null,null,null,null,null,null,null,null,null,null,null,null,null,null,null,null,null,null,null,null,null,null,null,null,null,null,null,null,null,null,null,null,null,null,null,null,null,null,null,null,null,null,null,null,null,null,null,null,null,null,"OTHER (PLEASE SPECIFY)"]
[null,null,null,null,null,null,null,null,null,null,null,{"$f":"IF(M25=\"\",0,1)","v":0},null,null,null,null,null,null,null,null,null,null,null,null,null,null,null,null,null,null,null,null,null,null,null,null,null,null,null,null,null,null,null,{"$f":"IF(BM25=6,1,0)","v":0},"Y",null,null,null,null,null,null,null,null,null,null,null,null,null,null,null,null,null,null,null,{"$f":"COUNT(AU25:BL27)","v":0}]
[]
[]
[null,null,null,null,null,null,null,null,null,null,null,{"$f":"IF(M28=\"\",0,1)","v":0},null,null,null,null,null,null,null,null,null,null,null,null,null,null,null,null,null,null,null,null,null,"GRID REFERENCE NGR",null,null,null,null,null,null,null,null,null,null,{"$f":"CONCATENATE(D111,AX22,BA22,BD22,BG22,AX25,BA25,BD25,BG25)","v":{"$error":"#VALUE!"}}]
[]
[]
[null,null,null,null,null,null,null,null,null,null,null,null,null,null,null,null,null,null,null,null,null,null,null,null,null,null,null,null,null,null,null,null,null,"SITE AREA DISTRICT",null,null,null,null,null,null,null,null,null,{"$f":"IF(AS31=\"\",0,1)","v":0},null,null,null,null,null,null,null,null,null,null,null,null,null,null,null,null,{"$f":"IFERROR(VLOOKUP(AS31,CODES!D$5:E$15,2,FALSE),\"\")","v":""}]
[]
[]
[null,"IF SITE IS POLE MOUNTED\nPLEASE ENTER THE \nLINE AND POLE DETAILS",null,null,null,null,null,null,null,null,null,{"$f":"IF(P34=\"\",0,1)","v":0},"LINE",null,null,null,null,null,null,null,null,null,null,null,null,null,null,null,null,null,null,null,null,"SUBSTATION OWNED BY",null,null,null,null,null,null,null,null,null,{"$f":"IF(AS34=\"\",0,1)","v":0},null,null,null,null,null,null,null,null,null,null,null,null,null,null,null,null,{"$f":"IFERROR(VLOOKUP(AS34,CODES!D$75:E$79,2,FALSE),\"\")","v":""}]
[]
[]
[null,null,null,null,null,null,null,null,null,null,null,{"$f":"IF(P37=\"\",0,1)","v":0},"POLE",null,null,null,null,null,null,null,null,null,null,null,null,null,null,null,null,null,null,null,{"$f":"SUM(L22+L25+L34+L37)","v":0},"SUBSTATION MAINTAINED BY",null,null,null,null,null,null,null,null,null,{"$f":"IF(AS37=\"\",0,1)","v":0},null,null,null,null,null,null,null,null,null,null,null,null,null,null,null,null,{"$f":"IFERROR(VLOOKUP(AS37,CODES!D$75:E$79,2,FALSE),\"\")","v":""}]
[]
[]
[]
[]
[null,"SUBSTATION INFORMATION"]
[]
[]
[]
[null,null,null,null,null,null,null,null,null,null,null,null,null,null,null,null,null,null,null,null,null,null,null,null,null,null,null,null,null,null,null,null,null,"PROJECT CODE",null,null,null,null,null,null,null,null,null,null,{"$f":"AS17","v":""}]
[]
[]
[]
[]
[null,"SUBSTATION LAYOUT",null,null,null,null,null,null,null,null,null,{"$f":"IF(M51=\"\",0,1)","v":0},null,null,null,null,null,null,null,null,null,null,null,null,null,null,null,null,{"$f":"IFERROR(VLOOKUP(M51,CODES!D$19:E$22,2,FALSE),\"\")","v":""},null,null,null,null,"10K GRID SQUARE",null,null,null,null,null,null,null,null,null,{"$f":"IF(AS51=\"\",0,1)","v":{"$error":"#VALUE!"}},{"$f":"CONCATENATE(\"IN\",D111,AX22,AX25)","v":{"$error":"#VALUE!"}}]
[]
[]
[null,"SUBSTATION TYPE",null,null,null,null,null,null,null,null,null,{"$f":"IF(M54=\"\",0,1)","v":0},null,null,null,null,null,null,null,null,null,null,null,null,null,null,null,null,{"$f":"IFERROR(VLOOKUP(M54,CODES!D$26:E$36,2,FALSE),\"\")","v":""},null,null,null,null,"IS THIS THE FIRST SUBSTATION \nON THE CIRCUIT OUT OF PRIMARY",null,null,null,null,null,null,null,null,null,{"$f":"IF(AS54=\"\",0,1)","v":0},null,null,null,null,null,null,null,null,null,null,null,null,null,null,null,null,{"$f":"IFERROR(VLOOKUP(AS54,CODES!D$95:E$97,2,FALSE),\"\")","v":""}]
[]
[]
[null,"STRUCTURE TYPE",null,null,null,null,null,null,null,null,null,{"$f":"IF(M57=\"\",0,1)","v":0},null,null,null,null,null,null,null,null,null,null,null,null,null,null,null,null,{"$f":"IFERROR(VLOOKUP(M57,CODES!D$40:E$50,2,FALSE),\"\")","v":""}]
[]
[]
[null,"NO OF CONSUMERS",null,null,null,null,null,null,null,null,null,{"$f":"IF(M60=\"\",0,1)","v":0}]
[]
[]
[null,"SUBSTATION SITUATION",null,null,null,null,null,null,null,null,null,{"$f":"IF(M63=\"\",0,1)","v":0},null,null,null,null,null,null,null,null,null,null,null,null,null,null,null,null,{"$f":"IFERROR(VLOOKUP(M63,CODES!A$51:B$53,2,FALSE),\"\")","v":""}]
[]
[]
[null,"ELLIPSE WALK ORDER",null,null,null,null,null,null,null,null,null,null,{"$f":"CONCATENATE(AX22,BA22,AX25,BA25)","v":""}]
[]
[]
[null,"LOCAL GENERATION",null,null,null,null,null,null,null,null,null,{"$f":"IF(M69=\"\",0,1)","v":0},null,null,null,null,null,null,null,null,null,null,null,null,null,null,null,null,{"$f":"IFERROR(VLOOKUP(M69,CODES!D$89:E$91,2,FALSE),\"\")","v":""}]
[]
[]
[]
[]
[null,"ADDITIONAL INFORMATION",null,null,null,null,null,null,null,null,null,null,null,null,null,null,null,null,null,null,null,null,null,null,null,null,null,null,null,null,null,null,null,null,null,null,null,null,null,null,null,null,null,null,null,null,null,null,null,null,null,null,null,null,null,null,null,null,null,null,null,null,null,{"$f":"IF(B77=\"\",0,1)","v":0}]
[]
[]
[]
[]
[]
[]
[]
[]
[]
[]
[]
[]
[]
[]
[]
[]
[]
[]
[]
[]
[]
[]
[]
[]
[]
[]
[]
[null,null,null,"SD",null,"SE",null,"SJ",null,"SK",null,"NX",null,"NY"]
[]
[]
[null,{"$f":"CONCATENATE($AU$22,$AU$25)*1","v":{"$error":"#VALUE!"}},null,34,null,44,null,33,null,43,null,25,null,35]
[]
[]
[null,null,null,{"$f":"IF($B$105=D105,D102,\"\")","v":{"$error":"#VALUE!"}},null,{"$f":"IF($B$105=F105,F102,\"\")","v":{"$error":"#VALUE!"}},null,{"$f":"IF($B$105=H105,H102,\"\")","v":{"$error":"#VALUE!"}},null,{"$f":"IF($B$105=J105,J102,\"\")","v":{"$error":"#VALUE!"}},null,{"$f":"IF($B$105=L105,L102,\"\")","v":{"$error":"#VALUE!"}},null,{"$f":"IF($B$105=N105,N102,\"\")","v":{"$error":"#VALUE!"}}]
[]
[]
[null,null,null,{"$f":"CONCATENATE(D108,F108,H108,J108,L108,N108)","v":{"$error":"#VALUE!"}},null,{"$f":"LEFT(D111,1)","v":{"$error":"#VALUE!"}},null,{"$f":"MID(D111,2,1)","v":{"$error":"#VALUE!"}}]

{"sheet":"DOC 2B","index":13,"n_rows":24,"n_cols":105,"rows_kept":24,"cut":false,"hidden":true,"merged":[[30,66,32,70],[30,71,32,78],[33,66,35,70],[33,71,35,78],[12,1,14,63],[15,1,15,63],[14,66,16,78],[23,66,25,78],[27,66,29,70],[27,71,29,78],[16,44,18,63],[22,1,24,10],[22,11,24,11],[22,12,24,30],[16,1,18,10],[16,11,18,11],[16,33,18,42],[16,12,18,27],[16,28,18,30],[8,1,10,5],[8,6,10,22],[8,24,10,28],[8,29,10,47],[8,49,10,53],[4,24,6,27],[4,28,6,38],[4,39,6,42],[4,43,6,47],[8,54,10,63],[1,52,6,63],[2,104,4,104],[3,76,5,79],[0,76,2,77],[0,78,2,79],[0,104,1,104],[5,104,7,104],[7,1,7,63],[1,1,6,11],[1,12,6,22],[1,24,3,27],[1,28,3,38],[1,39,3,42],[1,43,3,47],[1,49,6,51]]}
[null,null,null,null,null,null,null,null,null,null,null,null,null,null,null,null,null,null,null,null,null,null,null,null,null,null,null,null,null,null,null,null,null,null,null,null,null,null,null,null,null,null,null,null,null,null,null,null,null,null,null,null,null,null,null,null,null,null,null,null,null,null,null,null,null,null,null,null,null,null,null,null,null,null,null,null,{"$f":"BM17","v":0},null,{"$f":"BM13","v":0},null,null,null,null,null,null,null,null,null,null,null,null,null,null,null,null,null,null,null,null,null,null,null,null,null,"PRINT?"]
[null,null,null,null,null,null,null,null,null,null,null,null,"DOC 2B",null,null,null,null,null,null,null,null,null,null,null,"ENGINEER",null,null,null,{"$f":"SAR!$K$13","v":""},null,null,null,null,null,null,null,null,null,null,"VOLTAGE",null,null,null,{"$f":"SAR!$K$36","v":0},null,null,null,null,null,"SATS",null,null,{"$f":"SAR!$BA$2","v":0}]
[null,null,null,null,null,null,null,null,null,null,null,null,null,null,null,null,null,null,null,null,null,null,null,null,null,null,null,null,null,null,null,null,null,null,null,null,null,null,null,null,null,null,null,null,null,null,null,null,null,null,null,null,null,null,null,null,null,null,null,null,null,null,null,null,null,null,null,null,null,null,null,null,null,null,null,null,null,null,null,null,null,null,null,null,null,null,null,null,null,null,null,null,null,null,null,null,null,null,null,null,null,null,null,null,{"$f":"IF(BY1=0,\"\",\"Y\")","v":""}]
[null,null,null,null,null,null,null,null,null,null,null,null,null,null,null,null,null,null,null,null,null,null,null,null,null,null,null,null,null,null,null,null,null,null,null,null,null,null,null,null,null,null,null,null,null,null,null,null,null,null,null,null,null,null,null,null,null,null,null,null,null,null,null,null,null,null,null,null,null,null,null,null,null,null,null,null,{"$f":"BY1/CA1","v":{"$error":"#DIV/0!"}}]
[null,null,null,null,null,null,null,null,null,null,null,null,null,null,null,null,null,null,null,null,null,null,null,null,"AREA",null,null,null,{"$f":"SAR!$K$39","v":0},null,null,null,null,null,null,null,null,null,null,"PROJECT DATE",null,null,null,{"$f":"SAR!$K$42","v":"00:00:00"}]
[]
[]
[]
[null,"PRIMARY SUBSTATION ",null,null,null,null,{"$f":"SAR!$K$45","v":0},null,null,null,null,null,null,null,null,null,null,null,null,null,null,null,null,null,"DISTRIBUTION SUBSTATION ",null,null,null,null,{"$f":"SAR!$K$30","v":0},null,null,null,null,null,null,null,null,null,null,null,null,null,null,null,null,null,null,null,"PLANT REF",null,null,null,null,{"$f":"SAR!$K$33","v":0}]
[]
[]
[]
[null,"SITE EARTHING"]
[]
[null,null,null,null,null,null,null,null,null,null,null,null,null,null,null,null,null,null,null,null,null,null,null,null,null,null,null,null,null,null,null,null,null,null,null,null,null,null,null,null,null,null,null,null,null,null,null,null,null,null,null,null,null,null,null,null,null,null,null,null,null,null,null,null,null,null,"DOC QUICK LINK"]
[]
[null,"COMMISSIONING DRIVER",null,null,null,null,null,null,null,null,null,{"$f":"IF(M17=\"\",0,1)","v":0},null,null,null,null,null,null,null,null,null,null,null,null,null,null,null,null,{"$f":"IFERROR(VLOOKUP(M17,CODES!A$5:B$36,2,FALSE),\"\")","v":""},null,null,null,null,"PROJECT CODE",null,null,null,null,null,null,null,null,null,null,{"$f":"SAR!J78","v":""}]
[]
[]
[]
[]
[]
[null,null,null,null,null,null,null,null,null,null,null,{"$f":"IF(M23=\"\",0,1)","v":0}]
[null,null,null,null,null,null,null,null,null,null,null,null,null,null,null,null,null,null,null,null,null,null,null,null,null,null,null,null,null,null,null,null,null,null,null,null,null,null,null,null,null,null,null,null,null,null,null,null,null,null,null,null,null,null,null,null,null,null,null,null,null,null,null,null,null,null,"OTHER (PLEASE SPECIFY)"]

{"sheet":"DOC 3","index":14,"n_rows":127,"n_cols":125,"rows_kept":127,"cut":false,"hidden":false,"merged":[[54,19,56,20],[81,19,83,20],[72,7,74,18],[75,7,77,18],[78,7,80,18],[81,7,83,18],[84,7,86,18],[96,7,98,18],[54,7,56,18],[57,7,59,18],[60,7,62,18],[63,7,65,18],[57,19,59,20],[51,29,53,37],[54,29,56,37],[57,29,59,37],[60,29,62,37],[78,29,80,37],[81,29,83,37],[20,28,22,30],[24,29,38,37],[39,29,41,37],[24,21,38,28],[78,21,80,28],[81,21,83,28],[57,87,59,87],[42,76,99,77],[61,87,63,87],[75,64,77,64],[78,64,80,64],[81,64,83,64],[96,64,98,64],[81,61,83,63],[84,61,86,63],[87,61,89,63],[90,61,92,63],[93,61,95,63],[96,61,98,63],[66,75,68,75],[69,64,71,64],[72,64,74,64],[69,75,71,75],[57,66,59,74],[63,66,65,74],[66,66,68,74],[66,64,68,64],[54,64,56,64],[57,64,59,64],[60,64,62,64],[0,104,1,104],[2,104,4,104],[5,104,7,104],[51,38,53,42],[45,38,47,42],[45,43,47,57],[42,38,44,42],[42,43,44,57],[66,43,68,57],[0,76,2,77],[0,78,2,79],[3,76,5,79],[51,58,53,60],[51,61,53,63],[51,43,53,57],[51,75,53,75],[8,54,10,63],[48,75,50,75],[65,87,67,87],[45,58,47,60],[42,66,44,74],[45,66,47,74],[48,66,50,74],[51,66,53,74],[54,43,56,57],[54,38,56,42],[75,61,77,63],[60,43,62,57],[63,43,65,57],[57,43,59,57],[63,38,65,42],[54,1,56,3],[54,4,56,6],[63,4,65,6],[60,1,62,3],[60,4,62,6],[57,4,59,6],[57,1,59,3],[63,1,65,3],[69,29,71,37],[72,29,74,37],[69,61,71,63],[66,61,68,63],[57,61,59,63],[54,61,56,63],[54,21,56,28],[57,21,59,28],[69,21,71,28],[63,64,65,64],[54,75,56,75],[54,66,56,74],[60,66,62,74],[8,64,10,64],[12,64,14,64],[16,64,18,64],[39,64,41,64],[51,64,53,64],[48,64,50,64],[14,66,16,78],[23,66,25,78],[27,66,29,70],[27,71,29,78],[30,66,32,70],[30,71,32,78],[33,66,35,70],[33,71,35,78],[39,75,41,75],[42,75,44,75],[1,12,6,22],[1,28,3,38],[48,58,50,60],[45,64,47,64],[48,43,50,57],[42,64,44,64],[45,7,47,18],[48,7,50,18],[51,7,53,18],[51,19,53,20],[39,21,41,28],[42,21,44,28],[45,21,47,28],[48,21,50,28],[51,21,53,28],[4,28,6,38],[15,1,15,63],[20,44,22,59],[20,60,22,62],[51,1,53,3],[51,4,53,6],[16,12,18,27],[16,28,18,30],[20,12,22,27],[78,4,80,6],[72,1,74,3],[78,1,80,3],[69,4,71,6],[72,4,74,6],[69,1,71,3],[78,58,80,60],[75,58,77,60],[72,58,74,60],[69,58,71,60],[78,38,80,42],[78,43,80,57],[75,4,77,6],[69,7,71,18],[75,43,77,57],[69,38,71,42],[69,43,71,57],[72,38,74,42],[72,43,74,57],[75,38,77,42],[69,19,71,20],[72,19,74,20],[75,19,77,20],[78,19,80,20],[60,61,62,63],[63,61,65,63],[66,58,68,60],[60,58,62,60],[63,58,65,60],[75,1,77,3],[60,19,62,20],[63,19,65,20],[66,19,68,20],[66,7,68,18],[66,21,68,28],[66,38,68,42],[66,1,68,3],[66,4,68,6],[72,21,74,28],[75,21,77,28],[60,21,62,28],[63,21,65,28],[57,38,59,42],[60,38,62,42],[63,29,65,37],[66,29,68,37],[75,29,77,37],[1,49,6,51],[7,1,7,63],[1,43,3,47],[1,52,6,63],[4,43,6,47],[4,39,6,42],[1,39,3,42],[1,24,3,27],[4,24,6,27],[1,1,6,11],[42,1,44,3],[42,4,44,6],[42,19,44,20],[45,19,47,20],[48,19,50,20],[39,19,41,20],[48,38,50,42],[24,61,38,63],[39,61,41,63],[48,4,50,6],[39,38,41,42],[39,43,41,57],[24,4,38,6],[24,43,38,57],[24,7,38,20],[39,7,41,18],[42,61,44,63],[45,61,47,63],[48,61,50,63],[24,58,38,60],[45,29,47,37],[48,29,50,37],[42,7,44,18],[45,1,47,3],[45,4,47,6],[48,1,50,3],[42,29,44,37],[8,29,10,47],[39,1,41,3],[24,1,35,3],[8,1,10,5],[8,49,10,53],[8,24,10,28],[39,4,41,6],[16,11,18,11],[20,11,22,11],[20,43,22,43],[20,1,22,10],[16,44,18,62],[24,38,38,42],[8,6,10,22],[16,33,18,42],[16,1,18,10],[20,33,22,42],[36,1,38,3],[39,58,41,60],[12,1,14,63],[72,75,74,75],[75,75,77,75],[81,75,83,75],[75,66,77,74],[78,66,80,74],[81,66,83,74],[72,61,74,63],[78,75,80,75],[72,66,74,74],[78,61,80,63],[93,1,95,3],[93,4,95,6],[84,4,86,6],[87,4,89,6],[90,38,92,42],[90,4,92,6],[93,38,95,42],[93,43,95,57],[84,58,86,60],[90,58,92,60],[90,1,92,3],[84,1,86,3],[87,1,89,3],[87,38,89,42],[87,43,89,57],[84,38,86,42],[87,7,89,18],[84,29,86,37],[87,29,89,37],[90,29,92,37],[93,29,95,37],[84,43,86,57],[93,7,95,18],[84,19,86,20],[93,66,95,74],[96,66,98,74],[96,38,98,42],[96,43,98,57],[81,58,83,60],[81,4,83,6],[81,38,83,42],[81,43,83,57],[90,43,92,57],[87,66,89,74],[90,66,92,74],[87,19,89,20],[90,7,92,18],[90,21,92,28],[84,66,86,74],[96,29,98,37],[87,21,89,28],[96,21,98,28],[93,21,95,28],[96,19,98,20],[90,19,92,20],[93,19,95,20],[84,21,86,28],[99,0,99,64],[90,75,92,75],[42,58,44,60],[54,58,56,60],[57,58,59,60],[93,64,95,64],[84,64,86,64],[93,58,95,60],[96,75,98,75],[84,75,86,75],[87,75,89,75],[45,75,47,75],[57,75,59,75],[60,75,62,75],[63,75,65,75],[69,66,71,74],[96,1,98,3],[96,4,98,6],[96,58,98,60],[87,58,89,60],[87,64,89,64],[90,64,92,64],[81,1,83,3],[93,75,95,75]]}
[null,null,null,null,null,null,null,null,null,null,null,null,null,null,null,null,null,null,null,null,null,null,null,null,null,null,null,null,null,null,null,null,null,null,null,null,null,null,null,null,null,null,null,null,null,null,null,null,null,null,null,null,null,null,null,null,null,null,null,null,null,null,null,null,null,null,null,null,null,null,null,null,null,null,null,null,{"$f":"BM13","v":0},null,{"$f":"BM17","v":3},null,null,null,null,null,null,null,null,null,null,null,null,null,null,null,null,null,null,null,null,null,null,null,null,null,"PRINT?",null,null,null,null,3,"SWITCH PLANT DETAILS","SW",{"$f":"$H$9","v":0},0,{"$f":"$AF$9","v":0},{"$f":"SAR!#REF!","v":{"$error":"#REF!"}},"SW","000","SITE_E","AC",{"$f":"'DOC 2A'!#REF!","v":{"$error":"#REF!"}},"E9999",{"$f":"#REF!","v":{"$error":"#REF!"}},{"$f":"#REF!","v":{"$error":"#REF!"}},"03"]
[null,null,null,null,null,null,null,null,null,null,null,null,"DOC 3",null,null,null,null,null,null,null,null,null,null,null,"ENGINEER",null,null,null,{"$f":"SAR!$K$13","v":""},null,null,null,null,null,null,null,null,null,null,"VOLTAGE",null,null,null,{"$f":"SAR!$K$36","v":0},null,null,null,null,null,"SATS",null,null,{"$f":"SAR!$BA$2","v":0},null,null,null,null,null,null,null,null,null,null,null,null,null,null,null,null,null,null,null,null,null,null,null,null,null,null,null,null,null,null,null,null,null,null,null,null,null,null,null,null,null,null,null,null,null,null,null,null,null,null,null,null,null,null,null,null,4,"SWITCH PLANT DETAILS","SW",0,0,0,{"$f":"SAR!#REF!","v":{"$error":"#REF!"}},"SW","000","SITE_E","AC",{"$f":"'DOC 2A'!#REF!","v":{"$error":"#REF!"}},"E9999",{"$f":"#REF!","v":{"$error":"#REF!"}},{"$f":"#REF!","v":{"$error":"#REF!"}},"03"]
[null,null,null,null,null,null,null,null,null,null,null,null,null,null,null,null,null,null,null,null,null,null,null,null,null,null,null,null,null,null,null,null,null,null,null,null,null,null,null,null,null,null,null,null,null,null,null,null,null,null,null,null,null,null,null,null,null,null,null,null,null,null,null,null,null,null,null,null,null,null,null,null,null,null,null,null,null,null,null,null,null,null,null,null,null,null,null,null,null,null,null,null,null,null,null,null,null,null,null,null,null,null,null,null,{"$f":"IF(BY1=0,\"\",\"Y\")","v":""},null,null,null,null,5,"SWITCH PLANT DETAILS","SW",0,0,0,{"$f":"SAR!#REF!","v":{"$error":"#REF!"}},"SW","000","SITE_E","AC",{"$f":"'DOC 2A'!#REF!","v":{"$error":"#REF!"}},"E9999",{"$f":"#REF!","v":{"$error":"#REF!"}},{"$f":"#REF!","v":{"$error":"#REF!"}},"03"]
[null,null,null,null,null,null,null,null,null,null,null,null,null,null,null,null,null,null,null,null,null,null,null,null,null,null,null,null,null,null,null,null,null,null,null,null,null,null,null,null,null,null,null,null,null,null,null,null,null,null,null,null,null,null,null,null,null,null,null,null,null,null,null,null,null,null,null,null,null,null,null,null,null,null,null,null,{"$f":"BY1/CA1","v":0},null,null,null,null,null,null,null,null,null,null,null,null,null,null,null,null,null,null,null,null,null,null,null,null,null,null,null,null,null,null,null,null,6,"SWITCH PLANT DETAILS","SW",0,0,0,{"$f":"SAR!#REF!","v":{"$error":"#REF!"}},"SW","000","SITE_E","AC",{"$f":"'DOC 2A'!#REF!","v":{"$error":"#REF!"}},"E9999",{"$f":"#REF!","v":{"$error":"#REF!"}},{"$f":"#REF!","v":{"$error":"#REF!"}},"03"]
[null,null,null,null,null,null,null,null,null,null,null,null,null,null,null,null,null,null,null,null,null,null,null,null,"AREA",null,null,null,{"$f":"SAR!$K$39","v":0},null,null,null,null,null,null,null,null,null,null,"PROJECT DATE",null,null,null,{"$f":"SAR!$K$42","v":"00:00:00"},null,null,null,null,null,null,null,null,null,null,null,null,null,null,null,null,null,null,null,null,null,null,null,null,null,null,null,null,null,null,null,null,null,null,null,null,null,null,null,null,null,null,null,null,null,null,null,null,null,null,null,null,null,null,null,null,null,null,null,null,null,null,null,null,null,7,"SWITCH PLANT DETAILS","SW",0,0,0,{"$f":"SAR!#REF!","v":{"$error":"#REF!"}},"SW","000","SITE_E","AC",{"$f":"'DOC 2A'!#REF!","v":{"$error":"#REF!"}},"E9999",{"$f":"#REF!","v":{"$error":"#REF!"}},{"$f":"#REF!","v":{"$error":"#REF!"}},"03"]
[null,null,null,null,null,null,null,null,null,null,null,null,null,null,null,null,null,null,null,null,null,null,null,null,null,null,null,null,null,null,null,null,null,null,null,null,null,null,null,null,null,null,null,null,null,null,null,null,null,null,null,null,null,null,null,null,null,null,null,null,null,null,null,null,null,null,null,null,null,null,null,null,null,null,null,null,null,null,null,null,null,null,null,null,null,null,null,null,null,null,null,null,null,null,null,null,null,null,null,null,null,null,null,null,null,null,null,null,null,8,"SWITCH PLANT DETAILS","SW",0,0,0,{"$f":"SAR!#REF!","v":{"$error":"#REF!"}},"SW","000","SITE_E","AC",{"$f":"'DOC 2A'!#REF!","v":{"$error":"#REF!"}},"E9999",{"$f":"#REF!","v":{"$error":"#REF!"}},{"$f":"#REF!","v":{"$error":"#REF!"}},"03"]
[null,null,null,null,null,null,null,null,null,null,null,null,null,null,null,null,null,null,null,null,null,null,null,null,null,null,null,null,null,null,null,null,null,null,null,null,null,null,null,null,null,null,null,null,null,null,null,null,null,null,null,null,null,null,null,null,null,null,null,null,null,null,null,null,null,null,null,null,null,null,null,null,null,null,null,null,null,null,null,null,null,null,null,null,null,null,null,null,null,null,null,null,null,null,null,null,null,null,null,null,null,null,null,null,null,null,null,null,null,9,"SWITCH PLANT DETAILS","SW",0,0,0,{"$f":"SAR!#REF!","v":{"$error":"#REF!"}},"SW","000","SITE_E","AC",{"$f":"'DOC 2A'!#REF!","v":{"$error":"#REF!"}},"E9999",{"$f":"#REF!","v":{"$error":"#REF!"}},{"$f":"#REF!","v":{"$error":"#REF!"}},"03"]
[null,null,null,null,null,null,null,null,null,null,null,null,null,null,null,null,null,null,null,null,null,null,null,null,null,null,null,null,null,null,null,null,null,null,null,null,null,null,null,null,null,null,null,null,null,null,null,null,null,null,null,null,null,null,null,null,null,null,null,null,null,null,null,null,null,null,null,null,null,null,null,null,null,null,null,null,null,null,null,null,null,null,null,null,null,null,null,null,null,null,null,null,null,null,null,null,null,null,null,null,null,null,null,null,null,null,null,null,null,10,"SWITCH PLANT DETAILS","SW",0,0,0,{"$f":"SAR!#REF!","v":{"$error":"#REF!"}},"SW","000","SITE_E","AC",{"$f":"'DOC 2A'!#REF!","v":{"$error":"#REF!"}},"E9999",{"$f":"#REF!","v":{"$error":"#REF!"}},{"$f":"#REF!","v":{"$error":"#REF!"}},"03"]
[null,"PRIMARY SUBSTATION ",null,null,null,null,{"$f":"SAR!$K$45","v":0},null,null,null,null,null,null,null,null,null,null,null,null,null,null,null,null,null,"DISTRIBUTION SUBSTATION ",null,null,null,null,{"$f":"SAR!$K$30","v":0},null,null,null,null,null,null,null,null,null,null,null,null,null,null,null,null,null,null,null,"PLANT REF",null,null,null,null,{"$f":"SAR!$K$33","v":0},null,null,null,null,null,null,null,null,null,null,null,null,null,null,null,null,null,null,null,null,null,null,null,null,null,null,null,null,null,null,null,null,null,null,null,null,null,null,null,null,null,null,null,null,null,null,null,null,null,null,null,null,null,null,11,"SWITCH PLANT DETAILS","SW",0,0,0,{"$f":"SAR!#REF!","v":{"$error":"#REF!"}},"SW","000","SITE_E","AC",{"$f":"'DOC 2A'!#REF!","v":{"$error":"#REF!"}},"E9999",{"$f":"#REF!","v":{"$error":"#REF!"}},{"$f":"#REF!","v":{"$error":"#REF!"}},"03"]
[null,null,null,null,null,null,null,null,null,null,null,null,null,null,null,null,null,null,null,null,null,null,null,null,null,null,null,null,null,null,null,null,null,null,null,null,null,null,null,null,null,null,null,null,null,null,null,null,null,null,null,null,null,null,null,null,null,null,null,null,null,null,null,null,null,null,null,null,null,null,null,null,null,null,null,null,null,null,null,null,null,null,null,null,null,null,null,null,null,null,null,null,null,null,null,null,null,null,null,null,null,null,null,null,null,null,null,null,null,12,"SWITCH PLANT DETAILS","SW",0,0,0,{"$f":"SAR!#REF!","v":{"$error":"#REF!"}},"SW","000","SITE_E","AC",{"$f":"'DOC 2A'!#REF!","v":{"$error":"#REF!"}},"E9999",{"$f":"#REF!","v":{"$error":"#REF!"}},{"$f":"#REF!","v":{"$error":"#REF!"}},"03"]
[null,null,null,null,null,null,null,null,null,null,null,null,null,null,null,null,null,null,null,null,null,null,null,null,null,null,null,null,null,null,null,null,null,null,null,null,null,null,null,null,null,null,null,null,null,null,null,null,null,null,null,null,null,null,null,null,null,null,null,null,null,null,null,null,null,null,null,null,null,null,null,null,null,null,null,null,null,null,null,null,null,null,null,null,null,null,null,null,null,null,null,null,null,null,null,null,null,null,null,null,null,null,null,null,null,null,null,null,null,13,"SWITCH PLANT DETAILS","SW",0,0,0,{"$f":"SAR!#REF!","v":{"$error":"#REF!"}},"SW","000","SITE_E","AC",{"$f":"'DOC 2A'!#REF!","v":{"$error":"#REF!"}},"E9999",{"$f":"#REF!","v":{"$error":"#REF!"}},{"$f":"#REF!","v":{"$error":"#REF!"}},"03"]
[null,null,null,null,null,null,null,null,null,null,null,null,null,null,null,null,null,null,null,null,null,null,null,null,null,null,null,null,null,null,null,null,null,null,null,null,null,null,null,null,null,null,null,null,null,null,null,null,null,null,null,null,null,null,null,null,null,null,null,null,null,null,null,null,null,null,null,null,null,null,null,null,null,null,null,null,null,null,null,null,null,null,null,null,null,null,null,null,null,null,null,null,null,null,null,null,null,null,null,null,null,null,null,null,null,null,null,null,null,14,"SWITCH PLANT DETAILS","SW",0,0,0,{"$f":"SAR!#REF!","v":{"$error":"#REF!"}},"SW","000","SITE_E","AC",{"$f":"'DOC 2A'!#REF!","v":{"$error":"#REF!"}},"E9999",{"$f":"#REF!","v":{"$error":"#REF!"}},{"$f":"#REF!","v":{"$error":"#REF!"}},"03"]
[null,"EXTENSIBLE / POLE MOUNTED SWITCHGEAR",null,null,null,null,null,null,null,null,null,null,null,null,null,null,null,null,null,null,null,null,null,null,null,null,null,null,null,null,null,null,null,null,null,null,null,null,null,null,null,null,null,null,null,null,null,null,null,null,null,null,null,null,null,null,null,null,null,null,null,null,null,null,{"$f":"SUM(BM40:BM99)+L17+L21+AR21","v":0},null,null,null,null,null,null,null,null,null,null,null,null,null,null,null,null,null,null,null,null,null,null,null,null,null,null,null,null,null,null,null,null,null,null,null,null,null,null,null,null,null,null,null,null,15,"SWITCH PLANT DETAILS","SW",0,0,0,{"$f":"SAR!#REF!","v":{"$error":"#REF!"}},"SW","000","SITE_E","AC",{"$f":"'DOC 2A'!#REF!","v":{"$error":"#REF!"}},"E9999",{"$f":"#REF!","v":{"$error":"#REF!"}},{"$f":"#REF!","v":{"$error":"#REF!"}},"03"]
[null,null,null,null,null,null,null,null,null,null,null,null,null,null,null,null,null,null,null,null,null,null,null,null,null,null,null,null,null,null,null,null,null,null,null,null,null,null,null,null,null,null,null,null,null,null,null,null,null,null,null,null,null,null,null,null,null,null,null,null,null,null,null,null,null,null,null,null,null,null,null,null,null,null,null,null,null,null,null,null,null,null,null,null,null,null,null,null,null,null,null,null,null,null,null,null,null,null,null,null,null,null,null,null,null,null,null,null,null,16,"SWITCH PLANT DETAILS","SW",0,{"$f":"#REF!","v":{"$error":"#REF!"}},0,{"$f":"SAR!#REF!","v":{"$error":"#REF!"}},"SW",{"$f":"TEXT(E105,\"000\")","v":"000"},"SITE_E","AC",{"$f":"'DOC 2A'!#REF!","v":{"$error":"#REF!"}},"E9999",{"$f":"#REF!","v":{"$error":"#REF!"}},{"$f":"#REF!","v":{"$error":"#REF!"}},"03"]
[null,null,null,null,null,null,null,null,null,null,null,null,null,null,null,null,null,null,null,null,null,null,null,null,null,null,null,null,null,null,null,null,null,null,null,null,null,null,null,null,null,null,null,null,null,null,null,null,null,null,null,null,null,null,null,null,null,null,null,null,null,null,null,null,null,null,"DOC QUICK LINK",null,null,null,null,null,null,null,null,null,null,null,null,null,null,null,null,null,null,null,null,null,null,null,null,null,null,null,null,null,null,null,null,null,null,null,null,null,null,null,null,null,null,17,"SWITCH PLANT DETAILS","SW",0,{"$f":"#REF!","v":{"$error":"#REF!"}},0,{"$f":"SAR!#REF!","v":{"$error":"#REF!"}},"SW",{"$f":"TEXT(F108,\"000\")","v":"000"},"SITE_E","AC",{"$f":"'DOC 2A'!#REF!","v":{"$error":"#REF!"}},"E9999",{"$f":"#REF!","v":{"$error":"#REF!"}},{"$f":"#REF!","v":{"$error":"#REF!"}},"03"]
[null,null,null,null,null,null,null,null,null,null,null,null,null,null,null,null,null,null,null,null,null,null,null,null,null,null,null,null,null,null,null,null,null,null,null,null,null,null,null,null,null,null,null,null,null,null,null,null,null,null,null,null,null,null,null,null,null,null,null,null,null,null,null,null,null,null,null,null,null,null,null,null,null,null,null,null,null,null,null,null,null,null,null,null,null,null,null,null,null,null,null,null,null,null,null,null,null,null,null,null,null,null,null,null,null,null,null,null,null,18,"SWITCH PLANT DETAILS","SW",0,{"$f":"#REF!","v":{"$error":"#REF!"}},0,{"$f":"SAR!#REF!","v":{"$error":"#REF!"}},"SW",{"$f":"TEXT(F109,\"000\")","v":"000"},"SITE_E","AC",{"$f":"'DOC 2A'!#REF!","v":{"$error":"#REF!"}},"E9999",{"$f":"#REF!","v":{"$error":"#REF!"}},{"$f":"#REF!","v":{"$error":"#REF!"}},"03"]
[null,"COMMISSIONING DRIVER",null,null,null,null,null,null,null,null,null,{"$f":"IF(M17=\"\",0,1)","v":0},null,null,null,null,null,null,null,null,null,null,null,null,null,null,null,null,{"$f":"IFERROR(VLOOKUP(M17,CODES!A$5:B$36,2,FALSE),\"\")","v":""},null,null,null,null,"PROJECT CODE",null,null,null,null,null,null,null,null,null,null,{"$f":"SAR!J78","v":""},null,null,null,null,null,null,null,null,null,null,null,null,null,null,null,null,null,null,null,{"$f":"SUM(BX40:BX99)+3","v":3},null,null,null,null,null,null,null,null,null,null,null,null,null,null,null,null,null,null,null,null,null,null,null,null,null,null,null,null,null,null,null,null,null,null,null,null,null,null,null,null,null,null,null,null,19,"SWITCH PLANT DETAILS","SW",0,{"$f":"#REF!","v":{"$error":"#REF!"}},0,{"$f":"SAR!#REF!","v":{"$error":"#REF!"}},"SW",{"$f":"TEXT(F112,\"000\")","v":"000"},"SITE_E","AC",{"$f":"'DOC 2A'!#REF!","v":{"$error":"#REF!"}},"E9999",{"$f":"#REF!","v":{"$error":"#REF!"}},{"$f":"#REF!","v":{"$error":"#REF!"}},"03"]
[null,null,null,null,null,null,null,null,null,null,null,null,null,null,null,null,null,null,null,null,null,null,null,null,null,null,null,null,null,null,null,null,null,null,null,null,null,null,null,null,null,null,null,null,null,null,null,null,null,null,null,null,null,null,null,null,null,null,null,null,null,null,null,null,null,null,null,null,null,null,null,null,null,null,null,null,null,null,null,null,null,null,null,null,null,null,null,null,null,null,null,null,null,null,null,null,null,null,null,null,null,null,null,null,null,null,null,null,null,20,"SWITCH PLANT DETAILS","SW",0,{"$f":"#REF!","v":{"$error":"#REF!"}},0,{"$f":"SAR!#REF!","v":{"$error":"#REF!"}},"SW",{"$f":"TEXT(F115,\"000\")","v":"000"},"SITE_E","AC",{"$f":"'DOC 2A'!#REF!","v":{"$error":"#REF!"}},"E9999",{"$f":"#REF!","v":{"$error":"#REF!"}},{"$f":"#REF!","v":{"$error":"#REF!"}},"03"]
[null,null,null,null,null,null,null,null,null,null,null,null,null,null,null,null,null,null,null,null,null,null,null,null,null,null,null,null,null,null,null,null,null,null,null,null,null,null,null,null,null,null,null,null,null,null,null,null,null,null,null,null,null,null,null,null,null,null,null,null,null,null,null,null,null,null,null,null,null,null,null,null,null,null,null,null,null,null,null,null,null,null,null,null,null,null,null,null,null,null,null,null,null,null,null,null,null,null,null,null,null,null,null,null,null,null,null,null,null,21,"SWITCH PLANT DETAILS","SW",0,{"$f":"#REF!","v":{"$error":"#REF!"}},0,{"$f":"SAR!#REF!","v":{"$error":"#REF!"}},"SW",{"$f":"TEXT(F118,\"000\")","v":"000"},"SITE_E","AC",{"$f":"'DOC 2A'!#REF!","v":{"$error":"#REF!"}},"E9999",{"$f":"#REF!","v":{"$error":"#REF!"}},{"$f":"#REF!","v":{"$error":"#REF!"}},"03"]
[null,null,null,null,null,null,null,null,null,null,null,null,null,null,null,null,null,null,null,null,null,null,null,null,null,null,null,null,null,null,null,null,null,null,null,null,null,null,null,null,null,null,null,null,null,null,null,null,null,null,null,null,null,null,null,null,null,null,null,null,null,null,null,null,null,null,null,null,null,null,null,null,null,null,null,null,null,null,null,null,null,null,null,null,null,null,null,null,null,null,null,null,null,null,null,null,null,null,null,null,null,null,null,null,null,null,null,null,null,22,"SWITCH PLANT DETAILS","SW",0,{"$f":"#REF!","v":{"$error":"#REF!"}},0,{"$f":"SAR!#REF!","v":{"$error":"#REF!"}},"SW",{"$f":"TEXT(F121,\"000\")","v":"000"},"SITE_E","AC",{"$f":"'DOC 2A'!#REF!","v":{"$error":"#REF!"}},"E9999",{"$f":"#REF!","v":{"$error":"#REF!"}},{"$f":"#REF!","v":{"$error":"#REF!"}},"03"]
[null,"SWITCHGEAR MOUNTING",null,null,null,null,null,null,null,null,null,{"$f":"IF(M21=\"\",0,1)","v":0},null,null,null,null,null,null,null,null,null,null,null,null,null,null,null,null,{"$f":"IFERROR(VLOOKUP(M21,CODES!$A$40:$B$47,2,FALSE),\"\")","v":""},null,null,null,null,"SWITCHGEAR SITUATION",null,null,null,null,null,null,null,null,null,{"$f":"IF(AS21=\"\",0,1)","v":0},null,null,null,null,null,null,null,null,null,null,null,null,null,null,null,null,{"$f":"IFERROR(VLOOKUP(AS21,CODES!$A$51:$B$53,2,FALSE),\"\")","v":""},null,null,null,null,null,null,null,null,null,null,null,null,null,null,null,null,null,null,null,null,null,null,null,null,null,null,null,null,null,null,null,null,null,null,null,null,null,null,null,null,null,null,null,null,null,null,null,null,23,"SWITCH PLANT DETAILS","SW",0,{"$f":"#REF!","v":{"$error":"#REF!"}},0,{"$f":"SAR!#REF!","v":{"$error":"#REF!"}},"SW",{"$f":"TEXT(F124,\"000\")","v":"000"},"SITE_E","AC",{"$f":"'DOC 2A'!#REF!","v":{"$error":"#REF!"}},"E9999",{"$f":"#REF!","v":{"$error":"#REF!"}},{"$f":"#REF!","v":{"$error":"#REF!"}},"03"]
[null,null,null,null,null,null,null,null,null,null,null,null,null,null,null,null,null,null,null,null,null,null,null,null,null,null,null,null,null,null,null,null,null,null,null,null,null,null,null,null,null,null,null,null,null,null,null,null,null,null,null,null,null,null,null,null,null,null,null,null,null,null,null,null,null,null,null,null,null,null,null,null,null,null,null,null,null,null,null,null,null,null,null,null,null,null,null,null,null,null,null,null,null,null,null,null,null,null,null,null,null,null,null,null,null,null,null,null,null,24,"SWITCH PLANT DETAILS","SW",0,{"$f":"#REF!","v":{"$error":"#REF!"}},0,{"$f":"SAR!#REF!","v":{"$error":"#REF!"}},"SW",{"$f":"TEXT(F127,\"000\")","v":"000"},"SITE_E","AC",{"$f":"'DOC 2A'!#REF!","v":{"$error":"#REF!"}},"E9999",{"$f":"#REF!","v":{"$error":"#REF!"}},{"$f":"#REF!","v":{"$error":"#REF!"}},"03"]
[null,null,null,null,null,null,null,null,null,null,null,null,null,null,null,null,null,null,null,null,null,null,null,null,null,null,null,null,null,null,null,null,null,null,null,null,null,null,null,null,null,null,null,null,null,null,null,null,null,null,null,null,null,null,null,null,null,null,null,null,null,null,null,null,null,null,null,null,null,null,null,null,null,null,null,null,null,null,null,null,null,null,null,null,null,null,null,null,null,null,null,null,null,null,null,null,null,null,null,null,null,null,null,null,null,null,null,null,null,25,"SWITCH PLANT DETAILS","SW",0,{"$f":"#REF!","v":{"$error":"#REF!"}},0,{"$f":"SAR!#REF!","v":{"$error":"#REF!"}},"SW",{"$f":"TEXT(E130,\"000\")","v":"000"},"SITE_E","AC",{"$f":"'DOC 2A'!#REF!","v":{"$error":"#REF!"}},"E9999",{"$f":"#REF!","v":{"$error":"#REF!"}},{"$f":"#REF!","v":{"$error":"#REF!"}},"03"]
[null,null,null,null,null,null,null,null,null,null,null,null,null,null,null,null,null,null,null,null,null,null,null,null,null,null,null,null,null,null,null,null,null,null,null,null,null,null,null,null,null,null,null,null,null,null,null,null,null,null,null,null,null,null,null,null,null,null,null,null,null,null,null,null,null,null,"OTHER (PLEASE SPECIFY)",null,null,null,null,null,null,null,null,null,null,null,null,null,null,null,null,null,null,null,null,null,null,null,null,null,null,null,null,null,null,null,null,null,null,null,null,null,null,null,null,null,null,26,"SWITCH PLANT DETAILS","SW",0,{"$f":"#REF!","v":{"$error":"#REF!"}},0,{"$f":"SAR!#REF!","v":{"$error":"#REF!"}},"SW",{"$f":"TEXT(E133,\"000\")","v":"000"},"SITE_E","AC",{"$f":"'DOC 2A'!#REF!","v":{"$error":"#REF!"}},"E9999",{"$f":"#REF!","v":{"$error":"#REF!"}},{"$f":"#REF!","v":{"$error":"#REF!"}},"03"]
[null,"UNIT TYPE",null,null,"UNIT NUMBER",null,null,"MANUFACTURER",null,null,null,null,null,null,null,null,null,null,null,null,null,"MAKERS \nTYPE",null,null,null,null,null,null,null,"SERIAL \nNUMBER",null,null,null,null,null,null,null,null,"MANUFACTURED \nDATE",null,null,null,null,"CIRCUIT NAME",null,null,null,null,null,null,null,null,null,null,null,null,null,null,"CURRENT RATING",null,null,"FAULT RATING",null,null,null,null,null,null,null,null,null,null,null,null,null,null,null,null,null,null,null,null,null,null,null,null,null,null,null,null,null,null,null,null,null,null,null,null,null,null,null,null,null,null,null,null,null,null,null,27,"SWITCH PLANT DETAILS","SW",0,{"$f":"#REF!","v":{"$error":"#REF!"}},0,{"$f":"SAR!#REF!","v":{"$error":"#REF!"}},"SW",{"$f":"TEXT(E136,\"000\")","v":"000"},"SITE_E","AC",{"$f":"'DOC 2A'!#REF!","v":{"$error":"#REF!"}},"E9999",{"$f":"#REF!","v":{"$error":"#REF!"}},{"$f":"#REF!","v":{"$error":"#REF!"}},"03"]
[null,null,null,null,null,null,null,null,null,null,null,null,null,null,null,null,null,null,null,null,null,null,null,null,null,null,null,null,null,null,null,null,null,null,null,null,null,null,null,null,null,null,null,null,null,null,null,null,null,null,null,null,null,null,null,null,null,null,null,null,null,null,null,null,null,null,null,null,null,null,null,null,null,null,null,null,null,null,null,null,null,null,null,null,null,null,null,null,null,null,null,null,null,null,null,null,null,null,null,null,null,null,null,null,null,null,null,null,null,28,"SWITCH PLANT DETAILS","SW",0,{"$f":"#REF!","v":{"$error":"#REF!"}},0,{"$f":"SAR!#REF!","v":{"$error":"#REF!"}},"SW",{"$f":"TEXT(E139,\"000\")","v":"000"},"SITE_E","AC",{"$f":"'DOC 2A'!#REF!","v":{"$error":"#REF!"}},"E9999",{"$f":"#REF!","v":{"$error":"#REF!"}},{"$f":"#REF!","v":{"$error":"#REF!"}},"03"]
[null,null,null,null,null,null,null,null,null,null,null,null,null,null,null,null,null,null,null,null,null,null,null,null,null,null,null,null,null,null,null,null,null,null,null,null,null,null,null,null,null,null,null,null,null,null,null,null,null,null,null,null,null,null,null,null,null,null,null,null,null,null,null,null,null,null,null,null,null,null,null,null,null,null,null,null,null,null,null,null,null,null,null,null,null,null,null,null,null,null,null,null,null,null,null,null,null,null,null,null,null,null,null,null,null,null,null,null,null,29,"SWITCH PLANT DETAILS","SW",0,{"$f":"#REF!","v":{"$error":"#REF!"}},0,{"$f":"SAR!#REF!","v":{"$error":"#REF!"}},"SW",{"$f":"TEXT(E142,\"000\")","v":"000"},"SITE_E","AC",{"$f":"'DOC 2A'!#REF!","v":{"$error":"#REF!"}},"E9999",{"$f":"#REF!","v":{"$error":"#REF!"}},{"$f":"#REF!","v":{"$error":"#REF!"}},"03"]
[null,null,null,null,null,null,null,null,null,null,null,null,null,null,null,null,null,null,null,null,null,null,null,null,null,null,null,null,null,null,null,null,null,null,null,null,null,null,null,null,null,null,null,null,null,null,null,null,null,null,null,null,null,null,null,null,null,null,null,null,null,null,null,null,null,null,null,null,null,null,null,null,null,null,null,null,null,null,null,null,null,null,null,null,null,null,null,null,null,null,null,null,null,null,null,null,null,null,null,null,null,null,null,null,null,null,null,null,null,30,"SWITCH PLANT DETAILS","SW",0,{"$f":"#REF!","v":{"$error":"#REF!"}},0,{"$f":"SAR!#REF!","v":{"$error":"#REF!"}},"SW",{"$f":"TEXT(E145,\"000\")","v":"000"},"SITE_E","AC",{"$f":"'DOC 2A'!#REF!","v":{"$error":"#REF!"}},"E9999",{"$f":"#REF!","v":{"$error":"#REF!"}},{"$f":"#REF!","v":{"$error":"#REF!"}},"03"]
[]
[]
[]
[]
[]
[]
[]
[]
[null,"i"]
[]
[]
[null,null,null,null,null,null,null,null,null,null,null,null,null,null,null,null,null,null,null,{"$f":"IFERROR(VLOOKUP(H40,CODES!M$16:N$134,2,FALSE),\"\")","v":""},null,null,null,null,null,null,null,null,null,null,null,null,null,null,null,null,null,null,null,null,null,null,null,null,null,null,null,null,null,null,null,null,null,null,null,null,null,null,null,null,null,null,null,null,{"$f":"COUNTA(B40:S42,V40:BL42)","v":0},null,null,null,null,null,null,null,null,null,null,{"$f":"IF(BM40>0,9,0)","v":0}]
[]
[]
[null,null,null,null,null,null,null,null,null,null,null,null,null,null,null,null,null,null,null,{"$f":"IFERROR(VLOOKUP(H43,CODES!M$16:N$134,2,FALSE),\"\")","v":""},null,null,null,null,null,null,null,null,null,null,null,null,null,null,null,null,null,null,null,null,null,null,null,null,null,null,null,null,null,null,null,null,null,null,null,null,null,null,null,null,null,null,null,null,{"$f":"COUNTA(B43:S45,V43:BL45)","v":0},null,"COPY DETAILS",null,null,null,null,null,null,null,null,{"$f":"IF(BM43>0,9,0)","v":0},"i"]
[]
[]
[null,null,null,null,null,null,null,null,null,null,null,null,null,null,null,null,null,null,null,{"$f":"IFERROR(VLOOKUP(H46,CODES!M$16:N$134,2,FALSE),\"\")","v":""},null,null,null,null,null,null,null,null,null,null,null,null,null,null,null,null,null,null,null,null,null,null,null,null,null,null,null,null,null,null,null,null,null,null,null,null,null,null,null,null,null,null,null,null,{"$f":"COUNTA(B46:S48,V46:BL48)","v":0},null,"COPY DETAILS",null,null,null,null,null,null,null,null,{"$f":"IF(BM46>0,9,0)","v":0}]
[]
[]
[null,null,null,null,null,null,null,null,null,null,null,null,null,null,null,null,null,null,null,{"$f":"IFERROR(VLOOKUP(H49,CODES!M$16:N$134,2,FALSE),\"\")","v":""},null,null,null,null,null,null,null,null,null,null,null,null,null,null,null,null,null,null,null,null,null,null,null,null,null,null,null,null,null,null,null,null,null,null,null,null,null,null,null,null,null,null,null,null,{"$f":"COUNTA(B49:S51,V49:BL51)","v":0},null,"COPY DETAILS",null,null,null,null,null,null,null,null,{"$f":"IF(BM49>0,9,0)","v":0}]
[]
[]
[null,null,null,null,null,null,null,null,null,null,null,null,null,null,null,null,null,null,null,{"$f":"IFERROR(VLOOKUP(H52,CODES!M$16:N$134,2,FALSE),\"\")","v":""},null,null,null,null,null,null,null,null,null,null,null,null,null,null,null,null,null,null,null,null,null,null,null,null,null,null,null,null,null,null,null,null,null,null,null,null,null,null,null,null,null,null,null,null,{"$f":"COUNTA(B52:S54,V52:BL54)","v":0},null,"COPY DETAILS",null,null,null,null,null,null,null,null,{"$f":"IF(BM52>0,9,0)","v":0}]
[]
[]
[null,null,null,null,null,null,null,null,null,null,null,null,null,null,null,null,null,null,null,{"$f":"IFERROR(VLOOKUP(H55,CODES!M$16:N$134,2,FALSE),\"\")","v":""},null,null,null,null,null,null,null,null,null,null,null,null,null,null,null,null,null,null,null,null,null,null,null,null,null,null,null,null,null,null,null,null,null,null,null,null,null,null,null,null,null,null,null,null,{"$f":"COUNTA(B55:S57,V55:BL57)","v":0},null,"COPY DETAILS",null,null,null,null,null,null,null,null,{"$f":"IF(BM55>0,9,0)","v":0}]
[]
[]
[null,null,null,null,null,null,null,null,null,null,null,null,null,null,null,null,null,null,null,{"$f":"IFERROR(VLOOKUP(H58,CODES!M$16:N$134,2,FALSE),\"\")","v":""},null,null,null,null,null,null,null,null,null,null,null,null,null,null,null,null,null,null,null,null,null,null,null,null,null,null,null,null,null,null,null,null,null,null,null,null,null,null,null,null,null,null,null,null,{"$f":"COUNTA(B58:S60,V58:BL60)","v":0},null,"COPY DETAILS",null,null,null,null,null,null,null,null,{"$f":"IF(BM58>0,9,0)","v":0}]
[]
[]
[null,null,null,null,null,null,null,null,null,null,null,null,null,null,null,null,null,null,null,{"$f":"IFERROR(VLOOKUP(H61,CODES!M$16:N$134,2,FALSE),\"\")","v":""},null,null,null,null,null,null,null,null,null,null,null,null,null,null,null,null,null,null,null,null,null,null,null,null,null,null,null,null,null,null,null,null,null,null,null,null,null,null,null,null,null,null,null,null,{"$f":"COUNTA(B61:S63,V61:BL63)","v":0},null,"COPY DETAILS",null,null,null,null,null,null,null,null,{"$f":"IF(BM61>0,9,0)","v":0}]
[]
[]
[null,null,null,null,null,null,null,null,null,null,null,null,null,null,null,null,null,null,null,{"$f":"IFERROR(VLOOKUP(H64,CODES!M$16:N$134,2,FALSE),\"\")","v":""},null,null,null,null,null,null,null,null,null,null,null,null,null,null,null,null,null,null,null,null,null,null,null,null,null,null,null,null,null,null,null,null,null,null,null,null,null,null,null,null,null,null,null,null,{"$f":"COUNTA(B64:S66,V64:BL66)","v":0},null,"COPY DETAILS",null,null,null,null,null,null,null,null,{"$f":"IF(BM64>0,9,0)","v":0}]
[]
[]
[null,null,null,null,null,null,null,null,null,null,null,null,null,null,null,null,null,null,null,{"$f":"IFERROR(VLOOKUP(H67,CODES!M$16:N$134,2,FALSE),\"\")","v":""},null,null,null,null,null,null,null,null,null,null,null,null,null,null,null,null,null,null,null,null,null,null,null,null,null,null,null,null,null,null,null,null,null,null,null,null,null,null,null,null,null,null,null,null,{"$f":"COUNTA(B67:S69,V67:BL69)","v":0},null,"COPY DETAILS",null,null,null,null,null,null,null,null,{"$f":"IF(BM67>0,9,0)","v":0}]
[]
[]
[null,null,null,null,null,null,null,null,null,null,null,null,null,null,null,null,null,null,null,{"$f":"IFERROR(VLOOKUP(H70,CODES!M$16:N$134,2,FALSE),\"\")","v":""},null,null,null,null,null,null,null,null,null,null,null,null,null,null,null,null,null,null,null,null,null,null,null,null,null,null,null,null,null,null,null,null,null,null,null,null,null,null,null,null,null,null,null,null,{"$f":"COUNTA(B70:S72,V70:BL72)","v":0},null,"COPY DETAILS",null,null,null,null,null,null,null,null,{"$f":"IF(BM70>0,9,0)","v":0}]
[]
[]
[null,null,null,null,null,null,null,null,null,null,null,null,null,null,null,null,null,null,null,{"$f":"IFERROR(VLOOKUP(H73,CODES!M$16:N$134,2,FALSE),\"\")","v":""},null,null,null,null,null,null,null,null,null,null,null,null,null,null,null,null,null,null,null,null,null,null,null,null,null,null,null,null,null,null,null,null,null,null,null,null,null,null,null,null,null,null,null,null,{"$f":"COUNTA(B73:S75,V73:BL75)","v":0},null,"COPY DETAILS",null,null,null,null,null,null,null,null,{"$f":"IF(BM73>0,9,0)","v":0}]
[]
[]
[null,null,null,null,null,null,null,null,null,null,null,null,null,null,null,null,null,null,null,{"$f":"IFERROR(VLOOKUP(H76,CODES!M$16:N$134,2,FALSE),\"\")","v":""},null,null,null,null,null,null,null,null,null,null,null,null,null,null,null,null,null,null,null,null,null,null,null,null,null,null,null,null,null,null,null,null,null,null,null,null,null,null,null,null,null,null,null,null,{"$f":"COUNTA(B76:S78,V76:BL78)","v":0},null,"COPY DETAILS",null,null,null,null,null,null,null,null,{"$f":"IF(BM76>0,9,0)","v":0}]
[]
[]
[null,null,null,null,null,null,null,null,null,null,null,null,null,null,null,null,null,null,null,{"$f":"IFERROR(VLOOKUP(H79,CODES!M$16:N$134,2,FALSE),\"\")","v":""},null,null,null,null,null,null,null,null,null,null,null,null,null,null,null,null,null,null,null,null,null,null,null,null,null,null,null,null,null,null,null,null,null,null,null,null,null,null,null,null,null,null,null,null,{"$f":"COUNTA(B79:S81,V79:BL81)","v":0},null,"COPY DETAILS",null,null,null,null,null,null,null,null,{"$f":"IF(BM79>0,9,0)","v":0}]
[]
[]
[null,null,null,null,null,null,null,null,null,null,null,null,null,null,null,null,null,null,null,{"$f":"IFERROR(VLOOKUP(H82,CODES!M$16:N$134,2,FALSE),\"\")","v":""},null,null,null,null,null,null,null,null,null,null,null,null,null,null,null,null,null,null,null,null,null,null,null,null,null,null,null,null,null,null,null,null,null,null,null,null,null,null,null,null,null,null,null,null,{"$f":"COUNTA(B82:S84,V82:BL84)","v":0},null,"COPY DETAILS",null,null,null,null,null,null,null,null,{"$f":"IF(BM82>0,9,0)","v":0}]
[]
[]
[null,null,null,null,null,null,null,null,null,null,null,null,null,null,null,null,null,null,null,{"$f":"IFERROR(VLOOKUP(H85,CODES!M$16:N$134,2,FALSE),\"\")","v":""},null,null,null,null,null,null,null,null,null,null,null,null,null,null,null,null,null,null,null,null,null,null,null,null,null,null,null,null,null,null,null,null,null,null,null,null,null,null,null,null,null,null,null,null,{"$f":"COUNTA(B85:S87,V85:BL87)","v":0},null,"COPY DETAILS",null,null,null,null,null,null,null,null,{"$f":"IF(BM85>0,9,0)","v":0}]
[]
[]
[null,null,null,null,null,null,null,null,null,null,null,null,null,null,null,null,null,null,null,{"$f":"IFERROR(VLOOKUP(H88,CODES!M$16:N$134,2,FALSE),\"\")","v":""},null,null,null,null,null,null,null,null,null,null,null,null,null,null,null,null,null,null,null,null,null,null,null,null,null,null,null,null,null,null,null,null,null,null,null,null,null,null,null,null,null,null,null,null,{"$f":"COUNTA(B88:S90,V88:BL90)","v":0},null,"COPY DETAILS",null,null,null,null,null,null,null,null,{"$f":"IF(BM88>0,9,0)","v":0}]
[]
[]
[null,null,null,null,null,null,null,null,null,null,null,null,null,null,null,null,null,null,null,{"$f":"IFERROR(VLOOKUP(H91,CODES!M$16:N$134,2,FALSE),\"\")","v":""},null,null,null,null,null,null,null,null,null,null,null,null,null,null,null,null,null,null,null,null,null,null,null,null,null,null,null,null,null,null,null,null,null,null,null,null,null,null,null,null,null,null,null,null,{"$f":"COUNTA(B91:S93,V91:BL93)","v":0},null,"COPY DETAILS",null,null,null,null,null,null,null,null,{"$f":"IF(BM91>0,9,0)","v":0}]
[]
[]
[null,null,null,null,null,null,null,null,null,null,null,null,null,null,null,null,null,null,null,{"$f":"IFERROR(VLOOKUP(H94,CODES!M$16:N$134,2,FALSE),\"\")","v":""},null,null,null,null,null,null,null,null,null,null,null,null,null,null,null,null,null,null,null,null,null,null,null,null,null,null,null,null,null,null,null,null,null,null,null,null,null,null,null,null,null,null,null,null,{"$f":"COUNTA(B94:S96,V94:BL96)","v":0},null,"COPY DETAILS",null,null,null,null,null,null,null,null,{"$f":"IF(BM94>0,9,0)","v":0}]
[]
[]
[null,null,null,null,null,null,null,null,null,null,null,null,null,null,null,null,null,null,null,{"$f":"IFERROR(VLOOKUP(H97,CODES!M$16:N$134,2,FALSE),\"\")","v":""},null,null,null,null,null,null,null,null,null,null,null,null,null,null,null,null,null,null,null,null,null,null,null,null,null,null,null,null,null,null,null,null,null,null,null,null,null,null,null,null,null,null,null,null,{"$f":"COUNTA(B97:S99,V97:BL99)","v":0},null,"COPY DETAILS",null,null,null,null,null,null,null,null,{"$f":"IF(BM97>0,9,0)","v":0}]
[]
[]
[]
[]
[]
[]
[]
[]
[]
[null,null,null,null,null,null,null,null,null,null,null,null,null,null,null,null,null,null,null,null,null,null,null,null,null,null,null,null,null,null,"List"]
[{"$f":"IF(B108=\"\",\"\",MAX(A$107:A107)+1)","v":{"$error":"#REF!"}},{"$f":"IF(#REF!<>\"\",#REF!,\"\")","v":{"$error":"#REF!"}},null,null,null,null,{"$f":"MID($B108,1,1)","v":{"$error":"#REF!"}},{"$f":"MID($B108,2,1)","v":{"$error":"#REF!"}},{"$f":"MID($B108,3,1)","v":{"$error":"#REF!"}},{"$f":"MID($B108,4,1)","v":{"$error":"#REF!"}},{"$f":"MID($B108,5,1)","v":{"$error":"#REF!"}},{"$f":"MID($B108,6,1)","v":{"$error":"#REF!"}},{"$f":"MID($B108,7,1)","v":{"$error":"#REF!"}},{"$f":"MID($B108,8,1)","v":{"$error":"#REF!"}},{"$f":"MID($B108,9,1)","v":{"$error":"#REF!"}},{"$f":"MID($B108,10,1)","v":{"$error":"#REF!"}},{"$f":"MID($B108,11,1)","v":{"$error":"#REF!"}},{"$f":"MID($B108,12,1)","v":{"$error":"#REF!"}},{"$f":"MID($B108,13,1)","v":{"$error":"#REF!"}},{"$f":"MID($B108,14,1)","v":{"$error":"#REF!"}},{"$f":"MID($B108,15,1)","v":{"$error":"#REF!"}},{"$f":"MID($B108,16,1)","v":{"$error":"#REF!"}},null,null,null,null,null,null,null,null,{"$f":"IFERROR(INDEX(B$108:B$127,MATCH(ROW()-ROW($AE$107),A$108:A$127,0)),\"\")","v":""}]
[{"$f":"IF(B109=\"\",\"\",MAX(A$107:A108)+1)","v":{"$error":"#REF!"}},{"$f":"IF(#REF!<>\"\",#REF!,\"\")","v":{"$error":"#REF!"}},null,null,null,null,{"$error":"#REF!"},{"$error":"#REF!"},{"$error":"#REF!"},{"$error":"#REF!"},{"$error":"#REF!"},{"$error":"#REF!"},{"$error":"#REF!"},{"$error":"#REF!"},{"$error":"#REF!"},{"$error":"#REF!"},{"$error":"#REF!"},null,null,null,null,null,null,null,null,null,null,null,null,null,{"$f":"IFERROR(INDEX(B$108:B$127,MATCH(ROW()-ROW($AE$107),A$108:A$127,0)),\"\")","v":""}]
[{"$f":"IF(B110=\"\",\"\",MAX(A$107:A109)+1)","v":{"$error":"#REF!"}},{"$f":"IF(#REF!<>\"\",#REF!,\"\")","v":{"$error":"#REF!"}},null,null,null,null,{"$error":"#REF!"},{"$error":"#REF!"},{"$error":"#REF!"},{"$error":"#REF!"},{"$error":"#REF!"},{"$error":"#REF!"},{"$error":"#REF!"},{"$error":"#REF!"},{"$error":"#REF!"},{"$error":"#REF!"},{"$error":"#REF!"},null,null,null,null,null,null,null,null,null,null,null,null,null,{"$f":"IFERROR(INDEX(B$108:B$127,MATCH(ROW()-ROW($AE$107),A$108:A$127,0)),\"\")","v":""}]
[{"$f":"IF(B111=\"\",\"\",MAX(A$107:A110)+1)","v":{"$error":"#REF!"}},{"$f":"IF(#REF!<>\"\",#REF!,\"\")","v":{"$error":"#REF!"}},null,null,null,null,{"$error":"#REF!"},{"$error":"#REF!"},{"$error":"#REF!"},{"$error":"#REF!"},{"$error":"#REF!"},{"$error":"#REF!"},{"$error":"#REF!"},{"$error":"#REF!"},{"$error":"#REF!"},{"$error":"#REF!"},{"$error":"#REF!"},null,null,null,null,null,null,null,null,null,null,null,null,null,{"$f":"IFERROR(INDEX(B$108:B$127,MATCH(ROW()-ROW($AE$107),A$108:A$127,0)),\"\")","v":""}]
[{"$f":"IF(B112=\"\",\"\",MAX(A$107:A111)+1)","v":{"$error":"#REF!"}},{"$f":"IF(#REF!<>\"\",#REF!,\"\")","v":{"$error":"#REF!"}},null,null,null,null,{"$error":"#REF!"},{"$error":"#REF!"},{"$error":"#REF!"},{"$error":"#REF!"},{"$error":"#REF!"},{"$error":"#REF!"},{"$error":"#REF!"},{"$error":"#REF!"},{"$error":"#REF!"},{"$error":"#REF!"},{"$error":"#REF!"},null,null,null,null,null,null,null,null,null,null,null,null,null,{"$f":"IFERROR(INDEX(B$108:B$127,MATCH(ROW()-ROW($AE$107),A$108:A$127,0)),\"\")","v":""}]
[{"$f":"IF(B113=\"\",\"\",MAX(A$107:A112)+1)","v":{"$error":"#REF!"}},{"$f":"IF(#REF!<>\"\",#REF!,\"\")","v":{"$error":"#REF!"}},null,null,null,null,{"$error":"#REF!"},{"$error":"#REF!"},{"$error":"#REF!"},{"$error":"#REF!"},{"$error":"#REF!"},{"$error":"#REF!"},{"$error":"#REF!"},{"$error":"#REF!"},{"$error":"#REF!"},{"$error":"#REF!"},{"$error":"#REF!"},null,null,null,null,null,null,null,null,null,null,null,null,null,{"$f":"IFERROR(INDEX(B$108:B$127,MATCH(ROW()-ROW($AE$107),A$108:A$127,0)),\"\")","v":""}]
[{"$f":"IF(B114=\"\",\"\",MAX(A$107:A113)+1)","v":{"$error":"#REF!"}},{"$f":"IF(#REF!<>\"\",#REF!,\"\")","v":{"$error":"#REF!"}},null,null,null,null,{"$error":"#REF!"},{"$error":"#REF!"},{"$error":"#REF!"},{"$error":"#REF!"},{"$error":"#REF!"},{"$error":"#REF!"},{"$error":"#REF!"},{"$error":"#REF!"},{"$error":"#REF!"},{"$error":"#REF!"},{"$error":"#REF!"},null,null,null,null,null,null,null,null,null,null,null,null,null,{"$f":"IFERROR(INDEX(B$108:B$127,MATCH(ROW()-ROW($AE$107),A$108:A$127,0)),\"\")","v":""}]
[{"$f":"IF(B115=\"\",\"\",MAX(A$107:A114)+1)","v":{"$error":"#REF!"}},{"$f":"IF(#REF!<>\"\",#REF!,\"\")","v":{"$error":"#REF!"}},null,null,null,null,{"$error":"#REF!"},{"$error":"#REF!"},{"$error":"#REF!"},{"$error":"#REF!"},{"$error":"#REF!"},{"$error":"#REF!"},{"$error":"#REF!"},{"$error":"#REF!"},{"$error":"#REF!"},{"$error":"#REF!"},{"$error":"#REF!"},null,null,null,null,null,null,null,null,null,null,null,null,null,{"$f":"IFERROR(INDEX(B$108:B$127,MATCH(ROW()-ROW($AE$107),A$108:A$127,0)),\"\")","v":""}]
[{"$f":"IF(B116=\"\",\"\",MAX(A$107:A115)+1)","v":{"$error":"#REF!"}},{"$f":"IF(#REF!<>\"\",#REF!,\"\")","v":{"$error":"#REF!"}},null,null,null,null,{"$error":"#REF!"},{"$error":"#REF!"},{"$error":"#REF!"},{"$error":"#REF!"},{"$error":"#REF!"},{"$error":"#REF!"},{"$error":"#REF!"},{"$error":"#REF!"},{"$error":"#REF!"},{"$error":"#REF!"},{"$error":"#REF!"},null,null,null,null,null,null,null,null,null,null,null,null,null,{"$f":"IFERROR(INDEX(B$108:B$127,MATCH(ROW()-ROW($AE$107),A$108:A$127,0)),\"\")","v":""}]
[{"$f":"IF(B117=\"\",\"\",MAX(A$107:A116)+1)","v":{"$error":"#REF!"}},{"$f":"IF(#REF!<>\"\",#REF!,\"\")","v":{"$error":"#REF!"}},null,null,null,null,{"$error":"#REF!"},{"$error":"#REF!"},{"$error":"#REF!"},{"$error":"#REF!"},{"$error":"#REF!"},{"$error":"#REF!"},{"$error":"#REF!"},{"$error":"#REF!"},{"$error":"#REF!"},{"$error":"#REF!"},{"$error":"#REF!"},null,null,null,null,null,null,null,null,null,null,null,null,null,{"$f":"IFERROR(INDEX(B$108:B$127,MATCH(ROW()-ROW($AE$107),A$108:A$127,0)),\"\")","v":""}]
[{"$f":"IF(B118=\"\",\"\",MAX(A$107:A117)+1)","v":{"$error":"#REF!"}},{"$f":"IF(#REF!<>\"\",#REF!,\"\")","v":{"$error":"#REF!"}},null,null,null,null,{"$error":"#REF!"},{"$error":"#REF!"},{"$error":"#REF!"},{"$error":"#REF!"},{"$error":"#REF!"},{"$error":"#REF!"},{"$error":"#REF!"},{"$error":"#REF!"},{"$error":"#REF!"},{"$error":"#REF!"},{"$error":"#REF!"},null,null,null,null,null,null,null,null,null,null,null,null,null,{"$f":"IFERROR(INDEX(B$108:B$127,MATCH(ROW()-ROW($AE$107),A$108:A$127,0)),\"\")","v":""}]
[{"$f":"IF(B119=\"\",\"\",MAX(A$107:A118)+1)","v":{"$error":"#REF!"}},{"$f":"IF(#REF!<>\"\",#REF!,\"\")","v":{"$error":"#REF!"}},null,null,null,null,{"$error":"#REF!"},{"$error":"#REF!"},{"$error":"#REF!"},{"$error":"#REF!"},{"$error":"#REF!"},{"$error":"#REF!"},{"$error":"#REF!"},{"$error":"#REF!"},{"$error":"#REF!"},{"$error":"#REF!"},{"$error":"#REF!"},null,null,null,null,null,null,null,null,null,null,null,null,null,{"$f":"IFERROR(INDEX(B$108:B$127,MATCH(ROW()-ROW($AE$107),A$108:A$127,0)),\"\")","v":""}]
[{"$f":"IF(B120=\"\",\"\",MAX(A$107:A119)+1)","v":{"$error":"#REF!"}},{"$f":"IF(#REF!<>\"\",#REF!,\"\")","v":{"$error":"#REF!"}},null,null,null,null,{"$error":"#REF!"},{"$error":"#REF!"},{"$error":"#REF!"},{"$error":"#REF!"},{"$error":"#REF!"},{"$error":"#REF!"},{"$error":"#REF!"},{"$error":"#REF!"},{"$error":"#REF!"},{"$error":"#REF!"},{"$error":"#REF!"},null,null,null,null,null,null,null,null,null,null,null,null,null,{"$f":"IFERROR(INDEX(B$108:B$127,MATCH(ROW()-ROW($AE$107),A$108:A$127,0)),\"\")","v":""}]
[{"$f":"IF(B121=\"\",\"\",MAX(A$107:A120)+1)","v":{"$error":"#REF!"}},{"$f":"IF(#REF!<>\"\",#REF!,\"\")","v":{"$error":"#REF!"}},null,null,null,null,{"$error":"#REF!"},{"$error":"#REF!"},{"$error":"#REF!"},{"$error":"#REF!"},{"$error":"#REF!"},{"$error":"#REF!"},{"$error":"#REF!"},{"$error":"#REF!"},{"$error":"#REF!"},{"$error":"#REF!"},{"$error":"#REF!"},null,null,null,null,null,null,null,null,null,null,null,null,null,{"$f":"IFERROR(INDEX(B$108:B$127,MATCH(ROW()-ROW($AE$107),A$108:A$127,0)),\"\")","v":""}]
[{"$f":"IF(B122=\"\",\"\",MAX(A$107:A121)+1)","v":{"$error":"#REF!"}},{"$f":"IF(#REF!<>\"\",#REF!,\"\")","v":{"$error":"#REF!"}},null,null,null,null,{"$error":"#REF!"},{"$error":"#REF!"},{"$error":"#REF!"},{"$error":"#REF!"},{"$error":"#REF!"},{"$error":"#REF!"},{"$error":"#REF!"},{"$error":"#REF!"},{"$error":"#REF!"},{"$error":"#REF!"},{"$error":"#REF!"},null,null,null,null,null,null,null,null,null,null,null,null,null,{"$f":"IFERROR(INDEX(B$108:B$127,MATCH(ROW()-ROW($AE$107),A$108:A$127,0)),\"\")","v":""}]
[{"$f":"IF(B123=\"\",\"\",MAX(A$107:A122)+1)","v":{"$error":"#REF!"}},{"$f":"IF(#REF!<>\"\",#REF!,\"\")","v":{"$error":"#REF!"}},null,null,null,null,{"$error":"#REF!"},{"$error":"#REF!"},{"$error":"#REF!"},{"$error":"#REF!"},{"$error":"#REF!"},{"$error":"#REF!"},{"$error":"#REF!"},{"$error":"#REF!"},{"$error":"#REF!"},{"$error":"#REF!"},{"$error":"#REF!"},null,null,null,null,null,null,null,null,null,null,null,null,null,{"$f":"IFERROR(INDEX(B$108:B$127,MATCH(ROW()-ROW($AE$107),A$108:A$127,0)),\"\")","v":""}]
[{"$f":"IF(B124=\"\",\"\",MAX(A$107:A123)+1)","v":{"$error":"#REF!"}},{"$f":"IF(#REF!<>\"\",#REF!,\"\")","v":{"$error":"#REF!"}},null,null,null,null,{"$error":"#REF!"},{"$error":"#REF!"},{"$error":"#REF!"},{"$error":"#REF!"},{"$error":"#REF!"},{"$error":"#REF!"},{"$error":"#REF!"},{"$error":"#REF!"},{"$error":"#REF!"},{"$error":"#REF!"},{"$error":"#REF!"},null,null,null,null,null,null,null,null,null,null,null,null,null,{"$f":"IFERROR(INDEX(B$108:B$127,MATCH(ROW()-ROW($AE$107),A$108:A$127,0)),\"\")","v":""}]
[{"$f":"IF(B125=\"\",\"\",MAX(A$107:A124)+1)","v":{"$error":"#REF!"}},{"$f":"IF(#REF!<>\"\",#REF!,\"\")","v":{"$error":"#REF!"}},null,null,null,null,{"$error":"#REF!"},{"$error":"#REF!"},{"$error":"#REF!"},{"$error":"#REF!"},{"$error":"#REF!"},{"$error":"#REF!"},{"$error":"#REF!"},{"$error":"#REF!"},{"$error":"#REF!"},{"$error":"#REF!"},{"$error":"#REF!"},null,null,null,null,null,null,null,null,null,null,null,null,null,{"$f":"IFERROR(INDEX(B$108:B$127,MATCH(ROW()-ROW($AE$107),A$108:A$127,0)),\"\")","v":""}]
[{"$f":"IF(B126=\"\",\"\",MAX(A$107:A125)+1)","v":{"$error":"#REF!"}},{"$f":"IF(#REF!<>\"\",#REF!,\"\")","v":{"$error":"#REF!"}},null,null,null,null,{"$error":"#REF!"},{"$error":"#REF!"},{"$error":"#REF!"},{"$error":"#REF!"},{"$error":"#REF!"},{"$error":"#REF!"},{"$error":"#REF!"},{"$error":"#REF!"},{"$error":"#REF!"},{"$error":"#REF!"},{"$error":"#REF!"},null,null,null,null,null,null,null,null,null,null,null,null,null,{"$f":"IFERROR(INDEX(B$108:B$127,MATCH(ROW()-ROW($AE$107),A$108:A$127,0)),\"\")","v":""}]
[{"$f":"IF(B127=\"\",\"\",MAX(A$107:A126)+1)","v":{"$error":"#REF!"}},{"$f":"IF(#REF!<>\"\",#REF!,\"\")","v":{"$error":"#REF!"}},null,null,null,null,{"$error":"#REF!"},{"$error":"#REF!"},{"$error":"#REF!"},{"$error":"#REF!"},{"$error":"#REF!"},{"$error":"#REF!"},{"$error":"#REF!"},{"$error":"#REF!"},{"$error":"#REF!"},{"$error":"#REF!"},{"$error":"#REF!"},null,null,null,null,null,null,null,null,null,null,null,null,null,{"$f":"IFERROR(INDEX(B$108:B$127,MATCH(ROW()-ROW($AE$107),A$108:A$127,0)),\"\")","v":""}]

{"sheet":"DOC 4","index":15,"n_rows":74,"n_cols":280,"rows_kept":74,"cut":false,"hidden":false,"merged":[[73,63,75,63],[0,104,1,104],[2,104,4,104],[5,104,7,104],[97,0,97,64],[44,12,46,30],[47,12,49,30],[50,12,52,30],[44,44,46,62],[47,44,49,62],[50,44,52,62],[68,12,70,30],[50,33,52,42],[50,43,52,43],[47,1,49,10],[47,11,49,11],[47,33,49,42],[47,43,49,43],[62,11,64,11],[62,12,64,30],[1,1,6,11],[8,64,10,64],[12,1,14,63],[12,64,14,64],[15,1,15,63],[16,11,18,11],[16,12,18,27],[16,28,18,30],[1,39,3,42],[1,43,3,47],[4,24,6,27],[4,28,6,38],[16,32,18,32],[16,33,18,42],[1,28,3,38],[16,44,18,62],[4,39,6,42],[16,1,18,10],[0,96,2,96],[0,85,2,85],[0,86,2,86],[0,87,2,87],[0,88,2,88],[0,89,2,89],[0,90,2,90],[7,1,7,63],[8,1,10,5],[8,6,10,22],[8,24,10,28],[8,29,10,47],[8,49,10,53],[8,54,10,63],[0,91,2,91],[0,92,2,92],[0,93,2,93],[0,94,2,94],[0,95,2,95],[1,12,6,22],[1,24,3,27],[1,49,6,51],[1,52,6,63],[0,76,2,77],[0,78,2,79],[0,83,2,83],[0,84,2,84],[3,76,5,79],[76,1,96,62],[73,1,75,62],[55,33,57,63],[59,33,61,42],[59,43,61,43],[62,33,64,42],[62,43,64,43],[62,44,64,62],[68,11,70,11],[55,1,57,31],[65,1,67,10],[65,11,67,11],[65,12,67,30],[65,33,67,42],[65,43,67,43],[65,44,67,62],[59,1,61,10],[16,64,18,64],[4,43,6,47],[68,1,70,10],[50,1,52,10],[50,11,52,11],[68,44,70,62],[36,1,38,10],[36,11,38,11],[44,1,46,10],[44,11,46,11],[44,33,46,42],[44,43,46,43],[39,12,41,27],[39,28,41,30],[36,12,38,27],[62,1,64,10],[59,11,61,11],[39,60,41,62],[68,33,70,42],[68,43,70,43],[59,12,61,27],[59,28,61,30],[59,44,61,59],[59,60,61,62],[37,32,39,32],[36,33,38,42],[36,43,38,43],[14,66,16,78],[23,66,25,78],[27,66,29,70],[27,71,29,78],[30,66,32,70],[30,71,32,78],[24,1,26,10],[24,11,26,11],[24,32,26,32],[24,33,26,42],[24,43,26,43],[24,12,26,27],[30,1,32,10],[30,11,32,11],[30,32,32,32],[30,33,32,42],[30,43,32,43],[30,12,32,30],[21,33,23,42],[21,43,23,43],[21,12,23,30],[21,44,23,62],[24,44,26,59],[24,60,26,62],[27,44,29,62],[21,1,23,10],[21,11,23,11],[21,32,23,32],[24,28,26,30],[33,1,35,10],[33,11,35,11],[33,32,35,32],[27,1,29,10],[27,11,29,11],[27,12,29,30],[27,33,29,42],[27,43,29,43],[33,33,35,42],[33,43,35,43],[33,12,35,30],[33,66,35,70],[33,71,35,78],[39,1,41,10],[39,11,41,11],[39,33,41,42],[39,43,41,43],[30,44,32,62],[33,44,35,62],[37,64,39,64],[36,44,38,59],[36,60,38,62],[39,44,41,59],[36,28,38,30]]}
[null,null,null,null,null,null,null,null,null,null,null,null,null,null,null,null,null,null,null,null,null,null,null,null,null,null,null,null,null,null,null,null,null,null,null,null,null,null,null,null,null,null,null,null,null,null,null,null,null,null,null,null,null,null,null,null,null,null,null,null,null,null,null,null,null,null,null,null,null,null,null,null,null,null,null,null,{"$f":"BM13","v":0},null,{"$f":"BM17","v":0},null,null,null,null,"EQUIPMENT CLASS","EQUIPNOD1","EQUIPNOD2","PLANTCODE0","PLANTCODE1","PLANTCODE2","PLANTCODE3","EQUIPGRPID","EQUIPSTATUS","PARENTEQUIPREF","ACCOUNTCODE","EQUIPCLASSIF2","EQUIPCLASSIF3","EQUIPCLASSIF17",null,null,null,null,null,null,null,"PRINT?",null,"A1","V1","A2","V2","A3","V3","A4","V4","A5","V5","A6","V6","A7","V7","A8","V8","A9","V9","A10","V10","A11","V11","A12","V12","A13","V13","A14","V14","A15","V15","A16","V16","A17","V17","A18","V18","A19","V19","A20","V20","A21","V21","A22","V22","A23","V23","A24","V24","A25","V25","A26","V26","A27","V27","A28","V28","A29","V29","A30","V30","A31","V31","A32","V32","A33","V33","A34","V34","A35","V35","A36","V36","A37","V37","A38","V38","A39","V39","A40","V40","A41","V41","A42","V42","A43","V43","A44","V44","A45","V45","A46","V46","A47","V47","A48","V48","A49","V49","A50","V50","A51","V51","A52","V52","A53","V53","A54","V54","A55","V55","A56","V56","A57","V57","A58","V58","A59","V59","A60","V60","A61","V61","A62","V62","A63","V63","A64","V64","A65","V65","A66","V66","A67","V67","A68","V68","A69","V69","A70","V70","A71","V71","A72","V72","A73","V73","A74","V74","A75","V75","A76","V76","A77","V77","A78","V78","A79","V79","A80","V80","A81","V81","A82","V82","A83","V83","A84","V84","A85","V85","A86","V86","A87","V87"]
[null,null,null,null,null,null,null,null,null,null,null,null,"DOC 4",null,null,null,null,null,null,null,null,null,null,null,"ENGINEER",null,null,null,{"$f":"SAR!$K$13","v":""},null,null,null,null,null,null,null,null,null,null,"VOLTAGE",null,null,null,{"$f":"SAR!$K$36","v":0},null,null,null,null,null,"SATS",null,null,{"$f":"SAR!$BA$2","v":0},null,null,null,null,null,null,null,null,null,null,null,null,null,null,null,null,null,null,null,null,null,null,null,null,null,null,null,null,null,null,null,null,null,null,null,null,null,null,null,null,null,null,null,null,null,null,null,null,null,null,null,null,"RN2C","OPRESTAP","N","MAKER",788,"MAKERSTYP2","RN2C","COMMDTE","2001-01-01","MANUFDTE","2001-01-01","SITUATION",1,"MOUNTING","T","FAULTRATING",21.9,"VOLTAGE4",4,"CIRCUITNAME2","?","RMUNITYP1",11,"SERIALNO3","?","EARTH1","S","CURRRATING2",200,"ARCEXT1",10,"MECHMNCNTS1","D","MECHEARCNTS1","D","CIRCUITNAME3","?","RMUNITYP2",21,"SERIALNO4","?","EARTH3","S","CURRRATING3",630,"ARCEXT2",10,"MECHMNCNTS2","D","MECHEARCNTS2","D","INOIL3","N","CIRCUITNAME4","?","RMUNITYP3",21,"SERIALNO5","?","EARTH4","S","CURRRATING4",630,"ARCEXT3",10,"MECHMNCNTS3","D","MECHEARCNTS3","D","INOIL4","N","MKRTYPREF4","*","INSULATION3",7,"INSULATION4",8,"COMMONTANK","Y","REPLUNIT","N","SPECIF_N_2","*","MKRORDREF1","*","HOSELEN1",0,"INOIL2","N","MKRTYPREF2","*","MKR3",null,"RESETMECH1",null,"RESMNCNTBR1",1,"RESMNCNTMK1",1,"RESMNCNTNC1",1,"RESMNCNTTF1",1,"RESEARTHMK1",1,"RESEARTHTF1",1,"SPECIALRES1","N","RATINGREF1","*","CONNECTION10","J","MKRTYPREF3","*","MKR6",null,"RESETMECH2",null,"REMOTECNTRL1",null,"RESMNCNTBR2",1,"RESMNCNTMK2",1,"RESMNCNTNC2",1,"RESMNCNTTF2",1,"RESEARTHMK2",1,"RESEARTHTF2",1,"SPECIALRES3","N","RATINGREF2","*","CONNECTION3","C","MKR7",null,"RESETMECH3",null,"REMOTECNTRL2",null,"RESMNCNTBR3",1,"RESMNCNTMK3",1,"RESMNCNTNC3",1,"RESMNCNTTF3",1,"RESEARTHMK3",1,"RESEARTHTF3",1,"SPECIALRES4","N","RATINGREF3","*","CONNECTION7","C","RMNFRSCODE1",201,"RMNFRSCODE2",242,"RMNFRSCODE3",242,"TRMSNMARKER","N","PROJECT",null,"PROJECTD"]
[null,null,null,null,null,null,null,null,null,null,null,null,null,null,null,null,null,null,null,null,null,null,null,null,null,null,null,null,null,null,null,null,null,null,null,null,null,null,null,null,null,null,null,null,null,null,null,null,null,null,null,null,null,null,null,null,null,null,null,null,null,null,null,null,null,null,null,null,null,null,null,null,null,null,null,null,null,null,null,null,null,null,null,null,null,null,null,null,null,null,null,null,null,null,null,null,null,null,null,null,null,null,null,null,{"$f":"IF(BY1=0,\"\",\"Y\")","v":""},"LUCY VRN2A","OPRESTAP","N","MAKER",650,"MAKERSTYP2","SABREVRN2A","COMMDTE","1999-09-09","MANUFDTE","1999-09-09","SITUATION",2,"MOUNTING","G","FAULTRATING",20,"VOLTAGE4",4,"CIRCUITNAME2","?","RMUNITYP1",11,"SERIALNO3","?","EARTH1","S","CURRRATING2",200,"ARCEXT1",9,"MECHMNCNTS1","D","MECHEARCNTS1","D","CIRCUITNAME3","?","RMUNITYP2",21,"SERIALNO4","?","EARTH3","S","CURRRATING3",630,"ARCEXT2",10,"MECHMNCNTS2","D","MECHEARCNTS2","D","INOIL3","N","CIRCUITNAME4","?","RMUNITYP3",21,"SERIALNO5","?","EARTH4","S","CURRRATING4",630,"ARCEXT3",10,"MECHMNCNTS3","D","MECHEARCNTS3","D","INOIL4","N","MKRTYPREF4","*","INSULATION3",7,"INSULATION4",8,"COMMONTANK","Y","REPLUNIT","N","SPECIF_N_2","*","MKRORDREF1","*","HOSELEN1",0,"INOIL2","N","MKRTYPREF2","*","MKR3",null,"RESETMECH1",null,"RESMNCNTBR1",1,"RESMNCNTMK1",1,"RESMNCNTNC1",1,"RESMNCNTTF1",1,"RESEARTHMK1",1,"RESEARTHTF1",1,"SPECIALRES1","N","RATINGREF1","*","CONNECTION10","J","MKRTYPREF3","*","MKR6",null,"RESETMECH2",null,"REMOTECNTRL1",null,"RESMNCNTBR2",1,"RESMNCNTMK2",1,"RESMNCNTNC2",1,"RESMNCNTTF2",1,"RESEARTHMK2",1,"RESEARTHTF2",1,"SPECIALRES3","N","RATINGREF2","*","CONNECTION3","C","MKR7",null,"RESETMECH3",null,"REMOTECNTRL2",null,"RESMNCNTBR3",1,"RESMNCNTMK3",1,"RESMNCNTNC3",1,"RESMNCNTTF3",1,"RESEARTHMK3",1,"RESEARTHTF3",1,"SPECIALRES4","N","RATINGREF3","*","CONNECTION7","C","RMNFRSCODE1",201,"RMNFRSCODE2",242,"RMNFRSCODE3",242,"TRMSNMARKER","N","PROJECT",0,"PROJECTD",0]
[null,null,null,null,null,null,null,null,null,null,null,null,null,null,null,null,null,null,null,null,null,null,null,null,null,null,null,null,null,null,null,null,null,null,null,null,null,null,null,null,null,null,null,null,null,null,null,null,null,null,null,null,null,null,null,null,null,null,null,null,null,null,null,null,null,null,null,null,null,null,null,null,null,null,null,null,{"$f":"BY1/CA1","v":{"$error":"#DIV/0!"}},null,null,null,null,1,"RM1 PLANT DETAILS","RM",{"$f":"$H$9","v":0},{"$f":"M31","v":0},{"$f":"$AF$9","v":0},{"$error":"#REF!"},"RM",{"$f":"TEXT(M22,\"000\")","v":"001"},"SITE_E","AC",{"$error":"#REF!"},"E9999",{"$f":"AS38","v":0},{"$f":"AS41","v":0},"03",null,null,null,null,null,null,null,null,"T4GF3","OPRESTAP","N","MAKER",640,"MAKERSTYP2","T4GF3","COMMDTE","2003-04-03","MANUFDTE","1999-09-09","SITUATION",2,"MOUNTING","T","FAULTRATING",21.9,"VOLTAGE4",4,"CIRCUITNAME2","T1","RMUNITYP1",40,"SERIALNO3","?","EARTH1","E","CURRRATING2",200,"ARCEXT1",6,"MECHMNCNTS1","C","MECHEARCNTS1","D","CIRCUITNAME3","?","RMUNITYP2",20,"SERIALNO4","?","EARTH3","E","CURRRATING3",630,"ARCEXT2",3,"MECHMNCNTS2","D","MECHEARCNTS2","D","INOIL3","Y","CIRCUITNAME4","?","RMUNITYP3",20,"SERIALNO5","?","EARTH4","E","CURRRATING4",630,"ARCEXT3",3,"MECHMNCNTS3","D","MECHEARCNTS3","D","INOIL4","Y","MKRTYPREF4","*","INSULATION3",3,"INSULATION4",3,"COMMONTANK","Y","REPLUNIT","N","SPECIF_N_2","*","MKRORDREF1","*","HOSELEN1",0,"INOIL2","Y","MKRTYPREF2","*","MKR3",null,"RESETMECH1",null,"RESMNCNTBR1",1,"RESMNCNTMK1",1,"RESMNCNTNC1",1,"RESMNCNTTF1",1,"RESEARTHMK1",1,"RESEARTHTF1",1,"SPECIALRES1","N","RATINGREF1","*","CONNECTION10","J","MKRTYPREF3","*","MKR6",null,"RESETMECH2",null,"REMOTECNTRL1",null,"RESMNCNTBR2",1,"RESMNCNTMK2",1,"RESMNCNTNC2",1,"RESMNCNTTF2",1,"RESEARTHMK2",1,"RESEARTHTF2",1,"SPECIALRES3","N","RATINGREF2","*","CONNECTION3","C","MKR7",null,"RESETMECH3",null,"REMOTECNTRL2",null,"RESMNCNTBR3",1,"RESMNCNTMK3",1,"RESMNCNTNC3",1,"RESMNCNTTF3",1,"RESEARTHMK3",1,"RESEARTHTF3",1,"SPECIALRES4","N","RATINGREF3","*","CONNECTION7","C","RMNFRSCODE1",271,"RMNFRSCODE2",242,"RMNFRSCODE3",242,"TRMSNMARKER","N","PROJECT",0,"PROJECTD",0]
[null,null,null,null,null,null,null,null,null,null,null,null,null,null,null,null,null,null,null,null,null,null,null,null,"AREA",null,null,null,{"$f":"SAR!$K$39","v":0},null,null,null,null,null,null,null,null,null,null,"PROJECT DATE",null,null,null,{"$f":"SAR!$K$42","v":"00:00:00"},null,null,null,null,null,null,null,null,null,null,null,null,null,null,null,null,null,null,null,null,null,null,null,null,null,null,null,null,null,null,null,null,null,null,null,null,null,2,"RM2 PLANT DETAILS","RM",{"$f":"$H$9","v":0},{"$f":"#REF!","v":{"$error":"#REF!"}},{"$f":"$AF$9","v":0},{"$error":"#REF!"},"RM",{"$f":"TEXT(#REF!,\"000\")","v":{"$error":"#REF!"}},"SITE_E","AC",{"$error":"#REF!"},"E9999",{"$f":"#REF!","v":{"$error":"#REF!"}},{"$f":"#REF!","v":{"$error":"#REF!"}},"03",null,null,null,null,null,null,null,null,"SPARE","OPRESTAP",null,"MAKER",null,"MAKERSTYP2",null,"COMMDTE",null,"MANUFDTE",null,"SITUATION",null,"MOUNTING",null,"FAULTRATING",null,"VOLTAGE4",null,"CIRCUITNAME2",null,"RMUNITYP1",null,"SERIALNO3",null,"EARTH1",null,"CURRRATING2",null,"ARCEXT1",null,"MECHMNCNTS1",null,"MECHEARCNTS1",null,"CIRCUITNAME3",null,"RMUNITYP2",null,"SERIALNO4",null,"EARTH3",null,"CURRRATING3",null,"ARCEXT2",null,"MECHMNCNTS2",null,"MECHEARCNTS2",null,"INOIL3",null,"CIRCUITNAME4",null,"RMUNITYP3",null,"SERIALNO5",null,"EARTH4",null,"CURRRATING4",null,"ARCEXT3",null,"MECHMNCNTS3",null,"MECHEARCNTS3",null,"INOIL4",null,"MKRTYPREF4",null,"INSULATION3",null,"INSULATION4",null,"COMMONTANK",null,"REPLUNIT",null,"SPECIF_N_2",null,"MKRORDREF1",null,"HOSELEN1",null,"INOIL2",null,"MKRTYPREF2",null,"MKR3",null,"RESETMECH1",null,"RESMNCNTBR1",null,"RESMNCNTMK1",null,"RESMNCNTNC1",null,"RESMNCNTTF1",null,"RESEARTHMK1",null,"RESEARTHTF1",null,"SPECIALRES1",null,"RATINGREF1",null,"CONNECTION10",null,"MKRTYPREF3",null,"MKR6",null,"RESETMECH2",null,"REMOTECNTRL1",null,"RESMNCNTBR2",null,"RESMNCNTMK2",null,"RESMNCNTNC2",null,"RESMNCNTTF2",null,"RESEARTHMK2",null,"RESEARTHTF2",null,"SPECIALRES3",null,"RATINGREF2",null,"CONNECTION3",null,"MKR7",null,"RESETMECH3",null,"REMOTECNTRL2",null,"RESMNCNTBR3",null,"RESMNCNTMK3",null,"RESMNCNTNC3",null,"RESMNCNTTF3",null,"RESEARTHMK3",null,"RESEARTHTF3",null,"SPECIALRES4",null,"RATINGREF3",null,"CONNECTION7",null,"RMNFRSCODE1",null,"RMNFRSCODE2",null,"RMNFRSCODE3",null,"TRMSNMARKER",null,"PROJECT",null,"PROJECTD"]
[null,null,null,null,null,null,null,null,null,null,null,null,null,null,null,null,null,null,null,null,null,null,null,null,null,null,null,null,null,null,null,null,null,null,null,null,null,null,null,null,null,null,null,null,null,null,null,null,null,null,null,null,null,null,null,null,null,null,null,null,null,null,null,null,null,null,null,null,null,null,null,null,null,null,null,null,null,null,null,null,null,null,null,null,null,null,null,null,null,null,null,null,null,null,null,null,null,null,null,null,null,null,null,null,null,"SPARE","OPRESTAP",null,"MAKER",null,"MAKERSTYP2",null,"COMMDTE",null,"MANUFDTE",null,"SITUATION",null,"MOUNTING",null,"FAULTRATING",null,"VOLTAGE4",null,"CIRCUITNAME2",null,"RMUNITYP1",null,"SERIALNO3",null,"EARTH1",null,"CURRRATING2",null,"ARCEXT1",null,"MECHMNCNTS1",null,"MECHEARCNTS1",null,"CIRCUITNAME3",null,"RMUNITYP2",null,"SERIALNO4",null,"EARTH3",null,"CURRRATING3",null,"ARCEXT2",null,"MECHMNCNTS2",null,"MECHEARCNTS2",null,"INOIL3",null,"CIRCUITNAME4",null,"RMUNITYP3",null,"SERIALNO5",null,"EARTH4",null,"CURRRATING4",null,"ARCEXT3",null,"MECHMNCNTS3",null,"MECHEARCNTS3",null,"INOIL4",null,"MKRTYPREF4",null,"INSULATION3",null,"INSULATION4",null,"COMMONTANK",null,"REPLUNIT",null,"SPECIF_N_2",null,"MKRORDREF1",null,"HOSELEN1",null,"INOIL2",null,"MKRTYPREF2",null,"MKR3",null,"RESETMECH1",null,"RESMNCNTBR1",null,"RESMNCNTMK1",null,"RESMNCNTNC1",null,"RESMNCNTTF1",null,"RESEARTHMK1",null,"RESEARTHTF1",null,"SPECIALRES1",null,"RATINGREF1",null,"CONNECTION10",null,"MKRTYPREF3",null,"MKR6",null,"RESETMECH2",null,"REMOTECNTRL1",null,"RESMNCNTBR2",null,"RESMNCNTMK2",null,"RESMNCNTNC2",null,"RESMNCNTTF2",null,"RESEARTHMK2",null,"RESEARTHTF2",null,"SPECIALRES3",null,"RATINGREF2",null,"CONNECTION3",null,"MKR7",null,"RESETMECH3",null,"REMOTECNTRL2",null,"RESMNCNTBR3",null,"RESMNCNTMK3",null,"RESMNCNTNC3",null,"RESMNCNTTF3",null,"RESEARTHMK3",null,"RESEARTHTF3",null,"SPECIALRES4",null,"RATINGREF3",null,"CONNECTION7",null,"RMNFRSCODE1",null,"RMNFRSCODE2",null,"RMNFRSCODE3",null,"TRMSNMARKER",null,"PROJECT",null,"PROJECTD"]
[null,null,null,null,null,null,null,null,null,null,null,null,null,null,null,null,null,null,null,null,null,null,null,null,null,null,null,null,null,null,null,null,null,null,null,null,null,null,null,null,null,null,null,null,null,null,null,null,null,null,null,null,null,null,null,null,null,null,null,null,null,null,null,null,null,null,null,null,null,null,null,null,null,null,null,null,null,null,null,null,null,null,null,null,null,null,null,null,null,null,null,null,null,null,null,null,null,null,null,null,null,null,null,null,null,"SPARE","OPRESTAP",null,"MAKER",null,"MAKERSTYP2",null,"COMMDTE",null,"MANUFDTE",null,"SITUATION",null,"MOUNTING",null,"FAULTRATING",null,"VOLTAGE4",null,"CIRCUITNAME2",null,"RMUNITYP1",null,"SERIALNO3",null,"EARTH1",null,"CURRRATING2",null,"ARCEXT1",null,"MECHMNCNTS1",null,"MECHEARCNTS1",null,"CIRCUITNAME3",null,"RMUNITYP2",null,"SERIALNO4",null,"EARTH3",null,"CURRRATING3",null,"ARCEXT2",null,"MECHMNCNTS2",null,"MECHEARCNTS2",null,"INOIL3",null,"CIRCUITNAME4",null,"RMUNITYP3",null,"SERIALNO5",null,"EARTH4",null,"CURRRATING4",null,"ARCEXT3",null,"MECHMNCNTS3",null,"MECHEARCNTS3",null,"INOIL4",null,"MKRTYPREF4",null,"INSULATION3",null,"INSULATION4",null,"COMMONTANK",null,"REPLUNIT",null,"SPECIF_N_2",null,"MKRORDREF1",null,"HOSELEN1",null,"INOIL2",null,"MKRTYPREF2",null,"MKR3",null,"RESETMECH1",null,"RESMNCNTBR1",null,"RESMNCNTMK1",null,"RESMNCNTNC1",null,"RESMNCNTTF1",null,"RESEARTHMK1",null,"RESEARTHTF1",null,"SPECIALRES1",null,"RATINGREF1",null,"CONNECTION10",null,"MKRTYPREF3",null,"MKR6",null,"RESETMECH2",null,"REMOTECNTRL1",null,"RESMNCNTBR2",null,"RESMNCNTMK2",null,"RESMNCNTNC2",null,"RESMNCNTTF2",null,"RESEARTHMK2",null,"RESEARTHTF2",null,"SPECIALRES3",null,"RATINGREF2",null,"CONNECTION3",null,"MKR7",null,"RESETMECH3",null,"REMOTECNTRL2",null,"RESMNCNTBR3",null,"RESMNCNTMK3",null,"RESMNCNTNC3",null,"RESMNCNTTF3",null,"RESEARTHMK3",null,"RESEARTHTF3",null,"SPECIALRES4",null,"RATINGREF3",null,"CONNECTION7",null,"RMNFRSCODE1",null,"RMNFRSCODE2",null,"RMNFRSCODE3",null,"TRMSNMARKER",null,"PROJECT",null,"PROJECTD"]
[]
[null,"PRIMARY SUBSTATION ",null,null,null,null,{"$f":"SAR!$K$45","v":0},null,null,null,null,null,null,null,null,null,null,null,null,null,null,null,null,null,"DISTRIBUTION SUBSTATION ",null,null,null,null,{"$f":"SAR!$K$30","v":0},null,null,null,null,null,null,null,null,null,null,null,null,null,null,null,null,null,null,null,"PLANT REF",null,null,null,null,{"$f":"SAR!$K$33","v":0},null,null,null,null,null,null,null,null,null,4]
[]
[]
[]
[null,"NON EXTENSIBLE SWITCHGEAR (RING MAIN UNITS) ",null,null,null,null,null,null,null,null,null,null,null,null,null,null,null,null,null,null,null,null,null,null,null,null,null,null,null,null,null,null,null,null,null,null,null,null,null,null,null,null,null,null,null,null,null,null,null,null,null,null,null,null,null,null,null,null,null,null,null,null,null,null,{"$f":"SUM(L17,L25:L42,L45:L53,AR25:AR42,AR45:AR53,BL74)","v":0}]
[]
[null,null,null,null,null,null,null,null,null,null,null,null,null,null,null,null,null,null,null,null,null,null,null,null,null,null,null,null,null,null,null,null,null,null,null,null,null,null,null,null,null,null,null,null,null,null,null,null,null,null,null,null,null,null,null,null,null,null,null,null,null,null,null,null,null,null,"DOC QUICK LINK"]
[]
[null,"COMMISSIONING DRIVER",null,null,null,null,null,null,null,null,null,{"$f":"IF(M17=\"\",0,1)","v":0},null,null,null,null,null,null,null,null,null,null,null,null,null,null,null,null,{"$f":"IFERROR(VLOOKUP(M17,CODES!$A$5:$B$36,2,FALSE),\"\")","v":""},null,null,null,null,"PROJECT CODE",null,null,null,null,null,null,null,null,null,null,{"$f":"SAR!J78","v":""},null,null,null,null,null,null,null,null,null,null,null,null,null,null,null,null,null,null,null,{"$f":"IF(L25+AR25<>0,(IF(L25+AR25=1,10,19)),0)","v":0}]
[]
[]
[]
[]
[null,"RING MAIN UNIT NUMBER",null,null,null,null,null,null,null,null,null,null,1,null,null,null,null,null,null,null,null,null,null,null,null,null,null,null,null,null,null,null,null,"RING MAIN UNIT NUMBER ",null,null,null,null,null,null,null,null,null,null,2]
[]
[null,null,null,null,null,null,null,null,null,null,null,null,null,null,null,null,null,null,null,null,null,null,null,null,null,null,null,null,null,null,null,null,null,null,null,null,null,null,null,null,null,null,null,null,null,null,null,null,null,null,null,null,null,null,null,null,null,null,null,null,null,null,null,null,null,null,"OTHER (PLEASE SPECIFY)"]
[null,"MANUFACTURER",null,null,null,null,null,null,null,null,null,{"$f":"IF(M25=\"\",0,1)","v":0},null,null,null,null,null,null,null,null,null,null,null,null,null,null,null,null,{"$f":"IFERROR(VLOOKUP(M25,CODES!$J$4:$K$21,2,FALSE),\"\")","v":""},null,null,null,null,"MANUFACTURER",null,null,null,null,null,null,null,null,null,{"$f":"IF(AS25=\"\",0,1)","v":0},null,null,null,null,null,null,null,null,null,null,null,null,null,null,null,null,{"$f":"IFERROR(VLOOKUP(AS25,CODES!$J$4:$K$21,2,FALSE),\"\")","v":""}]
[]
[]
[null,"SERIAL NUMBER",null,null,null,null,null,null,null,null,null,{"$f":"IF(M28=\"\",0,1)","v":0},null,null,null,null,null,null,null,null,null,null,null,null,null,null,null,null,null,null,null,null,null,"SERIAL NUMBER",null,null,null,null,null,null,null,null,null,{"$f":"IF(AS28=\"\",0,1)","v":0}]
[]
[]
[null,"TYPE",null,null,null,null,null,null,null,null,null,{"$f":"IF(M31=\"\",0,1)","v":0},null,null,null,null,null,null,null,null,null,null,null,null,null,null,null,null,null,null,null,null,null,"TYPE",null,null,null,null,null,null,null,null,null,{"$f":"IF(AS31=\"\",0,1)","v":0}]
[]
[]
[null,"MANUFACTURED DATE",null,null,null,null,null,null,null,null,null,{"$f":"IF(M34=\"\",0,1)","v":0},null,null,null,null,null,null,null,null,null,null,null,null,null,null,null,null,null,null,null,null,null,"MANUFACTURED DATE",null,null,null,null,null,null,null,null,null,{"$f":"IF(AS34=\"\",0,1)","v":0}]
[]
[]
[null,"SWITCHGEAR SITUATION",null,null,null,null,null,null,null,null,null,{"$f":"IF(M37=\"\",0,1)","v":0},null,null,null,null,null,null,null,null,null,null,null,null,null,null,null,null,{"$f":"IFERROR(VLOOKUP(M37,CODES!$A$51:$B$53,2,FALSE),\"\")","v":""},null,null,null,null,"SWITCHGEAR SITUATION",null,null,null,null,null,null,null,null,null,{"$f":"IF(AS37=\"\",0,1)","v":0},null,null,null,null,null,null,null,null,null,null,null,null,null,null,null,null,{"$f":"IFERROR(VLOOKUP(AS37,CODES!$A$51:$B$53,2,FALSE),\"\")","v":""}]
[]
[]
[null,"SWITCHGEAR MOUNTING",null,null,null,null,null,null,null,null,null,{"$f":"IF(M40=\"\",0,1)","v":0},null,null,null,null,null,null,null,null,null,null,null,null,null,null,null,null,{"$f":"IFERROR(VLOOKUP(M40,CODES!$A$40:$B$47,2,FALSE),\"\")","v":""},null,null,null,null,"SWITCHGEAR MOUNTING",null,null,null,null,null,null,null,null,null,{"$f":"IF(AS40=\"\",0,1)","v":0},null,null,null,null,null,null,null,null,null,null,null,null,null,null,null,null,{"$f":"IFERROR(VLOOKUP(AS40,CODES!$A$40:$B$47,2,FALSE),\"\")","v":""}]
[]
[]
[]
[]
[null,"CIRCUIT BREAKER/FUSE SWITCH\nCIRCUIT NAME",null,null,null,null,null,null,null,null,null,{"$f":"IF(M45=\"\",0,1)","v":0},null,null,null,null,null,null,null,null,null,null,null,null,null,null,null,null,null,null,null,null,null,"CIRCUIT BREAKER / FUSE SWITCH\nCIRCUIT NAME",null,null,null,null,null,null,null,null,null,{"$f":"IF(AS45=\"\",0,1)","v":0}]
[]
[]
[null,"SWITCH 1 CIRCUIT NAME",null,null,null,null,null,null,null,null,null,{"$f":"IF(M48=\"\",0,1)","v":0},null,null,null,null,null,null,null,null,null,null,null,null,null,null,null,null,null,null,null,null,null,"SWITCH 1 CIRCUIT NAME",null,null,null,null,null,null,null,null,null,{"$f":"IF(AS48=\"\",0,1)","v":0}]
[]
[]
[null,"SWITCH 2 CIRCUIT NAME",null,null,null,null,null,null,null,null,null,{"$f":"IF(M51=\"\",0,1)","v":0},null,null,null,null,null,null,null,null,null,null,null,null,null,null,null,null,null,null,null,null,null,"SWITCH 2 CIRCUIT NAME",null,null,null,null,null,null,null,null,null,{"$f":"IF(AS51=\"\",0,1)","v":0}]
[]
[]
[]
[]
[null,"METERING UNIT 1 (IF APPLICABLE)",null,null,null,null,null,null,null,null,null,null,null,null,null,null,null,null,null,null,null,null,null,null,null,null,null,null,null,null,null,null,null,"METERING UNIT 2 (IF APPLICABLE)"]
[]
[]
[]
[null,"MANUFACTURER",null,null,null,null,null,null,null,null,null,{"$f":"IF(M60=\"\",0,1)","v":0},null,null,null,null,null,null,null,null,null,null,null,null,null,null,null,null,{"$f":"IFERROR(VLOOKUP(M60,CODES!$J$4:$K$21,2,FALSE),\"\")","v":""},null,null,null,null,"MANUFACTURER",null,null,null,null,null,null,null,null,null,{"$f":"IF(AS60=\"\",0,1)","v":0},null,null,null,null,null,null,null,null,null,null,null,null,null,null,null,null,{"$f":"IFERROR(VLOOKUP(AS60,CODES!$J$4:$K$21,2,FALSE),\"\")","v":""}]
[]
[]
[null,"METERING TYPE",null,null,null,null,null,null,null,null,null,{"$f":"IF(M63=\"\",0,1)","v":0},null,null,null,null,null,null,null,null,null,null,null,null,null,null,null,null,null,null,null,null,null,"METERING TYPE",null,null,null,null,null,null,null,null,null,{"$f":"IF(AS63=\"\",0,1)","v":0}]
[]
[]
[null,"SERIAL NUMBER",null,null,null,null,null,null,null,null,null,{"$f":"IF(M66=\"\",0,1)","v":0},null,null,null,null,null,null,null,null,null,null,null,null,null,null,null,null,null,null,null,null,null,"SERIAL NUMBER",null,null,null,null,null,null,null,null,null,{"$f":"IF(AS66=\"\",0,1)","v":0}]
[]
[]
[null,"MANUFACTURED DATE",null,null,null,null,null,null,null,null,null,{"$f":"IF(M69=\"\",0,1)","v":0},null,null,null,null,null,null,null,null,null,null,null,null,null,null,null,null,null,null,null,null,null,"MANUFACTURED DATE",null,null,null,null,null,null,null,null,null,{"$f":"IF(AS69=\"\",0,1)","v":0}]
[]
[]
[]
[]
[null,"ADDITIONAL INFORMATION"]

{"sheet":"DOC 5A","index":16,"n_rows":91,"n_cols":105,"rows_kept":91,"cut":false,"hidden":false,"merged":[[39,33,41,42],[39,43,41,43],[39,44,41,62],[85,33,87,42],[85,43,87,43],[85,44,87,62],[39,1,41,10],[39,11,41,11],[39,12,41,30],[85,1,87,10],[85,11,87,11],[85,12,87,30],[82,1,84,10],[82,11,84,11],[82,12,84,30],[82,33,84,42],[82,43,84,43],[82,44,84,62],[73,60,75,62],[76,1,78,10],[76,11,78,11],[76,12,78,30],[76,33,78,42],[76,43,78,43],[79,1,81,10],[79,11,81,11],[79,12,81,30],[79,33,81,42],[79,43,81,43],[79,44,81,62],[76,44,78,59],[76,60,78,62],[0,104,1,104],[2,104,4,104],[5,104,7,104],[62,33,64,42],[62,44,64,62],[44,1,46,62],[58,1,60,63],[58,64,60,64],[61,1,61,63],[62,12,64,27],[62,28,64,30],[44,63,46,63],[30,44,32,59],[30,60,32,62],[16,44,18,62],[36,1,38,10],[90,1,92,62],[102,0,102,64],[47,1,55,62],[93,1,101,62],[67,1,69,10],[67,11,69,11],[67,12,69,30],[67,33,69,42],[67,43,69,43],[70,1,72,10],[70,11,72,11],[70,33,72,42],[70,43,72,43],[73,1,75,10],[73,11,75,11],[73,12,75,27],[73,28,75,30],[73,33,75,42],[73,43,75,43],[73,44,75,59],[90,63,92,63],[62,64,64,64],[62,1,64,10],[62,11,64,11],[16,12,18,27],[16,28,18,30],[24,12,26,27],[24,28,26,30],[24,44,26,59],[24,60,26,62],[27,44,29,59],[27,60,29,62],[36,11,38,11],[36,12,38,30],[36,33,38,42],[36,43,38,43],[36,44,38,62],[30,33,32,42],[33,33,35,42],[27,12,29,27],[27,28,29,30],[33,43,35,43],[33,44,35,62],[21,44,23,59],[27,11,29,11],[30,1,32,10],[30,11,32,11],[30,12,32,30],[33,1,35,10],[33,11,35,11],[33,12,35,30],[21,60,23,62],[21,1,23,10],[21,11,23,11],[21,12,23,30],[24,33,26,42],[24,43,26,43],[27,33,29,42],[27,43,29,43],[21,33,23,42],[21,43,23,43],[16,64,18,64],[3,76,5,79],[0,76,2,77],[0,78,2,79],[7,1,7,63],[8,1,10,5],[8,6,10,22],[8,24,10,28],[8,29,10,47],[8,49,10,53],[8,54,10,63],[1,49,6,51],[1,52,6,63],[8,64,10,64],[4,24,6,27],[4,28,6,38],[4,39,6,42],[4,43,6,47],[1,1,6,11],[1,12,6,22],[1,24,3,27],[1,28,3,38],[1,39,3,42],[1,43,3,47],[67,44,69,59],[67,60,69,62],[70,12,72,27],[70,28,72,30],[70,44,72,59],[70,60,72,62],[14,66,16,78],[23,66,25,78],[27,66,29,70],[27,71,29,78],[30,66,32,70],[30,71,32,78],[33,66,35,70],[33,71,35,78],[30,43,32,43],[12,1,14,63],[12,64,14,64],[15,1,15,63],[16,1,18,10],[16,11,18,11],[16,33,18,42],[24,1,26,10],[24,11,26,11],[27,1,29,10]]}
[null,null,null,null,null,null,null,null,null,null,null,null,null,null,null,null,null,null,null,null,null,null,null,null,null,null,null,null,null,null,null,null,null,null,null,null,null,null,null,null,null,null,null,null,null,null,null,null,null,null,null,null,null,null,null,null,null,null,null,null,null,null,null,null,null,null,null,null,null,null,null,null,null,null,null,null,{"$f":"BM13+BM59","v":0},null,{"$f":"BM17","v":16},null,null,null,null,null,null,null,null,null,null,null,null,null,null,null,null,null,null,null,null,null,null,null,null,null,"PRINT?"]
[null,null,null,null,null,null,null,null,null,null,null,null,"DOC 5A",null,null,null,null,null,null,null,null,null,null,null,"ENGINEER",null,null,null,{"$f":"SAR!$K$13","v":""},null,null,null,null,null,null,null,null,null,null,"VOLTAGE",null,null,null,{"$f":"SAR!$K$36","v":0},null,null,null,null,null,"SATS",null,null,{"$f":"SAR!$BA$2","v":0}]
[null,null,null,null,null,null,null,null,null,null,null,null,null,null,null,null,null,null,null,null,null,null,null,null,null,null,null,null,null,null,null,null,null,null,null,null,null,null,null,null,null,null,null,null,null,null,null,null,null,null,null,null,null,null,null,null,null,null,null,null,null,null,null,null,null,null,null,null,null,null,null,null,null,null,null,null,null,null,null,null,null,null,null,null,null,null,null,null,null,null,null,null,null,null,null,null,null,null,null,null,null,null,null,null,{"$f":"IF(BY1=0,\"\",\"Y\")","v":""}]
[null,null,null,null,null,null,null,null,null,null,null,null,null,null,null,null,null,null,null,null,null,null,null,null,null,null,null,null,null,null,null,null,null,null,null,null,null,null,null,null,null,null,null,null,null,null,null,null,null,null,null,null,null,null,null,null,null,null,null,null,null,null,null,null,null,null,null,null,null,null,null,null,null,null,null,null,{"$f":"BY1/CA1","v":0}]
[null,null,null,null,null,null,null,null,null,null,null,null,null,null,null,null,null,null,null,null,null,null,null,null,"AREA",null,null,null,{"$f":"SAR!$K$39","v":0},null,null,null,null,null,null,null,null,null,null,"PROJECT DATE",null,null,null,{"$f":"SAR!$K$42","v":"00:00:00"}]
[]
[]
[]
[null,"PRIMARY SUBSTATION ",null,null,null,null,{"$f":"SAR!$K$45","v":0},null,null,null,null,null,null,null,null,null,null,null,null,null,null,null,null,null,"DISTRIBUTION SUBSTATION ",null,null,null,null,{"$f":"SAR!$K$30","v":0},null,null,null,null,null,null,null,null,null,null,null,null,null,null,null,null,null,null,null,"PLANT REF",null,null,null,null,{"$f":"SAR!$K$33","v":0},null,null,null,null,null,null,null,null,null,{"$f":"SAR!$AB$36","v":""}]
[]
[]
[]
[null,"DISTRIBUTION TRANSFORMERS TX001",null,null,null,null,null,null,null,null,null,null,null,null,null,null,null,null,null,null,null,null,null,null,null,null,null,null,null,null,null,null,null,null,null,null,null,null,null,null,null,null,null,null,null,null,null,null,null,null,null,null,null,null,null,null,null,null,null,null,null,null,null,null,{"$f":"SUM(L17,L22:L42,AR22:AR42,BL45)","v":0}]
[]
[null,null,null,null,null,null,null,null,null,null,null,null,null,null,null,null,null,null,null,null,null,null,null,null,null,null,null,null,null,null,null,null,null,null,null,null,null,null,null,null,null,null,null,null,null,null,null,null,null,null,null,null,null,null,null,null,null,null,null,null,null,null,null,null,null,null,"DOC QUICK LINK"]
[]
[null,"COMMISSIONING DRIVER",null,null,null,null,null,null,null,null,null,{"$f":"IF(M17=\"\",0,1)","v":0},null,null,null,null,null,null,null,null,null,null,null,null,null,null,null,null,{"$f":"IFERROR(VLOOKUP(M17,CODES!A$5:B$36,2,FALSE),\"\")","v":""},null,null,null,null,"PROJECT CODE",null,null,null,null,null,null,null,null,null,null,{"$f":"SAR!J78","v":""},null,null,null,null,null,null,null,null,null,null,null,null,null,null,null,null,null,null,null,{"$f":"IF(L25+L71>1,29,16)","v":16}]
[]
[]
[]
[]
[null,"TRANSFORMER UNIT I.D.",null,null,null,null,null,null,null,null,null,{"$f":"IF(M22=\"\",0,1)","v":0},null,null,null,null,null,null,null,null,null,null,null,null,null,null,null,null,null,null,null,null,null,"NOMINAL RATING (KVA)",null,null,null,null,null,null,null,null,null,{"$f":"IF(AS22=\"\",0,1)","v":0},null,null,null,null,null,null,null,null,null,null,null,null,null,null,null,null,{"$f":"AS22/1000","v":0}]
[]
[null,null,null,null,null,null,null,null,null,null,null,null,null,null,null,null,null,null,null,null,null,null,null,null,null,null,null,null,null,null,null,null,null,null,null,null,null,null,null,null,null,null,null,null,null,null,null,null,null,null,null,null,null,null,null,null,null,null,null,null,null,null,null,null,null,null,"OTHER (PLEASE SPECIFY)"]
[null,"TRANSFORMER FUNCTION",null,null,null,null,null,null,null,null,null,{"$f":"IF(M25=\"\",0,1)","v":0},null,null,null,null,null,null,null,null,null,null,null,null,null,null,null,null,{"$f":"IFERROR(VLOOKUP(M25,CODES!M$6:N$13,2,FALSE),\"\")","v":""},null,null,null,null,"TRANSFORMER MOUNTING",null,null,null,null,null,null,null,null,null,{"$f":"IF(AS25=\"\",0,1)","v":0},null,null,null,null,null,null,null,null,null,null,null,null,null,null,null,null,{"$f":"IFERROR(VLOOKUP(AS25,CODES!A$41:B$47,2,FALSE),\"\")","v":""}]
[]
[]
[null,"MANUFACTURER",null,null,null,null,null,null,null,null,null,{"$f":"IF(M28=\"\",0,1)","v":0},null,null,null,null,null,null,null,null,null,null,null,null,null,null,null,null,{"$f":"IFERROR(VLOOKUP(M28,CODES!M$16:N$134,2,FALSE),\"\")","v":""},null,null,null,null,"TRANSFORMER SITUATION",null,null,null,null,null,null,null,null,null,{"$f":"IF(AS28=\"\",0,1)","v":0},null,null,null,null,null,null,null,null,null,null,null,null,null,null,null,null,{"$f":"IFERROR(VLOOKUP(AS28,CODES!$A$51:$B$53,2,FALSE),\"\")","v":""}]
[]
[]
[null,"SERIAL NUMBER",null,null,null,null,null,null,null,null,null,{"$f":"IF(M31=\"\",0,1)","v":0},null,null,null,null,null,null,null,null,null,null,null,null,null,null,null,null,null,null,null,null,null,"COOLER SITUATION",null,null,null,null,null,null,null,null,null,{"$f":"IF(AS31=\"\",0,1)","v":0},null,null,null,null,null,null,null,null,null,null,null,null,null,null,null,null,{"$f":"IFERROR(VLOOKUP(AS31,CODES!$A$51:$B$53,2,FALSE),\"\")","v":""}]
[]
[]
[null,"MANUFACTURED DATE ",null,null,null,null,null,null,null,null,null,{"$f":"IF(M34=\"\",0,1)","v":0},null,null,null,null,null,null,null,null,null,null,null,null,null,null,null,null,null,null,null,null,null,"PRIMARY PHASING \n(E.G. RYB)",null,null,null,null,null,null,null,null,null,{"$f":"IF(AS34=\"\",0,1)","v":0}]
[]
[]
[null,"TAP POSITION IN USE",null,null,null,null,null,null,null,null,null,{"$f":"IF(M37=\"\",0,1)","v":0},null,null,null,null,null,null,null,null,null,null,null,null,null,null,null,null,null,null,null,null,null,"SECONDARY PHASING \n(E.G. RYB)",null,null,null,null,null,null,null,null,null,{"$f":"IF(AS37=\"\",0,1)","v":0}]
[]
[]
[null,"LV BACKFED",null,null,null,null,null,null,null,null,null,{"$f":"IF(M40=\"\",0,1)","v":0},null,null,null,null,null,null,null,null,null,null,null,null,null,null,null,null,null,null,null,null,null,"CONNECTION TYPE",null,null,null,null,null,null,null,null,null,{"$f":"IF(AS40=\"\",0,1)","v":0}]
[]
[]
[]
[]
[null,"ADDITIONAL INFORMATION",null,null,null,null,null,null,null,null,null,null,null,null,null,null,null,null,null,null,null,null,null,null,null,null,null,null,null,null,null,null,null,null,null,null,null,null,null,null,null,null,null,null,null,null,null,null,null,null,null,null,null,null,null,null,null,null,null,null,null,null,null,{"$f":"IF(B48=\"\",0,1)","v":0}]
[]
[]
[]
[]
[]
[]
[]
[]
[]
[]
[]
[]
[]
[null,"DISTRIBUTION TRANSFORMERS TX002",null,null,null,null,null,null,null,null,null,null,null,null,null,null,null,null,null,null,null,null,null,null,null,null,null,null,null,null,null,null,null,null,null,null,null,null,null,null,null,null,null,null,null,null,null,null,null,null,null,null,null,null,null,null,null,null,null,null,null,null,null,null,{"$f":"SUM(L63,L68:L88,AR68:AR88,BL91)","v":0}]
[]
[]
[]
[null,"COMMISSIONING DRIVER",null,null,null,null,null,null,null,null,null,{"$f":"IF(M63=\"\",0,1)","v":0},null,null,null,null,null,null,null,null,null,null,null,null,null,null,null,null,{"$f":"IFERROR(VLOOKUP(M63,CODES!A$5:B$36,2,FALSE),\"\")","v":""},null,null,null,null,"PROJECT CODE"]
[]
[]
[]
[]
[null,"TRANSFORMER UNIT I.D.",null,null,null,null,null,null,null,null,null,{"$f":"IF(M68=\"\",0,1)","v":0},null,null,null,null,null,null,null,null,null,null,null,null,null,null,null,null,null,null,null,null,null,"NOMINAL RATING (KVA)",null,null,null,null,null,null,null,null,null,{"$f":"IF(AS68=\"\",0,1)","v":0},null,null,null,null,null,null,null,null,null,null,null,null,null,null,null,null,{"$f":"AS68/1000","v":0}]
[]
[]
[null,"TRANSFORMER FUNCTION",null,null,null,null,null,null,null,null,null,{"$f":"IF(M71=\"\",0,1)","v":0},null,null,null,null,null,null,null,null,null,null,null,null,null,null,null,null,{"$f":"IFERROR(VLOOKUP(M71,CODES!M$6:N$13,2,FALSE),\"\")","v":""},null,null,null,null,"TRANSFORMER MOUNTING",null,null,null,null,null,null,null,null,null,{"$f":"IF(AS71=\"\",0,1)","v":0},null,null,null,null,null,null,null,null,null,null,null,null,null,null,null,null,{"$f":"IFERROR(VLOOKUP(AS71,CODES!A$41:B$47,2,FALSE),\"\")","v":""}]
[]
[]
[null,"MANUFACTURER",null,null,null,null,null,null,null,null,null,{"$f":"IF(M74=\"\",0,1)","v":0},null,null,null,null,null,null,null,null,null,null,null,null,null,null,null,null,{"$f":"IFERROR(VLOOKUP(M74,CODES!M$16:N$134,2,FALSE),\"\")","v":""},null,null,null,null,"TRANSFORMER SITUATION",null,null,null,null,null,null,null,null,null,{"$f":"IF(AS74=\"\",0,1)","v":0},null,null,null,null,null,null,null,null,null,null,null,null,null,null,null,null,{"$f":"IFERROR(VLOOKUP(AS74,CODES!$A$51:$B$53,2,FALSE),\"\")","v":""}]
[]
[]
[null,"SERIAL NUMBER",null,null,null,null,null,null,null,null,null,{"$f":"IF(M77=\"\",0,1)","v":0},null,null,null,null,null,null,null,null,null,null,null,null,null,null,null,null,null,null,null,null,null,"COOLER SITUATION",null,null,null,null,null,null,null,null,null,{"$f":"IF(AS77=\"\",0,1)","v":0},null,null,null,null,null,null,null,null,null,null,null,null,null,null,null,null,{"$f":"IFERROR(VLOOKUP(AS77,CODES!$A$51:$B$53,2,FALSE),\"\")","v":""}]
[]
[]
[null,"MANUFACTURED DATE ",null,null,null,null,null,null,null,null,null,{"$f":"IF(M80=\"\",0,1)","v":0},null,null,null,null,null,null,null,null,null,null,null,null,null,null,null,null,null,null,null,null,null,"PRIMARY PHASING \n(E.G. RYB)",null,null,null,null,null,null,null,null,null,{"$f":"IF(AS80=\"\",0,1)","v":0}]
[]
[]
[null,"TAP POSITION IN USE",null,null,null,null,null,null,null,null,null,{"$f":"IF(M83=\"\",0,1)","v":0},null,null,null,null,null,null,null,null,null,null,null,null,null,null,null,null,null,null,null,null,null,"SECONDARY PHASING \n(E.G. RYB)",null,null,null,null,null,null,null,null,null,{"$f":"IF(AS83=\"\",0,1)","v":0}]
[]
[]
[null,null,null,null,null,null,null,null,null,null,null,{"$f":"IF(M86=\"\",0,1)","v":0},null,null,null,null,null,null,null,null,null,null,null,null,null,null,null,null,null,null,null,null,null,"CONNECTION TYPE",null,null,null,null,null,null,null,null,null,{"$f":"IF(AS86=\"\",0,1)","v":0}]
[]
[]
[]
[]
[null,"ADDITIONAL INFORMATION",null,null,null,null,null,null,null,null,null,null,null,null,null,null,null,null,null,null,null,null,null,null,null,null,null,null,null,null,null,null,null,null,null,null,null,null,null,null,null,null,null,null,null,null,null,null,null,null,null,null,null,null,null,null,null,null,null,null,null,null,null,{"$f":"IF(B94=\"\",0,1)","v":0}]

{"sheet":"DOC 5B","index":17,"n_rows":51,"n_cols":105,"rows_kept":51,"cut":false,"hidden":false,"merged":[[42,12,44,27],[42,28,44,30],[36,12,38,30],[8,64,10,64],[16,64,18,64],[39,12,41,27],[16,28,18,30],[21,33,23,42],[21,43,23,43],[8,6,10,22],[8,24,10,28],[8,29,10,47],[8,49,10,53],[8,54,10,63],[15,1,15,63],[21,1,23,10],[0,104,1,104],[2,104,4,104],[5,104,7,104],[39,28,41,30],[7,1,7,63],[1,1,6,11],[1,12,6,22],[24,1,26,10],[24,11,26,11],[30,12,32,30],[27,12,29,30],[24,12,26,27],[24,28,26,30],[8,1,10,5],[21,44,23,62],[16,12,18,27],[74,0,74,64],[50,1,52,63],[53,1,73,63],[45,1,47,10],[45,11,47,11],[45,12,47,27],[45,28,47,30],[50,64,52,64],[42,11,44,11],[39,1,41,10],[39,11,41,11],[42,1,44,10],[27,1,29,10],[27,11,29,11],[36,1,38,10],[36,11,38,11],[33,11,35,11],[33,1,35,10],[30,1,32,10],[30,11,32,11],[21,11,23,11],[16,1,18,10],[16,11,18,11],[1,24,3,27],[1,28,3,38],[4,24,6,27],[4,28,6,38],[16,33,18,42],[21,12,23,30],[1,39,3,42],[0,92,2,92],[0,93,2,93],[1,49,6,51],[1,52,6,63],[4,39,6,42],[4,43,6,47],[0,76,2,77],[0,78,2,79],[0,94,2,94],[12,1,14,63],[12,64,14,64],[0,90,2,90],[0,91,2,91],[0,86,2,86],[0,87,2,87],[0,88,2,88],[0,89,2,89],[0,85,2,85],[0,81,2,81],[0,82,2,82],[0,83,2,83],[0,84,2,84],[3,76,5,79],[1,43,3,47],[33,28,35,30],[33,12,35,27],[16,44,18,62],[33,66,35,70],[33,71,35,78],[14,66,16,78],[23,66,25,78],[27,66,29,70],[27,71,29,78],[30,66,32,70],[30,71,32,78]]}
[null,null,null,null,null,null,null,null,null,null,null,null,null,null,null,null,null,null,null,null,null,null,null,null,null,null,null,null,null,null,null,null,null,null,null,null,null,null,null,null,null,null,null,null,null,null,null,null,null,null,null,null,null,null,null,null,null,null,null,null,null,null,null,null,null,null,null,null,null,null,null,null,null,null,null,null,{"$f":"BM13","v":0},null,{"$f":"BM17","v":0},null,null,"EQUIPMENT CLASS","EQUIPNOD1","EQUIPNOD2","PLANTCODE0","PLANTCODE1","PLANTCODE2","PLANTCODE3","EQUIPGRPID","EQUIPSTATUS","PARENTEQUIPREF","ACCOUNTCODE","EQUIPCLASSIF2","EQUIPCLASSIF3","EQUIPCLASSIF17",null,null,null,null,null,null,null,null,null,"PRINT?"]
[null,null,null,null,null,null,null,null,null,null,null,null,"DOC05B",null,null,null,null,null,null,null,null,null,null,null,"ENGINEER",null,null,null,{"$f":"SAR!$K$13","v":""},null,null,null,null,null,null,null,null,null,null,"VOLTAGE",null,null,null,{"$f":"SAR!$K$36","v":0},null,null,null,null,null,"SATS",null,null,{"$f":"SAR!$BA$2","v":0}]
[null,null,null,null,null,null,null,null,null,null,null,null,null,null,null,null,null,null,null,null,null,null,null,null,null,null,null,null,null,null,null,null,null,null,null,null,null,null,null,null,null,null,null,null,null,null,null,null,null,null,null,null,null,null,null,null,null,null,null,null,null,null,null,null,null,null,null,null,null,null,null,null,null,null,null,null,null,null,null,null,null,null,null,null,null,null,null,null,null,null,null,null,null,null,null,null,null,null,null,null,null,null,null,null,{"$f":"IF(BY1=0,\"\",\"Y\")","v":""}]
[null,null,null,null,null,null,null,null,null,null,null,null,null,null,null,null,null,null,null,null,null,null,null,null,null,null,null,null,null,null,null,null,null,null,null,null,null,null,null,null,null,null,null,null,null,null,null,null,null,null,null,null,null,null,null,null,null,null,null,null,null,null,null,null,null,null,null,null,null,null,null,null,null,null,null,null,{"$f":"BY1/CA1","v":{"$error":"#DIV/0!"}},null,null,null,null,"TX",{"$f":"$H$9","v":0},{"$f":"L25","v":0},{"$f":"$AF$9","v":0},{"$f":"SAR!#REF!","v":{"$error":"#REF!"}},"TX",{"$f":"TEXT(M22,\"000\")","v":"000"},"SITE_E","AC",{"$f":"'DOC 2A'!#REF!","v":{"$error":"#REF!"}},"E9999",{"$f":"DS53","v":0},{"$f":"DU53","v":0},"03"]
[null,null,null,null,null,null,null,null,null,null,null,null,null,null,null,null,null,null,null,null,null,null,null,null,"AREA",null,null,null,{"$f":"SAR!$K$39","v":0},null,null,null,null,null,null,null,null,null,null,"PROJECT DATE",null,null,null,{"$f":"SAR!$K$42","v":"00:00:00"},null,null,null,null,null,null,null,null,null,null,null,null,null,null,null,null,null,null,null,null,null,null,null,null,null,null,null,null,null,null,null,null,null,null,null,null,null,"TX",{"$f":"$H$9","v":0},{"$f":"#REF!","v":{"$error":"#REF!"}},{"$f":"$AF$9","v":0},{"$f":"SAR!#REF!","v":{"$error":"#REF!"}},"TX",{"$f":"TEXT(#REF!,\"000\")","v":{"$error":"#REF!"}},"SITE_E","AC",{"$f":"'DOC 2A'!#REF!","v":{"$error":"#REF!"}},"E9999",{"$f":"DS56","v":0},{"$f":"DU56","v":0},"03"]
[]
[]
[]
[null,"PRIMARY SUBSTATION ",null,null,null,null,{"$f":"SAR!$K$45","v":0},null,null,null,null,null,null,null,null,null,null,null,null,null,null,null,null,null,"DISTRIBUTION SUBSTATION ",null,null,null,null,{"$f":"SAR!$K$30","v":0},null,null,null,null,null,null,null,null,null,null,null,null,null,null,null,null,null,null,null,"PLANT REF",null,null,null,null,{"$f":"SAR!$K$33","v":0},null,null,null,null,null,null,null,null,null,{"$f":"SAR!$AB$36","v":""}]
[]
[]
[]
[null,"VOLTAGE TRANSFORMERS",null,null,null,null,null,null,null,null,null,null,null,null,null,null,null,null,null,null,null,null,null,null,null,null,null,null,null,null,null,null,null,null,null,null,null,null,null,null,null,null,null,null,null,null,null,null,null,null,null,null,null,null,null,null,null,null,null,null,null,null,null,null,{"$f":"L17+L22+L25+L28+L31+L34+L37+L40+L43+L46+AR22+BM51","v":0}]
[]
[null,null,null,null,null,null,null,null,null,null,null,null,null,null,null,null,null,null,null,null,null,null,null,null,null,null,null,null,null,null,null,null,null,null,null,null,null,null,null,null,null,null,null,null,null,null,null,null,null,null,null,null,null,null,null,null,null,null,null,null,null,null,null,null,null,null,"DOC QUICK LINK"]
[]
[null,"COMMISSIONING DRIVER",null,null,null,null,null,null,null,null,null,{"$f":"IF(M17=\"\",0,1)","v":0},null,null,null,null,null,null,null,null,null,null,null,null,null,null,null,null,{"$f":"IFERROR(VLOOKUP(M17,CODES!$A$5:$B$36,2,FALSE),\"\")","v":""},null,null,null,null,"PROJECT CODE",null,null,null,null,null,null,null,null,null,null,{"$f":"SAR!J78","v":""},null,null,null,null,null,null,null,null,null,null,null,null,null,null,null,null,null,null,null,{"$f":"IF(BM13>0,12,0)","v":0}]
[]
[]
[]
[]
[null,"VT MODEL NAME",null,null,null,null,null,null,null,null,null,{"$f":"IF(M22=\"\",0,1)","v":0},null,null,null,null,null,null,null,null,null,null,null,null,null,null,null,null,null,null,null,null,null,"POLE",null,null,null,null,null,null,null,null,null,{"$f":"IF(AS22=\"\",0,1)","v":0}]
[]
[null,null,null,null,null,null,null,null,null,null,null,null,null,null,null,null,null,null,null,null,null,null,null,null,null,null,null,null,null,null,null,null,null,null,null,null,null,null,null,null,null,null,null,null,null,null,null,null,null,null,null,null,null,null,null,null,null,null,null,null,null,null,null,null,null,null,"OTHER (PLEASE SPECIFY)"]
[null,"MANUFACTURER",null,null,null,null,null,null,null,null,null,{"$f":"IF(M25=\"\",0,1)","v":0},null,null,null,null,null,null,null,null,null,null,null,null,null,null,null,null,{"$f":"IFERROR(VLOOKUP(M25,CODES!M$16:N$134,2,FALSE),\"\")","v":""}]
[]
[]
[null,"SERIAL NUMBER",null,null,null,null,null,null,null,null,null,{"$f":"IF(M28=\"\",0,1)","v":0}]
[]
[]
[null,"MANUFACTURED DATE ",null,null,null,null,null,null,null,null,null,{"$f":"IF(M31=\"\",0,1)","v":0}]
[]
[]
[null,"VT CONSTRUCTION TYPE",null,null,null,null,null,null,null,null,null,{"$f":"IF(M34=\"\",0,1)","v":0},null,null,null,null,null,null,null,null,null,null,null,null,null,null,null,null,{"$f":"IFERROR(VLOOKUP(M34,CODES!P$12:Q$13,2,FALSE),\"\")","v":""}]
[]
[]
[null,"NOMINAL RATING (VA)",null,null,null,null,null,null,null,null,null,{"$f":"IF(M37=\"\",0,1)","v":0}]
[]
[]
[null,"VT MOUNTING",null,null,null,null,null,null,null,null,null,{"$f":"IF(M40=\"\",0,1)","v":0},null,null,null,null,null,null,null,null,null,null,null,null,null,null,null,null,{"$f":"IFERROR(VLOOKUP(M40,CODES!A$40:B$47,2,FALSE),\"\")","v":""}]
[]
[]
[null,"VT SITUATION",null,null,null,null,null,null,null,null,null,{"$f":"IF(M43=\"\",0,1)","v":0},null,null,null,null,null,null,null,null,null,null,null,null,null,null,null,null,{"$f":"IFERROR(VLOOKUP(M43,CODES!$A$51:$B$53,2,FALSE),\"\")","v":""}]
[]
[]
[null,"VT SPECIFICATION",null,null,null,null,null,null,null,null,null,{"$f":"IF(M46=\"\",0,1)","v":0},null,null,null,null,null,null,null,null,null,null,null,null,null,null,null,null,{"$f":"IFERROR(VLOOKUP(M46,CODES!$M$192:$N$214,2,FALSE),\"\")","v":""}]
[]
[]
[]
[]
[null,"ADDITIONAL INFORMATION",null,null,null,null,null,null,null,null,null,null,null,null,null,null,null,null,null,null,null,null,null,null,null,null,null,null,null,null,null,null,null,null,null,null,null,null,null,null,null,null,null,null,null,null,null,null,null,null,null,null,null,null,null,null,null,null,null,null,null,null,null,null,{"$f":"IF(B54=\"\",0,1)","v":0}]

{"sheet":"DOC 6A","index":18,"n_rows":69,"n_cols":121,"rows_kept":69,"cut":false,"hidden":false,"merged":[[0,79,2,80],[7,1,7,64],[8,1,10,5],[8,6,10,22],[42,34,44,37],[63,34,65,37],[60,57,62,58],[51,38,53,54],[54,38,56,54],[54,55,56,56],[16,1,18,10],[16,11,18,11],[12,65,14,65],[16,45,18,64],[12,1,14,31],[16,12,18,27],[16,28,18,30],[8,29,10,48],[8,50,10,54],[8,55,10,64],[1,50,6,52],[1,53,6,64],[4,24,6,27],[4,28,6,39],[0,104,1,104],[2,104,4,104],[5,104,7,104],[33,34,35,37],[36,34,38,37],[39,34,41,37],[42,38,44,54],[42,55,44,56],[45,38,47,54],[45,55,47,56],[3,77,5,80],[16,65,18,65],[36,63,38,64],[36,61,38,62],[36,59,38,60],[36,57,38,58],[33,63,35,64],[33,61,35,62],[0,77,2,78],[1,40,3,43],[1,44,3,48],[8,65,10,65],[16,34,18,43],[12,34,14,64],[21,1,23,10],[21,11,23,11],[21,12,23,30],[30,1,32,10],[30,11,32,11],[4,40,6,43],[4,44,6,48],[8,24,10,28],[24,1,26,10],[24,11,26,11],[24,12,26,27],[24,28,26,30],[1,1,6,11],[1,12,6,22],[1,24,3,27],[1,28,3,39],[30,12,32,30],[27,1,29,10],[30,33,32,33],[27,11,29,11],[27,12,29,30],[21,61,27,62],[21,57,27,58],[21,65,23,65],[28,61,29,62],[28,57,29,58],[21,59,29,60],[21,63,29,64],[21,34,29,37],[30,34,32,37],[30,57,32,58],[30,59,32,60],[30,61,32,62],[30,63,32,64],[30,65,32,65],[42,11,44,11],[48,11,50,11],[42,12,44,27],[42,28,44,30],[45,12,47,27],[45,28,47,30],[48,12,50,27],[48,28,50,30],[33,1,35,10],[33,11,35,11],[79,67,81,67],[75,66,77,66],[76,67,78,67],[45,57,47,58],[54,33,56,33],[57,33,59,33],[60,33,62,33],[63,33,65,33],[60,59,62,60],[63,57,65,58],[63,59,65,60],[63,61,65,62],[63,63,65,64],[51,57,53,58],[51,59,53,60],[45,59,47,60],[48,33,50,33],[51,33,53,33],[45,34,47,37],[48,34,50,37],[51,34,53,37],[54,34,56,37],[57,34,59,37],[60,34,62,37],[73,67,75,67],[57,59,59,60],[57,57,59,58],[57,63,59,64],[57,61,59,62],[57,65,59,65],[60,65,62,65],[63,65,65,65],[60,38,62,54],[60,55,62,56],[63,38,65,54],[63,55,65,56],[60,63,62,64],[68,1,70,64],[71,1,86,64],[60,61,62,62],[68,65,70,65],[57,38,59,54],[57,55,59,56],[84,66,87,66],[85,67,88,67],[81,66,83,66],[82,67,84,67],[78,66,80,66],[48,65,50,65],[51,65,53,65],[39,65,41,65],[36,65,38,65],[87,0,87,65],[33,12,35,27],[33,28,35,30],[45,33,47,33],[45,1,47,10],[45,11,47,11],[42,33,44,33],[39,33,41,33],[36,33,38,33],[48,1,50,10],[39,1,41,10],[39,11,41,11],[39,12,41,30],[36,1,38,10],[36,11,38,11],[36,12,38,27],[39,38,41,54],[33,33,35,33],[36,28,38,30],[42,1,44,10],[39,55,41,56],[48,38,50,54],[48,55,50,56],[51,55,53,56],[14,67,16,79],[23,67,25,79],[27,67,29,71],[27,72,29,79],[30,67,32,71],[30,72,32,79],[33,67,35,71],[33,72,35,79],[21,55,27,56],[28,55,29,56],[21,38,29,54],[30,38,32,54],[30,55,32,56],[33,38,35,54],[33,55,35,56],[36,38,38,54],[36,55,38,56],[42,59,44,60],[25,65,27,65],[42,61,44,62],[54,65,56,65],[39,63,41,64],[33,59,35,60],[39,57,41,58],[39,59,41,60],[39,61,41,62],[48,63,50,64],[54,59,56,60],[54,61,56,62],[54,63,56,64],[51,61,53,62],[51,63,53,64],[42,63,44,64],[54,57,56,58],[45,61,47,62],[45,63,47,64],[48,57,50,58],[48,59,50,60],[48,61,50,62],[42,57,44,58],[33,57,35,58],[33,65,35,65],[42,65,44,65],[45,65,47,65]]}
[null,null,null,null,null,null,null,null,null,null,null,null,null,null,null,null,null,null,null,null,null,null,null,null,null,null,null,null,null,null,null,null,null,null,null,null,null,null,null,null,null,null,null,null,null,null,null,null,null,null,null,null,null,null,null,null,null,null,null,null,null,null,null,null,null,null,null,null,null,null,null,null,null,null,null,null,null,{"$f":"BN17","v":0},null,{"$f":"BN13","v":0},null,null,null,null,null,null,null,null,null,null,null,null,null,null,null,null,null,null,null,null,null,null,null,null,"PRINT?",null,null,"EQUIPMENT CLASS","EQUIPNOD1","EQUIPNOD2","PLANTCODE0","PLANTCODE1","PLANTCODE2","PLANTCODE3","EQUIPGRPID","EQUIPSTATUS","PARENTEQUIPREF","ACCOUNTCODE","EQUIPCLASSIF2","EQUIPCLASSIF3","EQUIPCLASSIF17"]
[null,null,null,null,null,null,null,null,null,null,null,null,"DOC 6A",null,null,null,null,null,null,null,null,null,null,null,"ENGINEER",null,null,null,{"$f":"SAR!$K$13","v":""},null,null,null,null,null,null,null,null,null,null,null,"VOLTAGE",null,null,null,{"$f":"SAR!$K$36","v":0},null,null,null,null,null,"SATS",null,null,{"$f":"SAR!$BA$2","v":0}]
[null,null,null,null,null,null,null,null,null,null,null,null,null,null,null,null,null,null,null,null,null,null,null,null,null,null,null,null,null,null,null,null,null,null,null,null,null,null,null,null,null,null,null,null,null,null,null,null,null,null,null,null,null,null,null,null,null,null,null,null,null,null,null,null,null,null,null,null,null,null,null,null,null,null,null,null,null,null,null,null,null,null,null,null,null,null,null,null,null,null,null,null,null,null,null,null,null,null,null,null,null,null,null,null,{"$f":"IF(BZ1=0,\"\",\"Y\")","v":""}]
[null,null,null,null,null,null,null,null,null,null,null,null,null,null,null,null,null,null,null,null,null,null,null,null,null,null,null,null,null,null,null,null,null,null,null,null,null,null,null,null,null,null,null,null,null,null,null,null,null,null,null,null,null,null,null,null,null,null,null,null,null,null,null,null,null,null,null,null,null,null,null,null,null,null,null,null,null,{"$f":"BZ1/CB1","v":{"$error":"#DIV/0!"}},null,null,null,null,null,null,null,null,null,null,null,null,null,null,null,null,null,null,null,null,null,null,null,null,null,null,null,1,"BOARD/CAB 1 PLANT DETAILS","LD",{"$f":"$H$9","v":0},null,{"$f":"$AF$9","v":0},1,"LD",{"$f":"TEXT(M22,\"000\")","v":"000"},"SITE_E","AC",{"$f":"'DOC 2A'!#REF!","v":{"$error":"#REF!"}},"E9999",1,1,"03"]
[null,null,null,null,null,null,null,null,null,null,null,null,null,null,null,null,null,null,null,null,null,null,null,null,"AREA",null,null,null,{"$f":"SAR!$K$39","v":0},null,null,null,null,null,null,null,null,null,null,null,"PROJECT DATE",null,null,null,{"$f":"SAR!$K$42","v":"00:00:00"},null,null,null,null,null,null,null,null,null,null,null,null,null,null,null,null,null,null,null,null,null,null,null,null,null,null,null,null,null,null,null,null,null,null,null,null,null,null,null,null,null,null,null,null,null,null,null,null,null,null,null,null,null,null,null,null,null,null,null,null,1,"WAY001","LC",{"$f":"$H$9","v":0},{"$f":"D61","v":0},{"$f":"$AF$9","v":0},1,"LC",{"$f":"TEXT(B61,\"000\")","v":"000"},"SITE_E","AC",{"$f":"CONCATENATE($DG$4,$DH$4,$DI$4,$DJ$4)","v":"01LD000"},"E9999",1,1,"03"]
[null,null,null,null,null,null,null,null,null,null,null,null,null,null,null,null,null,null,null,null,null,null,null,null,null,null,null,null,null,null,null,null,null,null,null,null,null,null,null,null,null,null,null,null,null,null,null,null,null,null,null,null,null,null,null,null,null,null,null,null,null,null,null,null,null,null,null,null,null,null,null,null,null,null,null,null,null,null,null,null,null,null,null,null,null,null,null,null,null,null,null,null,null,null,null,null,null,null,null,null,null,null,null,null,null,2,"WAY002","LC",{"$f":"$H$9","v":0},{"$f":"D64","v":0},{"$f":"$AF$9","v":0},2,"LC",{"$f":"TEXT(B64,\"000\")","v":"000"},"SITE_E","AC","01LD000","E9999",1,1,"03"]
[null,null,null,null,null,null,null,null,null,null,null,null,null,null,null,null,null,null,null,null,null,null,null,null,null,null,null,null,null,null,null,null,null,null,null,null,null,null,null,null,null,null,null,null,null,null,null,null,null,null,null,null,null,null,null,null,null,null,null,null,null,null,null,null,null,null,null,null,null,null,null,null,null,null,null,null,null,null,null,null,null,null,null,null,null,null,null,null,null,null,null,null,null,null,null,null,null,null,null,null,null,null,null,null,null,3,"WAY003","LC",0,{"$f":"D68","v":0},0,3,"LC",{"$f":"TEXT(B68,\"000\")","v":"000"},"SITE_E","AC","01LD000","E9999",1,1,"03"]
[null,null,null,null,null,null,null,null,null,null,null,null,null,null,null,null,null,null,null,null,null,null,null,null,null,null,null,null,null,null,null,null,null,null,null,null,null,null,null,null,null,null,null,null,null,null,null,null,null,null,null,null,null,null,null,null,null,null,null,null,null,null,null,null,null,null,null,null,null,null,null,null,null,null,null,null,null,null,null,null,null,null,null,null,null,null,null,null,null,null,null,null,null,null,null,null,null,null,null,null,null,null,null,null,null,4,"WAY004","LC",0,{"$f":"#REF!","v":{"$error":"#REF!"}},0,4,"LC",{"$f":"TEXT(#REF!,\"000\")","v":{"$error":"#REF!"}},"SITE_E","AC","01LD000","E9999",1,1,"03"]
[null,"PRIMARY SUBSTATION ",null,null,null,null,{"$f":"SAR!$K$45","v":0},null,null,null,null,null,null,null,null,null,null,null,null,null,null,null,null,null,"DISTRIBUTION SUBSTATION ",null,null,null,null,{"$f":"SAR!$K$30","v":0},null,null,null,null,null,null,null,null,null,null,null,null,null,null,null,null,null,null,null,null,"PLANT REF",null,null,null,null,{"$f":"SAR!$K$33","v":0},null,null,null,null,null,null,null,null,null,null,null,null,null,null,null,null,null,null,null,null,null,null,null,null,null,null,null,null,null,null,null,null,null,null,null,null,null,null,null,null,null,null,null,null,null,null,null,null,null,5,"WAY005","LC",0,{"$f":"D75","v":0},0,5,"LC",{"$f":"TEXT(B75,\"000\")","v":"000"},"SITE_E","AC","01LD000","E9999",1,1,"03"]
[null,null,null,null,null,null,null,null,null,null,null,null,null,null,null,null,null,null,null,null,null,null,null,null,null,null,null,null,null,null,null,null,null,null,null,null,null,null,null,null,null,null,null,null,null,null,null,null,null,null,null,null,null,null,null,null,null,null,null,null,null,null,null,null,null,null,null,null,null,null,null,null,null,null,null,null,null,null,null,null,null,null,null,null,null,null,null,null,null,null,null,null,null,null,null,null,null,null,null,null,null,null,null,null,null,6,"WAY006","LC",0,{"$f":"D78","v":0},0,6,"LC",{"$f":"TEXT(B78,\"000\")","v":"000"},"SITE_E","AC","01LD000","E9999",1,1,"03"]
[null,null,null,null,null,null,null,null,null,null,null,null,null,null,null,null,null,null,null,null,null,null,null,null,null,null,null,null,null,null,null,null,null,null,null,null,null,null,null,null,null,null,null,null,null,null,null,null,null,null,null,null,null,null,null,null,null,null,null,null,null,null,null,null,null,null,null,null,null,null,null,null,null,null,null,null,null,null,null,null,null,null,null,null,null,null,null,null,null,null,null,null,null,null,null,null,null,null,null,null,null,null,null,null,null,7,"WAY007","LC",0,{"$f":"#REF!","v":{"$error":"#REF!"}},0,7,"LC",{"$f":"TEXT(#REF!,\"000\")","v":{"$error":"#REF!"}},"SITE_E","AC","01LD000","E9999",1,1,"03"]
[null,null,null,null,null,null,null,null,null,null,null,null,null,null,null,null,null,null,null,null,null,null,null,null,null,null,null,null,null,null,null,null,null,null,null,null,null,null,null,null,null,null,null,null,null,null,null,null,null,null,null,null,null,null,null,null,null,null,null,null,null,null,null,null,null,null,null,null,null,null,null,null,null,null,null,null,null,null,null,null,null,null,null,null,null,null,null,null,null,null,null,null,null,null,null,null,null,null,null,null,null,null,null,null,null,8,"WAY008","LC",0,{"$f":"#REF!","v":{"$error":"#REF!"}},0,8,"LC",{"$f":"TEXT(#REF!,\"000\")","v":{"$error":"#REF!"}},"SITE_E","AC","01LD000","E9999",1,1,"03"]
[null,"LV CABINET / BOARD INFORMATION (LD001)",null,null,null,null,null,null,null,null,null,null,null,null,null,null,null,null,null,null,null,null,null,null,null,null,null,null,null,null,null,null,null,null,"LV WAY INFORMATION (LC)",null,null,null,null,null,null,null,null,null,null,null,null,null,null,null,null,null,null,null,null,null,null,null,null,null,null,null,null,null,null,{"$f":"IF(BN17>0,12+SUM(BN31:BN66),0)","v":0},null,null,null,null,null,null,null,null,null,null,null,null,null,null,null,null,null,null,null,null,null,null,null,null,null,null,null,null,null,null,null,null,null,null,null,null,null,null,null,9,"WAY009","LC",0,{"$f":"#REF!","v":{"$error":"#REF!"}},0,9,"LC",{"$f":"TEXT(#REF!,\"000\")","v":{"$error":"#REF!"}},"SITE_E","AC","01LD000","E9999",1,1,"03"]
[null,null,null,null,null,null,null,null,null,null,null,null,null,null,null,null,null,null,null,null,null,null,null,null,null,null,null,null,null,null,null,null,null,null,null,null,null,null,null,null,null,null,null,null,null,null,null,null,null,null,null,null,null,null,null,null,null,null,null,null,null,null,null,null,null,null,null,null,null,null,null,null,null,null,null,null,null,null,null,null,null,null,null,null,null,null,null,null,null,null,null,null,null,null,null,null,null,null,null,null,null,null,null,null,null,10,"WAY010","LC",0,{"$f":"#REF!","v":{"$error":"#REF!"}},0,10,"LC",{"$f":"TEXT(#REF!,\"000\")","v":{"$error":"#REF!"}},"SITE_E","AC","01LD000","E9999",1,1,"03"]
[null,null,null,null,null,null,null,null,null,null,null,null,null,null,null,null,null,null,null,null,null,null,null,null,null,null,null,null,null,null,null,null,null,null,null,null,null,null,null,null,null,null,null,null,null,null,null,null,null,null,null,null,null,null,null,null,null,null,null,null,null,null,null,null,null,null,null,"DOC QUICK LINK",null,null,null,null,null,null,null,null,null,null,null,null,null,null,null,null,null,null,null,null,null,null,null,null,null,null,null,null,null,null,null,null,null,null,null,null,null,11,"WAY011","LC",0,{"$f":"AK75","v":0},0,11,"LC",{"$f":"TEXT(AI75,\"000\")","v":"000"},"SITE_E","AC","01LD000","E9999",1,1,"03"]
[null,null,null,null,null,null,null,null,null,null,null,null,null,null,null,null,null,null,null,null,null,null,null,null,null,null,null,null,null,null,null,null,null,null,null,null,null,null,null,null,null,null,null,null,null,null,null,null,null,null,null,null,null,null,null,null,null,null,null,null,null,null,null,null,null,null,null,null,null,null,null,null,null,null,null,null,null,null,null,null,null,null,null,null,null,null,null,null,null,null,null,null,null,null,null,null,null,null,null,null,null,null,null,null,null,12,"WAY012","LC",0,{"$f":"AK78","v":0},0,12,"LC",{"$f":"TEXT(AI78,\"000\")","v":"000"},"SITE_E","AC","01LD000","E9999",1,1,"03"]
[null,"COMMISSIONING DRIVER",null,null,null,null,null,null,null,null,null,{"$f":"IF(M17=\"\",0,1)","v":0},null,null,null,null,null,null,null,null,null,null,null,null,null,null,null,null,{"$f":"IFERROR(VLOOKUP(M17,CODES!$A$5:$B$36,2,FALSE),\"\")","v":""},null,null,null,null,null,"PROJECT CODE",null,null,null,null,null,null,null,null,null,null,{"$f":"SAR!J78","v":""},null,null,null,null,null,null,null,null,null,null,null,null,null,null,null,null,null,null,null,{"$f":"L17+L22+L25+L28+L31+L34+L37+L40+L43+L46+L49+SUM(AH31:AH66)+BN69","v":0},null,null,null,null,null,null,null,null,null,null,null,null,null,null,null,null,null,null,null,null,null,null,null,null,null,null,null,null,null,null,null,null,null,null,null,null,null,null,null,2,"BOARD/CAB 2 PLANT DETAILS","LD",0,null,0,1,"LD",{"$f":"TEXT(#REF!,\"000\")","v":{"$error":"#REF!"}},"SITE_E","AC",{"$f":"'DOC 2A'!#REF!","v":{"$error":"#REF!"}},"E9999",1,1,"03"]
[null,null,null,null,null,null,null,null,null,null,null,null,null,null,null,null,null,null,null,null,null,null,null,null,null,null,null,null,null,null,null,null,null,null,null,null,null,null,null,null,null,null,null,null,null,null,null,null,null,null,null,null,null,null,null,null,null,null,null,null,null,null,null,null,null,null,null,null,null,null,null,null,null,null,null,null,null,null,null,null,null,null,null,null,null,null,null,null,null,null,null,null,null,null,null,null,null,null,null,null,null,null,null,null,null,1,"WAY001","LC",{"$f":"$H$9","v":0},{"$f":"#REF!","v":{"$error":"#REF!"}},{"$f":"$AF$9","v":0},1,"LC",{"$f":"TEXT(#REF!,\"000\")","v":{"$error":"#REF!"}},"SITE_E","AC",{"$f":"CONCATENATE($DG$17,$DH$17,$DI$17,$DJ$17)","v":{"$error":"#REF!"}},"E9999",1,1,"03"]
[null,null,null,null,null,null,null,null,null,null,null,null,null,null,null,null,null,null,null,null,null,null,null,null,null,null,null,null,null,null,null,null,null,null,null,null,null,null,null,null,null,null,null,null,null,null,null,null,null,null,null,null,null,null,null,null,null,null,null,null,null,null,null,null,null,null,null,null,null,null,null,null,null,null,null,null,null,null,null,null,null,null,null,null,null,null,null,null,null,null,null,null,null,null,null,null,null,null,null,null,null,null,null,null,null,2,"WAY002","LC",{"$f":"$H$9","v":0},{"$f":"#REF!","v":{"$error":"#REF!"}},{"$f":"$AF$9","v":0},2,"LC",{"$f":"TEXT(#REF!,\"000\")","v":{"$error":"#REF!"}},"SITE_E","AC",{"$error":"#REF!"},"E9999",1,1,"03"]
[null,null,null,null,null,null,null,null,null,null,null,null,null,null,null,null,null,null,null,null,null,null,null,null,null,null,null,null,null,null,null,null,null,null,null,null,null,null,null,null,null,null,null,null,null,null,null,null,null,null,null,null,null,null,null,null,null,null,null,null,null,null,null,null,null,null,null,null,null,null,null,null,null,null,null,null,null,null,null,null,null,null,null,null,null,null,null,null,null,null,null,null,null,null,null,null,null,null,null,null,null,null,null,null,null,3,"WAY003","LC",0,{"$f":"#REF!","v":{"$error":"#REF!"}},0,3,"LC",{"$f":"TEXT(#REF!,\"000\")","v":{"$error":"#REF!"}},"SITE_E","AC",{"$error":"#REF!"},"E9999",1,1,"03"]
[null,null,null,null,null,null,null,null,null,null,null,null,null,null,null,null,null,null,null,null,null,null,null,null,null,null,null,null,null,null,null,null,null,null,null,null,null,null,null,null,null,null,null,null,null,null,null,null,null,null,null,null,null,null,null,null,null,null,null,null,null,null,null,null,null,null,null,null,null,null,null,null,null,null,null,null,null,null,null,null,null,null,null,null,null,null,null,null,null,null,null,null,null,null,null,null,null,null,null,null,null,null,null,null,null,4,"WAY004","LC",0,{"$f":"#REF!","v":{"$error":"#REF!"}},0,4,"LC",{"$f":"TEXT(#REF!,\"000\")","v":{"$error":"#REF!"}},"SITE_E","AC",{"$error":"#REF!"},"E9999",1,1,"03"]
[null,"LV CABINET/BOARD/PILLAR TYPE",null,null,null,null,null,null,null,null,null,{"$f":"IF(M22=\"\",0,1)","v":0},null,null,null,null,null,null,null,null,null,null,null,null,null,null,null,null,null,null,null,null,null,null,"WAY \nNUMBER",null,null,null,"CIRCUIT",null,null,null,null,null,null,null,null,null,null,null,null,null,null,null,null,"OPEN / CLOSED?",null,"UNIT TYPE",null,"CURRENT RATING",null,"FUSE CENTRE",null,"ELEMENT RATING",null,{"$f":"SUM(AH31:AH66)","v":0},null,null,null,null,null,null,null,null,null,null,null,null,null,null,null,null,null,null,null,null,null,null,null,null,null,null,null,null,null,null,null,null,null,null,null,null,null,null,null,5,"WAY005","LC",0,{"$f":"#REF!","v":{"$error":"#REF!"}},0,5,"LC",{"$f":"TEXT(#REF!,\"000\")","v":{"$error":"#REF!"}},"SITE_E","AC",{"$error":"#REF!"},"E9999",1,1,"03"]
[null,null,null,null,null,null,null,null,null,null,null,null,null,null,null,null,null,null,null,null,null,null,null,null,null,null,null,null,null,null,null,null,null,null,null,null,null,null,null,null,null,null,null,null,null,null,null,null,null,null,null,null,null,null,null,null,null,null,null,null,null,null,null,null,null,null,null,null,null,null,null,null,null,null,null,null,null,null,null,null,null,null,null,null,null,null,null,null,null,null,null,null,null,null,null,null,null,null,null,null,null,null,null,null,null,6,"WAY006","LC",0,{"$f":"#REF!","v":{"$error":"#REF!"}},0,6,"LC",{"$f":"TEXT(#REF!,\"000\")","v":{"$error":"#REF!"}},"SITE_E","AC",{"$error":"#REF!"},"E9999",1,1,"03"]
[null,null,null,null,null,null,null,null,null,null,null,null,null,null,null,null,null,null,null,null,null,null,null,null,null,null,null,null,null,null,null,null,null,null,null,null,null,null,null,null,null,null,null,null,null,null,null,null,null,null,null,null,null,null,null,null,null,null,null,null,null,null,null,null,null,null,null,"OTHER (PLEASE SPECIFY)",null,null,null,null,null,null,null,null,null,null,null,null,null,null,null,null,null,null,null,null,null,null,null,null,null,null,null,null,null,null,null,null,null,null,null,null,null,7,"WAY007","LC",0,{"$f":"#REF!","v":{"$error":"#REF!"}},0,7,"LC",{"$f":"TEXT(#REF!,\"000\")","v":{"$error":"#REF!"}},"SITE_E","AC",{"$error":"#REF!"},"E9999",1,1,"03"]
[null,"MANUFACTURER",null,null,null,null,null,null,null,null,null,{"$f":"IF(M25=\"\",0,1)","v":0},null,null,null,null,null,null,null,null,null,null,null,null,null,null,null,null,{"$f":"IFERROR(VLOOKUP(M25,CODES!M16:N134,2,FALSE),\"\")","v":""},null,null,null,null,null,null,null,null,null,null,null,null,null,null,null,null,null,null,null,null,null,null,null,null,null,null,null,null,null,null,null,null,null,null,null,null,null,null,null,null,null,null,null,null,null,null,null,null,null,null,null,null,null,null,null,null,null,null,null,null,null,null,null,null,null,null,null,null,null,null,null,null,null,null,null,null,8,"WAY008","LC",0,{"$f":"#REF!","v":{"$error":"#REF!"}},0,8,"LC",{"$f":"TEXT(#REF!,\"000\")","v":{"$error":"#REF!"}},"SITE_E","AC",{"$error":"#REF!"},"E9999",1,1,"03"]
[null,null,null,null,null,null,null,null,null,null,null,null,null,null,null,null,null,null,null,null,null,null,null,null,null,null,null,null,null,null,null,null,null,null,null,null,null,null,null,null,null,null,null,null,null,null,null,null,null,null,null,null,null,null,null,null,null,null,null,null,null,null,null,null,null,{"$f":"SUM(BN31:BN66)","v":0},null,null,null,null,null,null,null,null,null,null,null,null,null,null,null,null,null,null,null,null,null,null,null,null,null,null,null,null,null,null,null,null,null,null,null,null,null,null,null,9,"WAY009","LC",0,{"$f":"#REF!","v":{"$error":"#REF!"}},0,9,"LC",{"$f":"TEXT(#REF!,\"000\")","v":{"$error":"#REF!"}},"SITE_E","AC",{"$error":"#REF!"},"E9999",1,1,"03"]
[null,null,null,null,null,null,null,null,null,null,null,null,null,null,null,null,null,null,null,null,null,null,null,null,null,null,null,null,null,null,null,null,null,null,null,null,null,null,null,null,null,null,null,null,null,null,null,null,null,null,null,null,null,null,null,null,null,null,null,null,null,null,null,null,null,null,null,null,null,null,null,null,null,null,null,null,null,null,null,null,null,null,null,null,null,null,null,null,null,null,null,null,null,null,null,null,null,null,null,null,null,null,null,null,null,10,"WAY010","LC",0,{"$f":"#REF!","v":{"$error":"#REF!"}},0,10,"LC",{"$f":"TEXT(#REF!,\"000\")","v":{"$error":"#REF!"}},"SITE_E","AC",{"$error":"#REF!"},"E9999",1,1,"03"]
[null,"SERIAL NUMBER",null,null,null,null,null,null,null,null,null,{"$f":"IF(M28=\"\",0,1)","v":0},null,null,null,null,null,null,null,null,null,null,null,null,null,null,null,null,null,null,null,null,null,null,null,null,null,null,null,null,null,null,null,null,null,null,null,null,null,null,null,null,null,null,null,null,null,null,null,null,null,null,null,null,null,null,null,null,null,null,null,null,null,null,null,null,null,null,null,null,null,null,null,null,null,null,null,null,null,null,null,null,null,null,null,null,null,null,null,null,null,null,null,null,null,11,"WAY011","LC",0,{"$f":"#REF!","v":{"$error":"#REF!"}},0,11,"LC",{"$f":"TEXT(#REF!,\"000\")","v":{"$error":"#REF!"}},"SITE_E","AC",{"$error":"#REF!"},"E9999",1,1,"03"]
[null,null,null,null,null,null,null,null,null,null,null,null,null,null,null,null,null,null,null,null,null,null,null,null,null,null,null,null,null,null,null,null,null,null,null,null,null,null,null,null,null,null,null,null,null,null,null,null,null,null,null,null,null,null,null,"i",null,"i",null,null,null,"i",null,null,null,null,null,null,null,null,null,null,null,null,null,null,null,null,null,null,null,null,null,null,null,null,null,null,null,null,null,null,null,null,null,null,null,null,null,null,null,null,null,null,null,12,"WAY012","LC",0,{"$f":"#REF!","v":{"$error":"#REF!"}},0,12,"LC",{"$f":"TEXT(#REF!,\"000\")","v":{"$error":"#REF!"}},"SITE_E","AC",{"$error":"#REF!"},"E9999",1,1,"03"]
[]
[null,"MANUFACTURED DATE ",null,null,null,null,null,null,null,null,null,{"$f":"IF(M31=\"\",0,1)","v":0},null,null,null,null,null,null,null,null,null,null,null,null,null,null,null,null,null,null,null,null,null,{"$f":"COUNTA(AM31:BM33)","v":0},1,null,null,null,null,null,null,null,null,null,null,null,null,null,null,null,null,null,null,null,null,null,null,null,null,null,null,null,null,null,null,{"$f":"IF(AH31>0,6,0)","v":0}]
[]
[]
[null,"LV CABINET / BOARD SITUATION",null,null,null,null,null,null,null,null,null,{"$f":"IF(M34=\"\",0,1)","v":0},null,null,null,null,null,null,null,null,null,null,null,null,null,null,null,null,{"$f":"IFERROR(VLOOKUP(M34,CODES!$A$51:$B$53,2,FALSE),\"\")","v":""},null,null,null,null,{"$f":"COUNTA(AM34:BE36)","v":0},2,null,null,null,null,null,null,null,null,null,null,null,null,null,null,null,null,null,null,null,null,null,null,null,null,null,null,null,null,null,null,{"$f":"IF(AH34>0,6,0)","v":0}]
[]
[]
[null,"LV CABINET / BOARD MOUNTING",null,null,null,null,null,null,null,null,null,{"$f":"IF(M37=\"\",0,1)","v":0},null,null,null,null,null,null,null,null,null,null,null,null,null,null,null,null,{"$f":"IFERROR(VLOOKUP(M37,CODES!A$40:B$47,2,FALSE),\"\")","v":""},null,null,null,null,{"$f":"COUNTA(AM37:BE39)","v":0},3,null,null,null,null,null,null,null,null,null,null,null,null,null,null,null,null,null,null,null,null,null,null,null,null,null,null,null,null,null,null,{"$f":"IF(AH37>0,6,0)","v":0}]
[]
[]
[null,"BUSBAR RATING",null,null,null,null,null,null,null,null,null,{"$f":"IF(M40=\"\",0,1)","v":0},null,null,null,null,null,null,null,null,null,null,null,null,null,null,null,null,null,null,null,null,null,{"$f":"COUNTA(AM40:BE42)","v":0},4,null,null,null,null,null,null,null,null,null,null,null,null,null,null,null,null,null,null,null,null,null,null,null,null,null,null,null,null,null,null,{"$f":"IF(AH40>0,6,0)","v":0}]
[]
[]
[null,"MDI FITTED",null,null,null,null,null,null,null,null,null,{"$f":"IF(M43=\"\",0,1)","v":0},null,null,null,null,null,null,null,null,null,null,null,null,null,null,null,null,{"$f":"IFERROR(VLOOKUP(M43,CODES!S$11:T$12,2,FALSE),\"\")","v":""},null,null,null,null,{"$f":"COUNTA(AM43:BE45)","v":0},5,null,null,null,null,null,null,null,null,null,null,null,null,null,null,null,null,null,null,null,null,null,null,null,null,null,null,null,null,null,null,{"$f":"IF(AH43>0,6,0)","v":0}]
[]
[]
[null,"HOUSING",null,null,null,null,null,null,null,null,null,{"$f":"IF(M46=\"\",0,1)","v":0},null,null,null,null,null,null,null,null,null,null,null,null,null,null,null,null,{"$f":"IFERROR(VLOOKUP(M46,CODES!S$16:T$19,2,FALSE),\"\")","v":""},null,null,null,null,{"$f":"COUNTA(AM46:BE48)","v":0},6,null,null,null,null,null,null,null,null,null,null,null,null,null,null,null,null,null,null,null,null,null,null,null,null,null,null,null,null,null,null,{"$f":"IF(AH46>0,6,0)","v":0}]
[]
[]
[null,"TRANSFORMER CONNECTIONS",null,null,null,null,null,null,null,null,null,{"$f":"IF(M49=\"\",0,1)","v":0},null,null,null,null,null,null,null,null,null,null,null,null,null,null,null,null,{"$f":"IFERROR(VLOOKUP(M49,CODES!M$246:N$261,2,FALSE),\"\")","v":""},null,null,null,null,{"$f":"COUNTA(AM49:BE51)","v":0},7,null,null,null,null,null,null,null,null,null,null,null,null,null,null,null,null,null,null,null,null,null,null,null,null,null,null,null,null,null,null,{"$f":"IF(AH49>0,6,0)","v":0}]
[]
[]
[null,null,null,null,null,null,null,null,null,null,null,null,null,null,null,null,null,null,null,null,null,null,null,null,null,null,null,null,null,null,null,null,null,{"$f":"COUNTA(AM52:BE54)","v":0},8,null,null,null,null,null,null,null,null,null,null,null,null,null,null,null,null,null,null,null,null,null,null,null,null,null,null,null,null,null,null,{"$f":"IF(AH52>0,6,0)","v":0}]
[]
[]
[null,null,null,null,null,null,null,null,null,null,null,null,null,null,null,null,null,null,null,null,null,null,null,null,null,null,null,null,null,null,null,null,null,{"$f":"COUNTA(AM55:BE57)","v":0},9,null,null,null,null,null,null,null,null,null,null,null,null,null,null,null,null,null,null,null,null,null,null,null,null,null,null,null,null,null,null,{"$f":"IF(AH55>0,6,0)","v":0}]
[]
[]
[null,null,null,null,null,null,null,null,null,null,null,null,null,null,null,null,null,null,null,null,null,null,null,null,null,null,null,null,null,null,null,null,null,{"$f":"COUNTA(AM58:BE60)","v":0},10,null,null,null,null,null,null,null,null,null,null,null,null,null,null,null,null,null,null,null,null,null,null,null,null,null,null,null,null,null,null,{"$f":"IF(AH58>0,6,0)","v":0}]
[]
[]
[null,null,null,null,null,null,null,null,null,null,null,null,null,null,null,null,null,null,null,null,null,null,null,null,null,null,null,null,null,null,null,null,null,{"$f":"COUNTA(AM61:BE63)","v":0},11,null,null,null,null,null,null,null,null,null,null,null,null,null,null,null,null,null,null,null,null,null,null,null,null,null,null,null,null,null,null,{"$f":"IF(AH61>0,6,0)","v":0}]
[]
[]
[null,null,null,null,null,null,null,null,null,null,null,null,null,null,null,null,null,null,null,null,null,null,null,null,null,null,null,null,null,null,null,null,null,{"$f":"COUNTA(AM64:BE66)","v":0},12,null,null,null,null,null,null,null,null,null,null,null,null,null,null,null,null,null,null,null,null,null,null,null,null,null,null,null,null,null,null,{"$f":"IF(AH64>0,6,0)","v":0}]
[]
[]
[]
[]
[null,"ADDITIONAL INFORMATION",null,null,null,null,null,null,null,null,null,null,null,null,null,null,null,null,null,null,null,null,null,null,null,null,null,null,null,null,null,null,null,null,null,null,null,null,null,null,null,null,null,null,null,null,null,null,null,null,null,null,null,null,null,null,null,null,null,null,null,null,null,null,null,{"$f":"IF(B72=\"\",0,1)","v":0}]

{"sheet":"DOC 6B","index":19,"n_rows":93,"n_cols":105,"rows_kept":93,"cut":false,"hidden":false,"merged":[[16,12,18,27],[16,28,18,30],[0,104,1,104],[2,104,4,104],[5,104,7,104],[31,13,31,14],[31,15,31,16],[50,51,52,52],[31,44,31,45],[8,50,10,54],[8,55,10,64],[8,65,10,65],[0,77,2,78],[0,79,2,80],[3,77,5,80],[24,32,25,32],[24,33,25,33],[21,35,23,35],[14,67,16,79],[23,67,25,79],[27,67,29,71],[27,72,29,79],[30,67,32,71],[30,72,32,79],[59,30,64,31],[59,32,64,33],[35,45,36,51],[31,52,31,53],[28,50,30,50],[28,30,30,30],[28,35,30,35],[28,45,30,45],[28,46,30,46],[31,48,31,49],[31,50,31,51],[31,33,31,34],[31,35,31,36],[31,37,31,38],[31,29,31,30],[31,31,31,32],[21,39,37,42],[26,33,27,33],[39,32,49,33],[39,34,49,35],[39,40,49,41],[39,42,49,43],[35,30,36,35],[31,46,31,47],[31,21,31,22],[31,27,31,28],[56,21,58,22],[35,14,36,19],[38,1,38,63],[53,4,58,4],[31,17,31,18],[31,11,31,12],[20,1,20,63],[21,1,37,10],[21,14,23,14],[21,19,23,19],[21,23,37,26],[21,30,23,30],[28,14,30,14],[28,19,30,19],[21,46,23,46],[21,50,23,50],[21,54,37,63],[24,16,25,16],[24,17,25,17],[31,19,31,20],[26,16,27,16],[26,17,27,17],[21,45,23,45],[26,32,27,32],[16,1,18,10],[16,11,18,11],[16,31,18,31],[16,34,18,43],[16,45,18,64],[16,65,18,65],[1,12,6,22],[1,24,3,27],[1,28,3,39],[1,40,3,43],[1,44,3,48],[1,50,6,52],[1,53,6,64],[4,24,6,27],[4,28,6,39],[4,40,6,43],[4,44,6,48],[12,1,14,64],[7,1,7,64],[8,1,10,5],[8,6,10,22],[8,24,10,28],[1,1,6,11],[8,29,10,48],[71,5,76,8],[53,53,58,54],[53,55,58,56],[53,57,58,58],[53,23,58,24],[53,30,58,31],[53,32,58,33],[53,34,58,35],[53,25,58,29],[53,36,58,37],[53,38,58,39],[59,25,64,29],[53,42,58,43],[53,51,58,52],[59,42,64,43],[59,51,64,52],[56,19,58,20],[59,21,61,22],[53,17,55,18],[74,17,76,18],[53,15,55,16],[74,9,76,10],[65,5,70,8],[68,21,70,22],[53,0,58,0],[59,0,64,0],[65,0,70,0],[71,0,76,0],[77,0,82,0],[56,9,58,10],[56,11,58,12],[56,13,58,14],[53,5,58,8],[68,13,70,14],[77,5,82,8],[71,9,73,10],[71,11,73,12],[71,13,73,14],[77,13,79,14],[62,9,64,10],[62,13,64,14],[62,11,64,12],[71,4,76,4],[77,4,82,4],[53,13,55,14],[53,9,55,10],[53,11,55,12],[68,9,70,10],[83,0,88,0],[89,0,94,0],[89,5,94,8],[59,13,61,14],[68,11,70,12],[83,5,88,8],[74,11,76,12],[86,11,88,12],[83,11,85,12],[92,9,94,10],[92,11,94,12],[89,9,91,10],[89,11,91,12],[89,13,91,14],[86,9,88,10],[83,9,85,10],[59,4,64,4],[65,4,70,4],[83,4,88,4],[89,4,94,4],[77,9,79,10],[80,9,82,10],[65,9,67,10],[65,11,67,12],[89,21,91,22],[65,13,67,14],[74,13,76,14],[89,23,94,24],[92,17,94,18],[92,19,94,20],[92,21,94,22],[74,21,76,22],[71,23,76,24],[86,13,88,14],[86,15,88,16],[86,17,88,18],[86,19,88,20],[86,21,88,22],[80,21,82,22],[83,17,85,18],[77,15,79,16],[92,13,94,14],[83,19,85,20],[68,17,70,18],[68,19,70,20],[68,15,70,16],[171,53,173,55],[97,33,97,47],[97,49,97,63],[80,11,82,12],[80,13,82,14],[80,15,82,16],[77,11,79,12],[83,13,85,14],[83,15,85,16],[95,0,95,65],[165,53,167,55],[168,53,170,55],[156,53,158,55],[159,53,161,55],[144,53,146,55],[147,53,149,55],[150,53,152,55],[162,53,164,55],[153,53,155,55],[89,32,94,33],[89,34,94,35],[89,30,94,31],[89,53,94,54],[89,55,94,56],[97,1,97,15],[97,17,97,31],[65,15,67,16],[77,53,82,54],[65,53,70,54],[65,51,70,52],[65,30,70,31],[71,30,76,31],[83,32,88,33],[83,34,88,35],[92,15,94,16],[83,21,85,22],[77,19,79,20],[77,21,79,22],[71,21,73,22],[89,15,91,16],[77,38,82,39],[77,40,82,41],[77,42,82,43],[83,23,88,24],[77,23,82,24],[77,17,79,18],[89,17,91,18],[89,19,91,20],[77,32,82,33],[77,34,82,35],[77,30,82,31],[65,57,70,58],[71,25,76,29],[71,51,76,52],[65,32,70,33],[65,34,70,35],[65,25,70,29],[65,36,70,37],[65,38,70,39],[65,40,70,41],[71,40,76,41],[71,32,76,33],[71,34,76,35],[71,36,76,37],[71,38,76,39],[71,42,76,43],[65,42,70,43],[65,55,70,56],[71,55,76,56],[65,44,70,50],[71,44,76,50],[77,44,82,50],[65,19,67,20],[62,17,64,18],[62,19,64,20],[74,15,76,16],[71,15,73,16],[71,17,73,18],[74,19,76,20],[65,17,67,18],[62,15,64,16],[39,5,52,8],[50,30,52,31],[50,32,52,33],[39,36,52,37],[59,23,64,24],[59,40,64,41],[59,36,64,37],[59,38,64,39],[39,38,52,39],[50,34,52,35],[59,5,64,8],[59,9,61,10],[59,11,61,12],[59,19,61,20],[62,21,64,22],[59,15,61,16],[59,17,61,18],[59,34,64,35],[53,40,58,41],[53,21,55,22],[56,15,58,16],[56,17,58,18],[39,23,49,24],[39,30,49,31],[83,25,88,29],[83,30,88,31],[89,25,94,29],[89,36,94,37],[89,42,94,43],[89,38,94,39],[89,40,94,41],[89,51,94,52],[89,44,94,50],[83,36,88,37],[83,38,88,39],[83,40,88,41],[83,42,88,43],[83,51,88,52],[39,53,49,54],[39,55,49,56],[39,57,49,58],[77,51,82,52],[59,53,64,54],[59,55,64,56],[71,19,73,20],[50,42,52,43],[50,40,52,41],[50,55,52,56],[50,53,52,54],[53,19,55,20],[77,25,82,29],[77,36,82,37],[65,21,67,22],[65,23,70,24],[50,57,52,58],[50,23,52,24],[39,9,52,22],[39,25,52,29],[53,44,58,50],[59,44,64,50],[80,17,82,18],[80,19,82,20],[33,67,35,71],[33,72,35,79],[89,59,94,60],[83,44,88,50],[39,44,49,50],[50,44,52,50],[39,59,49,60],[50,59,52,60],[53,59,58,60],[59,59,64,60],[65,59,70,60],[71,59,76,60],[77,59,82,60],[83,59,88,60],[83,57,88,58],[83,53,88,54],[83,55,88,56],[59,57,64,58],[71,57,76,58],[71,53,76,54],[77,55,82,56],[77,57,82,58],[39,51,49,52],[89,57,94,58]]}
[null,null,null,null,null,null,null,null,null,null,null,null,null,null,null,null,null,null,null,null,null,null,null,null,null,null,null,null,null,null,null,null,null,null,null,null,null,null,null,null,null,null,null,null,null,null,null,null,null,null,null,null,null,null,null,null,null,null,null,null,null,null,null,null,null,null,null,null,null,null,null,null,null,null,null,null,null,{"$f":"BN17","v":0},null,{"$f":"BN14","v":0},null,null,null,null,null,null,null,null,null,null,null,null,null,null,null,null,null,null,null,null,null,null,null,null,"PRINT?"]
[null,null,null,null,null,null,null,null,null,null,null,null,"DOC 6B",null,null,null,null,null,null,null,null,null,null,null,"ENGINEER",null,null,null,{"$f":"SAR!$K$13","v":""},null,null,null,null,null,null,null,null,null,null,null,"VOLTAGE",null,null,null,{"$f":"SAR!$K$36","v":0},null,null,null,null,null,"SATS",null,null,{"$f":"SAR!$BA$2","v":0}]
[null,null,null,null,null,null,null,null,null,null,null,null,null,null,null,null,null,null,null,null,null,null,null,null,null,null,null,null,null,null,null,null,null,null,null,null,null,null,null,null,null,null,null,null,null,null,null,null,null,null,null,null,null,null,null,null,null,null,null,null,null,null,null,null,null,null,null,null,null,null,null,null,null,null,null,null,null,null,null,null,null,null,null,null,null,null,null,null,null,null,null,null,null,null,null,null,null,null,null,null,null,null,null,null,{"$f":"IF(BZ1=0,\"\",\"Y\")","v":""}]
[null,null,null,null,null,null,null,null,null,null,null,null,null,null,null,null,null,null,null,null,null,null,null,null,null,null,null,null,null,null,null,null,null,null,null,null,null,null,null,null,null,null,null,null,null,null,null,null,null,null,null,null,null,null,null,null,null,null,null,null,null,null,null,null,null,null,null,null,null,null,null,null,null,null,null,null,null,{"$f":"BZ1/CB1","v":{"$error":"#DIV/0!"}}]
[null,null,null,null,null,null,null,null,null,null,null,null,null,null,null,null,null,null,null,null,null,null,null,null,"AREA",null,null,null,{"$f":"SAR!$K$39","v":0},null,null,null,null,null,null,null,null,null,null,null,"PROJECT DATE",null,null,null,{"$f":"SAR!$K$42","v":"00:00:00"}]
[]
[]
[]
[null,"PRIMARY SUBSTATION ",null,null,null,null,{"$f":"SAR!$K$45","v":0},null,null,null,null,null,null,null,null,null,null,null,null,null,null,null,null,null,"DISTRIBUTION SUBSTATION ",null,null,null,null,{"$f":"SAR!$K$30","v":0},null,null,null,null,null,null,null,null,null,null,null,null,null,null,null,null,null,null,null,null,"PLANT REF",null,null,null,null,{"$f":"SAR!$K$33","v":0},null,null,null,null,null,null,null,null,null,{"$f":"SAR!$AB$36","v":""}]
[]
[]
[]
[null,"LINK BOXES"]
[null,null,null,null,null,null,null,null,null,null,null,null,null,null,null,null,null,null,null,null,null,null,null,null,null,null,null,null,null,null,null,null,null,null,null,null,null,null,null,null,null,null,null,null,null,null,null,null,null,null,null,null,null,null,null,null,null,null,null,null,null,null,null,null,null,{"$f":"L17+(D46*16)","v":0}]
[null,null,null,null,null,null,null,null,null,null,null,null,null,null,null,null,null,null,null,null,null,null,null,null,null,null,null,null,null,null,null,null,null,null,null,null,null,null,null,null,null,null,null,null,null,null,null,null,null,null,null,null,null,null,null,null,null,null,null,null,null,null,null,null,null,null,null,"DOC QUICK LINK"]
[]
[null,"COMMISSIONING DRIVER",null,null,null,null,null,null,null,null,null,{"$f":"IF(M17=\"\",0,1)","v":0},null,null,null,null,null,null,null,null,null,null,null,null,null,null,null,null,{"$f":"IFERROR(VLOOKUP(M17,CODES!$A$5:$B$36,2,FALSE),\"\")","v":""},null,null,null,null,null,"PROJECT CODE",null,null,null,null,null,null,null,null,null,null,{"$f":"SAR!J78","v":""},null,null,null,null,null,null,null,null,null,null,null,null,null,null,null,null,null,null,null,{"$f":"L17+BM56+BM62+BM67+BM73+BM79+BM85+BM91","v":0}]
[]
[]
[]
[]
[null,null,null,null,null,null,null,null,null,null,null,null,null,null,"A",null,null,null,null,"B",null,null,null,null,null,null,null,null,null,null,"A",null,null,null,null,"B"]
[]
[null,null,null,null,null,null,null,null,null,null,null,null,null,null,null,null,null,null,null,null,null,null,null,null,null,null,null,null,null,null,null,null,null,null,null,null,null,null,null,null,null,null,null,null,null,null,null,null,null,null,null,null,null,null,null,null,null,null,null,null,null,null,null,null,null,null,null,"OTHER (PLEASE SPECIFY)"]
[]
[]
[]
[]
[null,null,null,null,null,null,null,null,null,null,null,null,null,null,"D",null,null,null,null,"C",null,null,null,null,null,null,null,null,null,null,"C"]
[]
[]
[]
[]
[]
[]
[null,null,null,null,null,null,null,null,null,null,null,null,null,null,"ROAD",null,null,null,null,null,null,null,null,null,null,null,null,null,null,null,"ROAD",null,null,null,null,null,null,null,null,null,null,null,null,null,null,"ROAD"]
[]
[]
[]
[null,null,null,null,null,"ISSUED \nLINK BOX No.",null,null,null,"LOCATION INFORMATION\n(12 DIGIT GRID REFERENCE)",null,null,null,null,null,null,null,null,null,null,null,null,null,"LOCATION",null,"DATE \nINSTALLED",null,null,null,null,"COVER \nTYPE",null,"COVER \nSIZE",null,"BELL\nTYPE",null,"NUMBER \nOF WAYS",null,"NUMBER \nOF PHASES",null,"INSULATION \nTYPE",null,"FUSE \nTYPE",null,"MANUFACTURER",null,null,null,null,null,null,"FIRE MITIGATION",null,"PIT \nCONSTRUCTION",null,"PIT SIZE \n/ DEPTH",null,"LINK \n/ FUSE SIZE",null,"OPEN / CLOSED?"]
[]
[]
[]
[]
[]
[null,null,null,{"$f":"COUNTA(F54:I95)","v":0}]
[]
[]
[]
[]
[null,null,null,null,null,null,null,null,null,null,null,null,null,null,null,null,null,null,null,null,null,null,null,"i",null,null,null,null,null,null,"i",null,"i",null,"i",null,null,null,null,null,"i",null,"i",null,"i",null,null,null,null,null,null,"i",null,"i",null,"i",null,"i",null,"i"]
[]
[]
[null,null,null,null,1,null,null,null,null,"X"]
[]
[null,null,null,null,null,null,null,null,null,null,null,null,null,null,null,null,null,null,null,null,null,null,null,null,null,null,null,null,null,null,null,null,null,null,null,null,null,null,null,null,null,null,null,null,null,null,null,null,null,null,null,null,null,null,null,null,null,null,null,null,null,null,null,null,{"$f":"COUNTA(F54,L54,X54:BG59)","v":0}]
[null,null,null,null,null,null,null,null,null,"Y"]
[]
[]
[null,null,null,null,2,null,null,null,null,"X"]
[]
[null,null,null,null,null,null,null,null,null,null,null,null,null,null,null,null,null,null,null,null,null,null,null,null,null,null,null,null,null,null,null,null,null,null,null,null,null,null,null,null,null,null,null,null,null,null,null,null,null,null,null,null,null,null,null,null,null,null,null,null,null,null,null,null,{"$f":"COUNTA(F60,L60,X60:BG65)","v":0}]
[null,null,null,null,null,null,null,null,null,"Y"]
[]
[]
[null,null,null,null,3,null,null,null,null,"X"]
[null,null,null,null,null,null,null,null,null,null,null,null,null,null,null,null,null,null,null,null,null,null,null,null,null,null,null,null,null,null,null,null,null,null,null,null,null,null,null,null,null,null,null,null,null,null,null,null,null,null,null,null,null,null,null,null,null,null,null,null,null,null,null,null,{"$f":"COUNTA(F66,L66,X66:BG71)","v":0}]
[]
[null,null,null,null,null,null,null,null,null,"Y"]
[]
[]
[null,null,null,null,4,null,null,null,null,"X"]
[null,null,null,null,null,null,null,null,null,null,null,null,null,null,null,null,null,null,null,null,null,null,null,null,null,null,null,null,null,null,null,null,null,null,null,null,null,null,null,null,null,null,null,null,null,null,null,null,null,null,null,null,null,null,null,null,null,null,null,null,null,null,null,null,{"$f":"COUNTA(F72,L72,X72:BG77)","v":0}]
[]
[null,null,null,null,null,null,null,null,null,"Y"]
[]
[]
[null,null,null,null,5,null,null,null,null,"X"]
[null,null,null,null,null,null,null,null,null,null,null,null,null,null,null,null,null,null,null,null,null,null,null,null,null,null,null,null,null,null,null,null,null,null,null,null,null,null,null,null,null,null,null,null,null,null,null,null,null,null,null,null,null,null,null,null,null,null,null,null,null,null,null,null,{"$f":"COUNTA(F78,L78,X78:BG83)","v":0}]
[]
[null,null,null,null,null,null,null,null,null,"Y"]
[]
[]
[null,null,null,null,6,null,null,null,null,"X"]
[null,null,null,null,null,null,null,null,null,null,null,null,null,null,null,null,null,null,null,null,null,null,null,null,null,null,null,null,null,null,null,null,null,null,null,null,null,null,null,null,null,null,null,null,null,null,null,null,null,null,null,null,null,null,null,null,null,null,null,null,null,null,null,null,{"$f":"COUNTA(F84,L84,X84:BG89)","v":0}]
[]
[null,null,null,null,null,null,null,null,null,"Y"]
[]
[]
[null,null,null,null,7,null,null,null,null,"X"]
[null,null,null,null,null,null,null,null,null,null,null,null,null,null,null,null,null,null,null,null,null,null,null,null,null,null,null,null,null,null,null,null,null,null,null,null,null,null,null,null,null,null,null,null,null,null,null,null,null,null,null,null,null,null,null,null,null,null,null,null,null,null,null,null,{"$f":"COUNTA(F90,L90,X90:BG95)","v":0}]
[]
[null,null,null,null,null,null,null,null,null,"Y"]

{"sheet":"DOC 7","index":20,"n_rows":84,"n_cols":111,"rows_kept":84,"cut":false,"hidden":false,"merged":[[59,64,61,64],[55,12,57,27],[55,28,57,30],[40,28,42,30],[43,12,45,27],[43,28,45,30],[46,12,48,27],[46,28,48,30],[49,12,51,27],[49,28,51,30],[52,12,54,27],[52,28,54,30],[0,104,1,104],[2,104,4,104],[5,104,7,104],[8,64,10,64],[12,1,14,63],[12,64,14,64],[16,44,18,63],[24,11,26,13],[24,14,26,16],[24,18,26,20],[24,22,26,24],[21,8,23,16],[21,18,23,20],[24,25,26,27],[24,28,26,30],[24,48,26,50],[4,24,6,27],[4,28,6,38],[4,39,6,42],[7,1,7,63],[8,1,10,5],[8,6,10,22],[8,24,10,28],[8,29,10,47],[82,0,82,64],[59,1,61,63],[62,1,81,63],[21,44,23,44],[24,44,26,44],[28,12,30,30],[31,12,33,30],[27,44,29,44],[27,45,29,47],[27,48,29,50],[27,51,29,53],[27,54,29,56],[27,57,29,59],[27,60,29,62],[30,44,32,44],[30,45,32,47],[30,48,32,50],[24,51,26,53],[24,54,26,56],[24,57,26,59],[24,60,26,62],[31,1,33,10],[21,33,26,42],[30,57,32,59],[8,49,10,53],[1,1,6,11],[1,12,6,22],[1,24,3,27],[1,28,3,38],[1,39,3,42],[1,43,3,47],[1,49,6,51],[8,54,10,63],[0,76,2,77],[0,78,2,79],[3,76,5,79],[84,1,84,15],[84,17,84,31],[84,33,84,47],[84,49,84,63],[52,1,54,10],[55,1,57,10],[21,43,23,43],[21,45,23,47],[21,48,23,50],[21,51,23,53],[21,54,23,56],[21,57,23,59],[21,60,23,62],[24,43,26,43],[24,45,26,47],[28,1,30,10],[16,33,18,42],[15,1,15,63],[16,1,18,10],[1,52,6,63],[4,43,6,47],[16,11,18,11],[16,64,18,64],[49,11,51,11],[30,51,32,53],[30,54,32,56],[27,43,29,43],[21,63,23,63],[24,63,26,63],[27,63,29,63],[30,63,32,63],[16,12,18,27],[16,28,18,30],[37,12,39,27],[37,28,39,30],[40,12,42,27],[30,60,32,62],[30,43,32,43],[52,11,54,11],[55,11,57,11],[46,1,48,10],[37,1,39,10],[40,1,42,10],[43,1,45,10],[49,1,51,10],[24,0,26,0],[34,1,36,10],[37,11,39,11],[40,11,42,11],[43,11,45,11],[46,11,48,11],[34,11,36,11],[14,66,16,78],[23,66,25,78],[27,66,29,70],[27,71,29,78],[30,66,32,70],[30,71,32,78],[33,66,35,70],[33,71,35,78],[21,0,23,0],[24,17,26,17],[24,7,26,7],[21,17,23,17],[24,21,26,21],[21,7,23,7],[21,21,23,21],[31,11,33,11],[28,11,30,11],[24,1,26,3],[24,4,26,6],[24,8,26,10],[21,1,23,6],[34,12,36,30],[27,33,32,42],[21,22,23,30]]}
[null,null,null,null,null,null,null,null,null,null,null,null,null,null,null,null,null,null,null,null,null,null,null,null,null,null,null,null,null,null,null,null,null,null,null,null,null,null,null,null,null,null,null,null,null,null,null,null,null,null,null,null,null,null,null,null,null,null,null,null,null,null,null,null,null,null,null,null,null,null,null,null,null,null,null,null,{"$f":"BM13","v":0},null,{"$f":"BM17","v":0},null,null,null,null,null,null,null,null,null,null,null,null,null,null,null,null,null,null,null,null,null,null,null,null,null,"PRINT?","Seq No","Mandatory","Attribute Name","Attribute Description","Attribute Value","Description"]
[null,null,null,null,null,null,null,null,null,null,null,null,"DOC 7",null,null,null,null,null,null,null,null,null,null,null,"ENGINEER",null,null,null,{"$f":"SAR!$K$13","v":""},null,null,null,null,null,null,null,null,null,null,"VOLTAGE",null,null,null,{"$f":"SAR!$K$36","v":0},null,null,null,null,null,"SATS",null,null,{"$f":"SAR!$BA$2","v":0},null,null,null,null,null,null,null,null,null,null,null,null,null,null,null,null,null,null,null,null,null,null,null,null,null,null,null,null,null,null,null,null,null,null,null,null,null,null,null,null,null,null,null,null,null,null,null,null,null,null,null,null,10,"NO","LHCCID","CIRCUIT CODE"]
[null,null,null,null,null,null,null,null,null,null,null,null,null,null,null,null,null,null,null,null,null,null,null,null,null,null,null,null,null,null,null,null,null,null,null,null,null,null,null,null,null,null,null,null,null,null,null,null,null,null,null,null,null,null,null,null,null,null,null,null,null,null,null,null,null,null,null,null,null,null,null,null,null,null,null,null,null,null,null,null,null,null,null,null,null,null,null,null,null,null,null,null,null,null,null,null,null,null,null,null,null,null,null,null,{"$f":"IF(BY1=0,\"\",\"Y\")","v":""},20,"NO","LHPS","POLE START",6]
[null,null,null,null,null,null,null,null,null,null,null,null,null,null,null,null,null,null,null,null,null,null,null,null,null,null,null,null,null,null,null,null,null,null,null,null,null,null,null,null,null,null,null,null,null,null,null,null,null,null,null,null,null,null,null,null,null,null,null,null,null,null,null,null,null,null,null,null,null,null,null,null,null,null,null,null,{"$f":"BY1/CA1","v":{"$error":"#DIV/0!"}},null,null,null,null,null,null,null,null,null,null,null,null,null,null,null,null,null,null,null,null,null,null,null,null,null,null,null,null,30,"NO","LHPE","POLE END",69]
[null,null,null,null,null,null,null,null,null,null,null,null,null,null,null,null,null,null,null,null,null,null,null,null,"AREA",null,null,null,{"$f":"SAR!$K$39","v":0},null,null,null,null,null,null,null,null,null,null,"PROJECT DATE",null,null,null,{"$f":"SAR!$K$42","v":"00:00:00"},null,null,null,null,null,null,null,null,null,null,null,null,null,null,null,null,null,null,null,null,null,null,null,null,null,null,null,null,null,null,null,null,null,null,null,null,null,null,null,null,null,null,null,null,null,null,null,null,null,null,null,null,null,null,null,null,null,null,null,null,null,40,"NO","LHLEN","WALK LENGTH (M)"]
[null,null,null,null,null,null,null,null,null,null,null,null,null,null,null,null,null,null,null,null,null,null,null,null,null,null,null,null,null,null,null,null,null,null,null,null,null,null,null,null,null,null,null,null,null,null,null,null,null,null,null,null,null,null,null,null,null,null,null,null,null,null,null,null,null,null,null,null,null,null,null,null,null,null,null,null,null,null,null,null,null,null,null,null,null,null,null,null,null,null,null,null,null,null,null,null,null,null,null,null,null,null,null,null,null,50,"NO","LHCON","CONSTRUCTION (Y/N)","N"]
[null,null,null,null,null,null,null,null,null,null,null,null,null,null,null,null,null,null,null,null,null,null,null,null,null,null,null,null,null,null,null,null,null,null,null,null,null,null,null,null,null,null,null,null,null,null,null,null,null,null,null,null,null,null,null,null,null,null,null,null,null,null,null,null,null,null,null,null,null,null,null,null,null,null,null,null,null,null,null,null,null,null,null,null,null,null,null,null,null,null,null,null,null,null,null,null,null,null,null,null,null,null,null,null,null,180,"NO","LHDCI","DATE CONDUCTOR INSTALLED"]
[null,null,null,null,null,null,null,null,null,null,null,null,null,null,null,null,null,null,null,null,null,null,null,null,null,null,null,null,null,null,null,null,null,null,null,null,null,null,null,null,null,null,null,null,null,null,null,null,null,null,null,null,null,null,null,null,null,null,null,null,null,null,null,null,null,null,null,null,null,null,null,null,null,null,null,null,null,null,null,null,null,null,null,null,null,null,null,null,null,null,null,null,null,null,null,null,null,null,null,null,null,null,null,null,null,190,"NO","LHHPD","HELECOPTER PATROL DATE","2002-02-20"]
[null,"PRIMARY SUBSTATION ",null,null,null,null,{"$f":"SAR!$K$45","v":0},null,null,null,null,null,null,null,null,null,null,null,null,null,null,null,null,null,"DISTRIBUTION SUBSTATION ",null,null,null,null,{"$f":"SAR!$K$30","v":0},null,null,null,null,null,null,null,null,null,null,null,null,null,null,null,null,null,null,null,"PLANT REF",null,null,null,null,{"$f":"SAR!$K$33","v":0},null,null,null,null,null,null,null,null,null,{"$f":"SAR!$AB$36","v":""},null,null,null,null,null,null,null,null,null,null,null,null,null,null,null,null,null,null,null,null,null,null,null,null,null,null,null,null,null,null,null,null,null,null,null,null,null,null,null,null,200,"NO","LHRFD","REFURBISHMENT DATE"]
[null,null,null,null,null,null,null,null,null,null,null,null,null,null,null,null,null,null,null,null,null,null,null,null,null,null,null,null,null,null,null,null,null,null,null,null,null,null,null,null,null,null,null,null,null,null,null,null,null,null,null,null,null,null,null,null,null,null,null,null,null,null,null,null,null,null,null,null,null,null,null,null,null,null,null,null,null,null,null,null,null,null,null,null,null,null,null,null,null,null,null,null,null,null,null,null,null,null,null,null,null,null,null,null,null,210,"NO","LHOHD","OVERHAUL DATE"]
[null,null,null,null,null,null,null,null,null,null,null,null,null,null,null,null,null,null,null,null,null,null,null,null,null,null,null,null,null,null,null,null,null,null,null,null,null,null,null,null,null,null,null,null,null,null,null,null,null,null,null,null,null,null,null,null,null,null,null,null,null,null,null,null,null,null,null,null,null,null,null,null,null,null,null,null,null,null,null,null,null,null,null,null,null,null,null,null,null,null,null,null,null,null,null,null,null,null,null,null,null,null,null,null,null,220,"NO","LHFPD","LAST FOOT PATROL DATE"]
[null,null,null,null,null,null,null,null,null,null,null,null,null,null,null,null,null,null,null,null,null,null,null,null,null,null,null,null,null,null,null,null,null,null,null,null,null,null,null,null,null,null,null,null,null,null,null,null,null,null,null,null,null,null,null,null,null,null,null,null,null,null,null,null,null,null,null,null,null,null,null,null,null,null,null,null,null,null,null,null,null,null,null,null,null,null,null,null,null,null,null,null,null,null,null,null,null,null,null,null,null,null,null,null,null,230,"NO","LHCOMMDATE","YEAR COMMISSIONED",1956]
[null,"OVERHEAD LINE INFORMATION",null,null,null,null,null,null,null,null,null,null,null,null,null,null,null,null,null,null,null,null,null,null,null,null,null,null,null,null,null,null,null,null,null,null,null,null,null,null,null,null,null,null,null,null,null,null,null,null,null,null,null,null,null,null,null,null,null,null,null,null,null,null,{"$f":"L17+AR22+AR28+A25+H25+R25+V25+L29+L32+L35+L38+L41+L44+L47+L50+L53+L56+BM60","v":0},null,null,null,null,null,null,null,null,null,null,null,null,null,null,null,null,null,null,null,null,null,null,null,null,null,null,null,null,null,null,null,null,null,null,null,null,null,null,null,null,1500,"NO","PROJECT","PROJECT NUMBER (COMMISSION)"]
[null,null,null,null,null,null,null,null,null,null,null,null,null,null,null,null,null,null,null,null,null,null,null,null,null,null,null,null,null,null,null,null,null,null,null,null,null,null,null,null,null,null,null,null,null,null,null,null,null,null,null,null,null,null,null,null,null,null,null,null,null,null,null,null,null,null,null,null,null,null,null,null,null,null,null,null,null,null,null,null,null,null,null,null,null,null,null,null,null,null,null,null,null,null,null,null,null,null,null,null,null,null,null,null,null,1510,"NO","PROJECTD","PROJECT NUMBER (DECOMMISSION)"]
[null,null,null,null,null,null,null,null,null,null,null,null,null,null,null,null,null,null,null,null,null,null,null,null,null,null,null,null,null,null,null,null,null,null,null,null,null,null,null,null,null,null,null,null,null,null,null,null,null,null,null,null,null,null,null,null,null,null,null,null,null,null,null,null,null,null,"DOC QUICK LINK"]
[]
[null,"COMMISSIONING DRIVER",null,null,null,null,null,null,null,null,null,{"$f":"IF(M17=\"\",0,1)","v":0},null,null,null,null,null,null,null,null,null,null,null,null,null,null,null,null,{"$f":"IFERROR(VLOOKUP(M17,CODES!$A$5:$B$36,2,FALSE),\"\")","v":""},null,null,null,null,"PROJECT CODE",null,null,null,null,null,null,null,null,null,null,{"$f":"SAR!J78","v":""},null,null,null,null,null,null,null,null,null,null,null,null,null,null,null,null,null,null,null,{"$f":"IF(BM13>0,18,0)","v":0}]
[]
[]
[]
[]
[{"$f":"COUNT(B25:G27)","v":0},"AREA",null,null,null,null,null,{"$f":"COUNT(I25:Q27)","v":0},"UNIT",null,null,null,null,null,null,null,null,null,"VOLT",null,null,{"$f":"COUNT(W25:AE27)","v":0},"LINE",null,null,null,null,null,null,null,null,null,null,"START POLE LOCATION\n12 DIGIT GRID REF \n(NO PREFIX LETTERS)",null,null,null,null,null,null,null,null,null,{"$f":"IF(BL22=6,1,0)","v":0},"X",null,null,null,null,null,null,null,null,null,null,null,null,null,null,null,null,null,null,{"$f":"COUNT(AT22:BK24)","v":0}]
[]
[null,null,null,null,null,null,null,null,null,null,null,null,null,null,null,null,null,null,null,null,null,null,null,null,null,null,null,null,null,null,null,null,null,null,null,null,null,null,null,null,null,null,null,null,null,null,null,null,null,null,null,null,null,null,null,null,null,null,null,null,null,null,null,null,null,null,"OTHER (PLEASE SPECIFY)"]
[{"$f":"IF(A22=2,1,0)","v":0},null,null,null,null,null,null,{"$f":"IF(H22=3,1,0)","v":0},null,null,null,null,null,null,null,null,null,{"$f":"IF(S25=\"\",0,1)","v":0},null,null,null,{"$f":"IF(V22=3,1,0)","v":0},null,null,null,null,null,null,null,null,null,null,null,null,null,null,null,null,null,null,null,null,null,{"$f":"IF(BL25=6,1,0)","v":0},"Y",null,null,null,null,null,null,null,null,null,null,null,null,null,null,null,null,null,null,{"$f":"COUNT(AT25:BK27)","v":0}]
[]
[]
[null,null,null,null,null,null,null,null,null,null,null,null,null,null,null,null,null,null,null,null,null,null,null,null,null,null,null,null,null,null,null,null,null,"END POLE LOCATION\n12 DIGIT GRID REF \n(NO PREFIX LETTERS)",null,null,null,null,null,null,null,null,null,{"$f":"IF(BL28=6,1,0)","v":0},"X",null,null,null,null,null,null,null,null,null,null,null,null,null,null,null,null,null,null,{"$f":"COUNT(AT28:BK30)","v":0}]
[null,"START POLE I.D.",null,null,null,null,null,null,null,null,null,{"$f":"IF(M29=\"\",0,1)","v":0}]
[]
[null,null,null,null,null,null,null,null,null,null,null,null,null,null,null,null,null,null,null,null,null,null,null,null,null,null,null,null,null,null,null,null,null,null,null,null,null,null,null,null,null,null,null,{"$f":"IF(BL31=6,1,0)","v":0},"Y",null,null,null,null,null,null,null,null,null,null,null,null,null,null,null,null,null,null,{"$f":"COUNT(AT31:BK33)","v":0}]
[null,"END POLE I.D.",null,null,null,null,null,null,null,null,null,{"$f":"IF(M32=\"\",0,1)","v":0}]
[]
[]
[null,"YEAR COMMISSIONED",null,null,null,null,null,null,null,null,null,{"$f":"IF(M35=\"\",0,1)","v":0}]
[]
[]
[null,"CONSTRUCTION",null,null,null,null,null,null,null,null,null,{"$f":"IF(M38=\"\",0,1)","v":0},null,null,null,null,null,null,null,null,null,null,null,null,null,null,null,null,{"$f":"IFERROR(VLOOKUP(M38,CODES!$A$123:$B$124,2,FALSE),\"\")","v":""}]
[]
[]
[null,"SINGLE CIRCUIT",null,null,null,null,null,null,null,null,null,{"$f":"IF(M41=\"\",0,1)","v":0},null,null,null,null,null,null,null,null,null,null,null,null,null,null,null,null,{"$f":"IFERROR(VLOOKUP(M41,CODES!$A$123:$B$124,2,FALSE),\"\")","v":""}]
[]
[]
[null,"CONTINUOUS EARTH WIRE",null,null,null,null,null,null,null,null,null,{"$f":"IF(M44=\"\",0,1)","v":0},null,null,null,null,null,null,null,null,null,null,null,null,null,null,null,null,{"$f":"IFERROR(VLOOKUP(M44,CODES!$A$123:$B$124,2,FALSE),\"\")","v":""}]
[]
[]
[null,"PILOT CARENARY",null,null,null,null,null,null,null,null,null,{"$f":"IF(M47=\"\",0,1)","v":0},null,null,null,null,null,null,null,null,null,null,null,null,null,null,null,null,{"$f":"IFERROR(VLOOKUP(M47,CODES!$A$123:$B$124,2,FALSE),\"\")","v":""}]
[]
[]
[null,"LINE SPECIFICATION",null,null,null,null,null,null,null,null,null,{"$f":"IF(M50=\"\",0,1)","v":0},null,null,null,null,null,null,null,null,null,null,null,null,null,null,null,null,{"$f":"IFERROR(VLOOKUP(M50,CODES!$V$10:$W$26,2,FALSE),\"\")","v":""}]
[]
[]
[null,"CONDUCTOR TYPE",null,null,null,null,null,null,null,null,null,{"$f":"IF(M53=\"\",0,1)","v":0},null,null,null,null,null,null,null,null,null,null,null,null,null,null,null,null,{"$f":"IFERROR(VLOOKUP(M53,CODES!$V$52:$W$71,2,FALSE),\"\")","v":""}]
[]
[]
[null,"CONDUCTOR SIZE",null,null,null,null,null,null,null,null,null,{"$f":"IF(M56=\"\",0,1)","v":0},null,null,null,null,null,null,null,null,null,null,null,null,null,null,null,null,{"$f":"IFERROR(VLOOKUP(M56,CODES!$V$75:$W$94,2,FALSE),\"\")","v":""}]
[]
[]
[]
[null,"ADDITIONAL INFORMATION",null,null,null,null,null,null,null,null,null,null,null,null,null,null,null,null,null,null,null,null,null,null,null,null,null,null,null,null,null,null,null,null,null,null,null,null,null,null,null,null,null,null,null,null,null,null,null,null,null,null,null,null,null,null,null,null,null,null,null,null,null,null,{"$f":"IF(B63=\"\",0,1)","v":0}]
[]
[]
[]
[]
[]
[]
[]
[]
[]
[]
[]
[]
[]
[]
[]
[]
[]
[]
[]
[]
[]
[]
[]
[null,1,2,3,4,5,6,7,8,9,10,11,12,13,14,15,16,17,18,19,20,21,22,23,24,25,26,27,28,29,30,31,32,33,34,35,36,37,38,39,40,41,42,43,44,45,46,47,48,49,50,51,52,53,54,55,56,57,58,59,60,61,62,63]

{"sheet":"DOC 8A","index":21,"n_rows":184,"n_cols":167,"rows_kept":184,"cut":false,"hidden":false,"merged":[[177,65,179,65],[180,65,182,65],[183,65,185,65],[126,65,128,65],[129,65,131,65],[132,65,134,65],[135,65,137,65],[138,65,140,65],[141,65,143,65],[144,65,146,65],[147,65,149,65],[150,65,152,65],[153,65,155,65],[156,65,158,65],[159,65,161,65],[162,65,164,65],[165,65,167,65],[168,65,170,65],[171,65,173,65],[174,65,176,65],[177,9,179,9],[177,10,179,10],[177,39,179,40],[177,41,179,41],[177,42,179,43],[177,46,179,46],[177,47,179,50],[180,9,182,9],[180,10,182,10],[180,39,182,40],[180,41,182,41],[180,42,182,43],[180,46,182,46],[180,47,182,50],[183,9,185,9],[183,10,185,10],[183,39,185,40],[183,41,185,41],[183,42,185,43],[183,46,185,46],[183,47,185,50],[183,26,185,26],[183,28,185,28],[183,29,185,29],[183,30,185,30],[183,31,185,31],[183,32,185,32],[183,33,185,33],[183,34,185,34],[183,35,185,35],[183,36,185,36],[183,37,185,37],[168,10,170,10],[168,41,170,41],[168,42,170,43],[165,37,167,37],[159,24,161,24],[159,25,161,25],[162,35,164,35],[162,36,164,36],[165,28,167,28],[165,29,167,29],[165,30,167,30],[165,31,167,31],[165,32,167,32],[165,33,167,33],[165,34,167,34],[165,35,167,35],[165,36,167,36],[162,28,164,28],[162,29,164,29],[162,30,164,30],[168,32,170,32],[168,33,170,33],[168,34,170,34],[168,35,170,35],[162,23,164,23],[168,14,170,14],[168,15,170,15],[168,16,170,16],[168,17,170,17],[168,18,170,18],[168,19,170,19],[168,13,170,13],[168,21,170,21],[168,22,170,22],[168,23,170,23],[150,26,152,26],[150,28,152,28],[150,29,152,29],[150,33,152,33],[150,34,152,34],[150,35,152,35],[150,36,152,36],[150,37,152,37],[150,44,152,45],[150,42,152,43],[150,39,152,40],[150,41,152,41],[150,23,152,23],[150,24,152,24],[168,36,170,36],[168,24,170,24],[168,25,170,25],[165,26,167,26],[159,26,161,26],[159,28,161,28],[159,29,161,29],[159,30,161,30],[159,31,161,31],[159,32,161,32],[159,33,161,33],[159,34,161,34],[159,35,161,35],[159,21,161,21],[168,39,170,40],[159,9,161,9],[159,10,161,10],[159,39,161,40],[159,11,161,11],[159,12,161,12],[150,25,152,25],[150,9,152,9],[150,10,152,10],[141,26,143,26],[141,28,143,28],[141,29,143,29],[141,30,143,30],[141,31,143,31],[141,32,143,32],[141,33,143,33],[141,34,143,34],[141,35,143,35],[141,36,143,36],[141,37,143,37],[144,37,146,37],[144,28,146,28],[144,29,146,29],[144,30,146,30],[144,31,146,31],[144,32,146,32],[144,35,146,35],[159,13,161,13],[159,37,161,37],[159,22,161,22],[144,26,146,26],[144,36,146,36],[107,9,125,10],[107,11,125,13],[107,14,122,14],[107,15,125,17],[107,18,125,23],[107,24,125,24],[107,26,122,37],[129,9,131,9],[129,10,131,10],[129,29,131,29],[129,30,131,30],[129,31,131,31],[129,32,131,32],[129,33,131,33],[129,34,131,34],[129,35,131,35],[129,36,131,36],[126,26,128,26],[126,28,128,28],[126,29,128,29],[123,14,125,14],[123,26,125,31],[123,32,125,37],[126,30,128,30],[126,31,128,31],[126,32,128,32],[126,33,128,33],[126,34,128,34],[126,35,128,35],[126,36,128,36],[126,37,128,37],[54,63,56,63],[51,63,53,63],[60,64,62,64],[48,56,50,56],[48,55,50,55],[48,64,50,64],[104,58,106,64],[104,52,106,56],[87,47,89,50],[90,47,92,50],[93,47,95,50],[96,47,98,50],[99,47,101,50],[63,61,65,61],[60,61,62,61],[60,60,62,60],[57,63,59,63],[63,60,65,60],[69,64,71,64],[75,47,77,50],[78,47,80,50],[81,47,83,50],[84,47,86,50],[72,58,74,58],[60,63,62,63],[63,63,65,63],[66,62,68,62],[60,58,62,58],[57,55,59,55],[57,52,59,52],[66,64,68,64],[63,62,65,62],[63,10,65,10],[66,63,68,63],[66,60,68,60],[63,9,65,9],[63,56,65,56],[63,58,65,58],[63,59,65,59],[57,59,59,59],[57,60,59,60],[57,61,59,61],[57,56,59,56],[57,58,59,58],[69,53,71,53],[87,60,89,60],[87,61,89,61],[75,54,77,54],[75,52,77,52],[87,58,89,58],[84,58,86,58],[87,59,89,59],[84,52,86,52],[84,53,86,53],[84,54,86,54],[84,55,86,55],[75,55,77,55],[66,54,68,54],[66,61,68,61],[69,54,71,54],[66,56,68,56],[63,53,65,53],[69,21,71,21],[66,42,68,43],[84,41,86,41],[75,46,77,46],[69,36,71,36],[60,62,62,62],[23,59,38,59],[45,53,47,53],[45,63,47,63],[42,63,44,63],[39,63,41,63],[66,9,68,9],[57,9,59,9],[57,10,59,10],[60,30,62,30],[60,19,62,19],[57,21,59,21],[54,30,56,30],[66,59,68,59],[57,62,59,62],[51,46,53,46],[54,46,56,46],[57,54,59,54],[60,59,62,59],[66,58,68,58],[60,41,62,41],[66,53,68,53],[66,52,68,52],[45,61,47,61],[51,9,53,9],[51,10,53,10],[51,28,53,28],[66,36,68,36],[66,37,68,37],[84,39,86,40],[81,27,83,27],[81,28,83,28],[84,21,86,21],[84,35,86,35],[87,64,89,64],[81,46,83,46],[81,52,83,52],[81,39,83,40],[81,33,83,33],[84,9,86,9],[84,10,86,10],[84,11,86,11],[20,39,22,50],[42,47,44,50],[45,47,47,50],[48,47,50,50],[51,47,53,50],[54,47,56,50],[57,47,59,50],[60,47,62,50],[63,47,65,50],[66,47,68,50],[69,47,71,50],[72,47,74,50],[42,35,44,35],[45,28,47,28],[81,42,83,43],[78,33,80,33],[78,34,80,34],[78,23,80,23],[75,27,77,27],[81,9,83,9],[81,10,83,10],[87,9,89,9],[87,10,89,10],[87,11,89,11],[87,12,89,12],[81,18,83,18],[81,19,83,19],[81,20,83,20],[75,24,77,24],[84,24,86,24],[87,23,89,23],[87,24,89,24],[87,26,89,26],[87,27,89,27],[84,27,86,27],[75,23,77,23],[87,13,89,13],[87,14,89,14],[84,26,86,26],[84,12,86,12],[81,15,83,15],[81,16,83,16],[84,17,86,17],[87,18,89,18],[87,17,89,17],[72,17,74,17],[72,12,74,12],[75,13,77,13],[75,14,77,14],[75,15,77,15],[78,15,80,15],[69,22,71,22],[69,23,71,23],[69,24,71,24],[78,13,80,13],[78,22,80,22],[72,24,74,24],[66,24,68,24],[66,16,68,16],[66,13,68,13],[66,17,68,17],[75,58,77,58],[72,39,74,40],[66,31,68,31],[75,53,77,53],[78,30,80,30],[78,31,80,31],[72,13,74,13],[186,0,186,66],[12,1,14,65],[96,66,98,66],[99,66,101,66],[0,104,1,104],[2,104,4,104],[5,104,7,104],[177,27,179,27],[180,27,182,27],[183,27,185,27],[126,27,128,27],[129,27,131,27],[132,27,134,27],[135,27,137,27],[138,27,140,27],[141,27,143,27],[144,27,146,27],[147,27,149,27],[150,27,152,27],[153,27,155,27],[156,27,158,27],[159,27,161,27],[162,27,164,27],[165,27,167,27],[168,27,170,27],[171,27,173,27],[174,27,176,27],[150,66,152,66],[153,66,155,66],[69,10,71,10],[66,12,68,12],[72,23,74,23],[45,5,47,6],[42,5,44,6],[165,66,167,66],[168,66,170,66],[177,66,179,66],[180,66,182,66],[183,66,185,66],[42,25,44,25],[45,25,47,25],[48,25,50,25],[51,25,53,25],[54,25,56,25],[57,25,59,25],[60,25,62,25],[63,25,65,25],[66,25,68,25],[69,25,71,25],[72,25,74,25],[75,25,77,25],[78,25,80,25],[81,25,83,25],[84,25,86,25],[87,25,89,25],[90,25,92,25],[93,25,95,25],[96,25,98,25],[99,25,101,25],[75,66,77,66],[78,66,80,66],[81,66,83,66],[84,66,86,66],[84,13,86,13],[63,64,65,64],[72,64,74,64],[183,44,185,45],[180,54,182,54],[180,55,182,55],[180,56,182,56],[180,58,182,58],[180,60,182,60],[180,61,182,61],[126,66,128,66],[129,66,131,66],[132,66,134,66],[135,66,137,66],[138,66,140,66],[141,66,143,66],[144,66,146,66],[147,66,149,66],[183,60,185,60],[183,61,185,61],[183,62,185,62],[183,63,185,63],[183,64,185,64],[171,66,173,66],[174,66,176,66],[180,62,182,62],[180,63,182,63],[180,64,182,64],[183,54,185,54],[171,64,173,64],[168,58,170,58],[168,60,170,60],[90,54,92,54],[156,66,158,66],[159,66,161,66],[162,66,164,66],[168,61,170,61],[168,62,170,62],[168,63,170,63],[168,64,170,64],[165,60,167,60],[165,61,167,61],[165,62,167,62],[165,63,167,63],[165,64,167,64],[162,60,164,60],[162,61,164,61],[162,62,164,62],[162,63,164,63],[162,64,164,64],[159,60,161,60],[159,61,161,61],[159,62,161,62],[159,63,161,63],[159,64,161,64],[183,1,185,3],[183,5,185,6],[183,11,185,11],[183,12,185,12],[183,13,185,13],[183,14,185,14],[183,15,185,15],[183,16,185,16],[183,17,185,17],[183,18,185,18],[183,19,185,19],[183,20,185,20],[183,21,185,21],[183,22,185,22],[183,23,185,23],[183,24,185,24],[183,25,185,25],[183,8,185,8],[183,52,185,52],[183,53,185,53],[183,59,185,59],[183,55,185,55],[183,56,185,56],[183,58,185,58],[180,37,182,37],[177,60,179,60],[177,61,179,61],[177,62,179,62],[177,63,179,63],[177,64,179,64],[180,1,182,3],[180,5,182,6],[180,11,182,11],[180,12,182,12],[180,13,182,13],[180,14,182,14],[180,15,182,15],[180,16,182,16],[180,17,182,17],[180,18,182,18],[180,19,182,19],[180,20,182,20],[180,21,182,21],[180,22,182,22],[180,23,182,23],[180,24,182,24],[180,25,182,25],[180,26,182,26],[180,28,182,28],[180,29,182,29],[180,30,182,30],[180,31,182,31],[180,32,182,32],[180,33,182,33],[180,34,182,34],[180,35,182,35],[180,36,182,36],[174,64,176,64],[177,1,179,3],[177,5,179,6],[177,11,179,11],[177,12,179,12],[177,13,179,13],[177,14,179,14],[177,15,179,15],[177,16,179,16],[177,17,179,17],[177,18,179,18],[177,19,179,19],[177,20,179,20],[177,21,179,21],[177,22,179,22],[177,23,179,23],[177,24,179,24],[177,25,179,25],[177,26,179,26],[177,28,179,28],[177,29,179,29],[177,30,179,30],[177,31,179,31],[177,32,179,32],[177,33,179,33],[177,34,179,34],[177,35,179,35],[177,36,179,36],[177,37,179,37],[174,37,176,37],[174,44,176,45],[177,44,179,45],[174,39,176,40],[174,41,176,41],[174,42,176,43],[174,46,176,46],[174,47,176,50],[174,54,176,54],[174,55,176,55],[174,56,176,56],[174,58,176,58],[174,60,176,60],[174,61,176,61],[177,52,179,52],[177,53,179,53],[177,59,179,59],[174,62,176,62],[174,63,176,63],[174,52,176,52],[174,53,176,53],[174,59,176,59],[171,60,173,60],[171,61,173,61],[171,62,173,62],[171,63,173,63],[171,59,173,59],[171,58,173,58],[174,1,176,3],[174,5,176,6],[174,11,176,11],[174,12,176,12],[174,13,176,13],[174,14,176,14],[174,15,176,15],[174,16,176,16],[174,17,176,17],[174,18,176,18],[174,19,176,19],[174,20,176,20],[174,21,176,21],[174,22,176,22],[174,23,176,23],[174,24,176,24],[174,25,176,25],[174,8,176,8],[174,9,176,9],[174,10,176,10],[174,26,176,26],[168,46,170,46],[168,8,170,8],[174,28,176,28],[174,29,176,29],[174,30,176,30],[174,31,176,31],[174,32,176,32],[174,33,176,33],[174,34,176,34],[174,35,176,35],[174,36,176,36],[171,28,173,28],[171,29,173,29],[171,30,173,30],[171,31,173,31],[171,32,173,32],[171,33,173,33],[171,34,173,34],[171,35,173,35],[171,36,173,36],[171,9,173,9],[171,10,173,10],[171,39,173,40],[171,41,173,41],[171,42,173,43],[171,46,173,46],[171,26,173,26],[171,37,173,37],[168,55,170,55],[168,56,170,56],[171,1,173,3],[171,5,173,6],[171,11,173,11],[171,12,173,12],[171,13,173,13],[171,14,173,14],[171,15,173,15],[171,16,173,16],[171,17,173,17],[171,18,173,18],[171,19,173,19],[171,20,173,20],[171,21,173,21],[171,22,173,22],[171,23,173,23],[171,24,173,24],[171,25,173,25],[171,8,173,8],[168,1,170,3],[168,5,170,6],[168,11,170,11],[168,12,170,12],[168,9,170,9],[168,37,170,37],[168,26,170,26],[168,28,170,28],[168,29,170,29],[168,30,170,30],[168,31,170,31],[168,20,170,20],[165,1,167,3],[165,5,167,6],[165,11,167,11],[165,12,167,12],[165,13,167,13],[165,14,167,14],[165,15,167,15],[165,16,167,16],[165,17,167,17],[165,18,167,18],[165,19,167,19],[165,20,167,20],[165,21,167,21],[165,22,167,22],[165,23,167,23],[165,24,167,24],[165,47,167,50],[165,44,167,45],[165,25,167,25],[165,9,167,9],[165,10,167,10],[165,39,167,40],[165,41,167,41],[165,42,167,43],[165,46,167,46],[153,1,155,3],[153,5,155,6],[153,11,155,11],[162,1,164,3],[162,5,164,6],[162,11,164,11],[162,12,164,12],[162,13,164,13],[162,14,164,14],[162,15,164,15],[162,16,164,16],[162,17,164,17],[162,18,164,18],[162,19,164,19],[162,20,164,20],[162,21,164,21],[162,22,164,22],[162,9,164,9],[162,10,164,10],[159,20,161,20],[156,20,158,20],[156,21,158,21],[156,22,158,22],[159,1,161,3],[159,5,161,6],[159,14,161,14],[159,15,161,15],[159,16,161,16],[159,17,161,17],[159,18,161,18],[159,19,161,19],[156,1,158,3],[162,39,164,40],[162,41,164,41],[162,42,164,43],[162,46,164,46],[162,47,164,50],[159,53,161,53],[162,37,164,37],[162,25,164,25],[159,23,161,23],[159,41,161,41],[159,42,161,43],[159,36,161,36],[156,53,158,53],[156,59,158,59],[153,60,155,60],[153,46,155,46],[153,47,155,50],[153,28,155,28],[153,29,155,29],[153,30,155,30],[153,31,155,31],[153,32,155,32],[153,33,155,33],[153,34,155,34],[153,35,155,35],[153,36,155,36],[153,37,155,37],[153,61,155,61],[153,62,155,62],[153,63,155,63],[156,25,158,25],[153,24,155,24],[153,25,155,25],[156,46,158,46],[156,23,158,23],[156,24,158,24],[156,9,158,9],[156,10,158,10],[156,26,158,26],[156,28,158,28],[156,29,158,29],[156,60,158,60],[156,61,158,61],[156,62,158,62],[153,23,155,23],[153,58,155,58],[156,54,158,54],[156,55,158,55],[156,56,158,56],[156,39,158,40],[156,41,158,41],[156,42,158,43],[153,9,155,9],[153,10,155,10],[153,39,155,40],[153,41,155,41],[156,5,158,6],[156,11,158,11],[156,12,158,12],[156,13,158,13],[156,14,158,14],[156,15,158,15],[156,16,158,16],[156,17,158,17],[156,18,158,18],[156,19,158,19],[153,26,155,26],[153,44,155,45],[153,12,155,12],[153,13,155,13],[153,14,155,14],[153,15,155,15],[153,16,155,16],[153,17,155,17],[153,18,155,18],[153,19,155,19],[153,20,155,20],[153,21,155,21],[153,22,155,22],[153,42,155,43],[153,8,155,8],[156,8,158,8],[153,64,155,64],[156,47,158,50],[156,64,158,64],[156,58,158,58],[162,24,164,24],[156,30,158,30],[156,31,158,31],[156,32,158,32],[156,33,158,33],[156,34,158,34],[156,35,158,35],[156,36,158,36],[159,44,161,45],[156,37,158,37],[156,44,158,45],[162,31,164,31],[162,32,164,32],[162,33,164,33],[162,34,164,34],[162,26,164,26],[159,59,161,59],[162,54,164,54],[153,52,155,52],[153,53,155,53],[153,59,155,59],[153,54,155,54],[153,55,155,55],[153,56,155,56],[162,55,164,55],[162,56,164,56],[156,63,158,63],[156,52,158,52],[147,62,149,62],[147,63,149,63],[147,64,149,64],[150,30,152,30],[150,31,152,31],[150,32,152,32],[150,54,152,54],[147,54,149,54],[147,55,149,55],[147,56,149,56],[147,58,149,58],[150,55,152,55],[150,56,152,56],[150,58,152,58],[150,60,152,60],[147,35,149,35],[147,36,149,36],[147,37,149,37],[147,44,149,45],[150,61,152,61],[150,62,152,62],[150,63,152,63],[147,34,149,34],[150,64,152,64],[150,53,152,53],[147,41,149,41],[150,59,152,59],[150,46,152,46],[150,47,152,50],[147,61,149,61],[147,52,149,52],[147,53,149,53],[144,8,146,8],[147,8,149,8],[144,15,146,15],[150,1,152,3],[150,5,152,6],[150,11,152,11],[150,12,152,12],[150,13,152,13],[150,14,152,14],[150,15,152,15],[150,16,152,16],[150,17,152,17],[150,18,152,18],[150,19,152,19],[150,20,152,20],[150,21,152,21],[150,22,152,22],[144,9,146,9],[144,10,146,10],[144,16,146,16],[144,17,146,17],[150,8,152,8],[147,9,149,9],[147,10,149,10],[144,58,146,58],[144,19,146,19],[144,20,146,20],[144,21,146,21],[144,22,146,22],[144,23,146,23],[144,24,146,24],[144,25,146,25],[144,33,146,33],[144,34,146,34],[147,42,149,43],[147,46,149,46],[147,47,149,50],[144,39,146,40],[144,41,146,41],[144,42,146,43],[144,46,146,46],[144,47,146,50],[147,30,149,30],[147,31,149,31],[147,32,149,32],[147,28,149,28],[147,29,149,29],[147,39,149,40],[147,33,149,33],[147,25,149,25],[147,26,149,26],[144,52,146,52],[144,62,146,62],[144,63,146,63],[144,64,146,64],[147,1,149,3],[147,5,149,6],[147,11,149,11],[147,12,149,12],[147,13,149,13],[147,14,149,14],[147,15,149,15],[147,16,149,16],[147,17,149,17],[147,18,149,18],[147,19,149,19],[147,20,149,20],[147,21,149,21],[147,22,149,22],[147,23,149,23],[147,24,149,24],[144,1,146,3],[144,5,146,6],[144,11,146,11],[144,12,146,12],[144,13,146,13],[144,14,146,14],[144,54,146,54],[144,55,146,55],[144,56,146,56],[144,18,146,18],[144,60,146,60],[144,61,146,61],[147,60,149,60],[138,63,140,63],[138,64,140,64],[141,1,143,3],[141,5,143,6],[141,11,143,11],[141,12,143,12],[141,13,143,13],[141,14,143,14],[141,15,143,15],[141,16,143,16],[141,17,143,17],[141,18,143,18],[141,19,143,19],[141,20,143,20],[141,21,143,21],[141,22,143,22],[141,23,143,23],[141,24,143,24],[141,25,143,25],[141,60,143,60],[141,61,143,61],[141,62,143,62],[141,63,143,63],[141,64,143,64],[138,9,140,9],[138,10,140,10],[138,39,140,40],[138,41,140,41],[138,42,140,43],[141,9,143,9],[141,10,143,10],[141,39,143,40],[138,1,140,3],[138,5,140,6],[138,11,140,11],[138,12,140,12],[138,13,140,13],[138,14,140,14],[138,15,140,15],[138,16,140,16],[138,17,140,17],[138,18,140,18],[138,19,140,19],[138,20,140,20],[138,21,140,21]],"merged_total":2284,"flags":["merged_cut"]}
[null,null,null,null,null,null,null,null,null,null,null,null,null,null,null,null,null,null,null,null,null,null,null,null,null,null,null,null,null,null,null,null,null,null,null,null,null,null,null,null,null,null,null,null,null,null,null,null,null,null,null,null,null,null,null,null,null,null,null,null,null,null,null,null,null,null,null,null,null,null,null,null,null,null,null,null,null,null,{"$f":"BO13","v":0},null,{"$f":"BO14","v":0},null,null,null,null,null,null,null,null,null,null,null,null,null,null,null,null,null,null,null,null,null,null,null,"PRINT?",null,null,null,null,null,null,null,null,null,null,null,null,null,null,null,null,null,null,null,null,null,null,null,null,null,null,null,null,null,null,null,null,null,null,null,null,null,null,null,null,null,null,null,null,null,null,null,"EQUIPMENT CLASS","EQUIPNOD1","EQUIPNOD2","PLANTCODE0","PLANTCODE1","PLANTCODE2","PLANTCODE3","PLANTCODE4","EQUIPGRPID","EQUIPSTATUS","PARENTEQUIPREF","ACCOUNTCODE","EQUIPCLASSIF2","EQUIPCLASSIF3","EQUIPCLASSIF17"]
[null,null,null,null,null,null,null,null,null,null,null,null,null,"DOC 8A",null,null,null,null,null,null,null,null,null,null,null,"ENGINEER",null,null,null,{"$f":"SAR!$K$13","v":""},null,null,null,null,null,null,null,null,null,null,null,"VOLTAGE",null,null,null,{"$f":"SAR!$K$36","v":0},null,null,null,null,null,"SATS",null,null,{"$f":"SAR!$BA$2","v":0}]
[null,null,null,null,null,null,null,null,null,null,null,null,null,null,null,null,null,null,null,null,null,null,null,null,null,null,null,null,null,null,null,null,null,null,null,null,null,null,null,null,null,null,null,null,null,null,null,null,null,null,null,null,null,null,null,null,null,null,null,null,null,null,null,null,null,null,null,null,null,null,null,null,null,null,null,null,null,null,null,null,null,null,null,null,null,null,null,null,null,null,null,null,null,null,null,null,null,null,null,null,null,null,null,null,{"$f":"IF(CA1=0,\"\",\"Y\")","v":""}]
[null,null,null,null,null,null,null,null,null,null,null,null,null,null,null,null,null,null,null,null,null,null,null,null,null,null,null,null,null,null,null,null,null,null,null,null,null,null,null,null,null,null,null,null,null,null,null,null,null,null,null,null,null,null,null,null,null,null,null,null,null,null,null,null,null,null,null,null,null,null,null,null,null,null,null,null,null,null,{"$f":"CA1/CC1","v":{"$error":"#DIV/0!"}},null,null,null,null,null,null,null,null,null,null,null,null,null,null,null,null,null,null,null,null,null,null,null,null,null,null,null,null,null,null,null,null,null,null,null,null,null,null,null,null,null,null,null,null,null,null,null,null,null,null,null,null,null,null,null,null,null,null,null,null,null,null,null,null,null,null,null,null,null,null,null,1,"WOODPOLE DETAILS","PH",{"$f":"CONCATENATE(EZ4,FA4,FB4,FC4,FD4)","v":"0"},null,{"$f":"CONCATENATE(J43,K43)","v":""},{"$f":"CONCATENATE(L43,M43,N43)","v":""},{"$f":"O43","v":0},{"$f":"CONCATENATE(P43,Q43,R43)","v":""},{"$f":"CONCATENATE(S43,T43,U43,V43,W43,X43,)","v":""},"POLE_E","AC",{"$f":"CONCATENATE(EZ4,FA4,FB4,FC4)","v":"0"},"E9999",1,1,"08"]
[null,null,null,null,null,null,null,null,null,null,null,null,null,null,null,null,null,null,null,null,null,null,null,null,null,"AREA",null,null,null,{"$f":"SAR!$K$39","v":0},null,null,null,null,null,null,null,null,null,null,null,"PROJECT DATE",null,null,null,{"$f":"SAR!$K$42","v":"00:00:00"},null,null,null,null,null,null,null,null,null,null,null,null,null,null,null,null,null,null,null,null,null,null,null,null,null,null,null,null,null,null,null,null,null,null,null,null,null,null,null,null,null,null,null,null,null,null,null,null,null,null,null,null,null,null,null,null,null,null,null,null,null,null,null,null,null,null,null,null,null,null,null,null,null,null,null,null,null,null,null,null,null,null,null,null,null,null,null,null,null,null,null,null,null,null,null,null,null,null,null,null,null,null,null,null,2,"WOODPOLE DETAILS","PH","0",null,{"$f":"CONCATENATE(J46,K46)","v":""},{"$f":"CONCATENATE(L46,M46,N46)","v":""},{"$f":"O46","v":0},{"$f":"CONCATENATE(P46,Q46,R46)","v":""},{"$f":"CONCATENATE(S46,T46,U46,V46,W46,X46,)","v":""},"POLE_E","AC","0","E9999",1,1,"08"]
[null,null,null,null,null,null,null,null,null,null,null,null,null,null,null,null,null,null,null,null,null,null,null,null,null,null,null,null,null,null,null,null,null,null,null,null,null,null,null,null,null,null,null,null,null,null,null,null,null,null,null,null,null,null,null,null,null,null,null,null,null,null,null,null,null,null,null,null,null,null,null,null,null,null,null,null,null,null,null,null,null,null,null,null,null,null,null,null,null,null,null,null,null,null,null,null,null,null,null,null,null,null,null,null,null,null,null,null,null,null,null,null,null,null,null,null,null,null,null,null,null,null,null,null,null,null,null,null,null,null,null,null,null,null,null,null,null,null,null,null,null,null,null,null,null,null,null,null,null,null,3,"WOODPOLE DETAILS","PH","0",null,{"$f":"CONCATENATE(J49,K49)","v":""},{"$f":"CONCATENATE(L49,M49,N49)","v":""},{"$f":"O49","v":0},{"$f":"CONCATENATE(P49,Q49,R49)","v":""},{"$f":"CONCATENATE(S49,T49,U49,V49,W49,X49,)","v":""},"POLE_E","AC","0","E9999",1,1,"08"]
[null,null,null,null,null,null,null,null,null,null,null,null,null,null,null,null,null,null,null,null,null,null,null,null,null,null,null,null,null,null,null,null,null,null,null,null,null,null,null,null,null,null,null,null,null,null,null,null,null,null,null,null,null,null,null,null,null,null,null,null,null,null,null,null,null,null,null,null,null,null,null,null,null,null,null,null,null,null,null,null,null,null,null,null,null,null,null,null,null,null,null,null,null,null,null,null,null,null,null,null,null,null,null,null,null,null,null,null,null,null,null,null,null,null,null,null,null,null,null,null,null,null,null,null,null,null,null,null,null,null,null,null,null,null,null,null,null,null,null,null,null,null,null,null,null,null,null,null,null,null,4,"WOODPOLE DETAILS","PH","0",null,{"$f":"CONCATENATE(J52,K52)","v":""},{"$f":"CONCATENATE(L52,M52,N52)","v":""},{"$f":"O52","v":0},{"$f":"CONCATENATE(P52,Q52,R52)","v":""},{"$f":"CONCATENATE(S52,T52,U52,V52,W52,X52,)","v":""},"POLE_E","AC","0","E9999",1,1,"08"]
[null,null,null,null,null,null,null,null,null,null,null,null,null,null,null,null,null,null,null,null,null,null,null,null,null,null,null,null,null,null,null,null,null,null,null,null,null,null,null,null,null,null,null,null,null,null,null,null,null,null,null,null,null,null,null,null,null,null,null,null,null,null,null,null,null,null,null,null,null,null,null,null,null,null,null,null,null,null,null,null,null,null,null,null,null,null,null,null,null,null,null,null,null,null,null,null,null,null,null,null,null,null,null,null,null,null,null,null,null,null,null,null,null,null,null,null,null,null,null,null,null,null,null,null,null,null,null,null,null,null,null,null,null,null,null,null,null,null,null,null,null,null,null,null,null,null,null,null,null,null,5,"WOODPOLE DETAILS","PH","0",null,{"$f":"CONCATENATE(J55,K55)","v":""},{"$f":"CONCATENATE(L55,M55,N55)","v":""},{"$f":"O55","v":0},{"$f":"CONCATENATE(P55,Q55,R55)","v":""},{"$f":"CONCATENATE(S55,T55,U55,V55,W55,X55,)","v":""},"POLE_E","AC","0","E9999",1,1,"08"]
[null,"PRIMARY SUBSTATION ",null,null,null,null,{"$f":"SAR!$K$45","v":0},null,null,null,null,null,null,null,null,null,null,null,null,null,null,null,null,null,null,"DISTRIBUTION SUBSTATION ",null,null,null,null,{"$f":"SAR!$K$30","v":0},null,null,null,null,null,null,null,null,null,null,null,null,null,null,null,null,null,null,null,null,"PLANT REF",null,null,null,null,{"$f":"SAR!$K$33","v":0},null,null,null,null,null,null,null,null,null,{"$f":"SAR!$AB$36","v":""},null,null,null,null,null,null,null,null,null,null,null,null,null,null,null,null,null,null,null,null,null,null,null,null,null,null,null,null,null,null,null,null,null,null,null,null,null,null,null,null,null,null,null,null,null,null,null,null,null,null,null,null,null,null,null,null,null,null,null,null,null,null,null,null,null,null,null,null,null,null,null,null,null,null,null,null,null,null,null,null,null,null,null,6,"WOODPOLE DETAILS","PH","0",null,{"$f":"CONCATENATE(J58,K58)","v":""},{"$f":"CONCATENATE(L58,M58,N58)","v":""},{"$f":"O58","v":0},{"$f":"CONCATENATE(P58,Q58,R58)","v":""},{"$f":"CONCATENATE(S58,T58,U58,V58,W58,X58,)","v":""},"POLE_E","AC","0","E9999",1,1,"08"]
[null,null,null,null,null,null,null,null,null,null,null,null,null,null,null,null,null,null,null,null,null,null,null,null,null,null,null,null,null,null,null,null,null,null,null,null,null,null,null,null,null,null,null,null,null,null,null,null,null,null,null,null,null,null,null,null,null,null,null,null,null,null,null,null,null,null,null,null,null,null,null,null,null,null,null,null,null,null,null,null,null,null,null,null,null,null,null,null,null,null,null,null,null,null,null,null,null,null,null,null,null,null,null,null,null,null,null,null,null,null,null,null,null,null,null,null,null,null,null,null,null,null,null,null,null,null,null,null,null,null,null,null,null,null,null,null,null,null,null,null,null,null,null,null,null,null,null,null,null,null,7,"WOODPOLE DETAILS","PH","0",null,{"$f":"CONCATENATE(J61,K61)","v":""},{"$f":"CONCATENATE(L61,M61,N61)","v":""},{"$f":"O61","v":0},{"$f":"CONCATENATE(P61,Q61,R61)","v":""},{"$f":"CONCATENATE(S61,T61,U61,V61,W61,X61,)","v":""},"POLE_E","AC","0","E9999",1,1,"08"]
[null,null,null,null,null,null,null,null,null,null,null,null,null,null,null,null,null,null,null,null,null,null,null,null,null,null,null,null,null,null,null,null,null,null,null,null,null,null,null,null,null,null,null,null,null,null,null,null,null,null,null,null,null,null,null,null,null,null,null,null,null,null,null,null,null,null,null,null,null,null,null,null,null,null,null,null,null,null,null,null,null,null,null,null,null,null,null,null,null,null,null,null,null,null,null,null,null,null,null,null,null,null,null,null,null,null,null,null,null,null,null,null,null,null,null,null,null,null,null,null,null,null,null,null,null,null,null,null,null,null,null,null,null,null,null,null,null,null,null,null,null,null,null,null,null,null,null,null,null,null,8,"WOODPOLE DETAILS","PH","0",null,{"$f":"CONCATENATE(J64,K64)","v":""},{"$f":"CONCATENATE(L64,M64,N64)","v":""},{"$f":"O64","v":0},{"$f":"CONCATENATE(P64,Q64,R64)","v":""},{"$f":"CONCATENATE(S64,T64,U64,V64,W64,X64,)","v":""},"POLE_E","AC","0","E9999",1,1,"08"]
[null,null,null,null,null,null,null,null,null,null,null,null,null,null,null,null,null,null,null,null,null,null,null,null,null,null,null,null,null,null,null,null,null,null,null,null,null,null,null,null,null,null,null,null,null,null,null,null,null,null,null,null,null,null,null,null,null,null,null,null,null,null,null,null,null,null,null,null,null,null,null,null,null,null,null,null,null,null,null,null,null,null,null,null,null,null,null,null,null,null,null,null,null,null,null,null,null,null,null,null,null,null,null,null,null,null,null,null,null,null,null,null,null,null,null,null,null,null,null,null,null,null,null,null,null,null,null,null,null,null,null,null,null,null,null,null,null,null,null,null,null,null,null,null,null,null,null,null,null,null,9,"WOODPOLE DETAILS","PH","0",null,{"$f":"CONCATENATE(J67,K67)","v":""},{"$f":"CONCATENATE(L67,M67,N67)","v":""},{"$f":"O67","v":0},{"$f":"CONCATENATE(P67,Q67,R67)","v":""},{"$f":"CONCATENATE(S67,T67,U67,V67,W67,X67,)","v":""},"POLE_E","AC","0","E9999",1,1,"08"]
[null,"WOODPOLE INFORMATION",null,null,null,null,null,null,null,null,null,null,null,null,null,null,null,null,null,null,null,null,null,null,null,null,null,null,null,null,null,null,null,null,null,null,null,null,null,null,null,null,null,null,null,null,null,null,null,null,null,null,null,null,null,null,null,null,null,null,null,null,null,null,null,null,{"$f":"SUM(BO43:BO102,BO127:BO186,M17)","v":0},null,null,null,null,null,null,null,null,null,null,null,null,null,null,null,null,null,null,null,null,null,null,null,null,null,null,null,null,null,null,null,null,null,null,null,null,null,null,null,null,null,null,null,null,null,null,null,null,null,null,null,null,null,null,null,null,null,null,null,null,null,null,null,null,null,null,null,null,null,null,null,null,null,null,null,null,null,null,null,null,null,null,null,10,"WOODPOLE DETAILS","PH","0",null,{"$f":"CONCATENATE(J70,K70)","v":""},{"$f":"CONCATENATE(L70,M70,N70)","v":""},{"$f":"O70","v":0},{"$f":"CONCATENATE(P70,Q70,R70)","v":""},{"$f":"CONCATENATE(S70,T70,U70,V70,W70,X70,)","v":""},"POLE_E","AC","0","E9999",1,1,"08"]
[null,null,null,null,null,null,null,null,null,null,null,null,null,null,null,null,null,null,null,null,null,null,null,null,null,null,null,null,null,null,null,null,null,null,null,null,null,null,null,null,null,null,null,null,null,null,null,null,null,null,null,null,null,null,null,null,null,null,null,null,null,null,null,null,null,null,{"$f":"M17+((Z41+Z125)*15)","v":0},null,null,null,null,null,null,null,null,null,null,null,null,null,null,null,null,null,null,null,null,null,null,null,null,null,null,null,null,null,null,null,null,null,null,null,null,null,null,null,null,null,null,null,null,null,null,null,null,null,null,null,null,null,null,null,null,null,null,null,null,null,null,null,null,null,null,null,null,null,null,null,null,null,null,null,null,null,null,null,null,null,null,null,11,"WOODPOLE DETAILS","PH","0",null,{"$f":"CONCATENATE(J73,K73)","v":""},{"$f":"CONCATENATE(L73,M73,N73)","v":""},{"$f":"O73","v":0},{"$f":"CONCATENATE(P73,Q73,R73)","v":""},{"$f":"CONCATENATE(S73,T73,U73,V73,W73,X73,)","v":""},"POLE_E","AC","0","E9999",1,1,"08"]
[null,null,null,null,null,null,null,null,null,null,null,null,null,null,null,null,null,null,null,null,null,null,null,null,null,null,null,null,null,null,null,null,null,null,null,null,null,null,null,null,null,null,null,null,null,null,null,null,null,null,null,null,null,null,null,null,null,null,null,null,null,null,null,null,null,null,null,null,null,null,null,null,null,null,null,null,null,null,null,null,null,null,null,null,null,null,null,null,null,null,null,null,null,null,null,null,null,null,null,null,null,null,null,null,null,null,null,null,null,null,null,null,null,null,null,null,null,null,null,null,null,null,null,null,null,null,null,null,null,null,null,null,null,null,null,null,null,null,null,null,null,null,null,null,null,null,null,null,null,null,12,"WOODPOLE DETAILS","PH","0",null,{"$f":"CONCATENATE(J76,K76)","v":""},{"$f":"CONCATENATE(L76,M76,N76)","v":""},{"$f":"O76","v":0},{"$f":"CONCATENATE(P76,Q76,R76)","v":""},{"$f":"CONCATENATE(S76,T76,U76,V76,W76,X76,)","v":""},"POLE_E","AC","0","E9999",1,1,"08"]
[null,null,null,null,null,null,null,null,null,null,null,null,null,null,null,null,null,null,null,null,null,null,null,null,null,null,null,null,null,null,null,null,null,null,null,null,null,null,null,null,null,null,null,null,null,null,null,null,null,null,null,null,null,null,null,null,null,null,null,null,null,null,null,null,null,null,null,null,null,null,null,null,null,null,null,null,null,null,null,null,null,null,null,null,null,null,null,null,null,null,null,null,null,null,null,null,null,null,null,null,null,null,null,null,null,null,null,null,null,null,null,null,null,null,null,null,null,null,null,null,null,null,null,null,null,null,null,null,null,null,null,null,null,null,null,null,null,null,null,null,null,null,null,null,null,null,null,null,null,null,13,"WOODPOLE DETAILS","PH","0",null,{"$f":"CONCATENATE(J79,K79)","v":""},{"$f":"CONCATENATE(L79,M79,N79)","v":""},{"$f":"O79","v":0},{"$f":"CONCATENATE(P79,Q79,R79)","v":""},{"$f":"CONCATENATE(S79,T79,U79,V79,W79,X79,)","v":""},"POLE_E","AC","0","E9999",1,1,"08"]
[null,"COMMISSIONING DRIVER",null,null,null,null,null,null,null,null,null,null,{"$f":"IF(N17=\"\",0,1)","v":0},null,null,null,null,null,null,null,null,null,null,null,null,null,null,null,null,{"$f":"IFERROR(VLOOKUP(N17,CODES!$A$5:$B$36,2,FALSE),\"\")","v":""},null,null,null,null,null,"PROJECT CODE",null,null,null,null,null,null,null,null,null,null,{"$f":"SAR!J78","v":""},null,null,null,null,null,null,null,null,null,null,null,null,null,null,null,null,null,null,null,null,null,null,null,null,null,null,null,null,null,null,null,null,null,null,null,null,null,null,null,null,null,null,null,null,null,null,null,null,null,null,null,null,null,null,null,null,null,null,null,null,null,null,null,null,null,null,null,null,null,null,null,null,null,null,null,null,null,null,null,null,null,null,null,null,null,null,null,null,null,null,null,null,null,null,null,null,null,null,null,null,null,null,null,14,"WOODPOLE DETAILS","PH","0",null,{"$f":"CONCATENATE(J82,K82)","v":""},{"$f":"CONCATENATE(L82,M82,N82)","v":""},{"$f":"O82","v":0},{"$f":"CONCATENATE(P82,Q82,R82)","v":""},{"$f":"CONCATENATE(S82,T82,U82,V82,W82,X82,)","v":""},"POLE_E","AC","0","E9999",1,1,"08"]
[null,null,null,null,null,null,null,null,null,null,null,null,null,null,null,null,null,null,null,null,null,null,null,null,null,null,null,null,null,null,null,null,null,null,null,null,null,null,null,null,null,null,null,null,null,null,null,null,null,null,null,null,null,null,null,null,null,null,null,null,null,null,null,null,null,null,null,null,null,null,null,null,null,null,null,null,null,null,null,null,null,null,null,null,null,null,null,null,null,null,null,null,null,null,null,null,null,null,null,null,null,null,null,null,null,null,null,null,null,null,null,null,null,null,null,null,null,null,null,null,null,null,null,null,null,null,null,null,null,null,null,null,null,null,null,null,null,null,null,null,null,null,null,null,null,null,null,null,null,null,15,"WOODPOLE DETAILS","PH","0",null,{"$f":"CONCATENATE(J85,K85)","v":""},{"$f":"CONCATENATE(L85,M85,N85)","v":""},{"$f":"O85","v":0},{"$f":"CONCATENATE(P85,Q85,R85)","v":""},{"$f":"CONCATENATE(S85,T85,U85,V85,W85,X85,)","v":""},"POLE_E","AC","0","E9999",1,1,"08"]
[null,null,null,null,null,null,null,null,null,null,null,null,null,null,null,null,null,null,null,null,null,null,null,null,null,null,null,null,null,null,null,null,null,null,null,null,null,null,null,null,null,null,null,null,null,null,null,null,null,null,null,null,null,null,null,null,null,null,null,null,null,null,null,null,null,null,null,null,null,null,null,null,null,null,null,null,null,null,null,null,null,null,null,null,null,null,null,null,null,null,null,null,null,null,null,null,null,null,null,null,null,null,null,null,null,null,null,null,null,null,null,null,null,null,null,null,null,null,null,null,null,null,null,null,null,null,null,null,null,null,null,null,null,null,null,null,null,null,null,null,null,null,null,null,null,null,null,null,null,null,16,"WOODPOLE DETAILS","PH","0",null,{"$f":"CONCATENATE(J88,K88)","v":""},{"$f":"CONCATENATE(L88,M88,N88)","v":""},{"$f":"O88","v":0},{"$f":"CONCATENATE(P88,Q88,R88)","v":""},{"$f":"CONCATENATE(S88,T88,U88,V88,W88,X88,)","v":""},"POLE_E","AC","0","E9999",1,1,"08"]
[null,null,null,null,null,null,null,null,null,null,null,null,null,null,null,null,null,null,null,null,null,null,null,null,null,null,null,null,null,null,null,null,null,null,null,null,null,null,null,null,null,null,null,null,null,null,null,null,null,null,null,null,null,null,null,null,null,null,null,null,null,null,null,null,null,null,null,null,null,null,null,null,null,null,null,null,null,null,null,null,null,null,null,null,null,null,null,null,null,null,null,null,null,null,null,null,null,null,null,null,null,null,null,null,null,null,null,null,null,null,null,null,null,null,null,null,null,null,null,null,null,null,null,null,null,null,null,null,null,null,null,null,null,null,null,null,null,null,null,null,null,null,null,null,null,null,null,null,null,null,17,"WOODPOLE DETAILS","PH",{"$f":"CONCATENATE(EZ20,FA20,FB20,FC20,FD20)","v":"0"},null,{"$f":"CONCATENATE(J100,K100)","v":""},{"$f":"CONCATENATE(L100,M100,N100)","v":""},{"$f":"O100","v":0},{"$f":"CONCATENATE(P100,Q100,R100)","v":""},{"$f":"CONCATENATE(S100,T100,U100,V100,W100,X100,)","v":""},"POLE_E","AC",{"$f":"CONCATENATE(EZ20,FA20,FB20,FC20)","v":"0"},"E9999",1,1,"08"]
[null,null,null,null,null,null,null,null,null,"STRUCTRED PLANT NUMBER",null,null,null,null,null,null,null,null,null,null,null,null,null,null,null,null,"LOCATION",null,null,null,null,null,null,null,null,null,null,null,null,"ATTRIBUTION",null,null,null,null,null,null,null,null,null,null,null,null,"CHILDREN",null,null,null,null,null,"EQUIPMENT",null,null,null,null,null,null,null,null,null,null,null,null,null,null,null,null,null,null,null,null,null,null,null,null,null,null,null,null,null,null,null,null,null,null,null,null,null,null,null,null,null,null,null,null,null,null,null,null,null,null,null,null,null,null,null,null,null,null,null,null,null,null,null,null,null,null,null,null,null,null,null,null,null,null,null,null,null,null,null,null,null,null,null,null,null,null,null,null,null,null,null,18,"WOODPOLE DETAILS","PH",{"$error":"#REF!"},null,{"$f":"CONCATENATE(#REF!,#REF!)","v":{"$error":"#REF!"}},{"$f":"CONCATENATE(#REF!,#REF!,#REF!)","v":{"$error":"#REF!"}},{"$f":"#REF!","v":{"$error":"#REF!"}},{"$f":"CONCATENATE(#REF!,#REF!,#REF!)","v":{"$error":"#REF!"}},{"$f":"CONCATENATE(#REF!,#REF!,#REF!,#REF!,#REF!,#REF!,)","v":{"$error":"#REF!"}},"POLE_E","AC",{"$error":"#REF!"},"E9999",1,1,"08"]
[null,null,null,null,null,null,null,null,null,null,null,null,null,null,null,null,null,null,null,null,null,null,null,null,null,null,null,null,null,null,null,null,null,null,null,null,null,null,null,null,null,null,null,null,null,null,null,null,null,null,null,null,null,null,null,null,null,null,null,null,null,null,null,null,null,null,null,null,null,null,null,null,null,null,null,null,null,null,null,null,null,null,null,null,null,null,null,null,null,null,null,null,null,null,null,null,null,null,null,null,null,null,null,null,null,null,null,null,null,null,null,null,null,null,null,null,null,null,null,null,null,null,null,null,null,null,null,null,null,null,null,null,null,null,null,null,null,null,null,null,null,null,null,null,null,null,null,null,null,null,19,"WOODPOLE DETAILS","PH",{"$error":"#REF!"},null,{"$f":"CONCATENATE(#REF!,#REF!)","v":{"$error":"#REF!"}},{"$f":"CONCATENATE(#REF!,#REF!,#REF!)","v":{"$error":"#REF!"}},{"$f":"#REF!","v":{"$error":"#REF!"}},{"$f":"CONCATENATE(#REF!,#REF!,#REF!)","v":{"$error":"#REF!"}},{"$f":"CONCATENATE(#REF!,#REF!,#REF!,#REF!,#REF!,#REF!,)","v":{"$error":"#REF!"}},"POLE_E","AC",{"$error":"#REF!"},"E9999",1,1,"08"]
[null,null,null,null,null,null,null,null,null,null,null,null,null,null,null,null,null,null,null,null,null,null,null,null,null,null,null,null,null,null,null,null,null,null,null,null,null,null,null,null,null,null,null,null,null,null,null,null,null,null,null,null,null,null,null,null,null,null,null,null,null,null,null,null,null,null,null,null,null,null,null,null,null,null,null,null,null,null,null,null,null,null,null,null,null,null,null,null,null,null,null,null,null,null,null,null,null,null,null,null,null,null,null,null,null,null,null,null,null,null,null,null,null,null,null,null,null,null,null,null,null,null,null,null,null,null,null,null,null,null,null,null,null,null,null,null,null,null,null,null,null,null,null,null,null,null,null,null,null,null,20,"WOODPOLE DETAILS","PH",{"$error":"#REF!"},null,{"$f":"CONCATENATE(#REF!,#REF!)","v":{"$error":"#REF!"}},{"$f":"CONCATENATE(#REF!,#REF!,#REF!)","v":{"$error":"#REF!"}},{"$f":"#REF!","v":{"$error":"#REF!"}},{"$f":"CONCATENATE(#REF!,#REF!,#REF!)","v":{"$error":"#REF!"}},{"$f":"CONCATENATE(#REF!,#REF!,#REF!,#REF!,#REF!,#REF!,)","v":{"$error":"#REF!"}},"POLE_E","AC",{"$error":"#REF!"},"E9999",1,1,"08"]
[null,"TYPE OF \nAMENDMENT?",null,null,null,"DECOMM B \nREQUIRED",null,null,null,"AREA",null,"UNIT",null,null,"VOLTAGE","LINE",null,null,"POLE I.D. \n(6 DIGIT)",null,null,null,null,null,"SUFFIX (A, B, C ETC)",null,"GRID REFERENCE",null,null,null,null,null,null,null,null,null,null,null,null,"POLE TYPE",null,"POLE GRADE","POLE DIAMETER (mm)",null,"POLE HEIGHT (m)",null,"POLE DESIGN","MANUFACTURED DATE",null,null,null,null,"No. OF HV STAYS","No. OF LV STAYS","HV CROSS ARM - TOP","HV CROSS ARM - TEE","LV ARRANGEMENT",null,"GVR","SECTIONALIZER","ABS","ASL / DOEF / LINKS","FPI","SENTINEL","TRANSFORMER (TX)",null,null,null,"DOC QUICK LINK",null,null,null,null,null,null,null,null,null,null,null,null,null,null,null,null,null,null,null,null,null,null,null,null,null,null,null,null,null,null,null,null,null,null,null,null,null,null,null,null,null,null,null,null,null,null,null,null,null,null,null,null,null,null,null,null,null,null,null,null,null,null,null,null,null,null,null,null,null,null,null,null,null,null,null,null,null,null,null,null,null,21,"WOODPOLE DETAILS","PH",{"$error":"#REF!"},null,{"$f":"CONCATENATE(#REF!,#REF!)","v":{"$error":"#REF!"}},{"$f":"CONCATENATE(#REF!,#REF!,#REF!)","v":{"$error":"#REF!"}},{"$f":"#REF!","v":{"$error":"#REF!"}},{"$f":"CONCATENATE(#REF!,#REF!,#REF!)","v":{"$error":"#REF!"}},{"$f":"CONCATENATE(#REF!,#REF!,#REF!,#REF!,#REF!,#REF!,)","v":{"$error":"#REF!"}},"POLE_E","AC",{"$error":"#REF!"},"E9999",1,1,"08"]
[null,null,null,null,null,null,null,null,null,null,null,null,null,null,null,null,null,null,null,null,null,null,null,null,null,null,null,null,null,null,null,null,null,null,null,null,null,null,null,null,null,null,null,null,null,null,null,null,null,null,null,null,null,null,null,null,null,null,null,null,null,null,null,null,null,null,null,null,null,null,null,null,null,null,null,null,null,null,null,null,null,null,null,null,null,null,null,null,null,null,null,null,null,null,null,null,null,null,null,null,null,null,null,null,null,null,null,null,null,null,null,null,null,null,null,null,null,null,null,null,null,null,null,null,null,null,null,null,null,null,null,null,null,null,null,null,null,null,null,null,null,null,null,null,null,null,null,null,null,null,22,"WOODPOLE DETAILS","PH",{"$error":"#REF!"},null,{"$f":"CONCATENATE(#REF!,#REF!)","v":{"$error":"#REF!"}},{"$f":"CONCATENATE(#REF!,#REF!,#REF!)","v":{"$error":"#REF!"}},{"$f":"#REF!","v":{"$error":"#REF!"}},{"$f":"CONCATENATE(#REF!,#REF!,#REF!)","v":{"$error":"#REF!"}},{"$f":"CONCATENATE(#REF!,#REF!,#REF!,#REF!,#REF!,#REF!,)","v":{"$error":"#REF!"}},"POLE_E","AC",{"$error":"#REF!"},"E9999",1,1,"08"]
[null,null,null,null,null,null,null,null,null,null,null,null,null,null,null,null,null,null,null,null,null,null,null,null,null,null,null,null,null,null,null,null,null,null,null,null,null,null,null,null,null,null,null,null,null,null,null,null,null,null,null,null,null,null,null,null,null,null,null,null,null,null,null,null,null,null,null,null,null,null,null,null,null,null,null,null,null,null,null,null,null,null,null,null,null,null,null,null,null,null,null,null,null,null,null,null,null,null,null,null,null,null,null,null,null,null,null,null,null,null,null,null,null,null,null,null,null,null,null,null,null,null,null,null,null,null,null,null,null,null,null,null,null,null,null,null,null,null,null,null,null,null,null,null,null,null,null,null,null,null,23,"WOODPOLE DETAILS","PH",{"$error":"#REF!"},null,{"$f":"CONCATENATE(#REF!,#REF!)","v":{"$error":"#REF!"}},{"$f":"CONCATENATE(#REF!,#REF!,#REF!)","v":{"$error":"#REF!"}},{"$f":"#REF!","v":{"$error":"#REF!"}},{"$f":"CONCATENATE(#REF!,#REF!,#REF!)","v":{"$error":"#REF!"}},{"$f":"CONCATENATE(#REF!,#REF!,#REF!,#REF!,#REF!,#REF!,)","v":{"$error":"#REF!"}},"POLE_E","AC",{"$error":"#REF!"},"E9999",1,1,"08"]
[null,null,null,null,null,null,null,null,null,null,null,null,null,null,null,null,null,null,null,null,null,null,null,null,null,null,null,null,null,null,null,null,null,null,null,null,null,null,null,null,null,null,null,null,null,null,null,null,null,null,null,null,null,null,null,null,null,null,null,null,null,null,null,null,null,null,null,null,null,null,null,null,null,null,null,null,null,null,null,null,null,null,null,null,null,null,null,null,null,null,null,null,null,null,null,null,null,null,null,null,null,null,null,null,null,null,null,null,null,null,null,null,null,null,null,null,null,null,null,null,null,null,null,null,null,null,null,null,null,null,null,null,null,null,null,null,null,null,null,null,null,null,null,null,null,null,null,null,null,null,24,"WOODPOLE DETAILS","PH",{"$error":"#REF!"},null,{"$f":"CONCATENATE(#REF!,#REF!)","v":{"$error":"#REF!"}},{"$f":"CONCATENATE(#REF!,#REF!,#REF!)","v":{"$error":"#REF!"}},{"$f":"#REF!","v":{"$error":"#REF!"}},{"$f":"CONCATENATE(#REF!,#REF!,#REF!)","v":{"$error":"#REF!"}},{"$f":"CONCATENATE(#REF!,#REF!,#REF!,#REF!,#REF!,#REF!,)","v":{"$error":"#REF!"}},"POLE_E","AC",{"$error":"#REF!"},"E9999",1,1,"08"]
[null,null,null,null,null,null,null,null,null,null,null,null,null,null,null,null,null,null,null,null,null,null,null,null,null,null,null,null,null,null,null,null,null,null,null,null,null,null,null,null,null,null,null,null,null,null,null,null,null,null,null,null,null,null,null,null,null,null,null,null,null,null,null,null,null,null,null,null,null,null,null,null,null,null,null,null,null,null,null,null,null,null,null,null,null,null,null,null,null,null,null,null,null,null,null,null,null,null,null,null,null,null,null,null,null,null,null,null,null,null,null,null,null,null,null,null,null,null,null,null,null,null,null,null,null,null,null,null,null,null,null,null,null,null,null,null,null,null,null,null,null,null,null,null,null,null,null,null,null,null,25,"WOODPOLE DETAILS","PH",{"$error":"#REF!"},null,{"$f":"CONCATENATE(#REF!,#REF!)","v":{"$error":"#REF!"}},{"$f":"CONCATENATE(#REF!,#REF!,#REF!)","v":{"$error":"#REF!"}},{"$f":"#REF!","v":{"$error":"#REF!"}},{"$f":"CONCATENATE(#REF!,#REF!,#REF!)","v":{"$error":"#REF!"}},{"$f":"CONCATENATE(#REF!,#REF!,#REF!,#REF!,#REF!,#REF!,)","v":{"$error":"#REF!"}},"POLE_E","AC",{"$error":"#REF!"},"E9999",1,1,"08"]
[null,null,null,null,null,null,null,null,null,null,null,null,null,null,null,null,null,null,null,null,null,null,null,null,null,null,null,null,null,null,null,null,null,null,null,null,null,null,null,null,null,null,null,null,null,null,null,null,null,null,null,null,null,null,null,null,null,null,null,null,null,null,null,null,null,null,null,null,null,null,null,null,null,null,null,null,null,null,null,null,null,null,null,null,null,null,null,null,null,null,null,null,null,null,null,null,null,null,null,null,null,null,null,null,null,null,null,null,null,null,null,null,null,null,null,null,null,null,null,null,null,null,null,null,null,null,null,null,null,null,null,null,null,null,null,null,null,null,null,null,null,null,null,null,null,null,null,null,null,null,26,"WOODPOLE DETAILS","PH",{"$error":"#REF!"},null,{"$f":"CONCATENATE(#REF!,#REF!)","v":{"$error":"#REF!"}},{"$f":"CONCATENATE(#REF!,#REF!,#REF!)","v":{"$error":"#REF!"}},{"$f":"#REF!","v":{"$error":"#REF!"}},{"$f":"CONCATENATE(#REF!,#REF!,#REF!)","v":{"$error":"#REF!"}},{"$f":"CONCATENATE(#REF!,#REF!,#REF!,#REF!,#REF!,#REF!,)","v":{"$error":"#REF!"}},"POLE_E","AC",{"$error":"#REF!"},"E9999",1,1,"08"]
[null,null,null,null,null,null,null,null,null,null,null,null,null,null,null,null,null,null,null,null,null,null,null,null,null,null,null,null,null,null,null,null,null,null,null,null,null,null,null,null,null,null,null,null,null,null,null,null,null,null,null,null,null,null,null,null,null,null,null,null,null,null,null,null,null,null,null,null,null,null,null,null,null,null,null,null,null,null,null,null,null,null,null,null,null,null,null,null,null,null,null,null,null,null,null,null,null,null,null,null,null,null,null,null,null,null,null,null,null,null,null,null,null,null,null,null,null,null,null,null,null,null,null,null,null,null,null,null,null,null,null,null,null,null,null,null,null,null,null,null,null,null,null,null,null,null,null,null,null,null,27,"WOODPOLE DETAILS","PH",{"$error":"#REF!"},null,{"$f":"CONCATENATE(#REF!,#REF!)","v":{"$error":"#REF!"}},{"$f":"CONCATENATE(#REF!,#REF!,#REF!)","v":{"$error":"#REF!"}},{"$f":"#REF!","v":{"$error":"#REF!"}},{"$f":"CONCATENATE(#REF!,#REF!,#REF!)","v":{"$error":"#REF!"}},{"$f":"CONCATENATE(#REF!,#REF!,#REF!,#REF!,#REF!,#REF!,)","v":{"$error":"#REF!"}},"POLE_E","AC",{"$error":"#REF!"},"E9999",1,1,"08"]
[null,null,null,null,null,null,null,null,null,null,null,null,null,null,null,null,null,null,null,null,null,null,null,null,null,null,null,null,null,null,null,null,null,null,null,null,null,null,null,null,null,null,null,null,null,null,null,null,null,null,null,null,null,null,null,null,null,null,null,null,null,null,null,null,null,null,null,null,null,null,null,null,null,null,null,null,null,null,null,null,null,null,null,null,null,null,null,null,null,null,null,null,null,null,null,null,null,null,null,null,null,null,null,null,null,null,null,null,null,null,null,null,null,null,null,null,null,null,null,null,null,null,null,null,null,null,null,null,null,null,null,null,null,null,null,null,null,null,null,null,null,null,null,null,null,null,null,null,null,null,28,"WOODPOLE DETAILS","PH",{"$error":"#REF!"},null,{"$f":"CONCATENATE(#REF!,#REF!)","v":{"$error":"#REF!"}},{"$f":"CONCATENATE(#REF!,#REF!,#REF!)","v":{"$error":"#REF!"}},{"$f":"#REF!","v":{"$error":"#REF!"}},{"$f":"CONCATENATE(#REF!,#REF!,#REF!)","v":{"$error":"#REF!"}},{"$f":"CONCATENATE(#REF!,#REF!,#REF!,#REF!,#REF!,#REF!,)","v":{"$error":"#REF!"}},"POLE_E","AC",{"$error":"#REF!"},"E9999",1,1,"08"]
[null,null,null,null,null,null,null,null,null,null,null,null,null,null,null,null,null,null,null,null,null,null,null,null,null,null,null,null,null,null,null,null,null,null,null,null,null,null,null,null,null,null,null,null,null,null,null,null,null,null,null,null,null,null,null,null,null,null,null,null,null,null,null,null,null,null,null,null,null,null,null,null,null,null,null,null,null,null,null,null,null,null,null,null,null,null,null,null,null,null,null,null,null,null,null,null,null,null,null,null,null,null,null,null,null,null,null,null,null,null,null,null,null,null,null,null,null,null,null,null,null,null,null,null,null,null,null,null,null,null,null,null,null,null,null,null,null,null,null,null,null,null,null,null,null,null,null,null,null,null,29,"WOODPOLE DETAILS","PH",{"$error":"#REF!"},null,{"$f":"CONCATENATE(#REF!,#REF!)","v":{"$error":"#REF!"}},{"$f":"CONCATENATE(#REF!,#REF!,#REF!)","v":{"$error":"#REF!"}},{"$f":"#REF!","v":{"$error":"#REF!"}},{"$f":"CONCATENATE(#REF!,#REF!,#REF!)","v":{"$error":"#REF!"}},{"$f":"CONCATENATE(#REF!,#REF!,#REF!,#REF!,#REF!,#REF!,)","v":{"$error":"#REF!"}},"POLE_E","AC",{"$error":"#REF!"},"E9999",1,1,"08"]
[null,null,null,null,null,null,null,null,null,null,null,null,null,null,null,null,null,null,null,null,null,null,null,null,null,null,null,null,null,null,null,null,null,null,null,null,null,null,null,null,null,null,null,null,null,null,null,null,null,null,null,null,null,null,null,null,null,null,null,null,null,null,null,null,null,null,null,null,"OTHER (PLEASE SPECIFY)",null,null,null,null,null,null,null,null,null,null,null,null,null,null,null,null,null,null,null,null,null,null,null,null,null,null,null,null,null,null,null,null,null,null,null,null,null,null,null,null,null,null,null,null,null,null,null,null,null,null,null,null,null,null,null,null,null,null,null,null,null,null,null,null,null,null,null,null,null,null,null,null,null,null,null,null,null,null,null,null,null,30,"WOODPOLE DETAILS","PH",{"$error":"#REF!"},null,{"$f":"CONCATENATE(#REF!,#REF!)","v":{"$error":"#REF!"}},{"$f":"CONCATENATE(#REF!,#REF!,#REF!)","v":{"$error":"#REF!"}},{"$f":"#REF!","v":{"$error":"#REF!"}},{"$f":"CONCATENATE(#REF!,#REF!,#REF!)","v":{"$error":"#REF!"}},{"$f":"CONCATENATE(#REF!,#REF!,#REF!,#REF!,#REF!,#REF!,)","v":{"$error":"#REF!"}},"POLE_E","AC",{"$error":"#REF!"},"E9999",1,1,"08"]
[null,null,null,null,null,null,null,null,null,null,null,null,null,null,null,null,null,null,null,null,null,null,null,null,null,null,null,null,null,null,null,null,null,null,null,null,null,null,null,null,null,null,null,null,null,null,null,null,null,null,null,null,null,null,null,null,null,null,null,null,null,null,null,null,null,null,null,null,null,null,null,null,null,null,null,null,null,null,null,null,null,null,null,null,null,null,null,null,null,null,null,null,null,null,null,null,null,null,null,null,null,null,null,null,null,null,null,null,null,null,null,null,null,null,null,null,null,null,null,null,null,null,null,null,null,null,null,null,null,null,null,null,null,null,null,null,null,null,null,null,null,null,null,null,null,null,null,null,null,null,31,"WOODPOLE DETAILS","PH",{"$error":"#REF!"},null,{"$f":"CONCATENATE(#REF!,#REF!)","v":{"$error":"#REF!"}},{"$f":"CONCATENATE(#REF!,#REF!,#REF!)","v":{"$error":"#REF!"}},{"$f":"#REF!","v":{"$error":"#REF!"}},{"$f":"CONCATENATE(#REF!,#REF!,#REF!)","v":{"$error":"#REF!"}},{"$f":"CONCATENATE(#REF!,#REF!,#REF!,#REF!,#REF!,#REF!,)","v":{"$error":"#REF!"}},"POLE_E","AC",{"$error":"#REF!"},"E9999",1,1,"08"]
[null,null,null,null,null,null,null,null,null,null,null,null,null,null,null,null,null,null,null,null,null,null,null,null,null,null,null,null,null,null,null,null,null,null,null,null,null,null,null,null,null,null,null,null,null,null,null,null,null,null,null,null,null,null,null,null,null,null,null,null,null,null,null,null,null,null,null,null,null,null,null,null,null,null,null,null,null,null,null,null,null,null,null,null,null,null,null,null,null,null,null,null,null,null,null,null,null,null,null,null,null,null,null,null,null,null,null,null,null,null,null,null,null,null,null,null,null,null,null,null,null,null,null,null,null,null,null,null,null,null,null,null,null,null,null,null,null,null,null,null,null,null,null,null,null,null,null,null,null,null,32,"WOODPOLE DETAILS","PH",{"$error":"#REF!"},null,{"$f":"CONCATENATE(#REF!,#REF!)","v":{"$error":"#REF!"}},{"$f":"CONCATENATE(#REF!,#REF!,#REF!)","v":{"$error":"#REF!"}},{"$f":"#REF!","v":{"$error":"#REF!"}},{"$f":"CONCATENATE(#REF!,#REF!,#REF!)","v":{"$error":"#REF!"}},{"$f":"CONCATENATE(#REF!,#REF!,#REF!,#REF!,#REF!,#REF!,)","v":{"$error":"#REF!"}},"POLE_E","AC",{"$error":"#REF!"},"E9999",1,1,"08"]
[null,null,null,null,null,null,null,null,null,null,null,null,null,null,null,null,null,null,null,null,null,null,null,null,null,null,null,null,null,null,null,null,null,null,null,null,null,null,null,null,null,null,null,null,null,null,null,null,null,null,null,null,null,null,null,null,null,null,null,null,null,null,null,null,null,null,null,null,null,null,null,null,null,null,null,null,null,null,null,null,null,null,null,null,null,null,null,null,null,null,null,null,null,null,null,null,null,null,null,null,null,null,null,null,null,null,null,null,null,null,null,null,null,null,null,null,null,null,null,null,null,null,null,null,null,null,null,null,null,null,null,null,null,null,null,null,null,null,null,null,null,null,null,null,null,null,null,null,null,null,33,"WOODPOLE DETAILS","PH",{"$f":"CONCATENATE(EZ36,FA36,FB36,FC36,FD36)","v":{"$error":"#REF!"}},null,{"$f":"CONCATENATE(#REF!,#REF!)","v":{"$error":"#REF!"}},{"$f":"CONCATENATE(#REF!,#REF!,#REF!)","v":{"$error":"#REF!"}},{"$f":"#REF!","v":{"$error":"#REF!"}},{"$f":"CONCATENATE(#REF!,#REF!,#REF!)","v":{"$error":"#REF!"}},{"$f":"CONCATENATE(#REF!,#REF!,#REF!,#REF!,#REF!,#REF!,)","v":{"$error":"#REF!"}},"POLE_E","AC",{"$f":"CONCATENATE(EZ36,FA36,FB36,FC36)","v":{"$error":"#REF!"}},"E9999",1,1,"08"]
[]
[]
[null,null,null,null,null,null,null,null,null,null,null,null,null,null,null,null,null,null,null,null,null,null,null,null,null,null,null,null,null,null,null,null,null,null,null,null,null,null,null,null,null,null,null,null,null,null,null,null,null,null,null,null,null,null,null,null,null,null,null,null,null,null,null,null,null,null,null,null,null,null,null,null,null,null,null,null,null,null,null,null,null,null,null,null,null,null,null,null,null,null,null,null,null,null,null,null,null,null,null,null,null,null,null,null,null,null,null,null,null,null,null,null,null,null,null,null,null,null,null,null,null,null,null,null,null,null,null,null,null,null,null,null,null,null,null,null,null,null,null,null,null,null,null,null,null,null,null,null,null,null,34,"WOODPOLE DETAILS","PH",{"$error":"#REF!"},null,{"$f":"CONCATENATE(#REF!,#REF!)","v":{"$error":"#REF!"}},{"$f":"CONCATENATE(#REF!,#REF!,#REF!)","v":{"$error":"#REF!"}},{"$f":"#REF!","v":{"$error":"#REF!"}},{"$f":"CONCATENATE(#REF!,#REF!,#REF!)","v":{"$error":"#REF!"}},{"$f":"CONCATENATE(#REF!,#REF!,#REF!,#REF!,#REF!,#REF!,)","v":{"$error":"#REF!"}},"POLE_E","AC",{"$error":"#REF!"},"E9999",1,1,"08"]
[null,"i",null,null,null,null,null,null,null,null,null,null,null,null,"i",null,null,null,null,null,null,null,null,null,null,null,"X",null,null,null,null,null,"Y",null,null,null,null,null,null,"i",null,"i",null,null,null,null,"i",null,null,null,null,null,null,null,"i","i","i",null,"i","i","i","i","i","i","i",null,null,null,null,null,null,null,null,null,null,null,null,null,null,null,null,null,null,null,null,null,null,null,null,null,null,null,null,null,null,null,null,null,null,null,null,null,null,null,null,null,null,null,null,null,null,null,null,null,null,null,null,null,null,null,null,null,null,null,null,null,null,null,null,null,null,null,null,null,null,null,null,null,null,null,null,null,null,null,null,null,null,null,null,null,35,"WOODPOLE DETAILS","PH",{"$error":"#REF!"},null,{"$f":"CONCATENATE(#REF!,#REF!)","v":{"$error":"#REF!"}},{"$f":"CONCATENATE(#REF!,#REF!,#REF!)","v":{"$error":"#REF!"}},{"$f":"#REF!","v":{"$error":"#REF!"}},{"$f":"CONCATENATE(#REF!,#REF!,#REF!)","v":{"$error":"#REF!"}},{"$f":"CONCATENATE(#REF!,#REF!,#REF!,#REF!,#REF!,#REF!,)","v":{"$error":"#REF!"}},"POLE_E","AC",{"$error":"#REF!"},"E9999",1,1,"08"]
[null,null,null,null,null,null,null,null,null,null,null,null,null,null,null,null,null,null,null,null,null,null,null,null,null,{"$f":"SUM(Z43:Z102,AB127:AB186)","v":0},null,null,null,null,null,null,null,null,null,null,null,null,null,null,null,null,null,null,null,null,null,null,null,null,null,null,null,null,null,null,null,null,null,null,null,null,null,null,null,null,null,null,null,null,null,null,null,null,null,null,null,null,null,null,null,null,null,null,null,null,null,null,null,null,null,null,null,null,null,null,null,null,null,null,null,null,null,null,null,null,null,null,null,null,null,null,null,null,null,null,null,null,null,null,null,null,null,null,null,null,null,null,null,null,null,null,null,null,null,null,null,null,null,null,null,null,null,null,null,null,null,null,null,null,36,"WOODPOLE DETAILS","PH",{"$error":"#REF!"},null,{"$f":"CONCATENATE(#REF!,#REF!)","v":{"$error":"#REF!"}},{"$f":"CONCATENATE(#REF!,#REF!,#REF!)","v":{"$error":"#REF!"}},{"$f":"#REF!","v":{"$error":"#REF!"}},{"$f":"CONCATENATE(#REF!,#REF!,#REF!)","v":{"$error":"#REF!"}},{"$f":"CONCATENATE(#REF!,#REF!,#REF!,#REF!,#REF!,#REF!,)","v":{"$error":"#REF!"}},"POLE_E","AC",{"$error":"#REF!"},"E9999",1,1,"08"]
[null,null,null,null,null,null,null,null,null,null,null,null,null,null,null,null,null,null,null,null,null,null,null,null,null,null,null,null,null,null,null,null,null,null,null,null,null,null,null,null,null,null,null,null,null,null,null,null,null,null,null,null,null,null,null,null,null,null,null,null,null,null,null,null,null,null,null,null,null,null,null,null,null,null,null,null,null,null,null,null,null,null,null,null,null,null,null,null,null,null,null,null,null,null,null,null,null,null,null,null,null,null,null,null,null,null,null,null,null,null,null,null,null,null,null,null,null,null,null,null,null,null,null,null,null,null,null,null,null,null,null,null,null,null,null,null,null,null,null,null,null,null,null,null,null,null,null,null,null,null,37,"WOODPOLE DETAILS","PH",{"$error":"#REF!"},null,{"$f":"CONCATENATE(#REF!,#REF!)","v":{"$error":"#REF!"}},{"$f":"CONCATENATE(#REF!,#REF!,#REF!)","v":{"$error":"#REF!"}},{"$f":"#REF!","v":{"$error":"#REF!"}},{"$f":"CONCATENATE(#REF!,#REF!,#REF!)","v":{"$error":"#REF!"}},{"$f":"CONCATENATE(#REF!,#REF!,#REF!,#REF!,#REF!,#REF!,)","v":{"$error":"#REF!"}},"POLE_E","AC",{"$error":"#REF!"},"E9999",1,1,"08"]
[1,null,null,null,null,{"$f":"IF(B43=\"R\",\"Y\",\"N\")","v":"N"},null,null,{"$f":"IF(COUNTIF(J43:Y45,\"?*\")>0,1,0)","v":0},null,null,null,null,null,null,null,null,null,null,null,null,null,null,null,null,{"$f":"IF(J43<>\"\",1,0)","v":0},null,null,null,null,null,null,null,null,null,null,null,null,null,null,null,null,null,null,null,null,null,null,null,null,null,null,null,null,null,null,null,null,null,null,null,null,null,null,null,{"$f":"IF(COUNTA(BG43:BM45)>0,1,0)","v":0},{"$f":"COUNTA(B43,AA43,AN43:AY45,BA43:BE45)+I43+BN43","v":0},null,null,null,null,null,null,null,null,null,null,null,null,null,null,null,null,null,null,null,null,null,null,null,null,null,null,null,null,null,null,null,null,null,null,null,null,null,null,null,null,null,null,null,null,null,null,null,null,null,null,null,null,null,null,null,null,null,null,null,null,null,null,null,null,null,null,null,null,null,null,null,null,null,null,null,null,null,null,null,null,null,null,null,38,"WOODPOLE DETAILS","PH",{"$error":"#REF!"},null,{"$f":"CONCATENATE(#REF!,#REF!)","v":{"$error":"#REF!"}},{"$f":"CONCATENATE(#REF!,#REF!,#REF!)","v":{"$error":"#REF!"}},{"$f":"#REF!","v":{"$error":"#REF!"}},{"$f":"CONCATENATE(#REF!,#REF!,#REF!)","v":{"$error":"#REF!"}},{"$f":"CONCATENATE(#REF!,#REF!,#REF!,#REF!,#REF!,#REF!,)","v":{"$error":"#REF!"}},"POLE_E","AC",{"$error":"#REF!"},"E9999",1,1,"08"]
[null,null,null,null,null,null,null,null,null,null,null,null,null,null,null,null,null,null,null,null,null,null,null,null,null,null,null,null,null,null,null,null,null,null,null,null,null,null,null,null,null,null,null,null,null,null,null,null,null,null,null,null,null,null,null,null,null,null,null,null,null,null,null,null,null,null,null,null,null,null,null,null,null,null,null,null,null,null,null,null,null,null,null,null,null,null,null,null,null,null,null,null,null,null,null,null,null,null,null,null,null,null,null,null,null,null,null,null,null,null,null,null,null,null,null,null,null,null,null,null,null,null,null,null,null,null,null,null,null,null,null,null,null,null,null,null,null,null,null,null,null,null,null,null,null,null,null,null,null,null,39,"WOODPOLE DETAILS","PH",{"$error":"#REF!"},null,{"$f":"CONCATENATE(#REF!,#REF!)","v":{"$error":"#REF!"}},{"$f":"CONCATENATE(#REF!,#REF!,#REF!)","v":{"$error":"#REF!"}},{"$f":"#REF!","v":{"$error":"#REF!"}},{"$f":"CONCATENATE(#REF!,#REF!,#REF!)","v":{"$error":"#REF!"}},{"$f":"CONCATENATE(#REF!,#REF!,#REF!,#REF!,#REF!,#REF!,)","v":{"$error":"#REF!"}},"POLE_E","AC",{"$error":"#REF!"},"E9999",1,1,"08"]
[null,null,null,null,null,null,null,null,null,null,null,null,null,null,null,null,null,null,null,null,null,null,null,null,null,null,null,null,null,null,null,null,null,null,null,null,null,null,null,null,null,null,null,null,null,null,null,null,null,null,null,null,null,null,null,null,null,null,null,null,null,null,null,null,null,null,null,null,null,null,null,null,null,null,null,null,null,null,null,null,null,null,null,null,null,null,null,null,null,null,null,null,null,null,null,null,null,null,null,null,null,null,null,null,null,null,null,null,null,null,null,null,null,null,null,null,null,null,null,null,null,null,null,null,null,null,null,null,null,null,null,null,null,null,null,null,null,null,null,null,null,null,null,null,null,null,null,null,null,null,40,"WOODPOLE DETAILS","PH",{"$error":"#REF!"},null,{"$f":"CONCATENATE(#REF!,#REF!)","v":{"$error":"#REF!"}},{"$f":"CONCATENATE(#REF!,#REF!,#REF!)","v":{"$error":"#REF!"}},{"$f":"#REF!","v":{"$error":"#REF!"}},{"$f":"CONCATENATE(#REF!,#REF!,#REF!)","v":{"$error":"#REF!"}},{"$f":"CONCATENATE(#REF!,#REF!,#REF!,#REF!,#REF!,#REF!,)","v":{"$error":"#REF!"}},"POLE_E","AC",{"$error":"#REF!"},"E9999",1,1,"08"]
[2,null,null,null,null,{"$f":"IF(B46=\"R\",\"Y\",\"N\")","v":"N"},null,null,{"$f":"IF(COUNTIF(J46:Y48,\"?*\")>0,1,0)","v":0},null,null,null,null,null,null,null,null,null,null,null,null,null,null,null,null,{"$f":"IF(J46<>\"\",1,0)","v":0},null,null,null,null,null,null,null,null,null,null,null,null,null,null,null,null,null,null,null,null,null,null,null,null,null,null,null,null,null,null,null,null,null,null,null,null,null,null,null,{"$f":"IF(COUNTA(BG46:BM48)>0,1,0)","v":0},{"$f":"COUNTA(B46,AA46,AN46:AY48,BA46:BE48)+I46+BN46","v":0},null,null,null,null,null,null,null,null,null,null,null,null,null,null,null,null,null,null,null,null,null,null,null,null,null,null,null,null,null,null,null,null,null,null,null,null,null,null,null,null,null,null,null,null,null,null,null,null,null,null,null,null,null,null,null,null,null,null,null,null,null,null,null,null,null,null,null,null,null,null,null,null,null,null,null,null,null,null,null,null,null,null,null,41,"WOODPOLE DETAILS","PH",{"$error":"#REF!"},null,{"$f":"CONCATENATE(#REF!,#REF!)","v":{"$error":"#REF!"}},{"$f":"CONCATENATE(#REF!,#REF!,#REF!)","v":{"$error":"#REF!"}},{"$f":"#REF!","v":{"$error":"#REF!"}},{"$f":"CONCATENATE(#REF!,#REF!,#REF!)","v":{"$error":"#REF!"}},{"$f":"CONCATENATE(#REF!,#REF!,#REF!,#REF!,#REF!,#REF!,)","v":{"$error":"#REF!"}},"POLE_E","AC",{"$error":"#REF!"},"E9999",1,1,"08"]
[null,null,null,null,null,null,null,null,null,null,null,null,null,null,null,null,null,null,null,null,null,null,null,null,null,null,null,null,null,null,null,null,null,null,null,null,null,null,null,null,null,null,null,null,null,null,null,null,null,null,null,null,null,null,null,null,null,null,null,null,null,null,null,null,null,null,null,{"$f":"IFERROR(INDEX($J$103:$J$186,MATCH(ROW()-ROW($BP$41),$I$103:$I$186,0)),\"\")","v":""},null,null,null,null,null,null,null,null,null,null,null,null,null,null,null,null,null,null,null,null,null,null,null,null,null,null,null,null,null,null,null,null,null,null,null,null,null,null,null,null,null,null,null,null,null,null,null,null,null,null,null,null,null,null,null,null,null,null,null,null,null,null,null,null,null,null,null,null,null,null,null,null,null,null,null,null,null,null,null,null,null,null,42,"WOODPOLE DETAILS","PH",{"$error":"#REF!"},null,{"$f":"CONCATENATE(#REF!,#REF!)","v":{"$error":"#REF!"}},{"$f":"CONCATENATE(#REF!,#REF!,#REF!)","v":{"$error":"#REF!"}},{"$f":"#REF!","v":{"$error":"#REF!"}},{"$f":"CONCATENATE(#REF!,#REF!,#REF!)","v":{"$error":"#REF!"}},{"$f":"CONCATENATE(#REF!,#REF!,#REF!,#REF!,#REF!,#REF!,)","v":{"$error":"#REF!"}},"POLE_E","AC",{"$error":"#REF!"},"E9999",1,1,"08"]
[null,null,null,null,null,null,null,null,null,null,null,null,null,null,null,null,null,null,null,null,null,null,null,null,null,null,null,null,null,null,null,null,null,null,null,null,null,null,null,null,null,null,null,null,null,null,null,null,null,null,null,null,null,null,null,null,null,null,null,null,null,null,null,null,null,null,null,{"$f":"IFERROR(INDEX($J$103:$J$186,MATCH(ROW()-ROW($BP$41),$I$103:$I$186,0)),\"\")","v":""},null,null,null,null,null,null,null,null,null,null,null,null,null,null,null,null,null,null,null,null,null,null,null,null,null,null,null,null,null,null,null,null,null,null,null,null,null,null,null,null,null,null,null,null,null,null,null,null,null,null,null,null,null,null,null,null,null,null,null,null,null,null,null,null,null,null,null,null,null,null,null,null,null,null,null,null,null,null,null,null,null,null,43,"WOODPOLE DETAILS","PH",{"$error":"#REF!"},null,{"$f":"CONCATENATE(#REF!,#REF!)","v":{"$error":"#REF!"}},{"$f":"CONCATENATE(#REF!,#REF!,#REF!)","v":{"$error":"#REF!"}},{"$f":"#REF!","v":{"$error":"#REF!"}},{"$f":"CONCATENATE(#REF!,#REF!,#REF!)","v":{"$error":"#REF!"}},{"$f":"CONCATENATE(#REF!,#REF!,#REF!,#REF!,#REF!,#REF!,)","v":{"$error":"#REF!"}},"POLE_E","AC",{"$error":"#REF!"},"E9999",1,1,"08"]
[3,null,null,null,null,{"$f":"IF(B49=\"R\",\"Y\",\"N\")","v":"N"},null,null,{"$f":"IF(COUNTIF(J49:Y51,\"?*\")>0,1,0)","v":0},null,null,null,null,null,null,null,null,null,null,null,null,null,null,null,null,{"$f":"IF(J49<>\"\",1,0)","v":0},null,null,null,null,null,null,null,null,null,null,null,null,null,null,null,null,null,null,null,null,null,null,null,null,null,null,null,null,null,null,null,null,null,null,null,null,null,null,null,{"$f":"IF(COUNTA(BG49:BM51)>0,1,0)","v":0},{"$f":"COUNTA(B49,AA49,AN49:AY51,BA49:BE51)+I49+BN49","v":0},{"$f":"IFERROR(INDEX($J$103:$J$186,MATCH(ROW()-ROW($BP$41),$I$103:$I$186,0)),\"\")","v":""},null,null,null,null,null,null,null,null,null,null,null,null,null,null,null,null,null,null,null,null,null,null,null,null,null,null,null,null,null,null,null,null,null,null,null,null,null,null,null,null,null,null,null,null,null,null,null,null,null,null,null,null,null,null,null,null,null,null,null,null,null,null,null,null,null,null,null,null,null,null,null,null,null,null,null,null,null,null,null,null,null,null,44,"WOODPOLE DETAILS","PH",{"$error":"#REF!"},null,{"$f":"CONCATENATE(#REF!,#REF!)","v":{"$error":"#REF!"}},{"$f":"CONCATENATE(#REF!,#REF!,#REF!)","v":{"$error":"#REF!"}},{"$f":"#REF!","v":{"$error":"#REF!"}},{"$f":"CONCATENATE(#REF!,#REF!,#REF!)","v":{"$error":"#REF!"}},{"$f":"CONCATENATE(#REF!,#REF!,#REF!,#REF!,#REF!,#REF!,)","v":{"$error":"#REF!"}},"POLE_E","AC",{"$error":"#REF!"},"E9999",1,1,"08"]
[null,null,null,null,null,null,null,null,null,null,null,null,null,null,null,null,null,null,null,null,null,null,null,null,null,null,null,null,null,null,null,null,null,null,null,null,null,null,null,null,null,null,null,null,null,null,null,null,null,null,null,null,null,null,null,null,null,null,null,null,null,null,null,null,null,null,null,{"$f":"IFERROR(INDEX($J$103:$J$186,MATCH(ROW()-ROW($BP$41),$I$103:$I$186,0)),\"\")","v":""},null,null,null,null,null,null,null,null,null,null,null,null,null,null,null,null,null,null,null,null,null,null,null,null,null,null,null,null,null,null,null,null,null,null,null,null,null,null,null,null,null,null,null,null,null,null,null,null,null,null,null,null,null,null,null,null,null,null,null,null,null,null,null,null,null,null,null,null,null,null,null,null,null,null,null,null,null,null,null,null,null,null,45,"WOODPOLE DETAILS","PH",{"$error":"#REF!"},null,{"$f":"CONCATENATE(#REF!,#REF!)","v":{"$error":"#REF!"}},{"$f":"CONCATENATE(#REF!,#REF!,#REF!)","v":{"$error":"#REF!"}},{"$f":"#REF!","v":{"$error":"#REF!"}},{"$f":"CONCATENATE(#REF!,#REF!,#REF!)","v":{"$error":"#REF!"}},{"$f":"CONCATENATE(#REF!,#REF!,#REF!,#REF!,#REF!,#REF!,)","v":{"$error":"#REF!"}},"POLE_E","AC",{"$error":"#REF!"},"E9999",1,1,"08"]
[null,null,null,null,null,null,null,null,null,null,null,null,null,null,null,null,null,null,null,null,null,null,null,null,null,null,null,null,null,null,null,null,null,null,null,null,null,null,null,null,null,null,null,null,null,null,null,null,null,null,null,null,null,null,null,null,null,null,null,null,null,null,null,null,null,null,null,{"$f":"IFERROR(INDEX($J$103:$J$186,MATCH(ROW()-ROW($BP$41),$I$103:$I$186,0)),\"\")","v":""},null,null,null,null,null,null,null,null,null,null,null,null,null,null,null,null,null,null,null,null,null,null,null,null,null,null,null,null,null,null,null,null,null,null,null,null,null,null,null,null,null,null,null,null,null,null,null,null,null,null,null,null,null,null,null,null,null,null,null,null,null,null,null,null,null,null,null,null,null,null,null,null,null,null,null,null,null,null,null,null,null,null,46,"WOODPOLE DETAILS","PH",{"$error":"#REF!"},null,{"$f":"CONCATENATE(#REF!,#REF!)","v":{"$error":"#REF!"}},{"$f":"CONCATENATE(#REF!,#REF!,#REF!)","v":{"$error":"#REF!"}},{"$f":"#REF!","v":{"$error":"#REF!"}},{"$f":"CONCATENATE(#REF!,#REF!,#REF!)","v":{"$error":"#REF!"}},{"$f":"CONCATENATE(#REF!,#REF!,#REF!,#REF!,#REF!,#REF!,)","v":{"$error":"#REF!"}},"POLE_E","AC",{"$error":"#REF!"},"E9999",1,1,"08"]
[4,null,null,null,null,{"$f":"IF(B52=\"R\",\"Y\",\"N\")","v":"N"},null,null,{"$f":"IF(COUNTIF(J52:Y54,\"?*\")>0,1,0)","v":0},null,null,null,null,null,null,null,null,null,null,null,null,null,null,null,null,{"$f":"IF(J52<>\"\",1,0)","v":0},null,null,null,null,null,null,null,null,null,null,null,null,null,null,null,null,null,null,null,null,null,null,null,null,null,null,null,null,null,null,null,null,null,null,null,null,null,null,null,{"$f":"IF(COUNTA(BG52:BM54)>0,1,0)","v":0},{"$f":"COUNTA(B52,AA52,AN52:AY54,BA52:BE54)+I52+BN52","v":0},{"$f":"IFERROR(INDEX($J$103:$J$186,MATCH(ROW()-ROW($BP$41),$I$103:$I$186,0)),\"\")","v":""},null,null,null,null,null,null,null,null,null,null,null,null,null,null,null,null,null,null,null,null,null,null,null,null,null,null,null,null,null,null,null,null,null,null,null,null,null,null,null,null,null,null,null,null,null,null,null,null,null,null,null,null,null,null,null,null,null,null,null,null,null,null,null,null,null,null,null,null,null,null,null,null,null,null,null,null,null,null,null,null,null,null,47,"WOODPOLE DETAILS","PH",{"$error":"#REF!"},null,{"$f":"CONCATENATE(#REF!,#REF!)","v":{"$error":"#REF!"}},{"$f":"CONCATENATE(#REF!,#REF!,#REF!)","v":{"$error":"#REF!"}},{"$f":"#REF!","v":{"$error":"#REF!"}},{"$f":"CONCATENATE(#REF!,#REF!,#REF!)","v":{"$error":"#REF!"}},{"$f":"CONCATENATE(#REF!,#REF!,#REF!,#REF!,#REF!,#REF!,)","v":{"$error":"#REF!"}},"POLE_E","AC",{"$error":"#REF!"},"E9999",1,1,"08"]
[null,null,null,null,null,null,null,null,null,null,null,null,null,null,null,null,null,null,null,null,null,null,null,null,null,null,null,null,null,null,null,null,null,null,null,null,null,null,null,null,null,null,null,null,null,null,null,null,null,null,null,null,null,null,null,null,null,null,null,null,null,null,null,null,null,null,null,{"$f":"IFERROR(INDEX($J$103:$J$186,MATCH(ROW()-ROW($BP$41),$I$103:$I$186,0)),\"\")","v":""},null,null,null,null,null,null,null,null,null,null,null,null,null,null,null,null,null,null,null,null,null,null,null,null,null,null,null,null,null,null,null,null,null,null,null,null,null,null,null,null,null,null,null,null,null,null,null,null,null,null,null,null,null,null,null,null,null,null,null,null,null,null,null,null,null,null,null,null,null,null,null,null,null,null,null,null,null,null,null,null,null,null,48,"WOODPOLE DETAILS","PH",{"$error":"#REF!"},null,{"$f":"CONCATENATE(#REF!,#REF!)","v":{"$error":"#REF!"}},{"$f":"CONCATENATE(#REF!,#REF!,#REF!)","v":{"$error":"#REF!"}},{"$f":"#REF!","v":{"$error":"#REF!"}},{"$f":"CONCATENATE(#REF!,#REF!,#REF!)","v":{"$error":"#REF!"}},{"$f":"CONCATENATE(#REF!,#REF!,#REF!,#REF!,#REF!,#REF!,)","v":{"$error":"#REF!"}},"POLE_E","AC",{"$error":"#REF!"},"E9999",1,1,"08"]
[null,null,null,null,null,null,null,null,null,null,null,null,null,null,null,null,null,null,null,null,null,null,null,null,null,null,null,null,null,null,null,null,null,null,null,null,null,null,null,null,null,null,null,null,null,null,null,null,null,null,null,null,null,null,null,null,null,null,null,null,null,null,null,null,null,null,null,{"$f":"IFERROR(INDEX($J$103:$J$186,MATCH(ROW()-ROW($BP$41),$I$103:$I$186,0)),\"\")","v":""},null,null,null,null,null,null,null,null,null,null,null,null,null,null,null,null,null,null,null,null,null,null,null,null,null,null,null,null,null,null,null,null,null,null,null,null,null,null,null,null,null,null,null,null,null,null,null,null,null,null,null,null,null,null,null,null,null,null,null,null,null,null,null,null,null,null,null,null,null,null,null,null,null,null,null,null,null,null,null,null,null,null,49,"WOODPOLE DETAILS","PH",{"$error":"#REF!"},null,{"$f":"CONCATENATE(#REF!,#REF!)","v":{"$error":"#REF!"}},{"$f":"CONCATENATE(#REF!,#REF!,#REF!)","v":{"$error":"#REF!"}},{"$f":"#REF!","v":{"$error":"#REF!"}},{"$f":"CONCATENATE(#REF!,#REF!,#REF!)","v":{"$error":"#REF!"}},{"$f":"CONCATENATE(#REF!,#REF!,#REF!,#REF!,#REF!,#REF!,)","v":{"$error":"#REF!"}},"POLE_E","AC",{"$error":"#REF!"},"E9999",1,1,"08"]
[5,null,null,null,null,{"$f":"IF(B55=\"R\",\"Y\",\"N\")","v":"N"},null,null,{"$f":"IF(COUNTIF(J55:Y57,\"?*\")>0,1,0)","v":0},null,null,null,null,null,null,null,null,null,null,null,null,null,null,null,null,{"$f":"IF(J55<>\"\",1,0)","v":0},null,null,null,null,null,null,null,null,null,null,null,null,null,null,null,null,null,null,null,null,null,null,null,null,null,null,null,null,null,null,null,null,null,null,null,null,null,null,null,{"$f":"IF(COUNTA(BG55:BM57)>0,1,0)","v":0},{"$f":"COUNTA(B55,AA55,AN55:AY57,BA55:BE57)+I55+BN55","v":0},{"$f":"IFERROR(INDEX($J$103:$J$186,MATCH(ROW()-ROW($BP$41),$I$103:$I$186,0)),\"\")","v":""},null,null,null,null,null,null,null,null,null,null,null,null,null,null,null,null,null,null,null,null,null,null,null,null,null,null,null,null,null,null,null,null,null,null,null,null,null,null,null,null,null,null,null,null,null,null,null,null,null,null,null,null,null,null,null,null,null,null,null,null,null,null,null,null,null,null,null,null,null,null,null,null,null,null,null,null,null,null,null,null,null,null,50,"WOODPOLE DETAILS","PH",{"$error":"#REF!"},null,{"$f":"CONCATENATE(#REF!,#REF!)","v":{"$error":"#REF!"}},{"$f":"CONCATENATE(#REF!,#REF!,#REF!)","v":{"$error":"#REF!"}},{"$f":"#REF!","v":{"$error":"#REF!"}},{"$f":"CONCATENATE(#REF!,#REF!,#REF!)","v":{"$error":"#REF!"}},{"$f":"CONCATENATE(#REF!,#REF!,#REF!,#REF!,#REF!,#REF!,)","v":{"$error":"#REF!"}},"POLE_E","AC",{"$error":"#REF!"},"E9999",1,1,"08"]
[null,null,null,null,null,null,null,null,null,null,null,null,null,null,null,null,null,null,null,null,null,null,null,null,null,null,null,null,null,null,null,null,null,null,null,null,null,null,null,null,null,null,null,null,null,null,null,null,null,null,null,null,null,null,null,null,null,null,null,null,null,null,null,null,null,null,null,{"$f":"IFERROR(INDEX($J$103:$J$186,MATCH(ROW()-ROW($BP$41),$I$103:$I$186,0)),\"\")","v":""},null,null,null,null,null,null,null,null,null,null,null,null,null,null,null,null,null,null,null,null,null,null,null,null,null,null,null,null,null,null,null,null,null,null,null,null,null,null,null,null,null,null,null,null,null,null,null,null,null,null,null,null,null,null,null,null,null,null,null,null,null,null,null,null,null,null,null,null,null,null,null,null,null,null,null,null,null,null,null,null,null,null,51,"WOODPOLE DETAILS","PH",{"$error":"#REF!"},null,{"$f":"CONCATENATE(#REF!,#REF!)","v":{"$error":"#REF!"}},{"$f":"CONCATENATE(#REF!,#REF!,#REF!)","v":{"$error":"#REF!"}},{"$f":"#REF!","v":{"$error":"#REF!"}},{"$f":"CONCATENATE(#REF!,#REF!,#REF!)","v":{"$error":"#REF!"}},{"$f":"CONCATENATE(#REF!,#REF!,#REF!,#REF!,#REF!,#REF!,)","v":{"$error":"#REF!"}},"POLE_E","AC",{"$error":"#REF!"},"E9999",1,1,"08"]
[null,null,null,null,null,null,null,null,null,null,null,null,null,null,null,null,null,null,null,null,null,null,null,null,null,null,null,null,null,null,null,null,null,null,null,null,null,null,null,null,null,null,null,null,null,null,null,null,null,null,null,null,null,null,null,null,null,null,null,null,null,null,null,null,null,null,null,{"$f":"IFERROR(INDEX($J$103:$J$186,MATCH(ROW()-ROW($BP$41),$I$103:$I$186,0)),\"\")","v":""},null,null,null,null,null,null,null,null,null,null,null,null,null,null,null,null,null,null,null,null,null,null,null,null,null,null,null,null,null,null,null,null,null,null,null,null,null,null,null,null,null,null,null,null,null,null,null,null,null,null,null,null,null,null,null,null,null,null,null,null,null,null,null,null,null,null,null,null,null,null,null,null,null,null,null,null,null,null,null,null,null,null,52,"WOODPOLE DETAILS","PH",{"$error":"#REF!"},null,{"$f":"CONCATENATE(#REF!,#REF!)","v":{"$error":"#REF!"}},{"$f":"CONCATENATE(#REF!,#REF!,#REF!)","v":{"$error":"#REF!"}},{"$f":"#REF!","v":{"$error":"#REF!"}},{"$f":"CONCATENATE(#REF!,#REF!,#REF!)","v":{"$error":"#REF!"}},{"$f":"CONCATENATE(#REF!,#REF!,#REF!,#REF!,#REF!,#REF!,)","v":{"$error":"#REF!"}},"POLE_E","AC",{"$error":"#REF!"},"E9999",1,1,"08"]
[6,null,null,null,null,{"$f":"IF(B58=\"R\",\"Y\",\"N\")","v":"N"},null,null,{"$f":"IF(COUNTIF(J58:Y60,\"?*\")>0,1,0)","v":0},null,null,null,null,null,null,null,null,null,null,null,null,null,null,null,null,{"$f":"IF(J58<>\"\",1,0)","v":0},null,null,null,null,null,null,null,null,null,null,null,null,null,null,null,null,null,null,null,null,null,null,null,null,null,null,null,null,null,null,null,null,null,null,null,null,null,null,null,{"$f":"IF(COUNTA(BG58:BM60)>0,1,0)","v":0},{"$f":"COUNTA(B58,AA58,AN58:AY60,BA58:BE60)+I58+BN58","v":0},{"$f":"IFERROR(INDEX($J$103:$J$186,MATCH(ROW()-ROW($BP$41),$I$103:$I$186,0)),\"\")","v":""},null,null,null,null,null,null,null,null,null,null,null,null,null,null,null,null,null,null,null,null,null,null,null,null,null,null,null,null,null,null,null,null,null,null,null,null,null,null,null,null,null,null,null,null,null,null,null,null,null,null,null,null,null,null,null,null,null,null,null,null,null,null,null,null,null,null,null,null,null,null,null,null,null,null,null,null,null,null,null,null,null,null,53,"WOODPOLE DETAILS","PH",{"$error":"#REF!"},null,{"$f":"CONCATENATE(#REF!,#REF!)","v":{"$error":"#REF!"}},{"$f":"CONCATENATE(#REF!,#REF!,#REF!)","v":{"$error":"#REF!"}},{"$f":"#REF!","v":{"$error":"#REF!"}},{"$f":"CONCATENATE(#REF!,#REF!,#REF!)","v":{"$error":"#REF!"}},{"$f":"CONCATENATE(#REF!,#REF!,#REF!,#REF!,#REF!,#REF!,)","v":{"$error":"#REF!"}},"POLE_E","AC",{"$error":"#REF!"},"E9999",1,1,"08"]
[null,null,null,null,null,null,null,null,null,null,null,null,null,null,null,null,null,null,null,null,null,null,null,null,null,null,null,null,null,null,null,null,null,null,null,null,null,null,null,null,null,null,null,null,null,null,null,null,null,null,null,null,null,null,null,null,null,null,null,null,null,null,null,null,null,null,null,{"$f":"IFERROR(INDEX($J$103:$J$186,MATCH(ROW()-ROW($BP$41),$I$103:$I$186,0)),\"\")","v":""},null,null,null,null,null,null,null,null,null,null,null,null,null,null,null,null,null,null,null,null,null,null,null,null,null,null,null,null,null,null,null,null,null,null,null,null,null,null,null,null,null,null,null,null,null,null,null,null,null,null,null,null,null,null,null,null,null,null,null,null,null,null,null,null,null,null,null,null,null,null,null,null,null,null,null,null,null,null,null,null,null,null,54,"WOODPOLE DETAILS","PH",{"$error":"#REF!"},null,{"$f":"CONCATENATE(#REF!,#REF!)","v":{"$error":"#REF!"}},{"$f":"CONCATENATE(#REF!,#REF!,#REF!)","v":{"$error":"#REF!"}},{"$f":"#REF!","v":{"$error":"#REF!"}},{"$f":"CONCATENATE(#REF!,#REF!,#REF!)","v":{"$error":"#REF!"}},{"$f":"CONCATENATE(#REF!,#REF!,#REF!,#REF!,#REF!,#REF!,)","v":{"$error":"#REF!"}},"POLE_E","AC",{"$error":"#REF!"},"E9999",1,1,"08"]
[null,null,null,null,null,null,null,null,null,null,null,null,null,null,null,null,null,null,null,null,null,null,null,null,null,null,null,null,null,null,null,null,null,null,null,null,null,null,null,null,null,null,null,null,null,null,null,null,null,null,null,null,null,null,null,null,null,null,null,null,null,null,null,null,null,null,null,{"$f":"IFERROR(INDEX($J$103:$J$186,MATCH(ROW()-ROW($BP$41),$I$103:$I$186,0)),\"\")","v":""},null,null,null,null,null,null,null,null,null,null,null,null,null,null,null,null,null,null,null,null,null,null,null,null,null,null,null,null,null,null,null,null,null,null,null,null,null,null,null,null,null,null,null,null,null,null,null,null,null,null,null,null,null,null,null,null,null,null,null,null,null,null,null,null,null,null,null,null,null,null,null,null,null,null,null,null,null,null,null,null,null,null,55,"WOODPOLE DETAILS","PH",{"$error":"#REF!"},null,{"$f":"CONCATENATE(#REF!,#REF!)","v":{"$error":"#REF!"}},{"$f":"CONCATENATE(#REF!,#REF!,#REF!)","v":{"$error":"#REF!"}},{"$f":"#REF!","v":{"$error":"#REF!"}},{"$f":"CONCATENATE(#REF!,#REF!,#REF!)","v":{"$error":"#REF!"}},{"$f":"CONCATENATE(#REF!,#REF!,#REF!,#REF!,#REF!,#REF!,)","v":{"$error":"#REF!"}},"POLE_E","AC",{"$error":"#REF!"},"E9999",1,1,"08"]
[7,null,null,null,null,{"$f":"IF(B61=\"R\",\"Y\",\"N\")","v":"N"},null,null,{"$f":"IF(COUNTIF(J61:Y63,\"?*\")>0,1,0)","v":0},null,null,null,null,null,null,null,null,null,null,null,null,null,null,null,null,{"$f":"IF(J61<>\"\",1,0)","v":0},null,null,null,null,null,null,null,null,null,null,null,null,null,null,null,null,null,null,null,null,null,null,null,null,null,null,null,null,null,null,null,null,null,null,null,null,null,null,null,{"$f":"IF(COUNTA(BG61:BM63)>0,1,0)","v":0},{"$f":"COUNTA(B61,AA61,AN61:AY63,BA61:BE63)+I61+BN61","v":0},{"$f":"IFERROR(INDEX($J$103:$J$186,MATCH(ROW()-ROW($BP$41),$I$103:$I$186,0)),\"\")","v":""},null,null,null,null,null,null,null,null,null,null,null,null,null,null,null,null,null,null,null,null,null,null,null,null,null,null,null,null,null,null,null,null,null,null,null,null,null,null,null,null,null,null,null,null,null,null,null,null,null,null,null,null,null,null,null,null,null,null,null,null,null,null,null,null,null,null,null,null,null,null,null,null,null,null,null,null,null,null,null,null,null,null,56,"WOODPOLE DETAILS","PH",{"$error":"#REF!"},null,{"$f":"CONCATENATE(#REF!,#REF!)","v":{"$error":"#REF!"}},{"$f":"CONCATENATE(#REF!,#REF!,#REF!)","v":{"$error":"#REF!"}},{"$f":"#REF!","v":{"$error":"#REF!"}},{"$f":"CONCATENATE(#REF!,#REF!,#REF!)","v":{"$error":"#REF!"}},{"$f":"CONCATENATE(#REF!,#REF!,#REF!,#REF!,#REF!,#REF!,)","v":{"$error":"#REF!"}},"POLE_E","AC",{"$error":"#REF!"},"E9999",1,1,"08"]
[null,null,null,null,null,null,null,null,null,null,null,null,null,null,null,null,null,null,null,null,null,null,null,null,null,null,null,null,null,null,null,null,null,null,null,null,null,null,null,null,null,null,null,null,null,null,null,null,null,null,null,null,null,null,null,null,null,null,null,null,null,null,null,null,null,null,null,{"$f":"IFERROR(INDEX($J$103:$J$186,MATCH(ROW()-ROW($BP$41),$I$103:$I$186,0)),\"\")","v":""},null,null,null,null,null,null,null,null,null,null,null,null,null,null,null,null,null,null,null,null,null,null,null,null,null,null,null,null,null,null,null,null,null,null,null,null,null,null,null,null,null,null,null,null,null,null,null,null,null,null,null,null,null,null,null,null,null,null,null,null,null,null,null,null,null,null,null,null,null,null,null,null,null,null,null,null,null,null,null,null,null,null,57,"WOODPOLE DETAILS","PH",{"$error":"#REF!"},null,{"$f":"CONCATENATE(#REF!,#REF!)","v":{"$error":"#REF!"}},{"$f":"CONCATENATE(#REF!,#REF!,#REF!)","v":{"$error":"#REF!"}},{"$f":"#REF!","v":{"$error":"#REF!"}},{"$f":"CONCATENATE(#REF!,#REF!,#REF!)","v":{"$error":"#REF!"}},{"$f":"CONCATENATE(#REF!,#REF!,#REF!,#REF!,#REF!,#REF!,)","v":{"$error":"#REF!"}},"POLE_E","AC",{"$error":"#REF!"},"E9999",1,1,"08"]
[null,null,null,null,null,null,null,null,null,null,null,null,null,null,null,null,null,null,null,null,null,null,null,null,null,null,null,null,null,null,null,null,null,null,null,null,null,null,null,null,null,null,null,null,null,null,null,null,null,null,null,null,null,null,null,null,null,null,null,null,null,null,null,null,null,null,null,{"$f":"IFERROR(INDEX($J$103:$J$186,MATCH(ROW()-ROW($BP$41),$I$103:$I$186,0)),\"\")","v":""},null,null,null,null,null,null,null,null,null,null,null,null,null,null,null,null,null,null,null,null,null,null,null,null,null,null,null,null,null,null,null,null,null,null,null,null,null,null,null,null,null,null,null,null,null,null,null,null,null,null,null,null,null,null,null,null,null,null,null,null,null,null,null,null,null,null,null,null,null,null,null,null,null,null,null,null,null,null,null,null,null,null,58,"WOODPOLE DETAILS","PH",{"$error":"#REF!"},null,{"$f":"CONCATENATE(#REF!,#REF!)","v":{"$error":"#REF!"}},{"$f":"CONCATENATE(#REF!,#REF!,#REF!)","v":{"$error":"#REF!"}},{"$f":"#REF!","v":{"$error":"#REF!"}},{"$f":"CONCATENATE(#REF!,#REF!,#REF!)","v":{"$error":"#REF!"}},{"$f":"CONCATENATE(#REF!,#REF!,#REF!,#REF!,#REF!,#REF!,)","v":{"$error":"#REF!"}},"POLE_E","AC",{"$error":"#REF!"},"E9999",1,1,"08"]
[8,null,null,null,null,{"$f":"IF(B64=\"R\",\"Y\",\"N\")","v":"N"},null,null,{"$f":"IF(COUNTIF(J64:Y66,\"?*\")>0,1,0)","v":0},null,null,null,null,null,null,null,null,null,null,null,null,null,null,null,null,{"$f":"IF(J64<>\"\",1,0)","v":0},null,null,null,null,null,null,null,null,null,null,null,null,null,null,null,null,null,null,null,null,null,null,null,null,null,null,null,null,null,null,null,null,null,null,null,null,null,null,null,{"$f":"IF(COUNTA(BG64:BM66)>0,1,0)","v":0},{"$f":"COUNTA(B64,AA64,AN64:AY66,BA64:BE66)+I64+BN64","v":0},{"$f":"IFERROR(INDEX($J$103:$J$186,MATCH(ROW()-ROW($BP$41),$I$103:$I$186,0)),\"\")","v":""},null,null,null,null,null,null,null,null,null,null,null,null,null,null,null,null,null,null,null,null,null,null,null,null,null,null,null,null,null,null,null,null,null,null,null,null,null,null,null,null,null,null,null,null,null,null,null,null,null,null,null,null,null,null,null,null,null,null,null,null,null,null,null,null,null,null,null,null,null,null,null,null,null,null,null,null,null,null,null,null,null,null,59,"WOODPOLE DETAILS","PH",{"$error":"#REF!"},null,{"$f":"CONCATENATE(#REF!,#REF!)","v":{"$error":"#REF!"}},{"$f":"CONCATENATE(#REF!,#REF!,#REF!)","v":{"$error":"#REF!"}},{"$f":"#REF!","v":{"$error":"#REF!"}},{"$f":"CONCATENATE(#REF!,#REF!,#REF!)","v":{"$error":"#REF!"}},{"$f":"CONCATENATE(#REF!,#REF!,#REF!,#REF!,#REF!,#REF!,)","v":{"$error":"#REF!"}},"POLE_E","AC",{"$error":"#REF!"},"E9999",1,1,"08"]
[null,null,null,null,null,null,null,null,null,null,null,null,null,null,null,null,null,null,null,null,null,null,null,null,null,null,null,null,null,null,null,null,null,null,null,null,null,null,null,null,null,null,null,null,null,null,null,null,null,null,null,null,null,null,null,null,null,null,null,null,null,null,null,null,null,null,null,{"$f":"IFERROR(INDEX($J$103:$J$186,MATCH(ROW()-ROW($BP$41),$I$103:$I$186,0)),\"\")","v":""},null,null,null,null,null,null,null,null,null,null,null,null,null,null,null,null,null,null,null,null,null,null,null,null,null,null,null,null,null,null,null,null,null,null,null,null,null,null,null,null,null,null,null,null,null,null,null,null,null,null,null,null,null,null,null,null,null,null,null,null,null,null,null,null,null,null,null,null,null,null,null,null,null,null,null,null,null,null,null,null,null,null,60,"WOODPOLE DETAILS","PH",{"$error":"#REF!"},null,{"$f":"CONCATENATE(#REF!,#REF!)","v":{"$error":"#REF!"}},{"$f":"CONCATENATE(#REF!,#REF!,#REF!)","v":{"$error":"#REF!"}},{"$f":"#REF!","v":{"$error":"#REF!"}},{"$f":"CONCATENATE(#REF!,#REF!,#REF!)","v":{"$error":"#REF!"}},{"$f":"CONCATENATE(#REF!,#REF!,#REF!,#REF!,#REF!,#REF!,)","v":{"$error":"#REF!"}},"POLE_E","AC",{"$error":"#REF!"},"E9999",1,1,"08"]
[null,null,null,null,null,null,null,null,null,null,null,null,null,null,null,null,null,null,null,null,null,null,null,null,null,null,null,null,null,null,null,null,null,null,null,null,null,null,null,null,null,null,null,null,null,null,null,null,null,null,null,null,null,null,null,null,null,null,null,null,null,null,null,null,null,null,null,{"$f":"IFERROR(INDEX($J$103:$J$186,MATCH(ROW()-ROW($BP$41),$I$103:$I$186,0)),\"\")","v":""},null,null,null,null,null,null,null,null,null,null,null,null,null,null,null,null,null,null,null,null,null,null,null,null,null,null,null,null,null,null,null,null,null,null,null,null,null,null,null,null,null,null,null,null,null,null,null,null,null,null,null,null,null,null,null,null,null,null,null,null,null,null,null,null,null,null,null,null,null,null,null,null,null,null,null,null,null,null,null,null,null,null,61,"WOODPOLE DETAILS","PH",{"$error":"#REF!"},null,{"$f":"CONCATENATE(#REF!,#REF!)","v":{"$error":"#REF!"}},{"$f":"CONCATENATE(#REF!,#REF!,#REF!)","v":{"$error":"#REF!"}},{"$f":"#REF!","v":{"$error":"#REF!"}},{"$f":"CONCATENATE(#REF!,#REF!,#REF!)","v":{"$error":"#REF!"}},{"$f":"CONCATENATE(#REF!,#REF!,#REF!,#REF!,#REF!,#REF!,)","v":{"$error":"#REF!"}},"POLE_E","AC",{"$error":"#REF!"},"E9999",1,1,"08"]
[9,null,null,null,null,{"$f":"IF(B67=\"R\",\"Y\",\"N\")","v":"N"},null,null,{"$f":"IF(COUNTIF(J67:Y69,\"?*\")>0,1,0)","v":0},null,null,null,null,null,null,null,null,null,null,null,null,null,null,null,null,{"$f":"IF(J67<>\"\",1,0)","v":0},null,null,null,null,null,null,null,null,null,null,null,null,null,null,null,null,null,null,null,null,null,null,null,null,null,null,null,null,null,null,null,null,null,null,null,null,null,null,null,{"$f":"IF(COUNTA(BG67:BM69)>0,1,0)","v":0},{"$f":"COUNTA(B67,AA67,AN67:AY69,BA67:BE69)+I67+BN67","v":0},{"$f":"IFERROR(INDEX($J$103:$J$186,MATCH(ROW()-ROW($BP$41),$I$103:$I$186,0)),\"\")","v":""},null,null,null,null,null,null,null,null,null,null,null,null,null,null,null,null,null,null,null,null,null,null,null,null,null,null,null,null,null,null,null,null,null,null,null,null,null,null,null,null,null,null,null,null,null,null,null,null,null,null,null,null,null,null,null,null,null,null,null,null,null,null,null,null,null,null,null,null,null,null,null,null,null,null,null,null,null,null,null,null,null,null,62,"WOODPOLE DETAILS","PH",{"$error":"#REF!"},null,{"$f":"CONCATENATE(#REF!,#REF!)","v":{"$error":"#REF!"}},{"$f":"CONCATENATE(#REF!,#REF!,#REF!)","v":{"$error":"#REF!"}},{"$f":"#REF!","v":{"$error":"#REF!"}},{"$f":"CONCATENATE(#REF!,#REF!,#REF!)","v":{"$error":"#REF!"}},{"$f":"CONCATENATE(#REF!,#REF!,#REF!,#REF!,#REF!,#REF!,)","v":{"$error":"#REF!"}},"POLE_E","AC",{"$error":"#REF!"},"E9999",1,1,"08"]
[null,null,null,null,null,null,null,null,null,null,null,null,null,null,null,null,null,null,null,null,null,null,null,null,null,null,null,null,null,null,null,null,null,null,null,null,null,null,null,null,null,null,null,null,null,null,null,null,null,null,null,null,null,null,null,null,null,null,null,null,null,null,null,null,null,null,null,{"$f":"IFERROR(INDEX($J$103:$J$186,MATCH(ROW()-ROW($BP$41),$I$103:$I$186,0)),\"\")","v":""},null,null,null,null,null,null,null,null,null,null,null,null,null,null,null,null,null,null,null,null,null,null,null,null,null,null,null,null,null,null,null,null,null,null,null,null,null,null,null,null,null,null,null,null,null,null,null,null,null,null,null,null,null,null,null,null,null,null,null,null,null,null,null,null,null,null,null,null,null,null,null,null,null,null,null,null,null,null,null,null,null,null,63,"WOODPOLE DETAILS","PH",{"$error":"#REF!"},null,{"$f":"CONCATENATE(#REF!,#REF!)","v":{"$error":"#REF!"}},{"$f":"CONCATENATE(#REF!,#REF!,#REF!)","v":{"$error":"#REF!"}},{"$f":"#REF!","v":{"$error":"#REF!"}},{"$f":"CONCATENATE(#REF!,#REF!,#REF!)","v":{"$error":"#REF!"}},{"$f":"CONCATENATE(#REF!,#REF!,#REF!,#REF!,#REF!,#REF!,)","v":{"$error":"#REF!"}},"POLE_E","AC",{"$error":"#REF!"},"E9999",1,1,"08"]
[null,null,null,null,null,null,null,null,null,null,null,null,null,null,null,null,null,null,null,null,null,null,null,null,null,null,null,null,null,null,null,null,null,null,null,null,null,null,null,null,null,null,null,null,null,null,null,null,null,null,null,null,null,null,null,null,null,null,null,null,null,null,null,null,null,null,null,{"$f":"IFERROR(INDEX($J$103:$J$186,MATCH(ROW()-ROW($BP$41),$I$103:$I$186,0)),\"\")","v":""},null,null,null,null,null,null,null,null,null,null,null,null,null,null,null,null,null,null,null,null,null,null,null,null,null,null,null,null,null,null,null,null,null,null,null,null,null,null,null,null,null,null,null,null,null,null,null,null,null,null,null,null,null,null,null,null,null,null,null,null,null,null,null,null,null,null,null,null,null,null,null,null,null,null,null,null,null,null,null,null,null,null,64,"WOODPOLE DETAILS","PH",{"$error":"#REF!"},null,{"$f":"CONCATENATE(#REF!,#REF!)","v":{"$error":"#REF!"}},{"$f":"CONCATENATE(#REF!,#REF!,#REF!)","v":{"$error":"#REF!"}},{"$f":"#REF!","v":{"$error":"#REF!"}},{"$f":"CONCATENATE(#REF!,#REF!,#REF!)","v":{"$error":"#REF!"}},{"$f":"CONCATENATE(#REF!,#REF!,#REF!,#REF!,#REF!,#REF!,)","v":{"$error":"#REF!"}},"POLE_E","AC",{"$error":"#REF!"},"E9999",1,1,"08"]
[10,null,null,null,null,{"$f":"IF(B70=\"R\",\"Y\",\"N\")","v":"N"},null,null,{"$f":"IF(COUNTIF(J70:Y72,\"?*\")>0,1,0)","v":0},null,null,null,null,null,null,null,null,null,null,null,null,null,null,null,null,{"$f":"IF(J70<>\"\",1,0)","v":0},null,null,null,null,null,null,null,null,null,null,null,null,null,null,null,null,null,null,null,null,null,null,null,null,null,null,null,null,null,null,null,null,null,null,null,null,null,null,null,{"$f":"IF(COUNTA(BG70:BM72)>0,1,0)","v":0},{"$f":"COUNTA(B70,AA70,AN70:AY72,BA70:BE72)+I70+BN70","v":0},{"$f":"IFERROR(INDEX($J$103:$J$186,MATCH(ROW()-ROW($BP$41),$I$103:$I$186,0)),\"\")","v":""},null,null,null,null,null,null,null,null,null,null,null,null,null,null,null,null,null,null,null,null,null,null,null,null,null,null,null,null,null,null,null,null,null,null,null,null,null,null,null,null,null,null,null,null,null,null,null,null,null,null,null,null,null,null,null,null,null,null,null,null,null,null,null,null,null,null,null,null,null,null,null,null,null,null,null,null,null,null,null,null,null,null,65,"WOODPOLE DETAILS","PH",{"$f":"CONCATENATE(EZ70,FA70,FB70,FC70,FD70)","v":{"$error":"#REF!"}},null,{"$f":"CONCATENATE(#REF!,#REF!)","v":{"$error":"#REF!"}},{"$f":"CONCATENATE(#REF!,#REF!,#REF!)","v":{"$error":"#REF!"}},{"$f":"#REF!","v":{"$error":"#REF!"}},{"$f":"CONCATENATE(#REF!,#REF!,#REF!)","v":{"$error":"#REF!"}},{"$f":"CONCATENATE(#REF!,#REF!,#REF!,#REF!,#REF!,#REF!,)","v":{"$error":"#REF!"}},"POLE_E","AC",{"$f":"CONCATENATE(EZ70,FA70,FB70,FC70)","v":{"$error":"#REF!"}},"E9999",1,1,"08"]
[null,null,null,null,null,null,null,null,null,null,null,null,null,null,null,null,null,null,null,null,null,null,null,null,null,null,null,null,null,null,null,null,null,null,null,null,null,null,null,null,null,null,null,null,null,null,null,null,null,null,null,null,null,null,null,null,null,null,null,null,null,null,null,null,null,null,null,{"$f":"IFERROR(INDEX($J$103:$J$186,MATCH(ROW()-ROW($BP$41),$I$103:$I$186,0)),\"\")","v":""},null,null,null,null,null,null,null,null,null,null,null,null,null,null,null,null,null,null,null,null,null,null,null,null,null,null,null,null,null,null,null,null,null,null,null,null,null,null,null,null,null,null,null,null,null,null,null,null,null,null,null,null,null,null,null,null,null,null,null,null,null,null,null,null,null,null,null,null,null,null,null,null,null,null,null,null,null,null,null,null,null,null,66,"WOODPOLE DETAILS","PH",{"$error":"#REF!"},null,{"$f":"CONCATENATE(#REF!,#REF!)","v":{"$error":"#REF!"}},{"$f":"CONCATENATE(#REF!,#REF!,#REF!)","v":{"$error":"#REF!"}},{"$f":"#REF!","v":{"$error":"#REF!"}},{"$f":"CONCATENATE(#REF!,#REF!,#REF!)","v":{"$error":"#REF!"}},{"$f":"CONCATENATE(#REF!,#REF!,#REF!,#REF!,#REF!,#REF!,)","v":{"$error":"#REF!"}},"POLE_E","AC",{"$error":"#REF!"},"E9999",1,1,"08"]
[null,null,null,null,null,null,null,null,null,null,null,null,null,null,null,null,null,null,null,null,null,null,null,null,null,null,null,null,null,null,null,null,null,null,null,null,null,null,null,null,null,null,null,null,null,null,null,null,null,null,null,null,null,null,null,null,null,null,null,null,null,null,null,null,null,null,null,{"$f":"IFERROR(INDEX($J$103:$J$186,MATCH(ROW()-ROW($BP$41),$I$103:$I$186,0)),\"\")","v":""},null,null,null,null,null,null,null,null,null,null,null,null,null,null,null,null,null,null,null,null,null,null,null,null,null,null,null,null,null,null,null,null,null,null,null,null,null,null,null,null,null,null,null,null,null,null,null,null,null,null,null,null,null,null,null,null,null,null,null,null,null,null,null,null,null,null,null,null,null,null,null,null,null,null,null,null,null,null,null,null,null,null,67,"WOODPOLE DETAILS","PH",{"$error":"#REF!"},null,{"$f":"CONCATENATE(#REF!,#REF!)","v":{"$error":"#REF!"}},{"$f":"CONCATENATE(#REF!,#REF!,#REF!)","v":{"$error":"#REF!"}},{"$f":"#REF!","v":{"$error":"#REF!"}},{"$f":"CONCATENATE(#REF!,#REF!,#REF!)","v":{"$error":"#REF!"}},{"$f":"CONCATENATE(#REF!,#REF!,#REF!,#REF!,#REF!,#REF!,)","v":{"$error":"#REF!"}},"POLE_E","AC",{"$error":"#REF!"},"E9999",1,1,"08"]
[11,null,null,null,null,{"$f":"IF(B73=\"R\",\"Y\",\"N\")","v":"N"},null,null,{"$f":"IF(COUNTIF(J73:Y75,\"?*\")>0,1,0)","v":0},null,null,null,null,null,null,null,null,null,null,null,null,null,null,null,null,{"$f":"IF(J73<>\"\",1,0)","v":0},null,null,null,null,null,null,null,null,null,null,null,null,null,null,null,null,null,null,null,null,null,null,null,null,null,null,null,null,null,null,null,null,null,null,null,null,null,null,null,{"$f":"IF(COUNTA(BG73:BM75)>0,1,0)","v":0},{"$f":"COUNTA(B73,AA73,AN73:AY75,BA73:BE75)+I73+BN73","v":0},{"$f":"IFERROR(INDEX($J$103:$J$186,MATCH(ROW()-ROW($BP$41),$I$103:$I$186,0)),\"\")","v":""},null,null,null,null,null,null,null,null,null,null,null,null,null,null,null,null,null,null,null,null,null,null,null,null,null,null,null,null,null,null,null,null,null,null,null,null,null,null,null,null,null,null,null,null,null,null,null,null,null,null,null,null,null,null,null,null,null,null,null,null,null,null,null,null,null,null,null,null,null,null,null,null,null,null,null,null,null,null,null,null,null,null,68,"WOODPOLE DETAILS","PH",{"$error":"#REF!"},null,{"$f":"CONCATENATE(#REF!,#REF!)","v":{"$error":"#REF!"}},{"$f":"CONCATENATE(#REF!,#REF!,#REF!)","v":{"$error":"#REF!"}},{"$f":"#REF!","v":{"$error":"#REF!"}},{"$f":"CONCATENATE(#REF!,#REF!,#REF!)","v":{"$error":"#REF!"}},{"$f":"CONCATENATE(#REF!,#REF!,#REF!,#REF!,#REF!,#REF!,)","v":{"$error":"#REF!"}},"POLE_E","AC",{"$error":"#REF!"},"E9999",1,1,"08"]
[null,null,null,null,null,null,null,null,null,null,null,null,null,null,null,null,null,null,null,null,null,null,null,null,null,null,null,null,null,null,null,null,null,null,null,null,null,null,null,null,null,null,null,null,null,null,null,null,null,null,null,null,null,null,null,null,null,null,null,null,null,null,null,null,null,null,null,{"$f":"IFERROR(INDEX($J$103:$J$186,MATCH(ROW()-ROW($BP$41),$I$103:$I$186,0)),\"\")","v":""},null,null,null,null,null,null,null,null,null,null,null,null,null,null,null,null,null,null,null,null,null,null,null,null,null,null,null,null,null,null,null,null,null,null,null,null,null,null,null,null,null,null,null,null,null,null,null,null,null,null,null,null,null,null,null,null,null,null,null,null,null,null,null,null,null,null,null,null,null,null,null,null,null,null,null,null,null,null,null,null,null,null,69,"WOODPOLE DETAILS","PH",{"$error":"#REF!"},null,{"$f":"CONCATENATE(#REF!,#REF!)","v":{"$error":"#REF!"}},{"$f":"CONCATENATE(#REF!,#REF!,#REF!)","v":{"$error":"#REF!"}},{"$f":"#REF!","v":{"$error":"#REF!"}},{"$f":"CONCATENATE(#REF!,#REF!,#REF!)","v":{"$error":"#REF!"}},{"$f":"CONCATENATE(#REF!,#REF!,#REF!,#REF!,#REF!,#REF!,)","v":{"$error":"#REF!"}},"POLE_E","AC",{"$error":"#REF!"},"E9999",1,1,"08"]
[null,null,null,null,null,null,null,null,null,null,null,null,null,null,null,null,null,null,null,null,null,null,null,null,null,null,null,null,null,null,null,null,null,null,null,null,null,null,null,null,null,null,null,null,null,null,null,null,null,null,null,null,null,null,null,null,null,null,null,null,null,null,null,null,null,null,null,{"$f":"IFERROR(INDEX($J$103:$J$186,MATCH(ROW()-ROW($BP$41),$I$103:$I$186,0)),\"\")","v":""},null,null,null,null,null,null,null,null,null,null,null,null,null,null,null,null,null,null,null,null,null,null,null,null,null,null,null,null,null,null,null,null,null,null,null,null,null,null,null,null,null,null,null,null,null,null,null,null,null,null,null,null,null,null,null,null,null,null,null,null,null,null,null,null,null,null,null,null,null,null,null,null,null,null,null,null,null,null,null,null,null,null,70,"WOODPOLE DETAILS","PH",{"$error":"#REF!"},null,{"$f":"CONCATENATE(#REF!,#REF!)","v":{"$error":"#REF!"}},{"$f":"CONCATENATE(#REF!,#REF!,#REF!)","v":{"$error":"#REF!"}},{"$f":"#REF!","v":{"$error":"#REF!"}},{"$f":"CONCATENATE(#REF!,#REF!,#REF!)","v":{"$error":"#REF!"}},{"$f":"CONCATENATE(#REF!,#REF!,#REF!,#REF!,#REF!,#REF!,)","v":{"$error":"#REF!"}},"POLE_E","AC",{"$error":"#REF!"},"E9999",1,1,"08"]
[12,null,null,null,null,{"$f":"IF(B76=\"R\",\"Y\",\"N\")","v":"N"},null,null,{"$f":"IF(COUNTIF(J76:Y78,\"?*\")>0,1,0)","v":0},null,null,null,null,null,null,null,null,null,null,null,null,null,null,null,null,{"$f":"IF(J76<>\"\",1,0)","v":0},null,null,null,null,null,null,null,null,null,null,null,null,null,null,null,null,null,null,null,null,null,null,null,null,null,null,null,null,null,null,null,null,null,null,null,null,null,null,null,{"$f":"IF(COUNTA(BG76:BM78)>0,1,0)","v":0},{"$f":"COUNTA(B76,AA76,AN76:AY78,BA76:BE78)+I76+BN76","v":0},{"$f":"IFERROR(INDEX($J$103:$J$186,MATCH(ROW()-ROW($BP$41),$I$103:$I$186,0)),\"\")","v":""},null,null,null,null,null,null,null,null,null,null,null,null,null,null,null,null,null,null,null,null,null,null,null,null,null,null,null,null,null,null,null,null,null,null,null,null,null,null,null,null,null,null,null,null,null,null,null,null,null,null,null,null,null,null,null,null,null,null,null,null,null,null,null,null,null,null,null,null,null,null,null,null,null,null,null,null,null,null,null,null,null,null,71,"WOODPOLE DETAILS","PH",{"$error":"#REF!"},null,{"$f":"CONCATENATE(#REF!,#REF!)","v":{"$error":"#REF!"}},{"$f":"CONCATENATE(#REF!,#REF!,#REF!)","v":{"$error":"#REF!"}},{"$f":"#REF!","v":{"$error":"#REF!"}},{"$f":"CONCATENATE(#REF!,#REF!,#REF!)","v":{"$error":"#REF!"}},{"$f":"CONCATENATE(#REF!,#REF!,#REF!,#REF!,#REF!,#REF!,)","v":{"$error":"#REF!"}},"POLE_E","AC",{"$error":"#REF!"},"E9999",1,1,"08"]
[null,null,null,null,null,null,null,null,null,null,null,null,null,null,null,null,null,null,null,null,null,null,null,null,null,null,null,null,null,null,null,null,null,null,null,null,null,null,null,null,null,null,null,null,null,null,null,null,null,null,null,null,null,null,null,null,null,null,null,null,null,null,null,null,null,null,null,{"$f":"IFERROR(INDEX($J$103:$J$186,MATCH(ROW()-ROW($BP$41),$I$103:$I$186,0)),\"\")","v":""},null,null,null,null,null,null,null,null,null,null,null,null,null,null,null,null,null,null,null,null,null,null,null,null,null,null,null,null,null,null,null,null,null,null,null,null,null,null,null,null,null,null,null,null,null,null,null,null,null,null,null,null,null,null,null,null,null,null,null,null,null,null,null,null,null,null,null,null,null,null,null,null,null,null,null,null,null,null,null,null,null,null,72,"WOODPOLE DETAILS","PH",{"$error":"#REF!"},null,{"$f":"CONCATENATE(#REF!,#REF!)","v":{"$error":"#REF!"}},{"$f":"CONCATENATE(#REF!,#REF!,#REF!)","v":{"$error":"#REF!"}},{"$f":"#REF!","v":{"$error":"#REF!"}},{"$f":"CONCATENATE(#REF!,#REF!,#REF!)","v":{"$error":"#REF!"}},{"$f":"CONCATENATE(#REF!,#REF!,#REF!,#REF!,#REF!,#REF!,)","v":{"$error":"#REF!"}},"POLE_E","AC",{"$error":"#REF!"},"E9999",1,1,"08"]
[null,null,null,null,null,null,null,null,null,null,null,null,null,null,null,null,null,null,null,null,null,null,null,null,null,null,null,null,null,null,null,null,null,null,null,null,null,null,null,null,null,null,null,null,null,null,null,null,null,null,null,null,null,null,null,null,null,null,null,null,null,null,null,null,null,null,null,{"$f":"IFERROR(INDEX($J$103:$J$186,MATCH(ROW()-ROW($BP$41),$I$103:$I$186,0)),\"\")","v":""},null,null,null,null,null,null,null,null,null,null,null,null,null,null,null,null,null,null,null,null,null,null,null,null,null,null,null,null,null,null,null,null,null,null,null,null,null,null,null,null,null,null,null,null,null,null,null,null,null,null,null,null,null,null,null,null,null,null,null,null,null,null,null,null,null,null,null,null,null,null,null,null,null,null,null,null,null,null,null,null,null,null,73,"WOODPOLE DETAILS","PH",{"$error":"#REF!"},null,{"$f":"CONCATENATE(#REF!,#REF!)","v":{"$error":"#REF!"}},{"$f":"CONCATENATE(#REF!,#REF!,#REF!)","v":{"$error":"#REF!"}},{"$f":"#REF!","v":{"$error":"#REF!"}},{"$f":"CONCATENATE(#REF!,#REF!,#REF!)","v":{"$error":"#REF!"}},{"$f":"CONCATENATE(#REF!,#REF!,#REF!,#REF!,#REF!,#REF!,)","v":{"$error":"#REF!"}},"POLE_E","AC",{"$error":"#REF!"},"E9999",1,1,"08"]
[13,null,null,null,null,{"$f":"IF(B79=\"R\",\"Y\",\"N\")","v":"N"},null,null,{"$f":"IF(COUNTIF(J79:Y81,\"?*\")>0,1,0)","v":0},null,null,null,null,null,null,null,null,null,null,null,null,null,null,null,null,{"$f":"IF(J79<>\"\",1,0)","v":0},null,null,null,null,null,null,null,null,null,null,null,null,null,null,null,null,null,null,null,null,null,null,null,null,null,null,null,null,null,null,null,null,null,null,null,null,null,null,null,{"$f":"IF(COUNTA(BG79:BM81)>0,1,0)","v":0},{"$f":"COUNTA(B79,AA79,AN79:AY81,BA79:BE81)+I79+BN79","v":0},{"$f":"IFERROR(INDEX($J$103:$J$186,MATCH(ROW()-ROW($BP$41),$I$103:$I$186,0)),\"\")","v":""},null,null,null,null,null,null,null,null,null,null,null,null,null,null,null,null,null,null,null,null,null,null,null,null,null,null,null,null,null,null,null,null,null,null,null,null,null,null,null,null,null,null,null,null,null,null,null,null,null,null,null,null,null,null,null,null,null,null,null,null,null,null,null,null,null,null,null,null,null,null,null,null,null,null,null,null,null,null,null,null,null,null,74,"WOODPOLE DETAILS","PH",{"$error":"#REF!"},null,{"$f":"CONCATENATE(#REF!,#REF!)","v":{"$error":"#REF!"}},{"$f":"CONCATENATE(#REF!,#REF!,#REF!)","v":{"$error":"#REF!"}},{"$f":"#REF!","v":{"$error":"#REF!"}},{"$f":"CONCATENATE(#REF!,#REF!,#REF!)","v":{"$error":"#REF!"}},{"$f":"CONCATENATE(#REF!,#REF!,#REF!,#REF!,#REF!,#REF!,)","v":{"$error":"#REF!"}},"POLE_E","AC",{"$error":"#REF!"},"E9999",1,1,"08"]
[null,null,null,null,null,null,null,null,null,null,null,null,null,null,null,null,null,null,null,null,null,null,null,null,null,null,null,null,null,null,null,null,null,null,null,null,null,null,null,null,null,null,null,null,null,null,null,null,null,null,null,null,null,null,null,null,null,null,null,null,null,null,null,null,null,null,null,{"$f":"IFERROR(INDEX($J$103:$J$186,MATCH(ROW()-ROW($BP$41),$I$103:$I$186,0)),\"\")","v":""},null,null,null,null,null,null,null,null,null,null,null,null,null,null,null,null,null,null,null,null,null,null,null,null,null,null,null,null,null,null,null,null,null,null,null,null,null,null,null,null,null,null,null,null,null,null,null,null,null,null,null,null,null,null,null,null,null,null,null,null,null,null,null,null,null,null,null,null,null,null,null,null,null,null,null,null,null,null,null,null,null,null,75,"WOODPOLE DETAILS","PH",{"$error":"#REF!"},null,{"$f":"CONCATENATE(#REF!,#REF!)","v":{"$error":"#REF!"}},{"$f":"CONCATENATE(#REF!,#REF!,#REF!)","v":{"$error":"#REF!"}},{"$f":"#REF!","v":{"$error":"#REF!"}},{"$f":"CONCATENATE(#REF!,#REF!,#REF!)","v":{"$error":"#REF!"}},{"$f":"CONCATENATE(#REF!,#REF!,#REF!,#REF!,#REF!,#REF!,)","v":{"$error":"#REF!"}},"POLE_E","AC",{"$error":"#REF!"},"E9999",1,1,"08"]
[null,null,null,null,null,null,null,null,null,null,null,null,null,null,null,null,null,null,null,null,null,null,null,null,null,null,null,null,null,null,null,null,null,null,null,null,null,null,null,null,null,null,null,null,null,null,null,null,null,null,null,null,null,null,null,null,null,null,null,null,null,null,null,null,null,null,null,{"$f":"IFERROR(INDEX($J$103:$J$186,MATCH(ROW()-ROW($BP$41),$I$103:$I$186,0)),\"\")","v":""},null,null,null,null,null,null,null,null,null,null,null,null,null,null,null,null,null,null,null,null,null,null,null,null,null,null,null,null,null,null,null,null,null,null,null,null,null,null,null,null,null,null,null,null,null,null,null,null,null,null,null,null,null,null,null,null,null,null,null,null,null,null,null,null,null,null,null,null,null,null,null,null,null,null,null,null,null,null,null,null,null,null,76,"WOODPOLE DETAILS","PH",{"$error":"#REF!"},null,{"$f":"CONCATENATE(#REF!,#REF!)","v":{"$error":"#REF!"}},{"$f":"CONCATENATE(#REF!,#REF!,#REF!)","v":{"$error":"#REF!"}},{"$f":"#REF!","v":{"$error":"#REF!"}},{"$f":"CONCATENATE(#REF!,#REF!,#REF!)","v":{"$error":"#REF!"}},{"$f":"CONCATENATE(#REF!,#REF!,#REF!,#REF!,#REF!,#REF!,)","v":{"$error":"#REF!"}},"POLE_E","AC",{"$error":"#REF!"},"E9999",1,1,"08"]
[14,null,null,null,null,{"$f":"IF(B82=\"R\",\"Y\",\"N\")","v":"N"},null,null,{"$f":"IF(COUNTIF(J82:Y84,\"?*\")>0,1,0)","v":0},null,null,null,null,null,null,null,null,null,null,null,null,null,null,null,null,{"$f":"IF(J82<>\"\",1,0)","v":0},null,null,null,null,null,null,null,null,null,null,null,null,null,null,null,null,null,null,null,null,null,null,null,null,null,null,null,null,null,null,null,null,null,null,null,null,null,null,null,{"$f":"IF(COUNTA(BG82:BM84)>0,1,0)","v":0},{"$f":"COUNTA(B82,AA82,AN82:AY84,BA82:BE84)+I82+BN82","v":0},{"$f":"IFERROR(INDEX($J$103:$J$186,MATCH(ROW()-ROW($BP$41),$I$103:$I$186,0)),\"\")","v":""},null,null,null,null,null,null,null,null,null,null,null,null,null,null,null,null,null,null,null,null,null,null,null,null,null,null,null,null,null,null,null,null,null,null,null,null,null,null,null,null,null,null,null,null,null,null,null,null,null,null,null,null,null,null,null,null,null,null,null,null,null,null,null,null,null,null,null,null,null,null,null,null,null,null,null,null,null,null,null,null,null,null,77,"WOODPOLE DETAILS","PH",{"$error":"#REF!"},null,{"$f":"CONCATENATE(#REF!,#REF!)","v":{"$error":"#REF!"}},{"$f":"CONCATENATE(#REF!,#REF!,#REF!)","v":{"$error":"#REF!"}},{"$f":"#REF!","v":{"$error":"#REF!"}},{"$f":"CONCATENATE(#REF!,#REF!,#REF!)","v":{"$error":"#REF!"}},{"$f":"CONCATENATE(#REF!,#REF!,#REF!,#REF!,#REF!,#REF!,)","v":{"$error":"#REF!"}},"POLE_E","AC",{"$error":"#REF!"},"E9999",1,1,"08"]
[null,null,null,null,null,null,null,null,null,null,null,null,null,null,null,null,null,null,null,null,null,null,null,null,null,null,null,null,null,null,null,null,null,null,null,null,null,null,null,null,null,null,null,null,null,null,null,null,null,null,null,null,null,null,null,null,null,null,null,null,null,null,null,null,null,null,null,{"$f":"IFERROR(INDEX($J$103:$J$186,MATCH(ROW()-ROW($BP$41),$I$103:$I$186,0)),\"\")","v":""},null,null,null,null,null,null,null,null,null,null,null,null,null,null,null,null,null,null,null,null,null,null,null,null,null,null,null,null,null,null,null,null,null,null,null,null,null,null,null,null,null,null,null,null,null,null,null,null,null,null,null,null,null,null,null,null,null,null,null,null,null,null,null,null,null,null,null,null,null,null,null,null,null,null,null,null,null,null,null,null,null,null,78,"WOODPOLE DETAILS","PH",{"$error":"#REF!"},null,{"$f":"CONCATENATE(#REF!,#REF!)","v":{"$error":"#REF!"}},{"$f":"CONCATENATE(#REF!,#REF!,#REF!)","v":{"$error":"#REF!"}},{"$f":"#REF!","v":{"$error":"#REF!"}},{"$f":"CONCATENATE(#REF!,#REF!,#REF!)","v":{"$error":"#REF!"}},{"$f":"CONCATENATE(#REF!,#REF!,#REF!,#REF!,#REF!,#REF!,)","v":{"$error":"#REF!"}},"POLE_E","AC",{"$error":"#REF!"},"E9999",1,1,"08"]
[null,null,null,null,null,null,null,null,null,null,null,null,null,null,null,null,null,null,null,null,null,null,null,null,null,null,null,null,null,null,null,null,null,null,null,null,null,null,null,null,null,null,null,null,null,null,null,null,null,null,null,null,null,null,null,null,null,null,null,null,null,null,null,null,null,null,null,{"$f":"IFERROR(INDEX($J$103:$J$186,MATCH(ROW()-ROW($BP$41),$I$103:$I$186,0)),\"\")","v":""},null,null,null,null,null,null,null,null,null,null,null,null,null,null,null,null,null,null,null,null,null,null,null,null,null,null,null,null,null,null,null,null,null,null,null,null,null,null,null,null,null,null,null,null,null,null,null,null,null,null,null,null,null,null,null,null,null,null,null,null,null,null,null,null,null,null,null,null,null,null,null,null,null,null,null,null,null,null,null,null,null,null,79,"WOODPOLE DETAILS","PH",{"$error":"#REF!"},null,{"$f":"CONCATENATE(#REF!,#REF!)","v":{"$error":"#REF!"}},{"$f":"CONCATENATE(#REF!,#REF!,#REF!)","v":{"$error":"#REF!"}},{"$f":"#REF!","v":{"$error":"#REF!"}},{"$f":"CONCATENATE(#REF!,#REF!,#REF!)","v":{"$error":"#REF!"}},{"$f":"CONCATENATE(#REF!,#REF!,#REF!,#REF!,#REF!,#REF!,)","v":{"$error":"#REF!"}},"POLE_E","AC",{"$error":"#REF!"},"E9999",1,1,"08"]
[15,null,null,null,null,{"$f":"IF(B85=\"R\",\"Y\",\"N\")","v":"N"},null,null,{"$f":"IF(COUNTIF(J85:Y87,\"?*\")>0,1,0)","v":0},null,null,null,null,null,null,null,null,null,null,null,null,null,null,null,null,{"$f":"IF(J85<>\"\",1,0)","v":0},null,null,null,null,null,null,null,null,null,null,null,null,null,null,null,null,null,null,null,null,null,null,null,null,null,null,null,null,null,null,null,null,null,null,null,null,null,null,null,{"$f":"IF(COUNTA(BG85:BM87)>0,1,0)","v":0},{"$f":"COUNTA(B85,AA85,AN85:AY87,BA85:BE87)+I85+BN85","v":0},{"$f":"IFERROR(INDEX($J$103:$J$186,MATCH(ROW()-ROW($BP$41),$I$103:$I$186,0)),\"\")","v":""},null,null,null,null,null,null,null,null,null,null,null,null,null,null,null,null,null,null,null,null,null,null,null,null,null,null,null,null,null,null,null,null,null,null,null,null,null,null,null,null,null,null,null,null,null,null,null,null,null,null,null,null,null,null,null,null,null,null,null,null,null,null,null,null,null,null,null,null,null,null,null,null,null,null,null,null,null,null,null,null,null,null,80,"WOODPOLE DETAILS","PH",{"$error":"#REF!"},null,{"$f":"CONCATENATE(#REF!,#REF!)","v":{"$error":"#REF!"}},{"$f":"CONCATENATE(#REF!,#REF!,#REF!)","v":{"$error":"#REF!"}},{"$f":"#REF!","v":{"$error":"#REF!"}},{"$f":"CONCATENATE(#REF!,#REF!,#REF!)","v":{"$error":"#REF!"}},{"$f":"CONCATENATE(#REF!,#REF!,#REF!,#REF!,#REF!,#REF!,)","v":{"$error":"#REF!"}},"POLE_E","AC",{"$error":"#REF!"},"E9999",1,1,"08"]
[null,null,null,null,null,null,null,null,null,null,null,null,null,null,null,null,null,null,null,null,null,null,null,null,null,null,null,null,null,null,null,null,null,null,null,null,null,null,null,null,null,null,null,null,null,null,null,null,null,null,null,null,null,null,null,null,null,null,null,null,null,null,null,null,null,null,null,{"$f":"IFERROR(INDEX($J$103:$J$186,MATCH(ROW()-ROW($BP$41),$I$103:$I$186,0)),\"\")","v":""},null,null,null,null,null,null,null,null,null,null,null,null,null,null,null,null,null,null,null,null,null,null,null,null,null,null,null,null,null,null,null,null,null,null,null,null,null,null,null,null,null,null,null,null,null,null,null,null,null,null,null,null,null,null,null,null,null,null,null,null,null,null,null,null,null,null,null,null,null,null,null,null,null,null,null,null,null,null,null,null,null,null,81,"WOODPOLE DETAILS","PH",{"$error":"#REF!"},null,{"$f":"CONCATENATE(#REF!,#REF!)","v":{"$error":"#REF!"}},{"$f":"CONCATENATE(#REF!,#REF!,#REF!)","v":{"$error":"#REF!"}},{"$f":"#REF!","v":{"$error":"#REF!"}},{"$f":"CONCATENATE(#REF!,#REF!,#REF!)","v":{"$error":"#REF!"}},{"$f":"CONCATENATE(#REF!,#REF!,#REF!,#REF!,#REF!,#REF!,)","v":{"$error":"#REF!"}},"POLE_E","AC",{"$error":"#REF!"},"E9999",1,1,"08"]
[null,null,null,null,null,null,null,null,null,null,null,null,null,null,null,null,null,null,null,null,null,null,null,null,null,null,null,null,null,null,null,null,null,null,null,null,null,null,null,null,null,null,null,null,null,null,null,null,null,null,null,null,null,null,null,null,null,null,null,null,null,null,null,null,null,null,null,{"$f":"IFERROR(INDEX($J$103:$J$186,MATCH(ROW()-ROW($BP$41),$I$103:$I$186,0)),\"\")","v":""},null,null,null,null,null,null,null,null,null,null,null,null,null,null,null,null,null,null,null,null,null,null,null,null,null,null,null,null,null,null,null,null,null,null,null,null,null,null,null,null,null,null,null,null,null,null,null,null,null,null,null,null,null,null,null,null,null,null,null,null,null,null,null,null,null,null,null,null,null,null,null,null,null,null,null,null,null,null,null,null,null,null,82,"WOODPOLE DETAILS","PH",{"$error":"#REF!"},null,{"$f":"CONCATENATE(#REF!,#REF!)","v":{"$error":"#REF!"}},{"$f":"CONCATENATE(#REF!,#REF!,#REF!)","v":{"$error":"#REF!"}},{"$f":"#REF!","v":{"$error":"#REF!"}},{"$f":"CONCATENATE(#REF!,#REF!,#REF!)","v":{"$error":"#REF!"}},{"$f":"CONCATENATE(#REF!,#REF!,#REF!,#REF!,#REF!,#REF!,)","v":{"$error":"#REF!"}},"POLE_E","AC",{"$error":"#REF!"},"E9999",1,1,"08"]
[16,null,null,null,null,{"$f":"IF(B88=\"R\",\"Y\",\"N\")","v":"N"},null,null,{"$f":"IF(COUNTIF(J88:Y90,\"?*\")>0,1,0)","v":0},null,null,null,null,null,null,null,null,null,null,null,null,null,null,null,null,{"$f":"IF(J88<>\"\",1,0)","v":0},null,null,null,null,null,null,null,null,null,null,null,null,null,null,null,null,null,null,null,null,null,null,null,null,null,null,null,null,null,null,null,null,null,null,null,null,null,null,null,{"$f":"IF(COUNTA(BG88:BM90)>0,1,0)","v":0},{"$f":"COUNTA(B88,AA88,AN88:AY90,BA88:BE90)+I88+BN88","v":0},{"$f":"IFERROR(INDEX($J$103:$J$186,MATCH(ROW()-ROW($BP$41),$I$103:$I$186,0)),\"\")","v":""},null,null,null,null,null,null,null,null,null,null,null,null,null,null,null,null,null,null,null,null,null,null,null,null,null,null,null,null,null,null,null,null,null,null,null,null,null,null,null,null,null,null,null,null,null,null,null,null,null,null,null,null,null,null,null,null,null,null,null,null,null,null,null,null,null,null,null,null,null,null,null,null,null,null,null,null,null,null,null,null,null,null,83,"WOODPOLE DETAILS","PH",{"$error":"#REF!"},null,{"$f":"CONCATENATE(#REF!,#REF!)","v":{"$error":"#REF!"}},{"$f":"CONCATENATE(#REF!,#REF!,#REF!)","v":{"$error":"#REF!"}},{"$f":"#REF!","v":{"$error":"#REF!"}},{"$f":"CONCATENATE(#REF!,#REF!,#REF!)","v":{"$error":"#REF!"}},{"$f":"CONCATENATE(#REF!,#REF!,#REF!,#REF!,#REF!,#REF!,)","v":{"$error":"#REF!"}},"POLE_E","AC",{"$error":"#REF!"},"E9999",1,1,"08"]
[null,null,null,null,null,null,null,null,null,null,null,null,null,null,null,null,null,null,null,null,null,null,null,null,null,null,null,null,null,null,null,null,null,null,null,null,null,null,null,null,null,null,null,null,null,null,null,null,null,null,null,null,null,null,null,null,null,null,null,null,null,null,null,null,null,null,null,{"$f":"IFERROR(INDEX($J$103:$J$186,MATCH(ROW()-ROW($BP$41),$I$103:$I$186,0)),\"\")","v":""},null,null,null,null,null,null,null,null,null,null,null,null,null,null,null,null,null,null,null,null,null,null,null,null,null,null,null,null,null,null,null,null,null,null,null,null,null,null,null,null,null,null,null,null,null,null,null,null,null,null,null,null,null,null,null,null,null,null,null,null,null,null,null,null,null,null,null,null,null,null,null,null,null,null,null,null,null,null,null,null,null,null,84,"WOODPOLE DETAILS","PH",{"$error":"#REF!"},null,{"$f":"CONCATENATE(#REF!,#REF!)","v":{"$error":"#REF!"}},{"$f":"CONCATENATE(#REF!,#REF!,#REF!)","v":{"$error":"#REF!"}},{"$f":"#REF!","v":{"$error":"#REF!"}},{"$f":"CONCATENATE(#REF!,#REF!,#REF!)","v":{"$error":"#REF!"}},{"$f":"CONCATENATE(#REF!,#REF!,#REF!,#REF!,#REF!,#REF!,)","v":{"$error":"#REF!"}},"POLE_E","AC",{"$error":"#REF!"},"E9999",1,1,"08"]
[null,null,null,null,null,null,null,null,null,null,null,null,null,null,null,null,null,null,null,null,null,null,null,null,null,null,null,null,null,null,null,null,null,null,null,null,null,null,null,null,null,null,null,null,null,null,null,null,null,null,null,null,null,null,null,null,null,null,null,null,null,null,null,null,null,null,null,{"$f":"IFERROR(INDEX($J$103:$J$186,MATCH(ROW()-ROW($BP$41),$I$103:$I$186,0)),\"\")","v":""},null,null,null,null,null,null,null,null,null,null,null,null,null,null,null,null,null,null,null,null,null,null,null,null,null,null,null,null,null,null,null,null,null,null,null,null,null,null,null,null,null,null,null,null,null,null,null,null,null,null,null,null,null,null,null,null,null,null,null,null,null,null,null,null,null,null,null,null,null,null,null,null,null,null,null,null,null,null,null,null,null,null,85,"WOODPOLE DETAILS","PH",{"$error":"#REF!"},null,{"$f":"CONCATENATE(#REF!,#REF!)","v":{"$error":"#REF!"}},{"$f":"CONCATENATE(#REF!,#REF!,#REF!)","v":{"$error":"#REF!"}},{"$f":"#REF!","v":{"$error":"#REF!"}},{"$f":"CONCATENATE(#REF!,#REF!,#REF!)","v":{"$error":"#REF!"}},{"$f":"CONCATENATE(#REF!,#REF!,#REF!,#REF!,#REF!,#REF!,)","v":{"$error":"#REF!"}},"POLE_E","AC",{"$error":"#REF!"},"E9999",1,1,"08"]
[17,null,null,null,null,{"$f":"IF(B91=\"R\",\"Y\",\"N\")","v":"N"},null,null,{"$f":"IF(COUNTIF(J91:Y93,\"?*\")>0,1,0)","v":0},null,null,null,null,null,null,null,null,null,null,null,null,null,null,null,null,{"$f":"IF(J91<>\"\",1,0)","v":0},null,null,null,null,null,null,null,null,null,null,null,null,null,null,null,null,null,null,null,null,null,null,null,null,null,null,null,null,null,null,null,null,null,null,null,null,null,null,null,{"$f":"IF(COUNTA(BG91:BM93)>0,1,0)","v":0},{"$f":"COUNTA(B91,AA91,AN91:AY93,BA91:BE93)+I91+BN91","v":0},{"$f":"IFERROR(INDEX($J$103:$J$186,MATCH(ROW()-ROW($BP$41),$I$103:$I$186,0)),\"\")","v":""},null,null,null,null,null,null,null,null,null,null,null,null,null,null,null,null,null,null,null,null,null,null,null,null,null,null,null,null,null,null,null,null,null,null,null,null,null,null,null,null,null,null,null,null,null,null,null,null,null,null,null,null,null,null,null,null,null,null,null,null,null,null,null,null,null,null,null,null,null,null,null,null,null,null,null,null,null,null,null,null,null,null,86,"WOODPOLE DETAILS","PH",{"$error":"#REF!"},null,{"$f":"CONCATENATE(#REF!,#REF!)","v":{"$error":"#REF!"}},{"$f":"CONCATENATE(#REF!,#REF!,#REF!)","v":{"$error":"#REF!"}},{"$f":"#REF!","v":{"$error":"#REF!"}},{"$f":"CONCATENATE(#REF!,#REF!,#REF!)","v":{"$error":"#REF!"}},{"$f":"CONCATENATE(#REF!,#REF!,#REF!,#REF!,#REF!,#REF!,)","v":{"$error":"#REF!"}},"POLE_E","AC",{"$error":"#REF!"},"E9999",1,1,"08"]
[null,null,null,null,null,null,null,null,null,null,null,null,null,null,null,null,null,null,null,null,null,null,null,null,null,null,null,null,null,null,null,null,null,null,null,null,null,null,null,null,null,null,null,null,null,null,null,null,null,null,null,null,null,null,null,null,null,null,null,null,null,null,null,null,null,null,null,{"$f":"IFERROR(INDEX($J$103:$J$186,MATCH(ROW()-ROW($BP$41),$I$103:$I$186,0)),\"\")","v":""},null,null,null,null,null,null,null,null,null,null,null,null,null,null,null,null,null,null,null,null,null,null,null,null,null,null,null,null,null,null,null,null,null,null,null,null,null,null,null,null,null,null,null,null,null,null,null,null,null,null,null,null,null,null,null,null,null,null,null,null,null,null,null,null,null,null,null,null,null,null,null,null,null,null,null,null,null,null,null,null,null,null,87,"WOODPOLE DETAILS","PH",{"$error":"#REF!"},null,{"$f":"CONCATENATE(#REF!,#REF!)","v":{"$error":"#REF!"}},{"$f":"CONCATENATE(#REF!,#REF!,#REF!)","v":{"$error":"#REF!"}},{"$f":"#REF!","v":{"$error":"#REF!"}},{"$f":"CONCATENATE(#REF!,#REF!,#REF!)","v":{"$error":"#REF!"}},{"$f":"CONCATENATE(#REF!,#REF!,#REF!,#REF!,#REF!,#REF!,)","v":{"$error":"#REF!"}},"POLE_E","AC",{"$error":"#REF!"},"E9999",1,1,"08"]
[null,null,null,null,null,null,null,null,null,null,null,null,null,null,null,null,null,null,null,null,null,null,null,null,null,null,null,null,null,null,null,null,null,null,null,null,null,null,null,null,null,null,null,null,null,null,null,null,null,null,null,null,null,null,null,null,null,null,null,null,null,null,null,null,null,null,null,{"$f":"IFERROR(INDEX($J$103:$J$186,MATCH(ROW()-ROW($BP$41),$I$103:$I$186,0)),\"\")","v":""},null,null,null,null,null,null,null,null,null,null,null,null,null,null,null,null,null,null,null,null,null,null,null,null,null,null,null,null,null,null,null,null,null,null,null,null,null,null,null,null,null,null,null,null,null,null,null,null,null,null,null,null,null,null,null,null,null,null,null,null,null,null,null,null,null,null,null,null,null,null,null,null,null,null,null,null,null,null,null,null,null,null,88,"WOODPOLE DETAILS","PH",{"$error":"#REF!"},null,{"$f":"CONCATENATE(#REF!,#REF!)","v":{"$error":"#REF!"}},{"$f":"CONCATENATE(#REF!,#REF!,#REF!)","v":{"$error":"#REF!"}},{"$f":"#REF!","v":{"$error":"#REF!"}},{"$f":"CONCATENATE(#REF!,#REF!,#REF!)","v":{"$error":"#REF!"}},{"$f":"CONCATENATE(#REF!,#REF!,#REF!,#REF!,#REF!,#REF!,)","v":{"$error":"#REF!"}},"POLE_E","AC",{"$error":"#REF!"},"E9999",1,1,"08"]
[18,null,null,null,null,{"$f":"IF(B94=\"R\",\"Y\",\"N\")","v":"N"},null,null,{"$f":"IF(COUNTIF(J94:Y96,\"?*\")>0,1,0)","v":0},null,null,null,null,null,null,null,null,null,null,null,null,null,null,null,null,{"$f":"IF(J94<>\"\",1,0)","v":0},null,null,null,null,null,null,null,null,null,null,null,null,null,null,null,null,null,null,null,null,null,null,null,null,null,null,null,null,null,null,null,null,null,null,null,null,null,null,null,{"$f":"IF(COUNTA(BG94:BM96)>0,1,0)","v":0},{"$f":"COUNTA(B94,AA94,AN94:AY96,BA94:BE96)+I94+BN94","v":0},{"$f":"IFERROR(INDEX($J$103:$J$186,MATCH(ROW()-ROW($BP$41),$I$103:$I$186,0)),\"\")","v":""},null,null,null,null,null,null,null,null,null,null,null,null,null,null,null,null,null,null,null,null,null,null,null,null,null,null,null,null,null,null,null,null,null,null,null,null,null,null,null,null,null,null,null,null,null,null,null,null,null,null,null,null,null,null,null,null,null,null,null,null,null,null,null,null,null,null,null,null,null,null,null,null,null,null,null,null,null,null,null,null,null,null,89,"WOODPOLE DETAILS","PH",{"$error":"#REF!"},null,{"$f":"CONCATENATE(#REF!,#REF!)","v":{"$error":"#REF!"}},{"$f":"CONCATENATE(#REF!,#REF!,#REF!)","v":{"$error":"#REF!"}},{"$f":"#REF!","v":{"$error":"#REF!"}},{"$f":"CONCATENATE(#REF!,#REF!,#REF!)","v":{"$error":"#REF!"}},{"$f":"CONCATENATE(#REF!,#REF!,#REF!,#REF!,#REF!,#REF!,)","v":{"$error":"#REF!"}},"POLE_E","AC",{"$error":"#REF!"},"E9999",1,1,"08"]
[null,null,null,null,null,null,null,null,null,null,null,null,null,null,null,null,null,null,null,null,null,null,null,null,null,null,null,null,null,null,null,null,null,null,null,null,null,null,null,null,null,null,null,null,null,null,null,null,null,null,null,null,null,null,null,null,null,null,null,null,null,null,null,null,null,null,null,{"$f":"IFERROR(INDEX($J$103:$J$186,MATCH(ROW()-ROW($BP$41),$I$103:$I$186,0)),\"\")","v":""},null,null,null,null,null,null,null,null,null,null,null,null,null,null,null,null,null,null,null,null,null,null,null,null,null,null,null,null,null,null,null,null,null,null,null,null,null,null,null,null,null,null,null,null,null,null,null,null,null,null,null,null,null,null,null,null,null,null,null,null,null,null,null,null,null,null,null,null,null,null,null,null,null,null,null,null,null,null,null,null,null,null,90,"WOODPOLE DETAILS","PH",{"$error":"#REF!"},null,{"$f":"CONCATENATE(#REF!,#REF!)","v":{"$error":"#REF!"}},{"$f":"CONCATENATE(#REF!,#REF!,#REF!)","v":{"$error":"#REF!"}},{"$f":"#REF!","v":{"$error":"#REF!"}},{"$f":"CONCATENATE(#REF!,#REF!,#REF!)","v":{"$error":"#REF!"}},{"$f":"CONCATENATE(#REF!,#REF!,#REF!,#REF!,#REF!,#REF!,)","v":{"$error":"#REF!"}},"POLE_E","AC",{"$error":"#REF!"},"E9999",1,1,"08"]
[null,null,null,null,null,null,null,null,null,null,null,null,null,null,null,null,null,null,null,null,null,null,null,null,null,null,null,null,null,null,null,null,null,null,null,null,null,null,null,null,null,null,null,null,null,null,null,null,null,null,null,null,null,null,null,null,null,null,null,null,null,null,null,null,null,null,null,{"$f":"IFERROR(INDEX($J$103:$J$186,MATCH(ROW()-ROW($BP$41),$I$103:$I$186,0)),\"\")","v":""},null,null,null,null,null,null,null,null,null,null,null,null,null,null,null,null,null,null,null,null,null,null,null,null,null,null,null,null,null,null,null,null,null,null,null,null,null,null,null,null,null,null,null,null,null,null,null,null,null,null,null,null,null,null,null,null,null,null,null,null,null,null,null,null,null,null,null,null,null,null,null,null,null,null,null,null,null,null,null,null,null,null,91,"WOODPOLE DETAILS","PH",{"$error":"#REF!"},null,{"$f":"CONCATENATE(#REF!,#REF!)","v":{"$error":"#REF!"}},{"$f":"CONCATENATE(#REF!,#REF!,#REF!)","v":{"$error":"#REF!"}},{"$f":"#REF!","v":{"$error":"#REF!"}},{"$f":"CONCATENATE(#REF!,#REF!,#REF!)","v":{"$error":"#REF!"}},{"$f":"CONCATENATE(#REF!,#REF!,#REF!,#REF!,#REF!,#REF!,)","v":{"$error":"#REF!"}},"POLE_E","AC",{"$error":"#REF!"},"E9999",1,1,"08"]
[19,null,null,null,null,{"$f":"IF(B97=\"R\",\"Y\",\"N\")","v":"N"},null,null,{"$f":"IF(COUNTIF(J97:Y99,\"?*\")>0,1,0)","v":0},null,null,null,null,null,null,null,null,null,null,null,null,null,null,null,null,{"$f":"IF(J97<>\"\",1,0)","v":0},null,null,null,null,null,null,null,null,null,null,null,null,null,null,null,null,null,null,null,null,null,null,null,null,null,null,null,null,null,null,null,null,null,null,null,null,null,null,null,{"$f":"IF(COUNTA(BG97:BM99)>0,1,0)","v":0},{"$f":"COUNTA(B97,AA97,AN97:AY99,BA97:BE99)+I97+BN97","v":0},{"$f":"IFERROR(INDEX($J$103:$J$186,MATCH(ROW()-ROW($BP$41),$I$103:$I$186,0)),\"\")","v":""},null,null,null,null,null,null,null,null,null,null,null,null,null,null,null,null,null,null,null,null,null,null,null,null,null,null,null,null,null,null,null,null,null,null,null,null,null,null,null,null,null,null,null,null,null,null,null,null,null,null,null,null,null,null,null,null,null,null,null,null,null,null,null,null,null,null,null,null,null,null,null,null,null,null,null,null,null,null,null,null,null,null,92,"WOODPOLE DETAILS","PH",{"$error":"#REF!"},null,{"$f":"CONCATENATE(#REF!,#REF!)","v":{"$error":"#REF!"}},{"$f":"CONCATENATE(#REF!,#REF!,#REF!)","v":{"$error":"#REF!"}},{"$f":"#REF!","v":{"$error":"#REF!"}},{"$f":"CONCATENATE(#REF!,#REF!,#REF!)","v":{"$error":"#REF!"}},{"$f":"CONCATENATE(#REF!,#REF!,#REF!,#REF!,#REF!,#REF!,)","v":{"$error":"#REF!"}},"POLE_E","AC",{"$error":"#REF!"},"E9999",1,1,"08"]
[null,null,null,null,null,null,null,null,null,null,null,null,null,null,null,null,null,null,null,null,null,null,null,null,null,null,null,null,null,null,null,null,null,null,null,null,null,null,null,null,null,null,null,null,null,null,null,null,null,null,null,null,null,null,null,null,null,null,null,null,null,null,null,null,null,null,null,{"$f":"IFERROR(INDEX($J$103:$J$186,MATCH(ROW()-ROW($BP$41),$I$103:$I$186,0)),\"\")","v":""},null,null,null,null,null,null,null,null,null,null,null,null,null,null,null,null,null,null,null,null,null,null,null,null,null,null,null,null,null,null,null,null,null,null,null,null,null,null,null,null,null,null,null,null,null,null,null,null,null,null,null,null,null,null,null,null,null,null,null,null,null,null,null,null,null,null,null,null,null,null,null,null,null,null,null,null,null,null,null,null,null,null,93,"WOODPOLE DETAILS","PH",{"$error":"#REF!"},null,{"$f":"CONCATENATE(#REF!,#REF!)","v":{"$error":"#REF!"}},{"$f":"CONCATENATE(#REF!,#REF!,#REF!)","v":{"$error":"#REF!"}},{"$f":"#REF!","v":{"$error":"#REF!"}},{"$f":"CONCATENATE(#REF!,#REF!,#REF!)","v":{"$error":"#REF!"}},{"$f":"CONCATENATE(#REF!,#REF!,#REF!,#REF!,#REF!,#REF!,)","v":{"$error":"#REF!"}},"POLE_E","AC",{"$error":"#REF!"},"E9999",1,1,"08"]
[null,null,null,null,null,null,null,null,null,null,null,null,null,null,null,null,null,null,null,null,null,null,null,null,null,null,null,null,null,null,null,null,null,null,null,null,null,null,null,null,null,null,null,null,null,null,null,null,null,null,null,null,null,null,null,null,null,null,null,null,null,null,null,null,null,null,null,{"$f":"IFERROR(INDEX($J$103:$J$186,MATCH(ROW()-ROW($BP$41),$I$103:$I$186,0)),\"\")","v":""},null,null,null,null,null,null,null,null,null,null,null,null,null,null,null,null,null,null,null,null,null,null,null,null,null,null,null,null,null,null,null,null,null,null,null,null,null,null,null,null,null,null,null,null,null,null,null,null,null,null,null,null,null,null,null,null,null,null,null,null,null,null,null,null,null,null,null,null,null,null,null,null,null,null,null,null,null,null,null,null,null,null,94,"WOODPOLE DETAILS","PH",{"$error":"#REF!"},null,{"$f":"CONCATENATE(#REF!,#REF!)","v":{"$error":"#REF!"}},{"$f":"CONCATENATE(#REF!,#REF!,#REF!)","v":{"$error":"#REF!"}},{"$f":"#REF!","v":{"$error":"#REF!"}},{"$f":"CONCATENATE(#REF!,#REF!,#REF!)","v":{"$error":"#REF!"}},{"$f":"CONCATENATE(#REF!,#REF!,#REF!,#REF!,#REF!,#REF!,)","v":{"$error":"#REF!"}},"POLE_E","AC",{"$error":"#REF!"},"E9999",1,1,"08"]
[20,null,null,null,null,{"$f":"IF(B100=\"R\",\"Y\",\"N\")","v":"N"},null,null,{"$f":"IF(COUNTIF(J100:Y102,\"?*\")>0,1,0)","v":0},null,null,null,null,null,null,null,null,null,null,null,null,null,null,null,null,{"$f":"IF(J100<>\"\",1,0)","v":0},null,null,null,null,null,null,null,null,null,null,null,null,null,null,null,null,null,null,null,null,null,null,null,null,null,null,null,null,null,null,null,null,null,null,null,null,null,null,null,{"$f":"IF(COUNTA(BG100:BM102)>0,1,0)","v":0},{"$f":"COUNTA(B100,AA100,AN100:AY102,BA100:BE102)+I100+BN100","v":0},{"$f":"IFERROR(INDEX($J$103:$J$186,MATCH(ROW()-ROW($BP$41),$I$103:$I$186,0)),\"\")","v":""},null,null,null,null,null,null,null,null,null,null,null,null,null,null,null,null,null,null,null,null,null,null,null,null,null,null,null,null,null,null,null,null,null,null,null,null,null,null,null,null,null,null,null,null,null,null,null,null,null,null,null,null,null,null,null,null,null,null,null,null,null,null,null,null,null,null,null,null,null,null,null,null,null,null,null,null,null,null,null,null,null,null,95,"WOODPOLE DETAILS","PH",{"$error":"#REF!"},null,{"$f":"CONCATENATE(#REF!,#REF!)","v":{"$error":"#REF!"}},{"$f":"CONCATENATE(#REF!,#REF!,#REF!)","v":{"$error":"#REF!"}},{"$f":"#REF!","v":{"$error":"#REF!"}},{"$f":"CONCATENATE(#REF!,#REF!,#REF!)","v":{"$error":"#REF!"}},{"$f":"CONCATENATE(#REF!,#REF!,#REF!,#REF!,#REF!,#REF!,)","v":{"$error":"#REF!"}},"POLE_E","AC",{"$error":"#REF!"},"E9999",1,1,"08"]
[null,null,null,null,null,null,null,null,null,null,null,null,null,null,null,null,null,null,null,null,null,null,null,null,null,null,null,null,null,null,null,null,null,null,null,null,null,null,null,null,null,null,null,null,null,null,null,null,null,null,null,null,null,null,null,null,null,null,null,null,null,null,null,null,null,null,null,{"$f":"IFERROR(INDEX($J$103:$J$186,MATCH(ROW()-ROW($BP$41),$I$103:$I$186,0)),\"\")","v":""},null,null,null,null,null,null,null,null,null,null,null,null,null,null,null,null,null,null,null,null,null,null,null,null,null,null,null,null,null,null,null,null,null,null,null,null,null,null,null,null,null,null,null,null,null,null,null,null,null,null,null,null,null,null,null,null,null,null,null,null,null,null,null,null,null,null,null,null,null,null,null,null,null,null,null,null,null,null,null,null,null,null,96,"WOODPOLE DETAILS","PH",{"$error":"#REF!"},null,{"$f":"CONCATENATE(#REF!,#REF!)","v":{"$error":"#REF!"}},{"$f":"CONCATENATE(#REF!,#REF!,#REF!)","v":{"$error":"#REF!"}},{"$f":"#REF!","v":{"$error":"#REF!"}},{"$f":"CONCATENATE(#REF!,#REF!,#REF!)","v":{"$error":"#REF!"}},{"$f":"CONCATENATE(#REF!,#REF!,#REF!,#REF!,#REF!,#REF!,)","v":{"$error":"#REF!"}},"POLE_E","AC",{"$error":"#REF!"},"E9999",1,1,"08"]
[null,null,null,null,null,null,null,null,null,null,null,null,null,null,null,null,null,null,null,null,null,null,null,null,null,null,null,null,null,null,null,null,null,null,null,null,null,null,null,null,null,null,null,null,null,null,null,null,null,null,null,null,null,null,null,null,null,null,null,null,null,null,null,null,null,null,null,null,null,null,null,null,null,null,null,null,null,null,null,null,null,null,null,null,null,null,null,null,null,null,null,null,null,null,null,null,null,null,null,null,null,null,null,null,null,null,null,null,null,null,null,null,null,null,null,null,null,null,null,null,null,null,null,null,null,null,null,null,null,null,null,null,null,null,null,null,null,null,null,null,null,null,null,null,null,null,null,null,null,null,97,"WOODPOLE DETAILS","PH",{"$f":"CONCATENATE(EZ102,FA102,FB102,FC102,FD102)","v":{"$error":"#REF!"}},null,{"$f":"CONCATENATE(#REF!,#REF!)","v":{"$error":"#REF!"}},{"$f":"CONCATENATE(#REF!,#REF!,#REF!)","v":{"$error":"#REF!"}},{"$f":"#REF!","v":{"$error":"#REF!"}},{"$f":"CONCATENATE(#REF!,#REF!,#REF!)","v":{"$error":"#REF!"}},{"$f":"CONCATENATE(#REF!,#REF!,#REF!,#REF!,#REF!,#REF!,)","v":{"$error":"#REF!"}},"POLE_E","AC",{"$f":"CONCATENATE(EZ102,FA102,FB102,FC102)","v":{"$error":"#REF!"}},"E9999",1,1,"08"]
[null,null,null,null,null,null,null,null,null,null,null,null,null,null,null,null,null,null,null,null,null,null,null,null,null,null,null,null,null,null,null,null,null,null,null,null,null,null,null,null,null,null,null,null,null,null,null,null,null,null,null,null,null,null,null,null,null,null,null,null,null,null,null,null,null,null,null,null,null,null,null,null,null,null,null,null,null,null,null,null,null,null,null,null,null,null,null,null,null,null,null,null,null,null,null,null,null,null,null,null,null,null,null,null,null,null,null,null,null,null,null,null,null,null,null,null,null,null,null,null,null,null,null,null,null,null,null,null,null,null,null,null,null,null,null,null,null,null,null,null,null,null,null,null,null,null,null,null,null,null,98,"WOODPOLE DETAILS","PH",{"$f":"CONCATENATE(EZ103,FA103,FB103,FC103,FD103)","v":{"$error":"#REF!"}},null,{"$f":"CONCATENATE(#REF!,#REF!)","v":{"$error":"#REF!"}},{"$f":"CONCATENATE(#REF!,#REF!,#REF!)","v":{"$error":"#REF!"}},{"$f":"#REF!","v":{"$error":"#REF!"}},{"$f":"CONCATENATE(#REF!,#REF!,#REF!)","v":{"$error":"#REF!"}},{"$f":"CONCATENATE(#REF!,#REF!,#REF!,#REF!,#REF!,#REF!,)","v":{"$error":"#REF!"}},"POLE_E","AC",{"$f":"CONCATENATE(EZ103,FA103,FB103,FC103)","v":{"$error":"#REF!"}},"E9999",1,1,"08"]
[null,null,null,null,null,null,null,null,null,null,null,null,null,null,null,null,null,null,null,null,null,null,null,null,null,null,null,null,null,null,null,null,null,null,null,null,null,null,null,null,null,null,null,null,null,null,null,null,null,null,null,null,null,null,null,null,null,null,null,null,null,null,null,null,null,null,null,null,null,null,null,null,null,null,null,null,null,null,null,null,null,null,null,null,null,null,null,null,null,null,null,null,null,null,null,null,null,null,null,null,null,null,null,null,null,null,null,null,null,null,null,null,null,null,null,null,null,null,null,null,null,null,null,null,null,null,null,null,null,null,null,null,null,null,null,null,null,null,null,null,null,null,null,null,null,null,null,null,null,null,99,"WOODPOLE DETAILS","PH",{"$error":"#REF!"},null,{"$f":"CONCATENATE(#REF!,#REF!)","v":{"$error":"#REF!"}},{"$f":"CONCATENATE(#REF!,#REF!,#REF!)","v":{"$error":"#REF!"}},{"$f":"#REF!","v":{"$error":"#REF!"}},{"$f":"CONCATENATE(#REF!,#REF!,#REF!)","v":{"$error":"#REF!"}},{"$f":"CONCATENATE(#REF!,#REF!,#REF!,#REF!,#REF!,#REF!,)","v":{"$error":"#REF!"}},"POLE_E","AC",{"$error":"#REF!"},"E9999",1,1,"08"]
[null,null,null,null,null,null,null,null,null,"STRUCTRED PLANT NUMBER",null,null,null,null,null,null,null,null,null,null,null,null,null,null,null,null,"LOCATION",null,null,null,null,null,null,null,null,null,null,null,null,"ATTRIBUTION",null,null,null,null,null,null,null,null,null,null,null,null,"CHILDREN",null,null,null,null,null,"EQUIPMENT",null,null,null,null,null,null,null,null,null,null,null,null,null,null,null,null,null,null,null,null,null,null,null,null,null,null,null,null,null,null,null,null,null,null,null,null,null,null,null,null,null,null,null,null,null,null,null,null,null,null,null,null,null,null,null,null,null,null,null,null,null,null,null,null,null,null,null,null,null,null,null,null,null,null,null,null,null,null,null,null,null,null,null,null,null,null,null,null,null,null,null,100,"WOODPOLE DETAILS","PH",{"$error":"#REF!"},null,{"$f":"CONCATENATE(#REF!,#REF!)","v":{"$error":"#REF!"}},{"$f":"CONCATENATE(#REF!,#REF!,#REF!)","v":{"$error":"#REF!"}},{"$f":"#REF!","v":{"$error":"#REF!"}},{"$f":"CONCATENATE(#REF!,#REF!,#REF!)","v":{"$error":"#REF!"}},{"$f":"CONCATENATE(#REF!,#REF!,#REF!,#REF!,#REF!,#REF!,)","v":{"$error":"#REF!"}},"POLE_E","AC",{"$error":"#REF!"},"E9999",1,1,"08"]
[null,null,null,null,null,null,null,null,null,null,null,null,null,null,null,null,null,null,null,null,null,null,null,null,null,null,null,null,null,null,null,null,null,null,null,null,null,null,null,null,null,null,null,null,null,null,null,null,null,null,null,null,null,null,null,null,null,null,null,null,null,null,null,null,null,null,null,null,null,null,null,null,null,null,null,null,null,null,null,null,null,null,null,null,null,null,null,null,null,null,null,null,null,null,null,null,null,null,null,null,null,null,null,null,null,null,null,null,null,null,null,null,null,null,null,null,null,null,null,null,null,null,null,null,null,null,null,null,null,null,null,null,null,null,null,null,null,null,null,null,null,null,null,null,null,null,null,null,null,null,101,"WOODPOLE DETAILS","PH",{"$error":"#REF!"},null,{"$f":"CONCATENATE(#REF!,#REF!)","v":{"$error":"#REF!"}},{"$f":"CONCATENATE(#REF!,#REF!,#REF!)","v":{"$error":"#REF!"}},{"$f":"#REF!","v":{"$error":"#REF!"}},{"$f":"CONCATENATE(#REF!,#REF!,#REF!)","v":{"$error":"#REF!"}},{"$f":"CONCATENATE(#REF!,#REF!,#REF!,#REF!,#REF!,#REF!,)","v":{"$error":"#REF!"}},"POLE_E","AC",{"$error":"#REF!"},"E9999",1,1,"08"]
[null,null,null,null,null,null,null,null,null,null,null,null,null,null,null,null,null,null,null,null,null,null,null,null,null,null,null,null,null,null,null,null,null,null,null,null,null,null,null,null,null,null,null,null,null,null,null,null,null,null,null,null,null,null,null,null,null,null,null,null,null,null,null,null,null,null,null,null,null,null,null,null,null,null,null,null,null,null,null,null,null,null,null,null,null,null,null,null,null,null,null,null,null,null,null,null,null,null,null,null,null,null,null,null,null,null,null,null,null,null,null,null,null,null,null,null,null,null,null,null,null,null,null,null,null,null,null,null,null,null,null,null,null,null,null,null,null,null,null,null,null,null,null,null,null,null,null,null,null,null,102,"WOODPOLE DETAILS","PH",{"$error":"#REF!"},null,{"$f":"CONCATENATE(#REF!,#REF!)","v":{"$error":"#REF!"}},{"$f":"CONCATENATE(#REF!,#REF!,#REF!)","v":{"$error":"#REF!"}},{"$f":"#REF!","v":{"$error":"#REF!"}},{"$f":"CONCATENATE(#REF!,#REF!,#REF!)","v":{"$error":"#REF!"}},{"$f":"CONCATENATE(#REF!,#REF!,#REF!,#REF!,#REF!,#REF!,)","v":{"$error":"#REF!"}},"POLE_E","AC",{"$error":"#REF!"},"E9999",1,1,"08"]
[null,"TYPE OF \nAMENDMENT?",null,null,null,"DOC07B \nREQUIRED",null,null,null,"AREA",null,"UNIT",null,null,"VOLTAGE","LINE",null,null,"POLE I.D. \n(6 DIGIT)",null,null,null,null,null,"SUFFIX (A, B, C ETC)",null,"GRID REFERENCE",null,null,null,null,null,null,null,null,null,null,null,null,"POLE TYPE",null,"POLE GRADE","POLE DIAMETER (mm)",null,"POLE HEIGHT (m)",null,"POLE DESIGN","MANUFACTURED DATE",null,null,null,null,"No. OF HV STAYS","No. OF LV STAYS","HV CROSS ARM - TOP","HV CROSS ARM - TEE","LV ARRANGEMENT",null,"GVR","SECTIONALIZER","ABS","ASL / DOEF / LINKS","FPI","SENTINEL","TRANSFORMER (TX)"]
[]
[]
[]
[]
[]
[]
[]
[]
[]
[]
[]
[]
[]
[]
[]
[null,"i",null,null,null,null,null,null,null,null,null,null,null,null,"i",null,null,null,null,null,null,null,null,null,null,null,"X",null,null,null,null,null,"Y",null,null,null,null,null,null,"i",null,"i",null,null,null,null,"i",null,null,null,null,null,null,null,"i","i","i",null,"i","i","i","i","i","i","i"]
[null,null,null,null,null,null,null,null,null,null,null,null,null,null,null,null,null,null,null,null,null,null,null,null,null,{"$f":"SUM(Z127:Z186,AA211:AA270)","v":0}]
[]
[21,null,null,null,null,{"$f":"IF(B127=\"R\",\"Y\",\"N\")","v":"N"},null,null,{"$f":"IF(COUNTIF(J127:Y129,\"?*\")>0,1,0)","v":0},null,null,null,null,null,null,null,null,null,null,null,null,null,null,null,null,{"$f":"IF(J127<>\"\",1,0)","v":0},null,null,null,null,null,null,null,null,null,null,null,null,null,null,null,null,null,null,null,null,null,null,null,null,null,null,null,null,null,null,null,null,null,null,null,null,null,null,null,{"$f":"IF(COUNTA(BG127:BM129)>0,1,0)","v":0},{"$f":"COUNTA(B127,AA127,AN127:AY129,BA127:BE129)+I127+BN127","v":0}]
[]
[]
[22,null,null,null,null,{"$f":"IF(B130=\"R\",\"Y\",\"N\")","v":"N"},null,null,{"$f":"IF(COUNTIF(L130:AA132,\"?*\")>0,1,0)","v":0},null,null,null,null,null,null,null,null,null,null,null,null,null,null,null,null,{"$f":"IF(J130<>\"\",1,0)","v":0},null,null,null,null,null,null,null,null,null,null,null,null,null,null,null,null,null,null,null,null,null,null,null,null,null,null,null,null,null,null,null,null,null,null,null,null,null,null,null,{"$f":"IF(COUNTA(BG130:BM132)>0,1,0)","v":0},{"$f":"COUNTA(B130,AA130,AN130:AY132,BA130:BE132)+I130+BN130","v":0}]
[]
[]
[23,null,null,null,null,{"$f":"IF(B133=\"R\",\"Y\",\"N\")","v":"N"},null,null,{"$f":"IF(COUNTIF(L133:AA135,\"?*\")>0,1,0)","v":0},null,null,null,null,null,null,null,null,null,null,null,null,null,null,null,null,{"$f":"IF(J133<>\"\",1,0)","v":0},null,null,null,null,null,null,null,null,null,null,null,null,null,null,null,null,null,null,null,null,null,null,null,null,null,null,null,null,null,null,null,null,null,null,null,null,null,null,null,{"$f":"IF(COUNTA(BG133:BM135)>0,1,0)","v":0},{"$f":"COUNTA(B133,AA133,AN133:AY135,BA133:BE135)+I133+BN133","v":0}]
[]
[]
[24,null,null,null,null,{"$f":"IF(B136=\"R\",\"Y\",\"N\")","v":"N"},null,null,{"$f":"IF(COUNTIF(L136:AA138,\"?*\")>0,1,0)","v":0},null,null,null,null,null,null,null,null,null,null,null,null,null,null,null,null,{"$f":"IF(J136<>\"\",1,0)","v":0},null,null,null,null,null,null,null,null,null,null,null,null,null,null,null,null,null,null,null,null,null,null,null,null,null,null,null,null,null,null,null,null,null,null,null,null,null,null,null,{"$f":"IF(COUNTA(BG136:BM138)>0,1,0)","v":0},{"$f":"COUNTA(B136,AA136,AN136:AY138,BA136:BE138)+I136+BN136","v":0}]
[]
[]
[25,null,null,null,null,{"$f":"IF(B139=\"R\",\"Y\",\"N\")","v":"N"},null,null,{"$f":"IF(COUNTIF(L139:AA141,\"?*\")>0,1,0)","v":0},null,null,null,null,null,null,null,null,null,null,null,null,null,null,null,null,{"$f":"IF(J139<>\"\",1,0)","v":0},null,null,null,null,null,null,null,null,null,null,null,null,null,null,null,null,null,null,null,null,null,null,null,null,null,null,null,null,null,null,null,null,null,null,null,null,null,null,null,{"$f":"IF(COUNTA(BG139:BM141)>0,1,0)","v":0},{"$f":"COUNTA(B139,AA139,AN139:AY141,BA139:BE141)+I139+BN139","v":0}]
[]
[]
[26,null,null,null,null,{"$f":"IF(B142=\"R\",\"Y\",\"N\")","v":"N"},null,null,{"$f":"IF(COUNTIF(L142:AA144,\"?*\")>0,1,0)","v":0},null,null,null,null,null,null,null,null,null,null,null,null,null,null,null,null,{"$f":"IF(J142<>\"\",1,0)","v":0},null,null,null,null,null,null,null,null,null,null,null,null,null,null,null,null,null,null,null,null,null,null,null,null,null,null,null,null,null,null,null,null,null,null,null,null,null,null,null,{"$f":"IF(COUNTA(BG142:BM144)>0,1,0)","v":0},{"$f":"COUNTA(B142,AA142,AN142:AY144,BA142:BE144)+I142+BN142","v":0}]
[]
[]
[27,null,null,null,null,{"$f":"IF(B145=\"R\",\"Y\",\"N\")","v":"N"},null,null,{"$f":"IF(COUNTIF(L145:AA147,\"?*\")>0,1,0)","v":0},null,null,null,null,null,null,null,null,null,null,null,null,null,null,null,null,{"$f":"IF(J145<>\"\",1,0)","v":0},null,null,null,null,null,null,null,null,null,null,null,null,null,null,null,null,null,null,null,null,null,null,null,null,null,null,null,null,null,null,null,null,null,null,null,null,null,null,null,{"$f":"IF(COUNTA(BG145:BM147)>0,1,0)","v":0},{"$f":"COUNTA(B145,AA145,AN145:AY147,BA145:BE147)+I145+BN145","v":0}]
[]
[]
[28,null,null,null,null,{"$f":"IF(B148=\"R\",\"Y\",\"N\")","v":"N"},null,null,{"$f":"IF(COUNTIF(L148:AA150,\"?*\")>0,1,0)","v":0},null,null,null,null,null,null,null,null,null,null,null,null,null,null,null,null,{"$f":"IF(J148<>\"\",1,0)","v":0},null,null,null,null,null,null,null,null,null,null,null,null,null,null,null,null,null,null,null,null,null,null,null,null,null,null,null,null,null,null,null,null,null,null,null,null,null,null,null,{"$f":"IF(COUNTA(BG148:BM150)>0,1,0)","v":0},{"$f":"COUNTA(B148,AA148,AN148:AY150,BA148:BE150)+I148+BN148","v":0}]
[]
[]
[29,null,null,null,null,{"$f":"IF(B151=\"R\",\"Y\",\"N\")","v":"N"},null,null,{"$f":"IF(COUNTIF(L151:AA153,\"?*\")>0,1,0)","v":0},null,null,null,null,null,null,null,null,null,null,null,null,null,null,null,null,{"$f":"IF(J151<>\"\",1,0)","v":0},null,null,null,null,null,null,null,null,null,null,null,null,null,null,null,null,null,null,null,null,null,null,null,null,null,null,null,null,null,null,null,null,null,null,null,null,null,null,null,{"$f":"IF(COUNTA(BG151:BM153)>0,1,0)","v":0},{"$f":"COUNTA(B151,AA151,AN151:AY153,BA151:BE153)+I151+BN151","v":0}]
[]
[]
[30,null,null,null,null,{"$f":"IF(B154=\"R\",\"Y\",\"N\")","v":"N"},null,null,{"$f":"IF(COUNTIF(L154:AA156,\"?*\")>0,1,0)","v":0},null,null,null,null,null,null,null,null,null,null,null,null,null,null,null,null,{"$f":"IF(J154<>\"\",1,0)","v":0},null,null,null,null,null,null,null,null,null,null,null,null,null,null,null,null,null,null,null,null,null,null,null,null,null,null,null,null,null,null,null,null,null,null,null,null,null,null,null,{"$f":"IF(COUNTA(BG154:BM156)>0,1,0)","v":0},{"$f":"COUNTA(B154,AA154,AN154:AY156,BA154:BE156)+I154+BN154","v":0}]
[]
[]
[31,null,null,null,null,{"$f":"IF(B157=\"R\",\"Y\",\"N\")","v":"N"},null,null,{"$f":"IF(COUNTIF(L157:AA159,\"?*\")>0,1,0)","v":0},null,null,null,null,null,null,null,null,null,null,null,null,null,null,null,null,{"$f":"IF(J157<>\"\",1,0)","v":0},null,null,null,null,null,null,null,null,null,null,null,null,null,null,null,null,null,null,null,null,null,null,null,null,null,null,null,null,null,null,null,null,null,null,null,null,null,null,null,{"$f":"IF(COUNTA(BG157:BM159)>0,1,0)","v":0},{"$f":"COUNTA(B157,AA157,AN157:AY159,BA157:BE159)+I157+BN157","v":0}]
[]
[]
[32,null,null,null,null,{"$f":"IF(B160=\"R\",\"Y\",\"N\")","v":"N"},null,null,{"$f":"IF(COUNTIF(L160:AA162,\"?*\")>0,1,0)","v":0},null,null,null,null,null,null,null,null,null,null,null,null,null,null,null,null,{"$f":"IF(J160<>\"\",1,0)","v":0},null,null,null,null,null,null,null,null,null,null,null,null,null,null,null,null,null,null,null,null,null,null,null,null,null,null,null,null,null,null,null,null,null,null,null,null,null,null,null,{"$f":"IF(COUNTA(BG160:BM162)>0,1,0)","v":0},{"$f":"COUNTA(B160,AA160,AN160:AY162,BA160:BE162)+I160+BN160","v":0}]
[]
[]
[33,null,null,null,null,{"$f":"IF(B163=\"R\",\"Y\",\"N\")","v":"N"},null,null,{"$f":"IF(COUNTIF(L163:AA165,\"?*\")>0,1,0)","v":0},null,null,null,null,null,null,null,null,null,null,null,null,null,null,null,null,{"$f":"IF(J163<>\"\",1,0)","v":0},null,null,null,null,null,null,null,null,null,null,null,null,null,null,null,null,null,null,null,null,null,null,null,null,null,null,null,null,null,null,null,null,null,null,null,null,null,null,null,{"$f":"IF(COUNTA(BG163:BM165)>0,1,0)","v":0},{"$f":"COUNTA(B163,AA163,AN163:AY165,BA163:BE165)+I163+BN163","v":0}]
[]
[]
[34,null,null,null,null,{"$f":"IF(B166=\"R\",\"Y\",\"N\")","v":"N"},null,null,{"$f":"IF(COUNTIF(L166:AA168,\"?*\")>0,1,0)","v":0},null,null,null,null,null,null,null,null,null,null,null,null,null,null,null,null,{"$f":"IF(J166<>\"\",1,0)","v":0},null,null,null,null,null,null,null,null,null,null,null,null,null,null,null,null,null,null,null,null,null,null,null,null,null,null,null,null,null,null,null,null,null,null,null,null,null,null,null,{"$f":"IF(COUNTA(BG166:BM168)>0,1,0)","v":0},{"$f":"COUNTA(B166,AA166,AN166:AY168,BA166:BE168)+I166+BN166","v":0}]
[]
[]
[35,null,null,null,null,{"$f":"IF(B169=\"R\",\"Y\",\"N\")","v":"N"},null,null,{"$f":"IF(COUNTIF(L169:AA171,\"?*\")>0,1,0)","v":0},null,null,null,null,null,null,null,null,null,null,null,null,null,null,null,null,{"$f":"IF(J169<>\"\",1,0)","v":0},null,null,null,null,null,null,null,null,null,null,null,null,null,null,null,null,null,null,null,null,null,null,null,null,null,null,null,null,null,null,null,null,null,null,null,null,null,null,null,{"$f":"IF(COUNTA(BG169:BM171)>0,1,0)","v":0},{"$f":"COUNTA(B169,AA169,AN169:AY171,BA169:BE171)+I169+BN169","v":0}]
[]
[]
[36,null,null,null,null,{"$f":"IF(B172=\"R\",\"Y\",\"N\")","v":"N"},null,null,{"$f":"IF(COUNTIF(L172:AA174,\"?*\")>0,1,0)","v":0},null,null,null,null,null,null,null,null,null,null,null,null,null,null,null,null,{"$f":"IF(J172<>\"\",1,0)","v":0},null,null,null,null,null,null,null,null,null,null,null,null,null,null,null,null,null,null,null,null,null,null,null,null,null,null,null,null,null,null,null,null,null,null,null,null,null,null,null,{"$f":"IF(COUNTA(BG172:BM174)>0,1,0)","v":0},{"$f":"COUNTA(B172,AA172,AN172:AY174,BA172:BE174)+I172+BN172","v":0}]
[]
[]
[37,null,null,null,null,{"$f":"IF(B175=\"R\",\"Y\",\"N\")","v":"N"},null,null,{"$f":"IF(COUNTIF(L175:AA177,\"?*\")>0,1,0)","v":0},null,null,null,null,null,null,null,null,null,null,null,null,null,null,null,null,{"$f":"IF(J175<>\"\",1,0)","v":0},null,null,null,null,null,null,null,null,null,null,null,null,null,null,null,null,null,null,null,null,null,null,null,null,null,null,null,null,null,null,null,null,null,null,null,null,null,null,null,{"$f":"IF(COUNTA(BG175:BM177)>0,1,0)","v":0},{"$f":"COUNTA(B175,AA175,AN175:AY177,BA175:BE177)+I175+BN175","v":0}]
[]
[]
[38,null,null,null,null,{"$f":"IF(B178=\"R\",\"Y\",\"N\")","v":"N"},null,null,{"$f":"IF(COUNTIF(L178:AA180,\"?*\")>0,1,0)","v":0},null,null,null,null,null,null,null,null,null,null,null,null,null,null,null,null,{"$f":"IF(J178<>\"\",1,0)","v":0},null,null,null,null,null,null,null,null,null,null,null,null,null,null,null,null,null,null,null,null,null,null,null,null,null,null,null,null,null,null,null,null,null,null,null,null,null,null,null,{"$f":"IF(COUNTA(BG178:BM180)>0,1,0)","v":0},{"$f":"COUNTA(B178,AA178,AN178:AY180,BA178:BE180)+I178+BN178","v":0}]
[]
[]
[39,null,null,null,null,{"$f":"IF(B181=\"R\",\"Y\",\"N\")","v":"N"},null,null,{"$f":"IF(COUNTIF(L181:AA183,\"?*\")>0,1,0)","v":0},null,null,null,null,null,null,null,null,null,null,null,null,null,null,null,null,{"$f":"IF(J181<>\"\",1,0)","v":0},null,null,null,null,null,null,null,null,null,null,null,null,null,null,null,null,null,null,null,null,null,null,null,null,null,null,null,null,null,null,null,null,null,null,null,null,null,null,null,{"$f":"IF(COUNTA(BG181:BM183)>0,1,0)","v":0},{"$f":"COUNTA(B181,AA181,AN181:AY183,BA181:BE183)+I181+BN181","v":0}]
[]
[]
[40,null,null,null,null,{"$f":"IF(B184=\"R\",\"Y\",\"N\")","v":"N"},null,null,{"$f":"IF(COUNTIF(L184:AA186,\"?*\")>0,1,0)","v":0},null,null,null,null,null,null,null,null,null,null,null,null,null,null,null,null,{"$f":"IF(J184<>\"\",1,0)","v":0},null,null,null,null,null,null,null,null,null,null,null,null,null,null,null,null,null,null,null,null,null,null,null,null,null,null,null,null,null,null,null,null,null,null,null,null,null,null,null,{"$f":"IF(COUNTA(BG184:BM186)>0,1,0)","v":0},{"$f":"COUNTA(B184,AA184,AN184:AY186,BA184:BE186)+I184+BN184","v":0}]

{"sheet":"DOC 8B","index":22,"n_rows":96,"n_cols":113,"rows_kept":96,"cut":false,"hidden":false,"merged":[[89,65,91,65],[112,0,112,65],[0,104,1,104],[57,1,59,4],[85,105,86,109],[83,105,84,109],[85,110,86,111],[85,112,86,113],[87,105,88,109],[87,110,88,111],[54,44,56,45],[54,46,56,46],[54,47,56,47],[54,48,56,48],[54,49,56,50],[83,110,84,111],[83,112,84,113],[81,110,82,111],[81,112,82,113],[57,39,59,40],[57,41,59,41],[57,42,59,42],[57,43,59,43],[54,43,56,43],[4,28,6,39],[4,40,6,43],[87,112,88,113],[81,105,82,109],[5,104,7,104],[2,104,4,104],[0,77,2,78],[0,79,2,80],[3,77,5,80],[8,65,10,65],[12,1,14,64],[16,45,18,64],[16,65,18,65],[1,1,6,11],[1,12,6,22],[1,24,3,27],[1,28,3,39],[1,40,3,43],[1,44,3,48],[1,50,6,52],[1,53,6,64],[4,24,6,27],[4,44,6,48],[7,1,7,64],[58,107,59,108],[60,107,61,108],[93,105,94,109],[93,110,94,111],[93,112,94,113],[95,105,96,109],[95,110,96,111],[95,112,96,113],[89,105,90,109],[89,110,90,111],[89,112,90,113],[91,105,92,109],[91,110,92,111],[91,112,92,113],[62,107,63,108],[64,107,65,108],[54,51,56,51],[54,53,56,56],[54,57,56,60],[54,61,56,64],[8,1,10,5],[8,6,10,22],[8,24,10,28],[8,29,10,48],[8,50,10,54],[8,55,10,64],[16,1,18,10],[16,11,18,11],[16,34,18,43],[20,1,22,12],[20,14,22,25],[16,12,18,27],[16,28,18,30],[42,5,44,8],[23,5,41,8],[42,9,44,12],[23,9,41,12],[42,14,44,14],[42,15,44,15],[42,16,44,16],[42,1,44,4],[23,1,41,4],[23,14,38,25],[39,14,41,19],[39,20,41,25],[42,17,44,17],[42,18,44,18],[42,19,44,19],[42,20,44,20],[42,21,44,21],[42,22,44,22],[42,23,44,23],[42,24,44,24],[42,25,44,25],[51,49,53,50],[51,51,53,51],[51,53,53,56],[20,27,22,35],[23,27,41,29],[23,30,41,32],[23,33,41,35],[42,27,44,29],[42,30,44,32],[42,33,44,35],[39,37,41,38],[23,37,38,38],[42,37,44,38],[39,39,41,40],[23,39,38,40],[42,39,44,40],[45,46,47,46],[45,47,47,47],[45,48,47,48],[45,49,47,50],[45,51,47,51],[45,53,47,56],[45,37,47,38],[45,39,47,40],[45,41,47,41],[48,37,50,38],[48,39,50,40],[48,41,50,41],[48,42,50,42],[48,43,50,43],[48,44,50,45],[45,42,47,42],[45,43,47,43],[45,44,47,45],[45,57,47,60],[45,61,47,64],[48,49,50,50],[48,51,50,51],[48,53,50,56],[48,57,50,60],[48,61,50,64],[48,46,50,46],[48,47,50,47],[48,48,50,48],[23,51,38,51],[39,51,41,51],[42,51,44,51],[20,37,22,51],[20,53,22,64],[23,53,41,56],[23,57,41,60],[23,61,41,64],[42,53,44,56],[42,57,44,60],[42,61,44,64],[23,46,38,50],[39,46,41,50],[42,46,44,46],[42,47,44,47],[42,48,44,48],[42,49,44,50],[42,41,44,41],[42,42,44,42],[42,43,44,43],[42,44,44,45],[23,41,38,45],[39,41,41,45],[45,1,47,4],[45,5,47,8],[45,9,47,12],[45,14,47,14],[45,15,47,15],[45,16,47,16],[45,17,47,17],[45,18,47,18],[45,19,47,19],[45,20,47,20],[45,21,47,21],[45,22,47,22],[45,23,47,23],[45,24,47,24],[45,25,47,25],[45,27,47,29],[45,30,47,32],[45,33,47,35],[48,1,50,4],[48,5,50,8],[48,9,50,12],[48,14,50,14],[48,15,50,15],[48,16,50,16],[48,17,50,17],[48,18,50,18],[48,19,50,19],[48,20,50,20],[48,21,50,21],[48,22,50,22],[48,23,50,23],[48,24,50,24],[48,25,50,25],[48,27,50,29],[48,30,50,32],[48,33,50,35],[51,1,53,4],[51,5,53,8],[51,9,53,12],[51,14,53,14],[51,15,53,15],[51,16,53,16],[51,17,53,17],[51,18,53,18],[51,19,53,19],[51,20,53,20],[51,21,53,21],[51,22,53,22],[51,23,53,23],[51,24,53,24],[51,25,53,25],[51,27,53,29],[51,30,53,32],[51,33,53,35],[51,37,53,38],[51,39,53,40],[51,41,53,41],[51,42,53,42],[51,43,53,43],[51,44,53,45],[51,46,53,46],[51,47,53,47],[51,48,53,48],[51,57,53,60],[51,61,53,64],[54,1,56,4],[54,5,56,8],[54,9,56,12],[54,14,56,14],[54,15,56,15],[54,16,56,16],[54,17,56,17],[54,18,56,18],[54,19,56,19],[54,20,56,20],[54,21,56,21],[54,22,56,22],[54,23,56,23],[54,24,56,24],[54,25,56,25],[54,27,56,29],[54,30,56,32],[54,33,56,35],[54,37,56,38],[54,39,56,40],[54,41,56,41],[54,42,56,42],[57,24,59,24],[57,25,59,25],[57,27,59,29],[57,30,59,32],[57,33,59,35],[57,37,59,38],[57,5,59,8],[57,9,59,12],[57,14,59,14],[57,15,59,15],[57,16,59,16],[57,17,59,17],[57,18,59,18],[57,19,59,19],[57,20,59,20],[57,61,59,64],[60,1,62,4],[60,5,62,8],[60,9,62,12],[60,14,62,14],[60,15,62,15],[60,16,62,16],[60,17,62,17],[60,18,62,18],[60,19,62,19],[60,20,62,20],[60,21,62,21],[60,22,62,22],[60,23,62,23],[60,24,62,24],[60,25,62,25],[60,27,62,29],[60,30,62,32],[60,33,62,35],[60,37,62,38],[60,39,62,40],[57,21,59,21],[57,22,59,22],[57,23,59,23],[60,44,62,45],[60,46,62,46],[60,47,62,47],[60,48,62,48],[60,49,62,50],[60,51,62,51],[57,51,59,51],[57,53,59,56],[57,57,59,60],[57,44,59,45],[57,46,59,46],[57,47,59,47],[57,48,59,48],[57,49,59,50],[63,27,65,29],[63,30,65,32],[63,33,65,35],[63,37,65,38],[63,39,65,40],[63,41,65,41],[60,41,62,41],[60,42,62,42],[60,43,62,43],[63,17,65,17],[63,18,65,18],[63,19,65,19],[63,20,65,20],[63,21,65,21],[63,22,65,22],[63,23,65,23],[63,24,65,24],[63,25,65,25],[66,39,68,40],[66,41,68,41],[66,42,68,42],[63,42,65,42],[63,43,65,43],[63,44,65,45],[63,46,65,46],[63,47,65,47],[66,43,68,43],[66,44,68,45],[66,46,68,46],[66,47,68,47],[69,48,71,48],[69,49,71,50],[69,51,71,51],[69,53,71,56],[69,57,71,60],[66,1,68,4],[66,5,68,8],[66,9,68,12],[66,14,68,14],[66,15,68,15],[66,16,68,16],[66,17,68,17],[66,18,68,18],[66,19,68,19],[66,20,68,20],[66,21,68,21],[66,22,68,22],[66,23,68,23],[66,24,68,24],[66,25,68,25],[66,27,68,29],[66,30,68,32],[66,33,68,35],[66,37,68,38],[69,61,71,64],[66,61,68,64],[69,1,71,4],[69,5,71,8],[69,9,71,12],[69,14,71,14],[69,15,71,15],[69,16,71,16],[69,17,71,17],[69,18,71,18],[69,19,71,19],[69,20,71,20],[69,21,71,21],[69,22,71,22],[69,23,71,23],[69,24,71,24],[69,25,71,25],[69,27,71,29],[66,48,68,48],[66,49,68,50],[66,51,68,51],[66,53,68,56],[66,57,68,60],[69,47,71,47],[72,9,74,12],[72,14,74,14],[72,15,74,15],[72,16,74,16],[72,17,74,17],[72,18,74,18],[72,19,74,19],[69,44,71,45],[69,46,71,46],[69,30,71,32],[69,33,71,35],[69,37,71,38],[69,39,71,40],[69,41,71,41],[69,42,71,42],[69,43,71,43],[72,20,74,20],[72,21,74,21],[72,22,74,22],[72,23,74,23],[72,24,74,24],[72,25,74,25],[72,27,74,29],[72,30,74,32],[72,33,74,35],[72,37,74,38],[72,39,74,40],[72,41,74,41],[72,42,74,42],[72,43,74,43],[72,44,74,45],[72,46,74,46],[72,47,74,47],[72,48,74,48],[72,49,74,50],[72,51,74,51],[72,53,74,56],[72,57,74,60],[72,61,74,64],[75,1,77,4],[75,5,77,8],[75,9,77,12],[75,14,77,14],[75,15,77,15],[75,16,77,16],[75,17,77,17],[75,18,77,18],[75,19,77,19],[75,20,77,20],[75,21,77,21],[75,22,77,22],[75,23,77,23],[75,24,77,24],[75,25,77,25],[75,27,77,29],[75,30,77,32],[75,33,77,35],[75,37,77,38],[75,39,77,40],[75,41,77,41],[75,42,77,42],[75,43,77,43],[75,44,77,45],[75,46,77,46],[75,47,77,47],[75,48,77,48],[75,49,77,50],[75,51,77,51],[75,53,77,56],[75,57,77,60],[75,61,77,64],[78,1,80,4],[78,5,80,8],[78,9,80,12],[78,14,80,14],[78,15,80,15],[78,16,80,16],[78,17,80,17],[78,18,80,18],[78,19,80,19],[78,20,80,20],[78,21,80,21],[78,22,80,22],[78,23,80,23],[78,24,80,24],[78,25,80,25],[78,27,80,29],[78,30,80,32],[78,33,80,35],[78,37,80,38],[78,57,80,60],[78,61,80,64],[81,1,83,4],[81,5,83,8],[81,9,83,12],[81,14,83,14],[81,15,83,15],[81,16,83,16],[81,17,83,17],[81,18,83,18],[81,19,83,19],[81,20,83,20],[81,21,83,21],[81,22,83,22],[81,23,83,23],[81,24,83,24],[81,25,83,25],[81,27,83,29],[81,30,83,32],[81,33,83,35],[81,37,83,38],[81,39,83,40],[78,39,80,40],[78,41,80,41],[84,14,86,14],[84,15,86,15],[84,16,86,16],[84,17,86,17],[84,18,86,18],[84,19,86,19],[78,51,80,51],[78,53,80,56],[78,42,80,42],[78,43,80,43],[78,44,80,45],[78,46,80,46],[78,47,80,47],[78,48,80,48],[78,49,80,50],[12,65,14,65],[42,0,44,0],[45,0,47,0],[48,0,50,0],[51,0,53,0],[54,0,56,0],[57,0,59,0],[60,0,62,0],[63,0,65,0],[63,57,65,60],[63,61,65,64],[63,48,65,48],[63,49,65,50],[63,51,65,51],[63,53,65,56],[60,53,62,56],[60,57,62,60],[60,61,62,64],[63,1,65,4],[63,5,65,8],[63,9,65,12],[63,14,65,14],[63,15,65,15],[63,16,65,16],[66,0,68,0],[69,0,71,0],[72,0,74,0],[75,0,77,0],[78,0,80,0],[81,0,83,0],[84,0,86,0],[42,13,44,13],[45,13,47,13],[48,13,50,13],[51,13,53,13],[54,13,56,13],[57,13,59,13],[60,13,62,13],[63,13,65,13],[66,13,68,13],[69,13,71,13],[72,13,74,13],[75,13,77,13],[78,13,80,13],[81,13,83,13],[84,13,86,13],[72,1,74,4],[84,9,86,12],[92,1,111,64],[72,5,74,8],[84,57,86,60],[84,61,86,64],[84,41,86,41],[84,42,86,42],[84,43,86,43],[84,44,86,45],[84,46,86,46],[84,47,86,47],[84,48,86,48],[84,49,86,50],[84,51,86,51],[81,53,83,56],[81,57,83,60],[81,61,83,64],[84,20,86,20],[84,21,86,21],[84,22,86,22],[84,23,86,23],[84,24,86,24],[84,25,86,25],[84,27,86,29],[84,30,86,32],[14,67,16,79],[23,67,25,79],[27,67,29,71],[27,72,29,79],[30,67,32,71],[30,72,32,79],[33,67,35,71],[33,72,35,79],[89,1,91,64],[84,33,86,35],[84,37,86,38],[84,39,86,40],[84,53,86,56],[81,41,83,41],[81,42,83,42],[81,43,83,43],[81,44,83,45],[81,46,83,46],[81,47,83,47],[81,48,83,48],[81,49,83,50],[81,51,83,51],[84,1,86,4],[84,5,86,8]]}
[null,null,null,null,null,null,null,null,null,null,null,null,null,null,null,null,null,null,null,null,null,null,null,null,null,null,null,null,null,null,null,null,null,null,null,null,null,null,null,null,null,null,null,null,null,null,null,null,null,null,null,null,null,null,null,null,null,null,null,null,null,null,null,null,null,null,null,null,null,null,null,null,null,null,null,null,null,{"$f":"BN17","v":0},null,{"$f":"BN13","v":0},null,null,null,null,null,null,null,null,null,null,null,null,null,null,null,null,null,null,null,null,null,null,null,null,"PRINT?",null,null,null,4,"NO","TWRC","TW RISK LEVEL",1]
[null,null,null,null,null,null,null,null,null,null,null,null,"DOC 8B",null,null,null,null,null,null,null,null,null,null,null,"ENGINEER",null,null,null,{"$f":"SAR!$K$13","v":""},null,null,null,null,null,null,null,null,null,null,null,"VOLTAGE",null,null,null,{"$f":"SAR!$K$36","v":0},null,null,null,null,null,"SATS",null,null,{"$f":"SAR!$BA$2","v":0},null,null,null,null,null,null,null,null,null,null,null,null,null,null,null,null,null,null,null,null,null,null,null,null,null,null,null,null,null,null,null,null,null,null,null,null,null,null,null,null,null,null,null,null,null,null,null,null,null,null,null,null,null,null,6,"NO","INSPFREQ","HIGH RISK IND (Y/N)",2]
[null,null,null,null,null,null,null,null,null,null,null,null,null,null,null,null,null,null,null,null,null,null,null,null,null,null,null,null,null,null,null,null,null,null,null,null,null,null,null,null,null,null,null,null,null,null,null,null,null,null,null,null,null,null,null,null,null,null,null,null,null,null,null,null,null,null,null,null,null,null,null,null,null,null,null,null,null,null,null,null,null,null,null,null,null,null,null,null,null,null,null,null,null,null,null,null,null,null,null,null,null,null,null,null,{"$f":"IF(BZ1=0,\"\",\"Y\")","v":""},null,null,null,7,"NO","TWRCDATSET","DATE HIGH RISK IND SET",3]
[null,null,null,null,null,null,null,null,null,null,null,null,null,null,null,null,null,null,null,null,null,null,null,null,null,null,null,null,null,null,null,null,null,null,null,null,null,null,null,null,null,null,null,null,null,null,null,null,null,null,null,null,null,null,null,null,null,null,null,null,null,null,null,null,null,null,null,null,null,null,null,null,null,null,null,null,null,{"$f":"BZ1/CB1","v":{"$error":"#DIV/0!"}},null,null,null,null,null,null,null,null,null,null,null,null,null,null,null,null,null,null,null,null,null,null,null,null,null,null,null,null,null,null,10,"NO","TWMAN","TOWER MANUFACTURER",4]
[null,null,null,null,null,null,null,null,null,null,null,null,null,null,null,null,null,null,null,null,null,null,null,null,"AREA",null,null,null,{"$f":"SAR!$K$39","v":0},null,null,null,null,null,null,null,null,null,null,null,"PROJECT DATE",null,null,null,{"$f":"SAR!$K$42","v":"00:00:00"},null,null,null,null,null,null,null,null,null,null,null,null,null,null,null,null,null,null,null,null,null,null,null,null,null,null,null,null,null,null,null,null,null,null,null,null,null,null,null,null,null,null,null,null,null,null,null,null,null,null,null,null,null,null,null,null,null,null,null,null,null,null,null,20,"NO","TWTTYPE","TOWER TYPE",5]
[null,null,null,null,null,null,null,null,null,null,null,null,null,null,null,null,null,null,null,null,null,null,null,null,null,null,null,null,null,null,null,null,null,null,null,null,null,null,null,null,null,null,null,null,null,null,null,null,null,null,null,null,null,null,null,null,null,null,null,null,null,null,null,null,null,null,null,null,null,null,null,null,null,null,null,null,null,null,null,null,null,null,null,null,null,null,null,null,null,null,null,null,null,null,null,null,null,null,null,null,null,null,null,null,null,null,null,null,30,"NO","TWGRIDREF","GRID REFERENCE",6]
[null,null,null,null,null,null,null,null,null,null,null,null,null,null,null,null,null,null,null,null,null,null,null,null,null,null,null,null,null,null,null,null,null,null,null,null,null,null,null,null,null,null,null,null,null,null,null,null,null,null,null,null,null,null,null,null,null,null,null,null,null,null,null,null,null,null,null,null,null,null,null,null,null,null,null,null,null,null,null,null,null,null,null,null,null,null,null,null,null,null,null,null,null,null,null,null,null,null,null,null,null,null,null,null,null,null,null,null,40,"NO","TWCOLOUR1","COLOUR 1",7]
[null,null,null,null,null,null,null,null,null,null,null,null,null,null,null,null,null,null,null,null,null,null,null,null,null,null,null,null,null,null,null,null,null,null,null,null,null,null,null,null,null,null,null,null,null,null,null,null,null,null,null,null,null,null,null,null,null,null,null,null,null,null,null,null,null,null,null,null,null,null,null,null,null,null,null,null,null,null,null,null,null,null,null,null,null,null,null,null,null,null,null,null,null,null,null,null,null,null,null,null,null,null,null,null,null,null,null,null,50,"NO","TWCOLOUR2","COLOUR 2",8]
[null,"PRIMARY SUBSTATION ",null,null,null,null,{"$f":"SAR!$K$45","v":"00:00:00"},null,null,null,null,null,null,null,null,null,null,null,null,null,null,null,null,null,"DISTRIBUTION SUBSTATION ",null,null,null,null,{"$f":"SAR!$K$30","v":0},null,null,null,null,null,null,null,null,null,null,null,null,null,null,null,null,null,null,null,null,"PLANT REF",null,null,null,null,{"$f":"SAR!$K$33","v":0},null,null,null,null,null,null,null,null,null,{"$f":"SAR!$AB$36","v":""},null,null,null,null,null,null,null,null,null,null,null,null,null,null,null,null,null,null,null,null,null,null,null,null,null,null,null,null,null,null,null,null,null,null,null,null,null,null,null,null,null,null,52,"NO","TWCOLOUR3","COLOUR 3",9]
[null,null,null,null,null,null,null,null,null,null,null,null,null,null,null,null,null,null,null,null,null,null,null,null,null,null,null,null,null,null,null,null,null,null,null,null,null,null,null,null,null,null,null,null,null,null,null,null,null,null,null,null,null,null,null,null,null,null,null,null,null,null,null,null,null,null,null,null,null,null,null,null,null,null,null,null,null,null,null,null,null,null,null,null,null,null,null,null,null,null,null,null,null,null,null,null,null,null,null,null,null,null,null,null,null,null,null,null,54,"NO","TWCOLOUR4","COLOUR 4",10]
[null,null,null,null,null,null,null,null,null,null,null,null,null,null,null,null,null,null,null,null,null,null,null,null,null,null,null,null,null,null,null,null,null,null,null,null,null,null,null,null,null,null,null,null,null,null,null,null,null,null,null,null,null,null,null,null,null,null,null,null,null,null,null,null,null,null,null,null,null,null,null,null,null,null,null,null,null,null,null,null,null,null,null,null,null,null,null,null,null,null,null,null,null,null,null,null,null,null,null,null,null,null,null,null,null,null,null,null,56,"NO","TWDIM","DIMENSION OVER CONCRETE",11]
[null,null,null,null,null,null,null,null,null,null,null,null,null,null,null,null,null,null,null,null,null,null,null,null,null,null,null,null,null,null,null,null,null,null,null,null,null,null,null,null,null,null,null,null,null,null,null,null,null,null,null,null,null,null,null,null,null,null,null,null,null,null,null,null,null,null,null,null,null,null,null,null,null,null,null,null,null,null,null,null,null,null,null,null,null,null,null,null,null,null,null,null,null,null,null,null,null,null,null,null,null,null,null,null,null,null,null,null,58,"NO","TWSA","SURFACE AREA",12]
[null,"TOWERS",null,null,null,null,null,null,null,null,null,null,null,null,null,null,null,null,null,null,null,null,null,null,null,null,null,null,null,null,null,null,null,null,null,null,null,null,null,null,null,null,null,null,null,null,null,null,null,null,null,null,null,null,null,null,null,null,null,null,null,null,null,null,null,{"$f":"IF(BN17>0,2+SUM(A43:A87),0)","v":0},null,null,null,null,null,null,null,null,null,null,null,null,null,null,null,null,null,null,null,null,null,null,null,null,null,null,null,null,null,null,null,null,null,null,null,null,null,null,null,null,null,null,60,"NO","TWTFE","TOWER FOOTING EARTH (Y/N)",13]
[null,null,null,null,null,null,null,null,null,null,null,null,null,null,null,null,null,null,null,null,null,null,null,null,null,null,null,null,null,null,null,null,null,null,null,null,null,null,null,null,null,null,null,null,null,null,null,null,null,null,null,null,null,null,null,null,null,null,null,null,null,null,null,null,null,null,null,null,null,null,null,null,null,null,null,null,null,null,null,null,null,null,null,null,null,null,null,null,null,null,null,null,null,null,null,null,null,null,null,null,null,null,null,null,null,null,null,null,70,"NO","TWDOLLY","DOLLY WEIGHTS (Y/N)",14]
[null,null,null,null,null,null,null,null,null,null,null,null,null,null,null,null,null,null,null,null,null,null,null,null,null,null,null,null,null,null,null,null,null,null,null,null,null,null,null,null,null,null,null,null,null,null,null,null,null,null,null,null,null,null,null,null,null,null,null,null,null,null,null,null,null,null,null,"DOC QUICK LINK",null,null,null,null,null,null,null,null,null,null,null,null,null,null,null,null,null,null,null,null,null,null,null,null,null,null,null,null,null,null,null,null,null,null,null,null,null,null,null,null,80,"NO","TWFEAT","TOWER FEATURE",15]
[null,null,null,null,null,null,null,null,null,null,null,null,null,null,null,null,null,null,null,null,null,null,null,null,null,null,null,null,null,null,null,null,null,null,null,null,null,null,null,null,null,null,null,null,null,null,null,null,null,null,null,null,null,null,null,null,null,null,null,null,null,null,null,null,null,null,null,null,null,null,null,null,null,null,null,null,null,null,null,null,null,null,null,null,null,null,null,null,null,null,null,null,null,null,null,null,null,null,null,null,null,null,null,null,null,null,null,null,90,"NO","TWLOC","LOCATION",16]
[null,"COMMISSIONING DRIVER",null,null,null,null,null,null,null,null,null,{"$f":"IF(M17=\"\",0,1)","v":0},null,null,null,null,null,null,null,null,null,null,null,null,null,null,null,null,{"$f":"IFERROR(VLOOKUP(M17,CODES!$A$5:$B$36,2,FALSE),\"\")","v":""},null,null,null,null,null,"PROJECT CODE",null,null,null,null,null,null,null,null,null,null,{"$f":"SAR!J78","v":""},null,null,null,null,null,null,null,null,null,null,null,null,null,null,null,null,null,null,null,{"$f":"L17+SUM(N43:N87)+BN90","v":0},null,null,null,null,null,null,null,null,null,null,null,null,null,null,null,null,null,null,null,null,null,null,null,null,null,null,null,null,null,null,null,null,null,null,null,null,null,null,null,null,null,null,100,"NO","TWPOLL","POLLUTION",17]
[null,null,null,null,null,null,null,null,null,null,null,null,null,null,null,null,null,null,null,null,null,null,null,null,null,null,null,null,null,null,null,null,null,null,null,null,null,null,null,null,null,null,null,null,null,null,null,null,null,null,null,null,null,null,null,null,null,null,null,null,null,null,null,null,null,null,null,null,null,null,null,null,null,null,null,null,null,null,null,null,null,null,null,null,null,null,null,null,null,null,null,null,null,null,null,null,null,null,null,null,null,null,null,null,null,null,null,null,110,"NO","TWERECT","ERECT DATE",18]
[null,null,null,null,null,null,null,null,null,null,null,null,null,null,null,null,null,null,null,null,null,null,null,null,null,null,null,null,null,null,null,null,null,null,null,null,null,null,null,null,null,null,null,null,null,null,null,null,null,null,null,null,null,null,null,null,null,null,null,null,null,null,null,null,null,null,null,null,null,null,null,null,null,null,null,null,null,null,null,null,null,null,null,null,null,null,null,null,null,null,null,null,null,null,null,null,null,null,null,null,null,null,null,null,null,null,null,null,140,"NO","TWMAPNO","TOWER MAP NO",19]
[null,null,null,null,null,null,null,null,null,null,null,null,null,null,null,null,null,null,null,null,null,null,null,null,null,null,null,null,null,null,null,null,null,null,null,null,null,null,null,null,null,null,null,null,null,null,null,null,null,null,null,null,null,null,null,null,null,null,null,null,null,null,null,null,null,null,null,null,null,null,null,null,null,null,null,null,null,null,null,null,null,null,null,null,null,null,null,null,null,null,null,null,null,null,null,null,null,null,null,null,null,null,null,null,null,null,null,null,142,"NO","TWEDNO","ERECTION DRAWING NUMBER",20]
[null,"TOWER NUMBER",null,null,null,null,null,null,null,null,null,null,null,null,"LOCATION",null,null,null,null,null,null,null,null,null,null,null,null,"TOWER DESIGN",null,null,null,null,null,null,null,null,null,"ATTRIBUTION",null,null,null,null,null,null,null,null,null,null,null,null,null,null,null,"DATES"]
[]
[]
[null,"AREA",null,null,null,"LINE",null,null,null,"TOWER NUMBER",null,null,null,null,"GRID REFERENCE",null,null,null,null,null,null,null,null,null,null,null,null,"FAMILY",null,null,"VARIANT",null,null,"EXTENSION",null,null,null,"TOWER TYPE",null,"PAINT",null,"CIRCUIT 1 COLOUR",null,null,null,null,"CIRCUIT 2 COLOUR",null,null,null,null,"DOWNLEAD?",null,"ERECT DATE",null,null,null,"PAINTED DATE",null,null,null,"DATE RAPID RAIL FITTED",null,null,null,null,null,"OTHER (PLEASE SPECIFY)"]
[]
[]
[]
[]
[]
[]
[]
[]
[]
[]
[]
[]
[]
[]
[]
[null,null,null,null,null,null,null,null,null,null,null,null,null,null,"X",null,null,null,null,null,"Y",null,null,null,null,null,null,null,null,null,null,null,null,null,null,null,null,"i",null,"i",null,"i",null,null,null,null,"i",null,null,null,null,"i"]
[]
[]
[{"$f":"IF(B43<>\"\",13,0)","v":0},null,null,null,null,null,null,null,null,null,null,null,null,{"$f":"COUNTA(B43,O43,AB43:AJ45,AL43:AO45,AP43,AU43,AZ43,BB43,BF43,BJ43)","v":0},null,null,null,null,null,null,null,null,null,null,null,null,null,null,null,null,null,null,null,null,null,null,null,null,null,null,null,null,null,null,{"$f":"IFERROR(VLOOKUP(AP43&AQ43&AR43,CODES!AB$5:AC$160,2,FALSE),\"\")","v":""},null,null,null,null,{"$f":"IFERROR(VLOOKUP(AU43&AV43&AW43,CODES!AB$5:AC$160,2,FALSE),\"\")","v":""}]
[]
[]
[{"$f":"IF(B46<>\"\",13,0)","v":0},null,null,null,null,null,null,null,null,null,null,null,null,{"$f":"COUNTA(B46,O46,AB46:AJ48,AL46:AO48,AP46,AU46,AZ46,BB46,BF46,BJ46)","v":0},null,null,null,null,null,null,null,null,null,null,null,null,null,null,null,null,null,null,null,null,null,null,null,null,null,null,null,null,null,null,{"$f":"IFERROR(VLOOKUP(AP46&\"-\"&AQ46&\"-\"&AR46,CODES!AB$5:AC$160,2,FALSE),\"\")","v":""},null,null,null,null,{"$f":"IFERROR(VLOOKUP(AU46&AV46&AW46,CODES!AB$5:AC$160,2,FALSE),\"\")","v":""}]
[]
[]
[{"$f":"IF(B49<>\"\",13,0)","v":0},null,null,null,null,null,null,null,null,null,null,null,null,{"$f":"COUNTA(B49,O49,AB49:AJ51,AL49:AO51,AP49,AU49,AZ49,BB49,BF49,BJ49)","v":0},null,null,null,null,null,null,null,null,null,null,null,null,null,null,null,null,null,null,null,null,null,null,null,null,null,null,null,null,null,null,{"$f":"IFERROR(VLOOKUP(AP49&\"-\"&AQ49&\"-\"&AR49,CODES!AB$5:AC$160,2,FALSE),\"\")","v":""},null,null,null,null,{"$f":"IFERROR(VLOOKUP(AU49&AV49&AW49,CODES!AB$5:AC$160,2,FALSE),\"\")","v":""}]
[]
[]
[{"$f":"IF(B52<>\"\",13,0)","v":0},null,null,null,null,null,null,null,null,null,null,null,null,{"$f":"COUNTA(B52,O52,AB52:AJ54,AL52:AO54,AP52,AU52,AZ52,BB52,BF52,BJ52)","v":0},null,null,null,null,null,null,null,null,null,null,null,null,null,null,null,null,null,null,null,null,null,null,null,null,null,null,null,null,null,null,{"$f":"IFERROR(VLOOKUP(AP52&\"-\"&AQ52&\"-\"&AR52,CODES!AB$5:AC$160,2,FALSE),\"\")","v":""},null,null,null,null,{"$f":"IFERROR(VLOOKUP(AU52&AV52&AW52,CODES!AB$5:AC$160,2,FALSE),\"\")","v":""}]
[null,null,null,null,null,null,null,null,null,null,null,null,null,null,null,null,null,null,null,null,null,null,null,null,null,null,null,null,null,null,null,null,null,null,null,null,null,null,null,null,null,null,null,null,null,null,null,null,null,null,null,null,null,null,null,null,null,null,null,null,null,null,null,null,null,null,null,null,null,null,null,null,null,null,null,null,null,null,null,null,null,null,null,null,null,null,null,null,null,null,null,null,null,null,null,null,null,null,null,null,null,null,null,null,null,null,null,null,180,"NO","TWHELIPLDATE","HELICOPTER PLATE DATE",30]
[null,null,null,null,null,null,null,null,null,null,null,null,null,null,null,null,null,null,null,null,null,null,null,null,null,null,null,null,null,null,null,null,null,null,null,null,null,null,null,null,null,null,null,null,null,null,null,null,null,null,null,null,null,null,null,null,null,null,null,null,null,null,null,null,null,null,null,null,null,null,null,null,null,null,null,null,null,null,null,null,null,null,null,null,null,null,null,null,null,null,null,null,null,null,null,null,null,null,null,null,null,null,null,null,null,null,null,null,190,"NO","TWCOLPLDATE","COLOUR PLATE DATE",32]
[{"$f":"IF(B55<>\"\",13,0)","v":0},null,null,null,null,null,null,null,null,null,null,null,null,{"$f":"COUNTA(B55,O55,AB55:AJ57,AL55:AO57,AP55,AU55,AZ55,BB55,BF55,BJ55)","v":0},null,null,null,null,null,null,null,null,null,null,null,null,null,null,null,null,null,null,null,null,null,null,null,null,null,null,null,null,null,null,{"$f":"IFERROR(VLOOKUP(AP55&\"-\"&AQ55&\"-\"&AR55,CODES!AB$5:AC$160,2,FALSE),\"\")","v":""},null,null,null,null,{"$f":"IFERROR(VLOOKUP(AU55&AV55&AW55,CODES!AB$5:AC$160,2,FALSE),\"\")","v":""},null,null,null,null,null,null,null,null,null,null,null,null,null,null,null,null,null,null,null,null,null,null,null,null,null,null,null,null,null,null,null,null,null,null,null,null,null,null,null,null,null,null,null,null,null,null,null,null,null,null,null,null,null,null,null,null,null,null,192,"NO","TWCLOSIGNS","COLOUR PLATES FITTED",33]
[null,null,null,null,null,null,null,null,null,null,null,null,null,null,null,null,null,null,null,null,null,null,null,null,null,null,null,null,null,null,null,null,null,null,null,null,null,null,null,null,null,null,null,null,null,null,null,null,null,null,null,null,null,null,null,null,null,null,null,null,null,null,null,null,null,null,null,null,null,null,null,null,null,null,null,null,null,null,null,null,null,null,null,null,null,null,null,null,null,null,null,null,null,null,null,null,null,null,null,null,null,null,null,null,null,null,null,null,194,"NO","TWTHIRDPARTY","THIRD PARTY ATTACHMENT PRESENT",34]
[null,null,null,null,null,null,null,null,null,null,null,null,null,null,null,null,null,null,null,null,null,null,null,null,null,null,null,null,null,null,null,null,null,null,null,null,null,null,null,null,null,null,null,null,null,null,null,null,null,null,null,null,null,null,null,null,null,null,null,null,null,null,null,null,null,null,null,null,null,null,null,null,null,null,null,null,null,null,null,null,null,null,null,null,null,null,null,null,null,null,null,null,null,null,null,null,null,null,null,null,null,null,null,null,null,null,null,null,196,"NO","TWTHIRDSIGN","THIRD PARTY SIGNS PRESENT",35]
[{"$f":"IF(B58<>\"\",13,0)","v":0},null,null,null,null,null,null,null,null,null,null,null,null,{"$f":"COUNTA(B58,O58,AB58:AJ60,AL58:AO60,AP58,AU58,AZ58,BB58,BF58,BJ58)","v":0},null,null,null,null,null,null,null,null,null,null,null,null,null,null,null,null,null,null,null,null,null,null,null,null,null,null,null,null,null,null,{"$f":"IFERROR(VLOOKUP(AP58&\"-\"&AQ58&\"-\"&AR58,CODES!AB$5:AC$160,2,FALSE),\"\")","v":""},null,null,null,null,{"$f":"IFERROR(VLOOKUP(AU58&AV58&AW58,CODES!AB$5:AC$160,2,FALSE),\"\")","v":""},null,null,null,null,null,null,null,null,null,null,null,null,null,null,null,null,null,null,null,null,null,null,null,null,null,null,null,null,null,null,null,null,null,null,null,null,null,null,null,null,null,null,null,null,null,null,null,null,null,null,null,null,null,null,null,null,null,null,198,"NO","TWAIR","AIRCRAFT WARNING LIGHT",36]
[null,null,null,null,null,null,null,null,null,null,null,null,null,null,null,null,null,null,null,null,null,null,null,null,null,null,null,null,null,null,null,null,null,null,null,null,null,null,null,null,null,null,null,null,null,null,null,null,null,null,null,null,null,null,null,null,null,null,null,null,null,null,null,null,null,null,null,null,null,null,null,null,null,null,null,null,null,null,null,null,null,null,null,null,null,null,null,null,null,null,null,null,null,null,null,null,null,null,null,null,null,null,null,null,null,null,null,null,null,"NO","TWPOS","POSITION (DISTANCE FROM COAST)",37]
[null,null,null,null,null,null,null,null,null,null,null,null,null,null,null,null,null,null,null,null,null,null,null,null,null,null,null,null,null,null,null,null,null,null,null,null,null,null,null,null,null,null,null,null,null,null,null,null,null,null,null,null,null,null,null,null,null,null,null,null,null,null,null,null,null,null,null,null,null,null,null,null,null,null,null,null,null,null,null,null,null,null,null,null,null,null,null,null,null,null,null,null,null,null,null,null,null,null,null,null,null,null,null,null,null,null,null,null,null,"NO","TWHGT","TOWER HEIGHT",38]
[{"$f":"IF(B61<>\"\",13,0)","v":0},null,null,null,null,null,null,null,null,null,null,null,null,{"$f":"COUNTA(B61,O61,AB61:AJ63,AL61:AO63,AP61,AU61,AZ61,BB61,BF61,BJ61)","v":0},null,null,null,null,null,null,null,null,null,null,null,null,null,null,null,null,null,null,null,null,null,null,null,null,null,null,null,null,null,null,{"$f":"IFERROR(VLOOKUP(AP61&\"-\"&AQ61&\"-\"&AR61,CODES!AB$5:AC$160,2,FALSE),\"\")","v":""},null,null,null,null,{"$f":"IFERROR(VLOOKUP(AU61&AV61&AW61,CODES!AB$5:AC$160,2,FALSE),\"\")","v":""},null,null,null,null,null,null,null,null,null,null,null,null,null,null,null,null,null,null,null,null,null,null,null,null,null,null,null,null,null,null,null,null,null,null,null,null,null,null,null,null,null,null,null,null,null,null,null,null,null,null,null,null,null,null,null,null,null,null,null,"NO","TWALT","ALTITUDE (HGT ABOVE SEA LEVEL)",39]
[null,null,null,null,null,null,null,null,null,null,null,null,null,null,null,null,null,null,null,null,null,null,null,null,null,null,null,null,null,null,null,null,null,null,null,null,null,null,null,null,null,null,null,null,null,null,null,null,null,null,null,null,null,null,null,null,null,null,null,null,null,null,null,null,null,null,null,null,null,null,null,null,null,null,null,null,null,null,null,null,null,null,null,null,null,null,null,null,null,null,null,null,null,null,null,null,null,null,null,null,null,null,null,null,null,null,null,null,null,"NO","TWCRA","HEIGHT TO BOTTOM CROSSARM",40]
[null,null,null,null,null,null,null,null,null,null,null,null,null,null,null,null,null,null,null,null,null,null,null,null,null,null,null,null,null,null,null,null,null,null,null,null,null,null,null,null,null,null,null,null,null,null,null,null,null,null,null,null,null,null,null,null,null,null,null,null,null,null,null,null,null,null,null,null,null,null,null,null,null,null,null,null,null,null,null,null,null,null,null,null,null,null,null,null,null,null,null,null,null,null,null,null,null,null,null,null,null,null,null,null,null,null,null,null,null,"NO","TWFND","FOUNDATION CLASSIFICATION",41]
[{"$f":"IF(B64<>\"\",13,0)","v":0},null,null,null,null,null,null,null,null,null,null,null,null,{"$f":"COUNTA(B64,O64,AB64:AJ66,AL64:AO66,AP64,AU64,AZ64,BB64,BF64,BJ64)","v":0},null,null,null,null,null,null,null,null,null,null,null,null,null,null,null,null,null,null,null,null,null,null,null,null,null,null,null,null,null,null,{"$f":"IFERROR(VLOOKUP(AP64&\"-\"&AQ64&\"-\"&AR64,CODES!AB$5:AC$160,2,FALSE),\"\")","v":""},null,null,null,null,{"$f":"IFERROR(VLOOKUP(AU64&AV64&AW64,CODES!AB$5:AC$160,2,FALSE),\"\")","v":""},null,null,null,null,null,null,null,null,null,null,null,null,null,null,null,null,null,null,null,null,null,null,null,null,null,null,null,null,null,null,null,null,null,null,null,null,null,null,null,null,null,null,null,null,null,null,null,null,null,null,null,null,null,null,null,null,null,null,null,"NO","TWFNDA","FOUNDATION CLASS LEG A",42]
[null,null,null,null,null,null,null,null,null,null,null,null,null,null,null,null,null,null,null,null,null,null,null,null,null,null,null,null,null,null,null,null,null,null,null,null,null,null,null,null,null,null,null,null,null,null,null,null,null,null,null,null,null,null,null,null,null,null,null,null,null,null,null,null,null,null,null,null,null,null,null,null,null,null,null,null,null,null,null,null,null,null,null,null,null,null,null,null,null,null,null,null,null,null,null,null,null,null,null,null,null,null,null,null,null,null,null,null,null,"NO","TWFNDB","FOUNDATION CLASS LEG B",43]
[null,null,null,null,null,null,null,null,null,null,null,null,null,null,null,null,null,null,null,null,null,null,null,null,null,null,null,null,null,null,null,null,null,null,null,null,null,null,null,null,null,null,null,null,null,null,null,null,null,null,null,null,null,null,null,null,null,null,null,null,null,null,null,null,null,null,null,null,null,null,null,null,null,null,null,null,null,null,null,null,null,null,null,null,null,null,null,null,null,null,null,null,null,null,null,null,null,null,null,null,null,null,null,null,null,null,null,null,null,"NO","TWFNDC","FOUNDATION CLASS LEG C",44]
[{"$f":"IF(B67<>\"\",13,0)","v":0},null,null,null,null,null,null,null,null,null,null,null,null,{"$f":"COUNTA(B67,O67,AB67:AJ69,AL67:AO69,AP67,AU67,AZ67,BB67,BF67,BJ67)","v":0},null,null,null,null,null,null,null,null,null,null,null,null,null,null,null,null,null,null,null,null,null,null,null,null,null,null,null,null,null,null,{"$f":"IFERROR(VLOOKUP(AP67&\"-\"&AQ67&\"-\"&AR67,CODES!AB$5:AC$160,2,FALSE),\"\")","v":""},null,null,null,null,{"$f":"IFERROR(VLOOKUP(AU67&AV67&AW67,CODES!AB$5:AC$160,2,FALSE),\"\")","v":""},null,null,null,null,null,null,null,null,null,null,null,null,null,null,null,null,null,null,null,null,null,null,null,null,null,null,null,null,null,null,null,null,null,null,null,null,null,null,null,null,null,null,null,null,null,null,null,null,null,null,null,null,null,null,null,null,null,null,260,"NO","TWFNDD","FOUNDATION CLASS LEG D",45]
[null,null,null,null,null,null,null,null,null,null,null,null,null,null,null,null,null,null,null,null,null,null,null,null,null,null,null,null,null,null,null,null,null,null,null,null,null,null,null,null,null,null,null,null,null,null,null,null,null,null,null,null,null,null,null,null,null,null,null,null,null,null,null,null,null,null,null,null,null,null,null,null,null,null,null,null,null,null,null,null,null,null,null,null,null,null,null,null,null,null,null,null,null,null,null,null,null,null,null,null,null,null,null,null,null,null,null,null,270,"NO","TWPAINTER","PAINTER",46]
[null,null,null,null,null,null,null,null,null,null,null,null,null,null,null,null,null,null,null,null,null,null,null,null,null,null,null,null,null,null,null,null,null,null,null,null,null,null,null,null,null,null,null,null,null,null,null,null,null,null,null,null,null,null,null,null,null,null,null,null,null,null,null,null,null,null,null,null,null,null,null,null,null,null,null,null,null,null,null,null,null,null,null,null,null,null,null,null,null,null,null,null,null,null,null,null,null,null,null,null,null,null,null,null,null,null,null,null,280,"NO","TWPAINT","PAINT",47]
[{"$f":"IF(B70<>\"\",13,0)","v":0},null,null,null,null,null,null,null,null,null,null,null,null,{"$f":"COUNTA(B70,O70,AB70:AJ72,AL70:AO72,AP70,AU70,AZ70,BB70,BF70,BJ70)","v":0},null,null,null,null,null,null,null,null,null,null,null,null,null,null,null,null,null,null,null,null,null,null,null,null,null,null,null,null,null,null,{"$f":"IFERROR(VLOOKUP(AP70&\"-\"&AQ70&\"-\"&AR70,CODES!AB$5:AC$160,2,FALSE),\"\")","v":""},null,null,null,null,{"$f":"IFERROR(VLOOKUP(AU70&AV70&AW70,CODES!AB$5:AC$160,2,FALSE),\"\")","v":""},null,null,null,null,null,null,null,null,null,null,null,null,null,null,null,null,null,null,null,null,null,null,null,null,null,null,null,null,null,null,null,null,null,null,null,null,null,null,null,null,null,null,null,null,null,null,null,null,null,null,null,null,null,null,null,null,null,null,300,"NO","TWACD","ANTI CLIMBING DEVICE",49]
[null,null,null,null,null,null,null,null,null,null,null,null,null,null,null,null,null,null,null,null,null,null,null,null,null,null,null,null,null,null,null,null,null,null,null,null,null,null,null,null,null,null,null,null,null,null,null,null,null,null,null,null,null,null,null,null,null,null,null,null,null,null,null,null,null,null,null,null,null,null,null,null,null,null,null,null,null,null,null,null,null,null,null,null,null,null,null,null,null,null,null,null,null,null,null,null,null,null,null,null,null,null,null,null,null,null,null,null,310,"NO","TWACDNOS","NO OF ANTI CLIMBING DEVICES",50]
[null,null,null,null,null,null,null,null,null,null,null,null,null,null,null,null,null,null,null,null,null,null,null,null,null,null,null,null,null,null,null,null,null,null,null,null,null,null,null,null,null,null,null,null,null,null,null,null,null,null,null,null,null,null,null,null,null,null,null,null,null,null,null,null,null,null,null,null,null,null,null,null,null,null,null,null,null,null,null,null,null,null,null,null,null,null,null,null,null,null,null,null,null,null,null,null,null,null,null,null,null,null,null,null,null,null,null,null,320,"NO","TWACDFITTED","ACD FITTED DATE",51]
[{"$f":"IF(B73<>\"\",13,0)","v":0},null,null,null,null,null,null,null,null,null,null,null,null,{"$f":"COUNTA(B73,O73,AB73:AJ75,AL73:AO75,AP73,AU73,AZ73,BB73,BF73,BJ73)","v":0},null,null,null,null,null,null,null,null,null,null,null,null,null,null,null,null,null,null,null,null,null,null,null,null,null,null,null,null,null,null,{"$f":"IFERROR(VLOOKUP(AP73&\"-\"&AQ73&\"-\"&AR73,CODES!AB$5:AC$160,2,FALSE),\"\")","v":""},null,null,null,null,{"$f":"IFERROR(VLOOKUP(AU73&AV73&AW73,CODES!AB$5:AC$160,2,FALSE),\"\")","v":""},null,null,null,null,null,null,null,null,null,null,null,null,null,null,null,null,null,null,null,null,null,null,null,null,null,null,null,null,null,null,null,null,null,null,null,null,null,null,null,null,null,null,null,null,null,null,null,null,null,null,null,null,null,null,null,null,null,null,330,"NO","TWACDTYPE","ANTI CLIMBING DEVICE TYPE",52]
[null,null,null,null,null,null,null,null,null,null,null,null,null,null,null,null,null,null,null,null,null,null,null,null,null,null,null,null,null,null,null,null,null,null,null,null,null,null,null,null,null,null,null,null,null,null,null,null,null,null,null,null,null,null,null,null,null,null,null,null,null,null,null,null,null,null,null,null,null,null,null,null,null,null,null,null,null,null,null,null,null,null,null,null,null,null,null,null,null,null,null,null,null,null,null,null,null,null,null,null,null,null,null,null,null,null,null,null,340,"NO","TWHELIPATDTE","TOWER  HELICOPTER  PATROL DATE",53]
[null,null,null,null,null,null,null,null,null,null,null,null,null,null,null,null,null,null,null,null,null,null,null,null,null,null,null,null,null,null,null,null,null,null,null,null,null,null,null,null,null,null,null,null,null,null,null,null,null,null,null,null,null,null,null,null,null,null,null,null,null,null,null,null,null,null,null,null,null,null,null,null,null,null,null,null,null,null,null,null,null,null,null,null,null,null,null,null,null,null,null,null,null,null,null,null,null,null,null,null,null,null,null,null,null,null,null,null,350,"NO","TWESL","EQUIVALENT PHASE SPAN LENGTH",54]
[{"$f":"IF(B76<>\"\",13,0)","v":0},null,null,null,null,null,null,null,null,null,null,null,null,{"$f":"COUNTA(B76,O76,AB76:AJ78,AL76:AO78,AP76,AU76,AZ76,BB76,BF76,BJ76)","v":0},null,null,null,null,null,null,null,null,null,null,null,null,null,null,null,null,null,null,null,null,null,null,null,null,null,null,null,null,null,null,{"$f":"IFERROR(VLOOKUP(AP76&\"-\"&AQ76&\"-\"&AR76,CODES!AB$5:AC$160,2,FALSE),\"\")","v":""},null,null,null,null,{"$f":"IFERROR(VLOOKUP(AU76&AV76&AW76,CODES!AB$5:AC$160,2,FALSE),\"\")","v":""},null,null,null,null,null,null,null,null,null,null,null,null,null,null,null,null,null,null,null,null,null,null,null,null,null,null,null,null,null,null,null,null,null,null,null,null,null,null,null,null,null,null,null,null,null,null,null,null,null,null,null,null,null,null,null,null,null,null,360,"NO","TWEESL","EQUIVALENT EARTH SPAN LENGTH",55]
[null,null,null,null,null,null,null,null,null,null,null,null,null,null,null,null,null,null,null,null,null,null,null,null,null,null,null,null,null,null,null,null,null,null,null,null,null,null,null,null,null,null,null,null,null,null,null,null,null,null,null,null,null,null,null,null,null,null,null,null,null,null,null,null,null,null,null,null,null,null,null,null,null,null,null,null,null,null,null,null,null,null,null,null,null,null,null,null,null,null,null,null,null,null,null,null,null,null,null,null,null,null,null,null,null,null,null,null,370,"NO","TWPREV","PREVIOUS TOWER NUMBER",56]
[null,null,null,null,null,null,null,null,null,null,null,null,null,null,null,null,null,null,null,null,null,null,null,null,null,null,null,null,null,null,null,null,null,null,null,null,null,null,null,null,null,null,null,null,null,null,null,null,null,null,null,null,null,null,null,null,null,null,null,null,null,null,null,null,null,null,null,null,null,null,null,null,null,null,null,null,null,null,null,null,null,null,null,null,null,null,null,null,null,null,null,null,null,null,null,null,null,null,null,null,null,null,null,null,null,null,null,null,380,"NO","TWNEXT","NEXT TOWER NUMBER",57]
[{"$f":"IF(B79<>\"\",13,0)","v":0},null,null,null,null,null,null,null,null,null,null,null,null,{"$f":"COUNTA(B79,O79,AB79:AJ81,AL79:AO81,AP79,AU79,AZ79,BB79,BF79,BJ79)","v":0},null,null,null,null,null,null,null,null,null,null,null,null,null,null,null,null,null,null,null,null,null,null,null,null,null,null,null,null,null,null,{"$f":"IFERROR(VLOOKUP(AP79&\"-\"&AQ79&\"-\"&AR79,CODES!AB$5:AC$160,2,FALSE),\"\")","v":""},null,null,null,null,{"$f":"IFERROR(VLOOKUP(AU79&AV79&AW79,CODES!AB$5:AC$160,2,FALSE),\"\")","v":""},null,null,null,null,null,null,null,null,null,null,null,null,null,null,null,null,null,null,null,null,null,null,null,null,null,null,null,null,null,null,null,null,null,null,null,null,null,null,null,null,null,null,null,null,null,null,null,null,null,null,null,null,null,null,null,null,null,null,390,"NO","TWANGLE","ANGLE OF DEVIATION",58]
[null,null,null,null,null,null,null,null,null,null,null,null,null,null,null,null,null,null,null,null,null,null,null,null,null,null,null,null,null,null,null,null,null,null,null,null,null,null,null,null,null,null,null,null,null,null,null,null,null,null,null,null,null,null,null,null,null,null,null,null,null,null,null,null,null,null,null,null,null,null,null,null,null,null,null,null,null,null,null,null,null,null,null,null,null,null,null,null,null,null,null,null,null,null,null,null,null,null,null,null,null,null,null,null,null,null,null,null,1500,"NO","PROJECT","PROJECT NUMBER (COMMISSION)",59]
[null,null,null,null,null,null,null,null,null,null,null,null,null,null,null,null,null,null,null,null,null,null,null,null,null,null,null,null,null,null,null,null,null,null,null,null,null,null,null,null,null,null,null,null,null,null,null,null,null,null,null,null,null,null,null,null,null,null,null,null,null,null,null,null,null,null,null,null,null,null,null,null,null,null,null,null,null,null,null,null,null,null,null,null,null,null,null,null,null,null,null,null,null,null,null,null,null,null,null,null,null,null,null,null,null,null,null,null,1510,"NO","PROJECTD","PROJECT NUMBER (DECOMMISSION)",60]
[{"$f":"IF(B82<>\"\",13,0)","v":0},null,null,null,null,null,null,null,null,null,null,null,null,{"$f":"COUNTA(B82,O82,AB82:AJ84,AL82:AO84,AP82,AU82,AZ82,BB82,BF82,BJ82)","v":0},null,null,null,null,null,null,null,null,null,null,null,null,null,null,null,null,null,null,null,null,null,null,null,null,null,null,null,null,null,null,{"$f":"IFERROR(VLOOKUP(AP82&\"-\"&AQ82&\"-\"&AR82,CODES!AB$5:AC$160,2,FALSE),\"\")","v":""},null,null,null,null,{"$f":"IFERROR(VLOOKUP(AU82&AV82&AW82,CODES!AB$5:AC$160,2,FALSE),\"\")","v":""},null,null,null,null,null,null,null,null,null,null,null,null,null,null,null,null,null,null,null,null,null,null,null,null,null,null,null,null,null,null,null,null,null,null,null,null,null,null,null,null,null,null,null,null,null,null,null,null,null,null,null,null,null,null,null,"RED",null,null,null,null,"R"]
[]
[null,null,null,null,null,null,null,null,null,null,null,null,null,null,null,null,null,null,null,null,null,null,null,null,null,null,null,null,null,null,null,null,null,null,null,null,null,null,null,null,null,null,null,null,null,null,null,null,null,null,null,null,null,null,null,null,null,null,null,null,null,null,null,null,null,null,null,null,null,null,null,null,null,null,null,null,null,null,null,null,null,null,null,null,null,null,null,null,null,null,null,null,null,null,null,null,null,null,null,null,null,null,null,null,null,"BLUE",null,null,null,null,"B"]
[{"$f":"IF(B85<>\"\",13,0)","v":0},null,null,null,null,null,null,null,null,null,null,null,null,{"$f":"COUNTA(B85,O85,AB85:AJ87,AL85:AO87,AP85,AU85,AZ85,BB85,BF85,BJ85)","v":0},null,null,null,null,null,null,null,null,null,null,null,null,null,null,null,null,null,null,null,null,null,null,null,null,null,null,null,null,null,null,{"$f":"IFERROR(VLOOKUP(AP85&\"-\"&AQ85&\"-\"&AR85,CODES!AB$5:AC$160,2,FALSE),\"\")","v":""},null,null,null,null,{"$f":"IFERROR(VLOOKUP(AU85&AV85&AW85,CODES!AB$5:AC$160,2,FALSE),\"\")","v":""}]
[null,null,null,null,null,null,null,null,null,null,null,null,null,null,null,null,null,null,null,null,null,null,null,null,null,null,null,null,null,null,null,null,null,null,null,null,null,null,null,null,null,null,null,null,null,null,null,null,null,null,null,null,null,null,null,null,null,null,null,null,null,null,null,null,null,null,null,null,null,null,null,null,null,null,null,null,null,null,null,null,null,null,null,null,null,null,null,null,null,null,null,null,null,null,null,null,null,null,null,null,null,null,null,null,null,"GREEN",null,null,null,null,"G"]
[]
[null,null,null,null,null,null,null,null,null,null,null,null,null,null,null,null,null,null,null,null,null,null,null,null,null,null,null,null,null,null,null,null,null,null,null,null,null,null,null,null,null,null,null,null,null,null,null,null,null,null,null,null,null,null,null,null,null,null,null,null,null,null,null,null,null,null,null,null,null,null,null,null,null,null,null,null,null,null,null,null,null,null,null,null,null,null,null,null,null,null,null,null,null,null,null,null,null,null,null,null,null,null,null,null,null,"YELLOW",null,null,null,null,"Y"]
[]
[null,"ADDITIONAL INFORMATION",null,null,null,null,null,null,null,null,null,null,null,null,null,null,null,null,null,null,null,null,null,null,null,null,null,null,null,null,null,null,null,null,null,null,null,null,null,null,null,null,null,null,null,null,null,null,null,null,null,null,null,null,null,null,null,null,null,null,null,null,null,null,null,{"$f":"IF(B93=\"\",0,1)","v":0},null,null,null,null,null,null,null,null,null,null,null,null,null,null,null,null,null,null,null,null,null,null,null,null,null,null,null,null,null,null,null,null,null,null,null,null,null,null,null,"VIOLET",null,null,null,null,"V"]
[]
[null,null,null,null,null,null,null,null,null,null,null,null,null,null,null,null,null,null,null,null,null,null,null,null,null,null,null,null,null,null,null,null,null,null,null,null,null,null,null,null,null,null,null,null,null,null,null,null,null,null,null,null,null,null,null,null,null,null,null,null,null,null,null,null,null,null,null,null,null,null,null,null,null,null,null,null,null,null,null,null,null,null,null,null,null,null,null,null,null,null,null,null,null,null,null,null,null,null,null,null,null,null,null,null,null,"BLACK",null,null,null,null,"BK"]
[]
[null,null,null,null,null,null,null,null,null,null,null,null,null,null,null,null,null,null,null,null,null,null,null,null,null,null,null,null,null,null,null,null,null,null,null,null,null,null,null,null,null,null,null,null,null,null,null,null,null,null,null,null,null,null,null,null,null,null,null,null,null,null,null,null,null,null,null,null,null,null,null,null,null,null,null,null,null,null,null,null,null,null,null,null,null,null,null,null,null,null,null,null,null,null,null,null,null,null,null,null,null,null,null,null,null,"WHITE",null,null,null,null,"W"]
[]
[null,null,null,null,null,null,null,null,null,null,null,null,null,null,null,null,null,null,null,null,null,null,null,null,null,null,null,null,null,null,null,null,null,null,null,null,null,null,null,null,null,null,null,null,null,null,null,null,null,null,null,null,null,null,null,null,null,null,null,null,null,null,null,null,null,null,null,null,null,null,null,null,null,null,null,null,null,null,null,null,null,null,null,null,null,null,null,null,null,null,null,null,null,null,null,null,null,null,null,null,null,null,null,null,null,"ORANGE",null,null,null,null,"O"]

{"sheet":"DOC 8C","index":23,"n_rows":40,"n_cols":105,"rows_kept":40,"cut":false,"hidden":false,"merged":[[39,64,41,64],[26,12,28,27],[26,28,28,30],[29,12,31,27],[29,28,31,30],[35,12,37,27],[35,28,37,30],[32,12,34,27],[32,28,34,30],[12,1,14,63],[16,33,18,42],[16,44,18,63],[16,12,18,27],[16,28,18,30],[0,104,1,104],[2,104,4,104],[5,104,7,104],[20,12,22,27],[20,28,22,30],[20,43,22,43],[15,1,15,63],[19,1,19,63],[20,44,22,62],[4,39,6,42],[4,43,6,47],[8,64,10,64],[16,1,18,10],[16,11,18,11],[16,64,18,64],[20,33,22,42],[42,1,62,63],[32,11,34,11],[35,1,37,10],[35,11,37,11],[32,33,34,42],[32,43,34,43],[32,44,34,62],[29,1,31,10],[29,11,31,11],[32,1,34,10],[39,1,41,63],[29,43,31,43],[29,44,31,62],[29,33,31,42],[8,29,10,47],[8,49,10,53],[26,1,28,10],[26,11,28,11],[20,1,22,10],[20,11,22,11],[23,1,25,10],[23,11,25,11],[23,12,25,30],[26,43,28,43],[26,44,28,62],[26,33,28,42],[23,33,25,42],[23,43,25,43],[8,54,10,63],[23,44,25,62],[63,0,63,64],[12,64,14,64],[7,1,7,63],[0,76,2,77],[33,66,35,70],[33,71,35,78],[14,66,16,78],[23,66,25,78],[27,66,29,70],[27,71,29,78],[30,66,32,70],[30,71,32,78],[8,1,10,5],[8,6,10,22],[8,24,10,28],[0,78,2,79],[1,1,6,11],[1,12,6,22],[1,24,3,27],[1,28,3,38],[1,39,3,42],[1,43,3,47],[1,49,6,51],[1,52,6,63],[3,76,5,79],[4,24,6,27],[4,28,6,38]]}
[null,null,null,null,null,null,null,null,null,null,null,null,null,null,null,null,null,null,null,null,null,null,null,null,null,null,null,null,null,null,null,null,null,null,null,null,null,null,null,null,null,null,null,null,null,null,null,null,null,null,null,null,null,null,null,null,null,null,null,null,null,null,null,null,null,null,null,null,null,null,null,null,null,null,null,null,{"$f":"BM17","v":0},null,{"$f":"BM13","v":0},null,null,null,null,null,null,null,null,null,null,null,null,null,null,null,null,null,null,null,null,null,null,null,null,null,"PRINT?"]
[null,null,null,null,null,null,null,null,null,null,null,null,"DOC 8C",null,null,null,null,null,null,null,null,null,null,null,"ENGINEER",null,null,null,{"$f":"SAR!$K$13","v":""},null,null,null,null,null,null,null,null,null,null,"VOLTAGE",null,null,null,{"$f":"SAR!$K$36","v":0},null,null,null,null,null,"SATS",null,null,{"$f":"SAR!$BA$2","v":0}]
[null,null,null,null,null,null,null,null,null,null,null,null,null,null,null,null,null,null,null,null,null,null,null,null,null,null,null,null,null,null,null,null,null,null,null,null,null,null,null,null,null,null,null,null,null,null,null,null,null,null,null,null,null,null,null,null,null,null,null,null,null,null,null,null,null,null,null,null,null,null,null,null,null,null,null,null,null,null,null,null,null,null,null,null,null,null,null,null,null,null,null,null,null,null,null,null,null,null,null,null,null,null,null,null,{"$f":"IF(BY1=0,\"\",\"Y\")","v":""}]
[null,null,null,null,null,null,null,null,null,null,null,null,null,null,null,null,null,null,null,null,null,null,null,null,null,null,null,null,null,null,null,null,null,null,null,null,null,null,null,null,null,null,null,null,null,null,null,null,null,null,null,null,null,null,null,null,null,null,null,null,null,null,null,null,null,null,null,null,null,null,null,null,null,null,null,null,{"$f":"BY1/CA1","v":{"$error":"#DIV/0!"}}]
[null,null,null,null,null,null,null,null,null,null,null,null,null,null,null,null,null,null,null,null,null,null,null,null,"AREA",null,null,null,{"$f":"SAR!$K$39","v":0},null,null,null,null,null,null,null,null,null,null,"PROJECT DATE",null,null,null,{"$f":"SAR!$K$42","v":"00:00:00"}]
[]
[]
[]
[null,"PRIMARY SUBSTATION ",null,null,null,null,{"$f":"SAR!$K$45","v":0},null,null,null,null,null,null,null,null,null,null,null,null,null,null,null,null,null,"DISTRIBUTION SUBSTATION ",null,null,null,null,{"$f":"SAR!$K$30","v":0},null,null,null,null,null,null,null,null,null,null,null,null,null,null,null,null,null,null,null,"PLANT REF",null,null,null,null,{"$f":"SAR!$K$33","v":0},null,null,null,null,null,null,null,null,null,{"$f":"SAR!$AB$36","v":""}]
[]
[]
[]
[null,"FAULT PASSAGE INDICATORS",null,null,null,null,null,null,null,null,null,null,null,null,null,null,null,null,null,null,null,null,null,null,null,null,null,null,null,null,null,null,null,null,null,null,null,null,null,null,null,null,null,null,null,null,null,null,null,null,null,null,null,null,null,null,null,null,null,null,null,null,null,null,{"$f":"IF(BM17>0,13,0)","v":0}]
[]
[null,null,null,null,null,null,null,null,null,null,null,null,null,null,null,null,null,null,null,null,null,null,null,null,null,null,null,null,null,null,null,null,null,null,null,null,null,null,null,null,null,null,null,null,null,null,null,null,null,null,null,null,null,null,null,null,null,null,null,null,null,null,null,null,null,null,"DOC QUICK LINK"]
[]
[null,"COMMISSIONING DRIVER",null,null,null,null,null,null,null,null,null,{"$f":"IF(M17=\"\",0,1)","v":0},null,null,null,null,null,null,null,null,null,null,null,null,null,null,null,null,{"$f":"IFERROR(VLOOKUP(M17,CODES!$A$5:$B$36,2,FALSE),\"\")","v":""},null,null,null,null,"PROJECT CODE",null,null,null,null,null,null,null,null,null,null,{"$f":"SAR!J78","v":""},null,null,null,null,null,null,null,null,null,null,null,null,null,null,null,null,null,null,null,{"$f":"SUM(L17,L21:L38,AR21:AR35,BM40)","v":0}]
[]
[]
[]
[null,"MANUFACTURER",null,null,null,null,null,null,null,null,null,{"$f":"IF(M21=\"\",0,1)","v":0},null,null,null,null,null,null,null,null,null,null,null,null,null,null,null,null,{"$f":"IFERROR(VLOOKUP(M21,CODES!M$16:N$134,2,FALSE),\"\")","v":""},null,null,null,null,"OVERCURRENT PICKUP CURRENT (A)",null,null,null,null,null,null,null,null,null,{"$f":"IF(AS21=\"\",0,1)","v":0}]
[]
[]
[null,"MAKER'S TYPE",null,null,null,null,null,null,null,null,null,{"$f":"IF(M24=\"\",0,1)","v":0},null,null,null,null,null,null,null,null,null,null,null,null,null,null,null,null,null,null,null,null,null,"OVERCURRENT DELAY (ms)",null,null,null,null,null,null,null,null,null,{"$f":"IF(AS24=\"\",0,1)","v":0},null,null,null,null,null,null,null,null,null,null,null,null,null,null,null,null,null,null,null,null,null,null,"OTHER (PLEASE SPECIFY)"]
[]
[]
[null,"PHASE TO PHASE DETECTION",null,null,null,null,null,null,null,null,null,{"$f":"IF(M27=\"\",0,1)","v":0},null,null,null,null,null,null,null,null,null,null,null,null,null,null,null,null,{"$f":"IFERROR(VLOOKUP(M27,CODES!$A$123:$B$124,2,FALSE),\"\")","v":""},null,null,null,null,"EARTH FAULT PICKUP CURRENT (A)",null,null,null,null,null,null,null,null,null,{"$f":"IF(AS27=\"\",0,1)","v":0}]
[]
[]
[null,"PHASE TO EARTH DETECTION",null,null,null,null,null,null,null,null,null,{"$f":"IF(M30=\"\",0,1)","v":0},null,null,null,null,null,null,null,null,null,null,null,null,null,null,null,null,{"$f":"IFERROR(VLOOKUP(M30,CODES!$A$123:$B$124,2,FALSE),\"\")","v":""},null,null,null,null,"EARTH FAULT DELAY (ms)",null,null,null,null,null,null,null,null,null,{"$f":"IF(AS30=\"\",0,1)","v":0}]
[]
[]
[null,"POWER SUPPLY TYPE",null,null,null,null,null,null,null,null,null,{"$f":"IF(M33=\"\",0,1)","v":0},null,null,null,null,null,null,null,null,null,null,null,null,null,null,null,null,{"$f":"IFERROR(VLOOKUP(M33,CODES!$BF$5:$BG$7,2,FALSE),\"\")","v":""},null,null,null,null,"MASTER FPI SERIAL NUMBER",null,null,null,null,null,null,null,null,null,{"$f":"IF(AS33=\"\",0,1)","v":0}]
[]
[]
[null,"REMOTELY MONITORED",null,null,null,null,null,null,null,null,null,{"$f":"IF(M36=\"\",0,1)","v":0},null,null,null,null,null,null,null,null,null,null,null,null,null,null,null,null,{"$f":"IFERROR(VLOOKUP(M36,CODES!$A$123:$B$124,2,FALSE),\"\")","v":""}]
[]
[]
[]
[null,"ADDITIONAL INFORMATION",null,null,null,null,null,null,null,null,null,null,null,null,null,null,null,null,null,null,null,null,null,null,null,null,null,null,null,null,null,null,null,null,null,null,null,null,null,null,null,null,null,null,null,null,null,null,null,null,null,null,null,null,null,null,null,null,null,null,null,null,null,null,{"$f":"IF(B43=\"\",0,1)","v":0}]

{"sheet":"DOC 9","index":24,"n_rows":96,"n_cols":152,"rows_kept":96,"cut":false,"hidden":false,"merged":[[79,64,81,64],[74,44,76,59],[74,60,76,62],[74,12,76,27],[74,28,76,30],[44,12,46,27],[44,28,46,30],[47,12,49,27],[47,28,49,30],[50,12,52,27],[50,28,52,30],[53,28,55,30],[53,12,55,27],[65,44,67,59],[65,60,67,62],[14,66,16,78],[16,12,18,27],[62,43,64,43],[65,43,67,43],[68,43,70,43],[71,43,73,43],[74,43,76,43],[65,12,67,27],[65,28,67,30],[37,64,39,64],[12,64,14,64],[12,1,14,31],[12,33,14,63],[20,1,22,10],[26,1,28,10],[16,64,18,64],[23,12,25,27],[23,28,25,30],[57,33,59,63],[30,71,32,78],[33,66,35,70],[33,71,35,78],[29,43,31,43],[32,43,34,43],[8,1,10,5],[8,6,10,22],[8,24,10,28],[8,29,10,47],[8,49,10,53],[8,54,10,63],[32,12,34,27],[32,28,34,30],[41,12,43,27],[41,28,43,30],[20,11,22,11],[23,11,25,11],[26,11,28,11],[29,11,31,11],[32,11,34,11],[35,11,37,11],[38,11,40,11],[41,11,43,11],[26,33,28,42],[29,33,31,42],[20,33,22,42],[20,43,22,43],[23,43,25,43],[26,43,28,43],[98,0,98,64],[37,33,39,63],[40,33,55,63],[79,33,81,63],[82,33,97,63],[16,44,18,63],[20,12,22,30],[26,12,28,30],[29,12,31,30],[65,33,67,42],[62,1,64,10],[62,12,64,30],[62,33,64,42],[62,44,64,62],[65,1,67,10],[62,11,64,11],[65,11,67,11],[68,1,70,10],[68,12,70,30],[44,1,46,10],[44,11,46,11],[57,1,59,31],[47,1,49,10],[92,11,94,11],[0,124,2,124],[1,12,6,22],[1,24,3,27],[1,28,3,38],[1,39,3,42],[1,43,3,47],[1,49,6,51],[1,52,6,63],[4,24,6,27],[4,28,6,38],[4,39,6,42],[4,43,6,47],[0,104,1,104],[2,104,4,104],[5,104,7,104],[23,60,25,62],[32,44,34,59],[32,60,34,62],[57,151,59,151],[0,123,2,123],[23,1,25,10],[23,33,25,42],[29,44,31,62],[26,44,28,62],[29,1,31,10],[50,1,52,10],[32,1,34,10],[35,1,37,10],[38,1,40,10],[32,33,34,42],[53,1,55,10],[20,44,22,62],[0,78,2,79],[3,76,5,79],[0,76,2,77],[41,1,43,10],[27,66,29,70],[27,71,29,78],[47,11,49,11],[50,11,52,11],[53,11,55,11],[0,125,2,125],[0,126,2,126],[0,127,2,127],[0,114,2,114],[0,115,2,115],[35,12,37,30],[38,12,40,30],[0,117,2,117],[0,118,2,118],[0,119,2,119],[0,120,2,120],[0,121,2,121],[0,122,2,122],[15,1,15,63],[16,1,18,10],[16,11,18,11],[16,33,18,42],[0,116,2,116],[1,1,6,11],[7,1,7,63],[8,64,10,64],[23,66,25,78],[16,28,18,30],[23,44,25,59],[30,66,32,70],[80,1,82,10],[80,12,82,30],[92,1,94,10],[95,1,97,10],[83,1,85,10],[86,1,88,10],[89,1,91,10],[80,11,82,11],[83,11,85,11],[86,11,88,11],[89,11,91,11],[95,12,97,27],[95,28,97,30],[95,11,97,11],[89,12,91,27],[89,28,91,30],[92,12,94,27],[92,28,94,30],[86,12,88,27],[86,28,88,30],[83,12,85,27],[83,28,85,30],[77,1,79,10],[77,12,79,30],[77,11,79,11],[68,33,70,42],[68,44,70,62],[71,1,73,10],[71,12,73,30],[71,33,73,42],[71,44,73,62],[74,1,76,10],[74,33,76,42],[68,11,70,11],[71,11,73,11],[74,11,76,11]]}
[null,null,null,null,null,null,null,null,null,null,null,null,null,null,null,null,null,null,null,null,null,null,null,null,null,null,null,null,null,null,null,null,null,null,null,null,null,null,null,null,null,null,null,null,null,null,null,null,null,null,null,null,null,null,null,null,null,null,null,null,null,null,null,null,null,null,null,null,null,null,null,null,null,null,null,null,{"$f":"BM17","v":0},null,{"$f":"BM13","v":2},null,null,null,null,null,null,null,null,null,null,null,null,null,null,null,null,null,null,null,null,null,null,null,null,null,"PRINT?",null,null,null,null,null,null,null,null,null,"EQUIPMENT CLASS","EQUIPNOD1","EQUIPNOD2","PLANTCODE0","PLANTCODE1","PLANTCODE2","PLANTCODE3","EQUIPGRPID","EQUIPSTATUS","PARENTEQUIPREF","ACCOUNTCODE","EQUIPCLASSIF2","EQUIPCLASSIF3","EQUIPCLASSIF17"]
[null,null,null,null,null,null,null,null,null,null,null,null,"DOC 9",null,null,null,null,null,null,null,null,null,null,null,"ENGINEER",null,null,null,{"$f":"SAR!$K$13","v":""},null,null,null,null,null,null,null,null,null,null,"VOLTAGE",null,null,null,{"$f":"SAR!$K$36","v":0},null,null,null,null,null,"SATS",null,null,{"$f":"SAR!$BA$2","v":0}]
[null,null,null,null,null,null,null,null,null,null,null,null,null,null,null,null,null,null,null,null,null,null,null,null,null,null,null,null,null,null,null,null,null,null,null,null,null,null,null,null,null,null,null,null,null,null,null,null,null,null,null,null,null,null,null,null,null,null,null,null,null,null,null,null,null,null,null,null,null,null,null,null,null,null,null,null,null,null,null,null,null,null,null,null,null,null,null,null,null,null,null,null,null,null,null,null,null,null,null,null,null,null,null,null,{"$f":"IF(BY1=0,\"\",\"Y\")","v":""}]
[null,null,null,null,null,null,null,null,null,null,null,null,null,null,null,null,null,null,null,null,null,null,null,null,null,null,null,null,null,null,null,null,null,null,null,null,null,null,null,null,null,null,null,null,null,null,null,null,null,null,null,null,null,null,null,null,null,null,null,null,null,null,null,null,null,null,null,null,null,null,null,null,null,null,null,null,{"$f":"BY1/CA1","v":0},null,null,null,null,null,null,null,null,null,null,null,null,null,null,null,null,null,null,null,null,null,null,null,null,null,null,null,null,null,null,null,null,null,null,null,null,"BATTERY 1 DETAILS","BA",{"$f":"#REF!","v":{"$error":"#REF!"}},"BATTERY",{"$f":"#REF!","v":{"$error":"#REF!"}},0,"BA",{"$f":"TEXT(#REF!,\"000\")","v":{"$error":"#REF!"}},"NPLOTH08","AC",{"$f":"'DOC 2A'!#REF!","v":{"$error":"#REF!"}},"E9999",1,1,"03"]
[null,null,null,null,null,null,null,null,null,null,null,null,null,null,null,null,null,null,null,null,null,null,null,null,"AREA",null,null,null,{"$f":"SAR!$K$39","v":0},null,null,null,null,null,null,null,null,null,null,"PROJECT DATE",null,null,null,{"$f":"SAR!$K$42","v":"00:00:00"},null,null,null,null,null,null,null,null,null,null,null,null,null,null,null,null,null,null,null,null,null,null,null,null,null,null,null,null,null,null,null,null,null,null,null,null,null,null,null,null,null,null,null,null,null,null,null,null,null,null,null,null,null,null,null,null,null,null,null,null,null,null,null,null,null,null,null,null,null,"CHARGER 1 DETAILS","CH",{"$f":"#REF!","v":{"$error":"#REF!"}},"CHARGER",{"$f":"#REF!","v":{"$error":"#REF!"}},0,"CH",{"$f":"TEXT(#REF!,\"000\")","v":{"$error":"#REF!"}},"NPLOTH09","AC",{"$f":"CONCATENATE(DN4,DO4,DP4,DQ4)","v":{"$error":"#REF!"}},"E9999",1,1,"03"]
[null,null,null,null,null,null,null,null,null,null,null,null,null,null,null,null,null,null,null,null,null,null,null,null,null,null,null,null,null,null,null,null,null,null,null,null,null,null,null,null,null,null,null,null,null,null,null,null,null,null,null,null,null,null,null,null,null,null,null,null,null,null,null,null,null,null,null,null,null,null,null,null,null,null,null,null,null,null,null,null,null,null,null,null,null,null,null,null,null,null,null,null,null,null,null,null,null,null,null,null,null,null,null,null,null,null,null,null,null,null,null,null,null,"BATTERY 2 DETAILS","BA",{"$f":"#REF!","v":{"$error":"#REF!"}},"BATTERY",{"$f":"#REF!","v":{"$error":"#REF!"}},0,"BA",{"$f":"TEXT(#REF!,\"000\")","v":{"$error":"#REF!"}},"NPLOTH08","AC",{"$f":"'DOC 2A'!#REF!","v":{"$error":"#REF!"}},"E9999",1,1,"03"]
[null,null,null,null,null,null,null,null,null,null,null,null,null,null,null,null,null,null,null,null,null,null,null,null,null,null,null,null,null,null,null,null,null,null,null,null,null,null,null,null,null,null,null,null,null,null,null,null,null,null,null,null,null,null,null,null,null,null,null,null,null,null,null,null,null,null,null,null,null,null,null,null,null,null,null,null,null,null,null,null,null,null,null,null,null,null,null,null,null,null,null,null,null,null,null,null,null,null,null,null,null,null,null,null,null,null,null,null,null,null,null,null,null,"CHARGER 2 DETAILS","CH",{"$f":"#REF!","v":{"$error":"#REF!"}},"CHARGER",{"$f":"#REF!","v":{"$error":"#REF!"}},0,"CH",{"$f":"TEXT(#REF!,\"000\")","v":{"$error":"#REF!"}},"NPLOTH09","AC",{"$f":"CONCATENATE(DN6,DO6,DP6,DQ6)","v":{"$error":"#REF!"}},"E9999",1,1,"03"]
[]
[null,"PRIMARY SUBSTATION ",null,null,null,null,{"$f":"SAR!$K$45","v":0},null,null,null,null,null,null,null,null,null,null,null,null,null,null,null,null,null,"DISTRIBUTION SUBSTATION ",null,null,null,null,{"$f":"SAR!$K$30","v":0},null,null,null,null,null,null,null,null,null,null,null,null,null,null,null,null,null,null,null,"PLANT REF",null,null,null,null,{"$f":"SAR!$K$33","v":0},null,null,null,null,null,null,null,null,null,{"$f":"SAR!$AB$36","v":""}]
[]
[]
[]
[null,"BATTERY INFORMATION (BA001)",null,null,null,null,null,null,null,null,null,null,null,null,null,null,null,null,null,null,null,null,null,null,null,null,null,null,null,null,null,null,null,"CHARGER INFORMATION (CH001)",null,null,null,null,null,null,null,null,null,null,null,null,null,null,null,null,null,null,null,null,null,null,null,null,null,null,null,null,null,null,{"$f":"SUM(IF(L21>0,12,0),IF(L63>0,12,0),IF(AR21>0,5,0),IF(AR63>0,5,0),IF(M17>0,1,0))+2","v":2}]
[]
[null,null,null,null,null,null,null,null,null,null,null,null,null,null,null,null,null,null,null,null,null,null,null,null,null,null,null,null,null,null,null,null,null,null,null,null,null,null,null,null,null,null,null,null,null,null,null,null,null,null,null,null,null,null,null,null,null,null,null,null,null,null,null,null,null,null,"DOC QUICK LINK"]
[]
[null,"COMMISSIONING DRIVER",null,null,null,null,null,null,null,null,null,{"$f":"IF(M17=\"\",0,1)","v":0},null,null,null,null,null,null,null,null,null,null,null,null,null,null,null,null,{"$f":"IFERROR(VLOOKUP(M17,CODES!$A$5:$B$36,2,FALSE),\"\")","v":""},null,null,null,null,"PROJECT CODE",null,null,null,null,null,null,null,null,null,null,{"$f":"SAR!J78","v":""},null,null,null,null,null,null,null,null,null,null,null,null,null,null,null,null,null,null,null,{"$f":"SUM(L17,L21:L56,L63:L98,AR63:AR77,AR21:AR35,BM38,BM80)","v":0}]
[]
[]
[]
[null,"BATTERY UNIT I.D.",null,null,null,null,null,null,null,null,null,{"$f":"IF(M21=\"\",0,1)","v":0},null,null,null,null,null,null,null,null,null,null,null,null,null,null,null,null,null,null,null,null,null,"CHARGER UNIT I.D.",null,null,null,null,null,null,null,null,null,{"$f":"IF(AS21=\"\",0,1)","v":0}]
[]
[]
[null,"MANUFACTURER",null,null,null,null,null,null,null,null,null,{"$f":"IF(M24=\"\",0,1)","v":0},null,null,null,null,null,null,null,null,null,null,null,null,null,null,null,null,{"$f":"IFERROR(VLOOKUP(M24,CODES!$M$16:$N$134,2,FALSE),\"\")","v":""},null,null,null,null,"MANUFACTURER",null,null,null,null,null,null,null,null,null,{"$f":"IF(AS24=\"\",0,1)","v":0},null,null,null,null,null,null,null,null,null,null,null,null,null,null,null,null,{"$f":"IFERROR(VLOOKUP(AS24,CODES!$M$16:$N$134,2,FALSE),\"\")","v":""},null,null,null,null,null,"OTHER (PLEASE SPECIFY)"]
[]
[]
[null,"VOLTAGE",null,null,null,null,null,null,null,null,null,{"$f":"IF(M27=\"\",0,1)","v":0},null,null,null,null,null,null,null,null,null,null,null,null,null,null,null,null,null,null,null,null,null,"MAKERS TYPE",null,null,null,null,null,null,null,null,null,{"$f":"IF(AS27=\"\",0,1)","v":0}]
[]
[]
[null,"AMPERE HOURS",null,null,null,null,null,null,null,null,null,{"$f":"IF(M30=\"\",0,1)","v":0},null,null,null,null,null,null,null,null,null,null,null,null,null,null,null,null,null,null,null,null,null,"SERIAL NUMBER ",null,null,null,null,null,null,null,null,null,{"$f":"IF(AS30=\"\",0,1)","v":0}]
[]
[]
[null,"BATTERY TYPE",null,null,null,null,null,null,null,null,null,{"$f":"IF(M33=\"\",0,1)","v":0},null,null,null,null,null,null,null,null,null,null,null,null,null,null,null,null,{"$f":"IFERROR(VLOOKUP(M33,CODES!$AE$5:$AF$10,2,FALSE),\"\")","v":""},null,null,null,null,"CHARGER TYPE",null,null,null,null,null,null,null,null,null,{"$f":"IF(AS33=\"\",0,1)","v":0},null,null,null,null,null,null,null,null,null,null,null,null,null,null,null,null,{"$f":"IFERROR(VLOOKUP(AS33,CODES!$AH$5:$AI$11,2,FALSE),\"\")","v":""}]
[]
[]
[null,"MAKERS TYPE",null,null,null,null,null,null,null,null,null,{"$f":"IF(M36=\"\",0,1)","v":0}]
[]
[null,null,null,null,null,null,null,null,null,null,null,null,null,null,null,null,null,null,null,null,null,null,null,null,null,null,null,null,null,null,null,null,null,"ADDITIONAL INFORMATION",null,null,null,null,null,null,null,null,null,null,null,null,null,null,null,null,null,null,null,null,null,null,null,null,null,null,null,null,null,null,{"$f":"IF(AH41=\"\",0,1)","v":0}]
[null,"NUMBER OF CELLS",null,null,null,null,null,null,null,null,null,{"$f":"IF(M39=\"\",0,1)","v":0}]
[]
[]
[null,"BATTERY FUNCTION 1",null,null,null,null,null,null,null,null,null,{"$f":"IF(M42=\"\",0,1)","v":0},null,null,null,null,null,null,null,null,null,null,null,null,null,null,null,null,{"$f":"IFERROR(VLOOKUP(M42,CODES!$AE$14:$AF$24,2,FALSE),\"\")","v":""}]
[]
[]
[null,"BATTERY FUNCTION 2",null,null,null,null,null,null,null,null,null,{"$f":"IF(M45=\"\",0,1)","v":0},null,null,null,null,null,null,null,null,null,null,null,null,null,null,null,null,{"$f":"IFERROR(VLOOKUP(M45,CODES!$AE$14:$AF$24,2,FALSE),\"\")","v":""}]
[]
[]
[null,"BATTERY FUNCTION 3",null,null,null,null,null,null,null,null,null,{"$f":"IF(M48=\"\",0,1)","v":0},null,null,null,null,null,null,null,null,null,null,null,null,null,null,null,null,{"$f":"IFERROR(VLOOKUP(M48,CODES!$AE$14:$AF$24,2,FALSE),\"\")","v":""}]
[]
[]
[null,"BATTERY FUNCTION 4",null,null,null,null,null,null,null,null,null,{"$f":"IF(M51=\"\",0,1)","v":0},null,null,null,null,null,null,null,null,null,null,null,null,null,null,null,null,{"$f":"IFERROR(VLOOKUP(M51,CODES!$AE$14:$AF$24,2,FALSE),\"\")","v":""}]
[]
[]
[null,"BATTERY FUNCTION 5",null,null,null,null,null,null,null,null,null,{"$f":"IF(M54=\"\",0,1)","v":0},null,null,null,null,null,null,null,null,null,null,null,null,null,null,null,null,{"$f":"IFERROR(VLOOKUP(M54,CODES!$AE$14:$AF$24,2,FALSE),\"\")","v":""}]
[]
[]
[]
[null,"BATTERY INFORMATION (BA002)",null,null,null,null,null,null,null,null,null,null,null,null,null,null,null,null,null,null,null,null,null,null,null,null,null,null,null,null,null,null,null,"CHARGER INFORMATION (CH002)",null,null,null,null,null,null,null,null,null,null,null,null,null,null,null,null,null,null,null,null,null,null,null,null,null,null,null,null,null,null,null,null,null,null,null,null,null,null,null,null,null,null,null,null,null,null,null,null,null,null,null,null,null,null,null,null,null,null,null,null,null,null,null,null,null,null,null,null,null,null,null,null,null,null,null,null,null,null,null,null,null,null,null,null,null,null,null,null,null,null,null,null,null,null,null,null,null,null,null,null,null,null,null,null,null,null,null,null,null,null,null,null,null,null,null,null,null,{"$f":"SAR!$AB$36","v":""}]
[]
[]
[]
[]
[null,"BATTERY UNIT I.D.",null,null,null,null,null,null,null,null,null,{"$f":"IF(M63=\"\",0,1)","v":0},null,null,null,null,null,null,null,null,null,null,null,null,null,null,null,null,null,null,null,null,null,"CHARGER UNIT I.D.",null,null,null,null,null,null,null,null,null,{"$f":"IF(AS63=\"\",0,1)","v":0}]
[]
[]
[null,"MANUFACTURER",null,null,null,null,null,null,null,null,null,{"$f":"IF(M66=\"\",0,1)","v":0},null,null,null,null,null,null,null,null,null,null,null,null,null,null,null,null,{"$f":"IFERROR(VLOOKUP(M66,CODES!$M$16:$N$134,2,FALSE),\"\")","v":""},null,null,null,null,"MANUFACTURER",null,null,null,null,null,null,null,null,null,{"$f":"IF(AS66=\"\",0,1)","v":0},null,null,null,null,null,null,null,null,null,null,null,null,null,null,null,null,{"$f":"IFERROR(VLOOKUP(AS66,CODES!$M$16:$N$134,2,FALSE),\"\")","v":""}]
[]
[]
[null,"VOLTAGE",null,null,null,null,null,null,null,null,null,{"$f":"IF(M69=\"\",0,1)","v":0},null,null,null,null,null,null,null,null,null,null,null,null,null,null,null,null,null,null,null,null,null,"MAKERS TYPE",null,null,null,null,null,null,null,null,null,{"$f":"IF(AS69=\"\",0,1)","v":0}]
[]
[]
[null,"AMPERE HOURS",null,null,null,null,null,null,null,null,null,{"$f":"IF(M72=\"\",0,1)","v":0},null,null,null,null,null,null,null,null,null,null,null,null,null,null,null,null,null,null,null,null,null,"SERIAL NUMBER ",null,null,null,null,null,null,null,null,null,{"$f":"IF(AS72=\"\",0,1)","v":0}]
[]
[]
[null,"BATTERY TYPE",null,null,null,null,null,null,null,null,null,{"$f":"IF(M75=\"\",0,1)","v":0},null,null,null,null,null,null,null,null,null,null,null,null,null,null,null,null,{"$f":"IFERROR(VLOOKUP(M75,CODES!$AE$5:$AF$10,2,FALSE),\"\")","v":""},null,null,null,null,"CHARGER TYPE",null,null,null,null,null,null,null,null,null,{"$f":"IF(AS75=\"\",0,1)","v":0},null,null,null,null,null,null,null,null,null,null,null,null,null,null,null,null,{"$f":"IFERROR(VLOOKUP(AS75,CODES!$AH$5:$AI$11,2,FALSE),\"\")","v":""}]
[]
[]
[null,"MAKERS TYPE",null,null,null,null,null,null,null,null,null,{"$f":"IF(M78=\"\",0,1)","v":0}]
[]
[null,null,null,null,null,null,null,null,null,null,null,null,null,null,null,null,null,null,null,null,null,null,null,null,null,null,null,null,null,null,null,null,null,"ADDITIONAL INFORMATION",null,null,null,null,null,null,null,null,null,null,null,null,null,null,null,null,null,null,null,null,null,null,null,null,null,null,null,null,null,null,{"$f":"IF(AH83=\"\",0,1)","v":0}]
[null,"NUMBER OF CELLS",null,null,null,null,null,null,null,null,null,{"$f":"IF(M81=\"\",0,1)","v":0}]
[]
[]
[null,"BATTERY FUNCTION 1",null,null,null,null,null,null,null,null,null,{"$f":"IF(M84=\"\",0,1)","v":0},null,null,null,null,null,null,null,null,null,null,null,null,null,null,null,null,{"$f":"IFERROR(VLOOKUP(M84,CODES!$AE$14:$AF$24,2,FALSE),\"\")","v":""}]
[]
[]
[null,"BATTERY FUNCTION 2",null,null,null,null,null,null,null,null,null,{"$f":"IF(M87=\"\",0,1)","v":0},null,null,null,null,null,null,null,null,null,null,null,null,null,null,null,null,{"$f":"IFERROR(VLOOKUP(M87,CODES!$AE$14:$AF$24,2,FALSE),\"\")","v":""}]
[]
[]
[null,"BATTERY FUNCTION 3",null,null,null,null,null,null,null,null,null,{"$f":"IF(M90=\"\",0,1)","v":0},null,null,null,null,null,null,null,null,null,null,null,null,null,null,null,null,{"$f":"IFERROR(VLOOKUP(M90,CODES!$AE$14:$AF$24,2,FALSE),\"\")","v":""}]
[]
[]
[null,"BATTERY FUNCTION 4",null,null,null,null,null,null,null,null,null,{"$f":"IF(M93=\"\",0,1)","v":0},null,null,null,null,null,null,null,null,null,null,null,null,null,null,null,null,{"$f":"IFERROR(VLOOKUP(M93,CODES!$AE$14:$AF$24,2,FALSE),\"\")","v":""}]
[]
[]
[null,"BATTERY FUNCTION 5",null,null,null,null,null,null,null,null,null,{"$f":"IF(M96=\"\",0,1)","v":0},null,null,null,null,null,null,null,null,null,null,null,null,null,null,null,null,{"$f":"IFERROR(VLOOKUP(M96,CODES!$AE$14:$AF$24,2,FALSE),\"\")","v":""}]

{"sheet":"DOC 10","index":25,"n_rows":136,"n_cols":105,"rows_kept":136,"cut":false,"hidden":false,"merged":[[0,104,1,104],[2,104,4,104],[5,104,7,104],[26,33,28,42],[26,44,28,62],[26,43,28,43],[80,1,82,10],[80,11,82,11],[80,33,82,42],[80,44,82,63],[32,43,34,43],[32,33,34,42],[32,44,34,62],[29,44,31,62],[29,43,31,43],[29,33,31,42],[44,43,46,43],[44,33,46,42],[71,63,73,63],[65,63,67,63],[71,11,73,11],[79,1,79,63],[71,12,73,27],[71,28,73,30],[120,44,122,62],[99,44,101,62],[102,1,104,10],[102,11,104,11],[102,33,104,42],[102,43,104,43],[99,1,101,10],[99,11,101,11],[99,33,101,42],[99,43,101,43],[99,12,101,27],[99,28,101,30],[102,12,104,27],[102,28,104,30],[120,1,122,10],[120,11,122,11],[120,33,122,42],[108,1,110,10],[108,11,110,11],[108,33,110,42],[108,43,110,43],[105,1,107,10],[114,12,116,27],[114,28,116,30],[105,11,107,11],[105,33,107,42],[129,1,131,10],[117,1,119,10],[117,11,119,11],[117,33,119,42],[117,43,119,43],[123,1,125,10],[123,11,125,11],[123,12,125,30],[123,33,125,42],[123,43,125,43],[129,33,131,42],[129,43,131,43],[120,43,122,43],[105,43,107,43],[105,12,107,27],[105,28,107,30],[108,12,110,27],[108,28,110,30],[90,43,92,43],[90,44,92,62],[87,1,89,10],[87,11,89,11],[87,33,89,42],[87,43,89,43],[96,11,98,11],[96,12,98,30],[96,33,98,42],[96,43,98,43],[96,44,98,62],[93,1,95,10],[93,11,95,11],[93,12,95,30],[93,33,95,42],[90,28,92,30],[93,43,95,43],[93,44,95,62],[80,12,82,27],[80,28,82,30],[87,12,89,27],[87,28,89,30],[65,1,67,10],[68,33,70,42],[68,43,70,43],[71,1,73,10],[76,1,78,63],[68,44,70,62],[68,63,70,63],[65,33,67,42],[65,43,67,43],[65,44,67,62],[68,1,70,10],[65,11,67,11],[68,11,70,11],[68,12,70,27],[68,28,70,30],[65,12,67,27],[65,28,67,30],[59,1,61,10],[59,11,61,11],[59,12,61,30],[62,33,64,42],[62,43,64,43],[62,44,64,62],[56,1,58,10],[56,11,58,11],[59,33,61,42],[59,43,61,43],[62,1,64,10],[62,11,64,11],[62,12,64,30],[56,12,58,27],[56,28,58,30],[56,33,58,42],[56,43,58,43],[56,44,58,62],[59,44,61,62],[47,1,49,10],[47,11,49,11],[41,1,43,10],[41,11,43,11],[44,1,46,10],[44,11,46,11],[47,33,49,42],[47,43,49,43],[53,44,55,62],[53,1,55,10],[53,11,55,11],[50,1,52,10],[50,11,52,11],[53,33,55,42],[53,43,55,43],[50,33,52,42],[50,43,52,43],[50,44,52,62],[53,12,55,27],[53,28,55,30],[50,12,52,27],[50,28,52,30],[26,1,28,10],[26,11,28,11],[26,12,28,27],[26,28,28,30],[29,1,31,10],[29,11,31,11],[29,12,31,30],[41,33,43,42],[41,43,43,43],[32,1,34,10],[32,11,34,11],[32,12,34,30],[38,43,40,43],[35,1,37,10],[35,11,37,11],[35,33,37,42],[35,43,37,43],[41,28,43,30],[20,33,22,42],[20,43,22,43],[20,44,22,62],[20,1,22,10],[20,11,22,11],[20,12,22,30],[23,43,25,43],[23,44,25,62],[23,33,25,42],[23,1,25,10],[23,11,25,11],[23,12,25,27],[23,28,25,30],[35,44,37,62],[38,33,40,42],[38,1,40,10],[38,11,40,11],[35,12,37,27],[35,28,37,30],[38,12,40,27],[38,28,40,30],[8,64,10,64],[12,1,14,63],[15,1,15,63],[16,1,18,10],[16,11,18,11],[16,33,18,42],[16,44,18,63],[16,64,18,64],[8,1,10,5],[8,6,10,22],[8,24,10,28],[8,29,10,47],[8,49,10,53],[8,54,10,63],[12,64,14,64],[16,12,18,27],[16,28,18,30],[3,76,5,79],[4,24,6,27],[4,28,6,38],[4,39,6,42],[4,43,6,47],[7,1,7,63],[0,76,2,77],[0,78,2,79],[1,1,6,11],[1,12,6,22],[1,24,3,27],[1,28,3,38],[1,39,3,42],[1,43,3,47],[1,49,6,51],[1,52,6,63],[14,66,16,78],[132,11,134,11],[129,11,131,11],[76,64,78,64],[114,1,116,10],[114,11,116,11],[114,33,116,42],[114,43,116,43],[114,44,116,62],[111,1,113,10],[111,11,113,11],[111,33,113,42],[111,43,113,43],[84,43,86,43],[84,44,86,62],[87,44,89,62],[90,1,92,10],[90,11,92,11],[90,33,92,42],[84,1,86,10],[84,11,86,11],[84,12,86,30],[84,33,86,42],[90,12,92,27],[96,1,98,10],[23,66,25,78],[27,66,29,70],[27,71,29,78],[30,66,32,70],[30,71,32,78],[33,66,35,70],[33,71,35,78],[138,0,138,64],[74,0,74,64],[135,1,137,10],[135,11,137,11],[135,63,137,63],[129,44,131,62],[117,44,119,62],[129,63,131,63],[132,1,134,10],[132,33,134,42],[132,43,134,43],[132,44,134,62],[132,63,134,63],[123,44,125,62],[126,1,128,10],[126,11,128,11],[41,12,43,27],[38,44,40,59],[38,60,40,62],[44,12,46,27],[44,28,46,30],[41,44,43,59],[41,60,43,62],[44,44,46,59],[44,60,46,62],[47,44,49,59],[47,60,49,62],[47,12,49,27],[47,28,49,30],[135,12,137,27],[135,28,137,30],[102,44,104,59],[102,60,104,62],[105,44,107,59],[105,60,107,62],[108,44,110,59],[108,60,110,62],[111,44,113,59],[111,60,113,62],[111,12,113,27],[111,28,113,30],[117,12,119,27],[117,28,119,30],[120,12,122,27],[120,28,122,30],[129,12,131,27],[129,28,131,30],[132,12,134,27],[132,28,134,30],[126,12,128,30],[126,33,128,42],[126,43,128,43],[126,44,128,62]]}
[null,null,null,null,null,null,null,null,null,null,null,null,null,null,null,null,null,null,null,null,null,null,null,null,null,null,null,null,null,null,null,null,null,null,null,null,null,null,null,null,null,null,null,null,null,null,null,null,null,null,null,null,null,null,null,null,null,null,null,null,null,null,null,null,null,null,null,null,null,null,null,null,null,null,null,null,{"$f":"BM13+BM77","v":0},null,{"$f":"BM17","v":0},null,null,null,null,null,null,null,null,null,null,null,null,null,null,null,null,null,null,null,null,null,"T11",1,null,null,"PRINT?"]
[null,null,null,null,null,null,null,null,null,null,null,null,"DOC 10",null,null,null,null,null,null,null,null,null,null,null,"ENGINEER",null,null,null,{"$f":"SAR!$K$13","v":""},null,null,null,null,null,null,null,null,null,null,"VOLTAGE",null,null,null,{"$f":"SAR!$K$36","v":0},null,null,null,null,null,"SATS",null,null,{"$f":"SAR!$BA$2","v":0},null,null,null,null,null,null,null,null,null,null,null,null,null,null,null,null,null,null,null,null,null,null,null,null,null,null,null,null,null,null,1,"TXX PLANT DETAILS","TX",{"$f":"#REF!","v":{"$error":"#REF!"}},{"$f":"CONCATENATE(CW9,\" TX\")","v":"GT1 TX"},{"$f":"#REF!","v":{"$error":"#REF!"}},{"$f":"#REF!","v":{"$error":"#REF!"}},"TX",{"$f":"TEXT(CX9,\"000\")","v":"001"},{"$f":"VLOOKUP(CL2,$CN$4:$CO$6,2,FALSE)","v":{"$error":"#REF!"}},"AC",{"$f":"'DOC 2A'!#REF!","v":{"$error":"#REF!"}},"E9999",{"$f":"#REF!","v":{"$error":"#REF!"}},{"$f":"#REF!","v":{"$error":"#REF!"}},"03",null,"T12",2]
[null,null,null,null,null,null,null,null,null,null,null,null,null,null,null,null,null,null,null,null,null,null,null,null,null,null,null,null,null,null,null,null,null,null,null,null,null,null,null,null,null,null,null,null,null,null,null,null,null,null,null,null,null,null,null,null,null,null,null,null,null,null,null,null,null,null,null,null,null,null,null,null,null,null,null,null,null,null,null,null,null,null,null,2,"TXX PLANT DETAILS","TX",{"$f":"#REF!","v":{"$error":"#REF!"}},{"$f":"CONCATENATE(CW10,\" TX\")","v":{"$error":"#REF!"}},{"$f":"#REF!","v":{"$error":"#REF!"}},{"$f":"#REF!","v":{"$error":"#REF!"}},"TX",{"$f":"TEXT(CX10,\"000\")","v":{"$error":"#REF!"}},{"$f":"VLOOKUP(CL3,$CN$4:$CO$6,2,FALSE)","v":{"$error":"#REF!"}},"AC",{"$f":"'DOC 2A'!#REF!","v":{"$error":"#REF!"}},"E9999",{"$f":"#REF!","v":{"$error":"#REF!"}},{"$f":"#REF!","v":{"$error":"#REF!"}},"03",null,"T13",3,null,null,{"$f":"IF(BY1=0,\"\",\"Y\")","v":""}]
[null,null,null,null,null,null,null,null,null,null,null,null,null,null,null,null,null,null,null,null,null,null,null,null,null,null,null,null,null,null,null,null,null,null,null,null,null,null,null,null,null,null,null,null,null,null,null,null,null,null,null,null,null,null,null,null,null,null,null,null,null,null,null,null,null,null,null,null,null,null,null,null,null,null,null,null,{"$f":"BY1/CA1","v":{"$error":"#DIV/0!"}},null,null,null,null,null,null,null,null,null,null,null,null,null,null,5,"NPL3321",null,null,null,null,null,null,null,"T14",4]
[null,null,null,null,null,null,null,null,null,null,null,null,null,null,null,null,null,null,null,null,null,null,null,null,"AREA",null,null,null,{"$f":"SAR!$K$39","v":0},null,null,null,null,null,null,null,null,null,null,"PROJECT DATE",null,null,null,{"$f":"SAR!$K$42","v":"00:00:00"},null,null,null,null,null,null,null,null,null,null,null,null,null,null,null,null,null,null,null,null,null,null,null,null,null,null,null,null,null,null,null,null,null,null,null,null,null,null,null,null,null,null,null,null,null,null,null,6,"NPL13215",null,null,null,null,null,null,null,"GT1",1]
[null,null,null,null,null,null,null,null,null,null,null,null,null,null,null,null,null,null,null,null,null,null,null,null,null,null,null,null,null,null,null,null,null,null,null,null,null,null,null,null,null,null,null,null,null,null,null,null,null,null,null,null,null,null,null,null,null,null,null,null,null,null,null,null,null,null,null,null,null,null,null,null,null,null,null,null,null,null,null,null,null,null,null,null,null,null,null,null,null,null,null,7,"NPL3321",null,null,null,null,null,null,null,"GT2",2]
[null,null,null,null,null,null,null,null,null,null,null,null,null,null,null,null,null,null,null,null,null,null,null,null,null,null,null,null,null,null,null,null,null,null,null,null,null,null,null,null,null,null,null,null,null,null,null,null,null,null,null,null,null,null,null,null,null,null,null,null,null,null,null,null,null,null,null,null,null,null,null,null,null,null,null,null,null,null,null,null,null,null,null,null,null,null,null,null,null,null,null,null,null,null,null,null,null,null,null,null,"GT3",3]
[null,null,null,null,null,null,null,null,null,null,null,null,null,null,null,null,null,null,null,null,null,null,null,null,null,null,null,null,null,null,null,null,null,null,null,null,null,null,null,null,null,null,null,null,null,null,null,null,null,null,null,null,null,null,null,null,null,null,null,null,null,null,null,null,null,null,null,null,null,null,null,null,null,null,null,null,null,null,null,null,null,null,null,null,null,null,null,null,null,null,null,null,null,null,null,null,null,null,null,null,"GT4",4]
[null,"PRIMARY SUBSTATION ",null,null,null,null,{"$f":"SAR!$K$45","v":0},null,null,null,null,null,null,null,null,null,null,null,null,null,null,null,null,null,"DISTRIBUTION SUBSTATION ",null,null,null,null,{"$f":"SAR!$K$30","v":0},null,null,null,null,null,null,null,null,null,null,null,null,null,null,null,null,null,null,null,"PLANT REF",null,null,null,null,{"$f":"SAR!$K$33","v":0},null,null,null,null,null,null,null,null,null,{"$f":"SAR!$AB$36","v":""},null,null,null,null,null,null,null,null,null,null,null,null,null,null,null,null,null,null,null,null,null,null,null,null,null,null,null,null,null,null,null,null,null,null,null,"GT1",{"$f":"VLOOKUP($CW$9,$CW$1:$CX$8,2,FALSE)","v":1}]
[null,null,null,null,null,null,null,null,null,null,null,null,null,null,null,null,null,null,null,null,null,null,null,null,null,null,null,null,null,null,null,null,null,null,null,null,null,null,null,null,null,null,null,null,null,null,null,null,null,null,null,null,null,null,null,null,null,null,null,null,null,null,null,null,null,null,null,null,null,null,null,null,null,null,null,null,null,null,null,null,null,null,null,null,null,null,null,null,null,null,null,null,null,null,null,null,null,null,null,null,{"$f":"#REF!","v":{"$error":"#REF!"}},{"$f":"VLOOKUP($CW$10,$CW$1:$CX$8,2,FALSE)","v":{"$error":"#REF!"}}]
[]
[]
[null,"G&P & AUXILLARY TRANSFORMER INFORMATION - T11",null,null,null,null,null,null,null,null,null,null,null,null,null,null,null,null,null,null,null,null,null,null,null,null,null,null,null,null,null,null,null,null,null,null,null,null,null,null,null,null,null,null,null,null,null,null,null,null,null,null,null,null,null,null,null,null,null,null,null,null,null,null,{"$f":"L17+SUM(L21:L74,AR21:AR71)","v":0}]
[]
[null,null,null,null,null,null,null,null,null,null,null,null,null,null,null,null,null,null,null,null,null,null,null,null,null,null,null,null,null,null,null,null,null,null,null,null,null,null,null,null,null,null,null,null,null,null,null,null,null,null,null,null,null,null,null,null,null,null,null,null,null,null,null,null,null,null,"DOC QUICK LINK"]
[]
[null,"COMMISSIONING DRIVER",null,null,null,null,null,null,null,null,null,{"$f":"IF(M17=\"\",0,1)","v":0},null,null,null,null,null,null,null,null,null,null,null,null,null,null,null,null,{"$f":"IFERROR(VLOOKUP(M17,CODES!$A$5:$B$36,2,FALSE),\"\")","v":""},null,null,null,null,"PROJECT CODE",null,null,null,null,null,null,null,null,null,null,{"$f":"SAR!J78","v":""},null,null,null,null,null,null,null,null,null,null,null,null,null,null,null,null,null,null,null,{"$f":"IF(L21+L85=2,70,IF(L21+L85=1,35,0))","v":0}]
[]
[]
[]
[null,"TRANSFORMER UNIT I.D.",null,null,null,null,null,null,null,null,null,{"$f":"IF(M21=\"\",0,1)","v":0},null,null,null,null,null,null,null,null,null,null,null,null,null,null,null,null,null,null,null,null,null,"PRIMARY PHASING (E.G. RYB)",null,null,null,null,null,null,null,null,null,{"$f":"IF(AS21=\"\",0,1)","v":0}]
[]
[]
[null,"TRANSFORMER FUNCTION",null,null,null,null,null,null,null,null,null,{"$f":"IF(M24=\"\",0,1)","v":0},null,null,null,null,null,null,null,null,null,null,null,null,null,null,null,null,{"$f":"IFERROR(VLOOKUP(M24,CODES!M$6:N$13,2,FALSE),\"\")","v":""},null,null,null,null,"SECONDARY PHASING (E.G. RYB)",null,null,null,null,null,null,null,null,null,{"$f":"IF(AS24=\"\",0,1)","v":0},null,null,null,null,null,null,null,null,null,null,null,null,null,null,null,null,null,null,null,null,null,null,"OTHER (PLEASE SPECIFY)"]
[]
[]
[null,"MANUFACTURER",null,null,null,null,null,null,null,null,null,{"$f":"IF(M27=\"\",0,1)","v":0},null,null,null,null,null,null,null,null,null,null,null,null,null,null,null,null,{"$f":"IFERROR(VLOOKUP(M27,CODES!M$16:N$134,2,FALSE),\"\")","v":""},null,null,null,null,"NUMBER OF TAPS",null,null,null,null,null,null,null,null,null,{"$f":"IF(AS27=\"\",0,1)","v":0}]
[]
[]
[null,"SERIAL NUMBER",null,null,null,null,null,null,null,null,null,{"$f":"IF(M30=\"\",0,1)","v":0},null,null,null,null,null,null,null,null,null,null,null,null,null,null,null,null,null,null,null,null,null,"TAP RANGE % ( + )",null,null,null,null,null,null,null,null,null,{"$f":"IF(AS30=\"\",0,1)","v":0}]
[]
[]
[null,"MANUFACTURED DATE (DD/MM/YY)",null,null,null,null,null,null,null,null,null,{"$f":"IF(M33=\"\",0,1)","v":0},null,null,null,null,null,null,null,null,null,null,null,null,null,null,null,null,null,null,null,null,null,"TAP RANGE % ( - )",null,null,null,null,null,null,null,null,null,{"$f":"IF(AS33=\"\",0,1)","v":0}]
[]
[]
[null,"PRIMARY (HV) VOLTAGE",null,null,null,null,null,null,null,null,null,{"$f":"IF(M36=\"\",0,1)","v":0},null,null,null,null,null,null,null,null,null,null,null,null,null,null,null,null,{"$f":"IFERROR(VLOOKUP(M36,CODES!AK$5:AL$8,2,FALSE),\"\")","v":""},null,null,null,null,"TAP INCREMENT",null,null,null,null,null,null,null,null,null,null,{"$f":"IFERROR((AS30-(-AS33))/(AS27-1),\"\")","v":0}]
[]
[]
[null,"SECONDARY (LV) VOLTAGE",null,null,null,null,null,null,null,null,null,{"$f":"IF(M39=\"\",0,1)","v":0},null,null,null,null,null,null,null,null,null,null,null,null,null,null,null,null,{"$f":"IFERROR(VLOOKUP(M39,CODES!M$138:N$146,2,FALSE),\"\")","v":""},null,null,null,null,"COOLER SITUATION",null,null,null,null,null,null,null,null,null,{"$f":"IF(AS39=\"\",0,1)","v":0},null,null,null,null,null,null,null,null,null,null,null,null,null,null,null,null,{"$f":"IFERROR(VLOOKUP(AS39,CODES!$A$51:$B$53,2,FALSE),\"\")","v":""}]
[]
[]
[null,"TRANSFORMER SITUATION",null,null,null,null,null,null,null,null,null,{"$f":"IF(M42=\"\",0,1)","v":0},null,null,null,null,null,null,null,null,null,null,null,null,null,null,null,null,{"$f":"IFERROR(VLOOKUP(M42,CODES!$A$51:$B$53,2,FALSE),\"\")","v":""},null,null,null,null,"HV TERMINAL CONNECTION",null,null,null,null,null,null,null,null,null,{"$f":"IF(AS42=\"\",0,1)","v":0},null,null,null,null,null,null,null,null,null,null,null,null,null,null,null,null,{"$f":"IFERROR(VLOOKUP(AS42,CODES!$M$246:$N$261,2,FALSE),\"\")","v":""}]
[]
[]
[null,"TRANSFORMER MOUNTING",null,null,null,null,null,null,null,null,null,{"$f":"IF(M45=\"\",0,1)","v":0},null,null,null,null,null,null,null,null,null,null,null,null,null,null,null,null,{"$f":"IFERROR(VLOOKUP(M45,CODES!A$40:B$47,2,FALSE),\"\")","v":""},null,null,null,null,"LV TERMINAL CONNECTION",null,null,null,null,null,null,null,null,null,{"$f":"IF(AS45=\"\",0,1)","v":0},null,null,null,null,null,null,null,null,null,null,null,null,null,null,null,null,{"$f":"IFERROR(VLOOKUP(AS45,CODES!$M$246:$N$261,2,FALSE),\"\")","v":""}]
[]
[]
[null,"TRANSFORMER VECTOR GROUP",null,null,null,null,null,null,null,null,null,{"$f":"IF(M48=\"\",0,1)","v":0},null,null,null,null,null,null,null,null,null,null,null,null,null,null,null,null,{"$f":"IFERROR(VLOOKUP(M48,CODES!AK$12:AL$21,2,FALSE),\"\")","v":""},null,null,null,null,"NOISE ENCLOSURE",null,null,null,null,null,null,null,null,null,{"$f":"IF(AS48=\"\",0,1)","v":0},null,null,null,null,null,null,null,null,null,null,null,null,null,null,null,null,{"$f":"IFERROR(VLOOKUP(AS48,CODES!$A$123:$B$124,2,FALSE),\"\")","v":""}]
[]
[]
[null,"TRANSFORMER SPECIFICATION",null,null,null,null,null,null,null,null,null,{"$f":"IF(M51=\"\",0,1)","v":0},null,null,null,null,null,null,null,null,null,null,null,null,null,null,null,null,{"$f":"IFERROR(VLOOKUP(M51,CODES!M$192:N$214,2,FALSE),\"\")","v":""},null,null,null,null,"MAIN TANK - OIL CAPACITY (LITRE)",null,null,null,null,null,null,null,null,null,{"$f":"IF(AS51=\"\",0,1)","v":0}]
[]
[]
[null,"BREATHER",null,null,null,null,null,null,null,null,null,{"$f":"IF(M54=\"\",0,1)","v":0},null,null,null,null,null,null,null,null,null,null,null,null,null,null,null,null,{"$f":"IFERROR(VLOOKUP(M54,CODES!AK$25:AL$32,2,FALSE),\"\")","v":""},null,null,null,null,"DIVERTER - OIL CAPACITY (LITRE)",null,null,null,null,null,null,null,null,null,{"$f":"IF(AS54=\"\",0,1)","v":0}]
[]
[]
[null,"COOLANT TYPE",null,null,null,null,null,null,null,null,null,{"$f":"IF(M57=\"\",0,1)","v":0},null,null,null,null,null,null,null,null,null,null,null,null,null,null,null,null,{"$f":"IFERROR(VLOOKUP(M57,CODES!M$236:N$242,2,FALSE),\"\")","v":""},null,null,null,null,"SELECTOR - OIL CAPACITY (LITRE)",null,null,null,null,null,null,null,null,null,{"$f":"IF(AS57=\"\",0,1)","v":0}]
[]
[]
[null,"ONAN RATING (MVA)",null,null,null,null,null,null,null,null,null,{"$f":"IF(M60=\"\",0,1)","v":0},null,null,null,null,null,null,null,null,null,null,null,null,null,null,null,null,null,null,null,null,null,"FIXED  (IRON) LOSS",null,null,null,null,null,null,null,null,null,{"$f":"IF(AS60=\"\",0,1)","v":0}]
[]
[]
[null,"FORCED COOLING RATING (MVA)",null,null,null,null,null,null,null,null,null,{"$f":"IF(M63=\"\",0,1)","v":0},null,null,null,null,null,null,null,null,null,null,null,null,null,null,null,null,null,null,null,null,null,"LOAD (COPPER) LOSS",null,null,null,null,null,null,null,null,null,{"$f":"IF(AS63=\"\",0,1)","v":0}]
[]
[]
[null,"COOLING TYPE",null,null,null,null,null,null,null,null,null,{"$f":"IF(M66=\"\",0,1)","v":0},null,null,null,null,null,null,null,null,null,null,null,null,null,null,null,null,{"$f":"IFERROR(VLOOKUP(M66,CODES!AK$47:AL$50,2,FALSE),\"\")","v":""},null,null,null,null,"LEAKAGE IMPEDANCE (%)",null,null,null,null,null,null,null,null,null,{"$f":"IF(AS66=\"\",0,1)","v":0}]
[]
[]
[null,"HV ARC GAP",null,null,null,null,null,null,null,null,null,{"$f":"IF(M69=\"\",0,1)","v":0},null,null,null,null,null,null,null,null,null,null,null,null,null,null,null,null,{"$f":"IFERROR(VLOOKUP(M69,CODES!AK$36:AL$43,2,FALSE),\"\")","v":""},null,null,null,null,"ZERO - SEQUENCE IMPEDANCE (%)",null,null,null,null,null,null,null,null,null,{"$f":"IF(AS69=\"\",0,1)","v":0}]
[]
[]
[null,"LV ARC GAP",null,null,null,null,null,null,null,null,null,{"$f":"IF(M72=\"\",0,1)","v":0},null,null,null,null,null,null,null,null,null,null,null,null,null,null,null,null,{"$f":"IFERROR(VLOOKUP(M72,CODES!AK$36:AL$43,2,FALSE),\"\")","v":""}]
[]
[]
[]
[]
[null,"G&P & AUXILLARY TRANSFORMER INFORMATION - T12",null,null,null,null,null,null,null,null,null,null,null,null,null,null,null,null,null,null,null,null,null,null,null,null,null,null,null,null,null,null,null,null,null,null,null,null,null,null,null,null,null,null,null,null,null,null,null,null,null,null,null,null,null,null,null,null,null,null,null,null,null,null,{"$f":"L81+SUM(L85:L138,AR85:AR135)","v":0}]
[]
[]
[]
[null,"COMMISSIONING DRIVER",null,null,null,null,null,null,null,null,null,null,null,null,null,null,null,null,null,null,null,null,null,null,null,null,null,null,{"$f":"IFERROR(VLOOKUP(M81,CODES!$A$5:$B$36,2,FALSE),\"\")","v":""},null,null,null,null,"PROJECT CODE",null,null,null,null,null,null,null,null,null,null,{"$f":"SAR!J78","v":""}]
[]
[]
[]
[null,"TRANSFORMER UNIT I.D.",null,null,null,null,null,null,null,null,null,{"$f":"IF(M85=\"\",0,1)","v":0},null,null,null,null,null,null,null,null,null,null,null,null,null,null,null,null,null,null,null,null,null,"PRIMARY PHASING (E.G. RYB)",null,null,null,null,null,null,null,null,null,{"$f":"IF(AS85=\"\",0,1)","v":0}]
[]
[]
[null,"TRANSFORMER FUNCTION",null,null,null,null,null,null,null,null,null,{"$f":"IF(M88=\"\",0,1)","v":0},null,null,null,null,null,null,null,null,null,null,null,null,null,null,null,null,{"$f":"IFERROR(VLOOKUP(M88,CODES!M$6:N$13,2,FALSE),\"\")","v":""},null,null,null,null,"SECONDARY PHASING (E.G. RYB)",null,null,null,null,null,null,null,null,null,{"$f":"IF(AS88=\"\",0,1)","v":0}]
[]
[]
[null,"MANUFACTURER",null,null,null,null,null,null,null,null,null,{"$f":"IF(M91=\"\",0,1)","v":0},null,null,null,null,null,null,null,null,null,null,null,null,null,null,null,null,{"$f":"IFERROR(VLOOKUP(M91,CODES!M$16:N$134,2,FALSE),\"\")","v":""},null,null,null,null,"NUMBER OF TAPS",null,null,null,null,null,null,null,null,null,{"$f":"IF(AS91=\"\",0,1)","v":0}]
[]
[]
[null,"SERIAL NUMBER",null,null,null,null,null,null,null,null,null,{"$f":"IF(M94=\"\",0,1)","v":0},null,null,null,null,null,null,null,null,null,null,null,null,null,null,null,null,null,null,null,null,null,"TAP RANGE % ( + )",null,null,null,null,null,null,null,null,null,{"$f":"IF(AS94=\"\",0,1)","v":0}]
[]
[]
[null,"MANUFACTURED DATE (DD/MM/YY)",null,null,null,null,null,null,null,null,null,{"$f":"IF(M97=\"\",0,1)","v":0},null,null,null,null,null,null,null,null,null,null,null,null,null,null,null,null,null,null,null,null,null,"TAP RANGE % ( - )",null,null,null,null,null,null,null,null,null,{"$f":"IF(AS97=\"\",0,1)","v":0}]
[]
[]
[null,"PRIMARY (HV) VOLTAGE",null,null,null,null,null,null,null,null,null,{"$f":"IF(M100=\"\",0,1)","v":0},null,null,null,null,null,null,null,null,null,null,null,null,null,null,null,null,{"$f":"IFERROR(VLOOKUP(M100,CODES!AK$5:AL$8,2,FALSE),\"\")","v":""},null,null,null,null,"TAP INCREMENT",null,null,null,null,null,null,null,null,null,null,{"$f":"IFERROR((AS94-(-AS97))/(AS91-1),\"\")","v":0}]
[]
[]
[null,"SECONDARY (LV) VOLTAGE",null,null,null,null,null,null,null,null,null,{"$f":"IF(M103=\"\",0,1)","v":0},null,null,null,null,null,null,null,null,null,null,null,null,null,null,null,null,{"$f":"IFERROR(VLOOKUP(M103,CODES!M$138:N$146,2,FALSE),\"\")","v":""},null,null,null,null,"COOLER SITUATION",null,null,null,null,null,null,null,null,null,{"$f":"IF(AS103=\"\",0,1)","v":0},null,null,null,null,null,null,null,null,null,null,null,null,null,null,null,null,{"$f":"IFERROR(VLOOKUP(AS103,CODES!$A$51:$B$53,2,FALSE),\"\")","v":""}]
[]
[]
[null,"TRANSFORMER SITUATION",null,null,null,null,null,null,null,null,null,{"$f":"IF(M106=\"\",0,1)","v":0},null,null,null,null,null,null,null,null,null,null,null,null,null,null,null,null,{"$f":"IFERROR(VLOOKUP(M106,CODES!$A$51:$B$53,2,FALSE),\"\")","v":""},null,null,null,null,"HV TERMINAL CONNECTION",null,null,null,null,null,null,null,null,null,{"$f":"IF(AS106=\"\",0,1)","v":0},null,null,null,null,null,null,null,null,null,null,null,null,null,null,null,null,{"$f":"IFERROR(VLOOKUP(AS106,CODES!$M$246:$N$261,2,FALSE),\"\")","v":""}]
[]
[]
[null,"TRANSFORMER MOUNTING",null,null,null,null,null,null,null,null,null,{"$f":"IF(M109=\"\",0,1)","v":0},null,null,null,null,null,null,null,null,null,null,null,null,null,null,null,null,{"$f":"IFERROR(VLOOKUP(M109,CODES!A$40:B$47,2,FALSE),\"\")","v":""},null,null,null,null,"LV TERMINAL CONNECTION",null,null,null,null,null,null,null,null,null,{"$f":"IF(AS109=\"\",0,1)","v":0},null,null,null,null,null,null,null,null,null,null,null,null,null,null,null,null,{"$f":"IFERROR(VLOOKUP(AS109,CODES!$M$246:$N$261,2,FALSE),\"\")","v":""}]
[]
[]
[null,"TRANSFORMER VECTOR GROUP",null,null,null,null,null,null,null,null,null,{"$f":"IF(M112=\"\",0,1)","v":0},null,null,null,null,null,null,null,null,null,null,null,null,null,null,null,null,{"$f":"IFERROR(VLOOKUP(M112,CODES!AK$12:AL$21,2,FALSE),\"\")","v":""},null,null,null,null,"NOISE ENCLOSURE",null,null,null,null,null,null,null,null,null,{"$f":"IF(AS112=\"\",0,1)","v":0},null,null,null,null,null,null,null,null,null,null,null,null,null,null,null,null,{"$f":"IFERROR(VLOOKUP(AS112,CODES!$A$123:$B$124,2,FALSE),\"\")","v":""}]
[]
[]
[null,"TRANSFORMER SPECIFICATION",null,null,null,null,null,null,null,null,null,{"$f":"IF(M115=\"\",0,1)","v":0},null,null,null,null,null,null,null,null,null,null,null,null,null,null,null,null,{"$f":"IFERROR(VLOOKUP(M115,CODES!M$192:N$214,2,FALSE),\"\")","v":""},null,null,null,null,"MAIN TANK - OIL CAPACITY (LITRE)",null,null,null,null,null,null,null,null,null,{"$f":"IF(AS115=\"\",0,1)","v":0}]
[]
[]
[null,"BREATHER",null,null,null,null,null,null,null,null,null,{"$f":"IF(M118=\"\",0,1)","v":0},null,null,null,null,null,null,null,null,null,null,null,null,null,null,null,null,{"$f":"IFERROR(VLOOKUP(M118,CODES!AK$25:AL$32,2,FALSE),\"\")","v":""},null,null,null,null,"DIVERTER - OIL CAPACITY (LITRE)",null,null,null,null,null,null,null,null,null,{"$f":"IF(AS118=\"\",0,1)","v":0}]
[]
[]
[null,"COOLANT TYPE",null,null,null,null,null,null,null,null,null,{"$f":"IF(M121=\"\",0,1)","v":0},null,null,null,null,null,null,null,null,null,null,null,null,null,null,null,null,{"$f":"IFERROR(VLOOKUP(M121,CODES!M$236:N$242,2,FALSE),\"\")","v":""},null,null,null,null,"SELECTOR - OIL CAPACITY (LITRE)",null,null,null,null,null,null,null,null,null,{"$f":"IF(AS121=\"\",0,1)","v":0}]
[]
[]
[null,"ONAN RATING (MVA)",null,null,null,null,null,null,null,null,null,{"$f":"IF(M124=\"\",0,1)","v":0},null,null,null,null,null,null,null,null,null,null,null,null,null,null,null,null,null,null,null,null,null,"FIXED  (IRON) LOSS",null,null,null,null,null,null,null,null,null,{"$f":"IF(AS124=\"\",0,1)","v":0}]
[]
[]
[null,"FORCED COOLING RATING (MVA)",null,null,null,null,null,null,null,null,null,{"$f":"IF(M127=\"\",0,1)","v":0},null,null,null,null,null,null,null,null,null,null,null,null,null,null,null,null,null,null,null,null,null,"LOAD (COPPER) LOSS",null,null,null,null,null,null,null,null,null,{"$f":"IF(AS127=\"\",0,1)","v":0}]
[]
[]
[null,"COOLING TYPE",null,null,null,null,null,null,null,null,null,{"$f":"IF(M130=\"\",0,1)","v":0},null,null,null,null,null,null,null,null,null,null,null,null,null,null,null,null,{"$f":"IFERROR(VLOOKUP(M130,CODES!AK$47:AL$50,2,FALSE),\"\")","v":""},null,null,null,null,"LEAKAGE IMPEDANCE (%)",null,null,null,null,null,null,null,null,null,{"$f":"IF(AS130=\"\",0,1)","v":0}]
[]
[]
[null,"HV ARC GAP",null,null,null,null,null,null,null,null,null,{"$f":"IF(M133=\"\",0,1)","v":0},null,null,null,null,null,null,null,null,null,null,null,null,null,null,null,null,{"$f":"IFERROR(VLOOKUP(M133,CODES!AK$36:AL$43,2,FALSE),\"\")","v":""},null,null,null,null,"ZERO - SEQUENCE IMPEDANCE (%)",null,null,null,null,null,null,null,null,null,{"$f":"IF(AS133=\"\",0,1)","v":0}]
[]
[]
[null,"LV ARC GAP",null,null,null,null,null,null,null,null,null,{"$f":"IF(M136=\"\",0,1)","v":0},null,null,null,null,null,null,null,null,null,null,null,null,null,null,null,null,{"$f":"IFERROR(VLOOKUP(M136,CODES!AK$36:AL$43,2,FALSE),\"\")","v":""}]

{"sheet":"DOC 11","index":26,"n_rows":73,"n_cols":105,"rows_kept":73,"cut":false,"hidden":false,"merged":[[72,64,74,64],[46,28,48,30],[53,12,55,27],[8,64,10,64],[16,1,18,10],[53,11,55,11],[46,33,48,42],[95,0,95,64],[59,1,61,10],[59,11,61,11],[59,12,61,30],[62,1,64,10],[62,11,64,11],[62,12,64,30],[65,1,67,10],[65,11,67,11],[65,12,67,30],[72,1,74,63],[75,1,94,63],[68,1,70,10],[68,11,70,11],[68,12,70,27],[68,28,70,30],[53,33,55,42],[53,44,55,63],[53,43,55,43],[46,12,48,27],[38,12,40,27],[38,28,40,30],[0,104,1,104],[2,104,4,104],[5,104,7,104],[23,1,25,10],[23,11,25,11],[20,33,22,42],[20,43,22,43],[7,1,7,63],[16,64,18,64],[15,1,15,63],[23,43,25,43],[20,1,22,10],[20,11,22,11],[12,64,14,64],[8,54,10,63],[16,33,18,42],[16,44,18,63],[8,1,10,5],[8,6,10,22],[8,24,10,28],[8,29,10,47],[8,49,10,53],[0,76,2,77],[0,78,2,79],[1,1,6,11],[1,12,6,22],[1,24,3,27],[1,28,3,38],[1,39,3,42],[1,43,3,47],[1,49,6,51],[1,52,6,63],[3,76,5,79],[4,24,6,27],[4,28,6,38],[4,39,6,42],[4,43,6,47],[30,71,32,78],[33,66,35,70],[33,71,35,78],[16,12,18,27],[16,28,18,30],[23,12,25,27],[23,28,25,30],[26,12,28,30],[12,1,14,63],[20,44,22,63],[23,33,25,42],[32,12,34,30],[29,12,31,30],[14,66,16,78],[23,66,25,78],[27,66,29,70],[27,71,29,78],[16,11,18,11],[35,12,37,30],[29,1,31,10],[26,1,28,10],[26,11,28,11],[32,1,34,10],[35,1,37,10],[53,28,55,30],[46,44,48,63],[56,1,58,10],[56,11,58,11],[56,12,58,30],[53,1,55,10],[30,66,32,70],[20,12,22,30],[23,44,25,63],[50,11,52,11],[50,12,52,30],[50,33,52,42],[50,43,52,43],[38,1,40,10],[38,11,40,11],[35,11,37,11],[29,11,31,11],[32,11,34,11],[50,1,52,10],[45,1,45,63],[46,1,48,10],[46,11,48,11],[42,1,44,63],[50,44,52,63]]}
[null,null,null,null,null,null,null,null,null,null,null,null,null,null,null,null,null,null,null,null,null,null,null,null,null,null,null,null,null,null,null,null,null,null,null,null,null,null,null,null,null,null,null,null,null,null,null,null,null,null,null,null,null,null,null,null,null,null,null,null,null,null,null,null,null,null,null,null,null,null,null,null,null,null,null,null,{"$f":"BM17","v":0},null,{"$f":"BM13","v":0},null,null,null,null,null,null,null,null,null,null,null,null,null,null,null,null,null,null,null,null,null,null,null,null,null,"PRINT?"]
[null,null,null,null,null,null,null,null,null,null,null,null,"DOC 11",null,null,null,null,null,null,null,null,null,null,null,"ENGINEER",null,null,null,{"$f":"SAR!$K$13","v":""},null,null,null,null,null,null,null,null,null,null,"VOLTAGE",null,null,null,{"$f":"SAR!$K$36","v":0},null,null,null,null,null,"SATS",null,null,{"$f":"SAR!$BA$2","v":0}]
[null,null,null,null,null,null,null,null,null,null,null,null,null,null,null,null,null,null,null,null,null,null,null,null,null,null,null,null,null,null,null,null,null,null,null,null,null,null,null,null,null,null,null,null,null,null,null,null,null,null,null,null,null,null,null,null,null,null,null,null,null,null,null,null,null,null,null,null,null,null,null,null,null,null,null,null,null,null,null,null,null,null,null,null,null,null,null,null,null,null,null,null,null,null,null,null,null,null,null,null,null,null,null,null,{"$f":"IF(BY1=0,\"\",\"Y\")","v":""}]
[null,null,null,null,null,null,null,null,null,null,null,null,null,null,null,null,null,null,null,null,null,null,null,null,null,null,null,null,null,null,null,null,null,null,null,null,null,null,null,null,null,null,null,null,null,null,null,null,null,null,null,null,null,null,null,null,null,null,null,null,null,null,null,null,null,null,null,null,null,null,null,null,null,null,null,null,{"$f":"BY1/CA1","v":{"$error":"#DIV/0!"}}]
[null,null,null,null,null,null,null,null,null,null,null,null,null,null,null,null,null,null,null,null,null,null,null,null,"AREA",null,null,null,{"$f":"SAR!$K$39","v":0},null,null,null,null,null,null,null,null,null,null,"PROJECT DATE",null,null,null,{"$f":"SAR!$K$42","v":"00:00:00"}]
[]
[]
[]
[null,"PRIMARY SUBSTATION ",null,null,null,null,{"$f":"SAR!$K$45","v":0},null,null,null,null,null,null,null,null,null,null,null,null,null,null,null,null,null,"DISTRIBUTION SUBSTATION ",null,null,null,null,{"$f":"SAR!$K$30","v":0},null,null,null,null,null,null,null,null,null,null,null,null,null,null,null,null,null,null,null,"PLANT REF",null,null,null,null,{"$f":"SAR!$K$33","v":0},null,null,null,null,null,null,null,null,null,{"$f":"SAR!$AB$36","v":""}]
[]
[]
[]
[null,"GRID & PRIMARY - TRANSFORMER COOLER INFORMATION (T11 / GT1)",null,null,null,null,null,null,null,null,null,null,null,null,null,null,null,null,null,null,null,null,null,null,null,null,null,null,null,null,null,null,null,null,null,null,null,null,null,null,null,null,null,null,null,null,null,null,null,null,null,null,null,null,null,null,null,null,null,null,null,null,null,null,{"$f":"IF(L21+L51=2,21,IF(L21+L51=1,11,0))","v":0}]
[]
[null,null,null,null,null,null,null,null,null,null,null,null,null,null,null,null,null,null,null,null,null,null,null,null,null,null,null,null,null,null,null,null,null,null,null,null,null,null,null,null,null,null,null,null,null,null,null,null,null,null,null,null,null,null,null,null,null,null,null,null,null,null,null,null,null,null,"DOC QUICK LINK"]
[]
[null,"COMMISSIONING DRIVER",null,null,null,null,null,null,null,null,null,{"$f":"IF(M17=\"\",0,1)","v":0},null,null,null,null,null,null,null,null,null,null,null,null,null,null,null,null,{"$f":"IFERROR(VLOOKUP(M17,CODES!$A$5:$B$36,2,FALSE),\"\")","v":""},null,null,null,null,"PROJECT CODE",null,null,null,null,null,null,null,null,null,null,{"$f":"SAR!J78","v":""},null,null,null,null,null,null,null,null,null,null,null,null,null,null,null,null,null,null,null,{"$f":"SUM(L17,L21:L41,AR21:AR26)+SUM(L47,L51:L71,AR51:AR56)+BM73","v":0}]
[]
[]
[]
[null,"COOLER UNIT I.D.",null,null,null,null,null,null,null,null,null,{"$f":"IF(M21=\"\",0,1)","v":0},null,null,null,null,null,null,null,null,null,null,null,null,null,null,null,null,null,null,null,null,null,"NUMBER OF BANKS",null,null,null,null,null,null,null,null,null,{"$f":"IF(AS21=\"\",0,1)","v":0}]
[]
[]
[null,"COOLER MOUNTING",null,null,null,null,null,null,null,null,null,{"$f":"IF(M24=\"\",0,1)","v":0},null,null,null,null,null,null,null,null,null,null,null,null,null,null,null,null,{"$f":"IFERROR(VLOOKUP(M24,CODES!$AN$5:$AO$7,2,FALSE),\"\")","v":""},null,null,null,null,"NUMBER OF ELEMENTS",null,null,null,null,null,null,null,null,null,{"$f":"IF(AS24=\"\",0,1)","v":0},null,null,null,null,null,null,null,null,null,null,null,null,null,null,null,null,null,null,null,null,null,null,"OTHER (PLEASE SPECIFY)"]
[]
[]
[null,"NUMBER OF PUMPS",null,null,null,null,null,null,null,null,null,{"$f":"IF(M27=\"\",0,1)","v":0}]
[]
[]
[null,"PUMP LOAD (KW)",null,null,null,null,null,null,null,null,null,{"$f":"IF(M30=\"\",0,1)","v":0}]
[]
[]
[null,"NUMBER OF FANS",null,null,null,null,null,null,null,null,null,{"$f":"IF(M33=\"\",0,1)","v":0}]
[]
[]
[null,"FAN LOAD (KW)",null,null,null,null,null,null,null,null,null,{"$f":"IF(M36=\"\",0,1)","v":0}]
[]
[]
[null,"COOLER TYPE",null,null,null,null,null,null,null,null,null,{"$f":"IF(M39=\"\",0,1)","v":0},null,null,null,null,null,null,null,null,null,null,null,null,null,null,null,null,{"$f":"IFERROR(VLOOKUP(M39,CODES!$AN$12:$AO$17,2,FALSE),\"\")","v":""}]
[]
[]
[]
[null,"GRID & PRIMARY - TRANSFORMER COOLER INFORMATION (T12 / GT2)"]
[]
[]
[]
[null,"COMMISSIONING DRIVER",null,null,null,null,null,null,null,null,null,{"$f":"IF(M47=\"\",0,1)","v":0},null,null,null,null,null,null,null,null,null,null,null,null,null,null,null,null,{"$f":"IFERROR(VLOOKUP(M47,CODES!$A$5:$B$36,2,FALSE),\"\")","v":""},null,null,null,null,"PROJECT CODE",null,null,null,null,null,null,null,null,null,null,{"$f":"SAR!J78","v":""}]
[]
[]
[]
[null,"COOLER UNIT I.D.",null,null,null,null,null,null,null,null,null,{"$f":"IF(M51=\"\",0,1)","v":0},null,null,null,null,null,null,null,null,null,null,null,null,null,null,null,null,null,null,null,null,null,"NUMBER OF BANKS",null,null,null,null,null,null,null,null,null,{"$f":"IF(AS51=\"\",0,1)","v":0}]
[]
[]
[null,"COOLER MOUNTING",null,null,null,null,null,null,null,null,null,{"$f":"IF(M54=\"\",0,1)","v":0},null,null,null,null,null,null,null,null,null,null,null,null,null,null,null,null,{"$f":"IFERROR(VLOOKUP(M54,CODES!$AN$5:$AO$7,2,FALSE),\"\")","v":""},null,null,null,null,"NUMBER OF ELEMENTS",null,null,null,null,null,null,null,null,null,{"$f":"IF(AS54=\"\",0,1)","v":0}]
[]
[]
[null,"NUMBER OF PUMPS",null,null,null,null,null,null,null,null,null,{"$f":"IF(M57=\"\",0,1)","v":0}]
[]
[]
[null,"PUMP LOAD (KW)",null,null,null,null,null,null,null,null,null,{"$f":"IF(M60=\"\",0,1)","v":0}]
[]
[]
[null,"NUMBER OF FANS",null,null,null,null,null,null,null,null,null,{"$f":"IF(M63=\"\",0,1)","v":0}]
[]
[]
[null,"FAN LOAD (KW)",null,null,null,null,null,null,null,null,null,{"$f":"IF(M66=\"\",0,1)","v":0}]
[]
[]
[null,"COOLER TYPE",null,null,null,null,null,null,null,null,null,{"$f":"IF(M69=\"\",0,1)","v":0},null,null,null,null,null,null,null,null,null,null,null,null,null,null,null,null,{"$f":"IFERROR(VLOOKUP(M69,CODES!$AN$12:$AO$17,2,FALSE),\"\")","v":""}]
[]
[]
[]
[null,"ADDITIONAL INFORMATION",null,null,null,null,null,null,null,null,null,null,null,null,null,null,null,null,null,null,null,null,null,null,null,null,null,null,null,null,null,null,null,null,null,null,null,null,null,null,null,null,null,null,null,null,null,null,null,null,null,null,null,null,null,null,null,null,null,null,null,null,null,null,{"$f":"IF(B76=\"\",0,1)","v":0}]

{"sheet":"DOC 12","index":27,"n_rows":67,"n_cols":105,"rows_kept":67,"cut":false,"hidden":false,"merged":[[56,1,58,10],[56,11,58,11],[56,12,58,30],[56,33,58,42],[56,43,58,43],[59,12,61,27],[59,28,61,30],[89,0,89,64],[69,1,88,63],[66,1,68,63],[62,1,64,10],[62,11,64,11],[62,33,64,42],[62,43,64,43],[59,1,61,10],[59,11,61,11],[59,33,61,42],[62,12,64,27],[62,28,64,30],[59,43,61,43],[66,64,68,64],[53,1,55,10],[53,11,55,11],[53,12,55,30],[53,33,55,42],[53,43,55,43],[50,1,52,10],[50,11,52,11],[50,12,52,27],[50,28,52,30],[50,33,52,42],[50,43,52,43],[47,1,49,10],[47,11,49,11],[47,12,49,30],[47,33,49,42],[47,43,49,43],[35,1,37,10],[35,11,37,11],[35,33,37,42],[35,43,37,43],[39,1,41,63],[35,12,37,27],[35,28,37,30],[35,44,37,59],[35,60,37,62],[43,12,45,27],[43,28,45,30],[43,1,45,10],[43,11,45,11],[43,33,45,42],[43,44,45,63],[47,44,49,59],[47,60,49,62],[23,44,25,59],[23,60,25,62],[26,44,28,59],[26,60,28,62],[32,1,34,10],[32,11,34,11],[32,33,34,42],[32,43,34,43],[29,1,31,10],[29,11,31,11],[29,12,31,30],[29,33,31,42],[29,43,31,43],[32,12,34,27],[32,28,34,30],[29,44,31,59],[29,60,31,62],[32,44,34,59],[32,60,34,62],[23,43,25,43],[26,1,28,10],[26,11,28,11],[26,12,28,30],[26,33,28,42],[26,43,28,43],[23,1,25,10],[23,11,25,11],[23,12,25,27],[23,28,25,30],[23,33,25,42],[20,1,22,10],[20,11,22,11],[20,12,22,30],[20,33,22,42],[20,43,22,43],[16,28,18,30],[20,44,22,59],[20,60,22,62],[2,104,4,104],[3,76,5,79],[4,24,6,27],[4,28,6,38],[4,39,6,42],[4,43,6,47],[5,104,7,104],[7,1,7,63],[0,76,2,77],[0,78,2,79],[0,104,1,104],[1,1,6,11],[1,12,6,22],[1,24,3,27],[1,28,3,38],[1,39,3,42],[1,43,3,47],[1,49,6,51],[14,66,16,78],[23,66,25,78],[27,66,29,70],[27,71,29,78],[30,66,32,70],[30,71,32,78],[33,66,35,70],[33,71,35,78],[1,52,6,63],[16,64,18,64],[8,64,10,64],[12,1,14,63],[12,64,14,64],[15,1,15,63],[16,1,18,10],[16,11,18,11],[16,33,18,42],[16,44,18,63],[8,1,10,5],[8,6,10,22],[8,24,10,28],[8,29,10,47],[8,49,10,53],[8,54,10,63],[16,12,18,27],[50,44,52,59],[50,60,52,62],[53,44,55,59],[53,60,55,62],[56,44,58,59],[56,60,58,62],[59,44,61,59],[59,60,61,62],[62,44,64,59],[62,60,64,62]]}
[null,null,null,null,null,null,null,null,null,null,null,null,null,null,null,null,null,null,null,null,null,null,null,null,null,null,null,null,null,null,null,null,null,null,null,null,null,null,null,null,null,null,null,null,null,null,null,null,null,null,null,null,null,null,null,null,null,null,null,null,null,null,null,null,null,null,null,null,null,null,null,null,null,null,null,null,{"$f":"BM17","v":0},null,{"$f":"BM13","v":0},null,null,null,null,null,null,null,null,null,null,null,null,null,null,null,null,null,null,null,null,null,null,null,null,null,"PRINT?"]
[null,null,null,null,null,null,null,null,null,null,null,null,"DOC 12",null,null,null,null,null,null,null,null,null,null,null,"ENGINEER",null,null,null,{"$f":"SAR!$K$13","v":""},null,null,null,null,null,null,null,null,null,null,"VOLTAGE",null,null,null,{"$f":"SAR!$K$36","v":0},null,null,null,null,null,"SATS",null,null,{"$f":"SAR!$BA$2","v":0}]
[null,null,null,null,null,null,null,null,null,null,null,null,null,null,null,null,null,null,null,null,null,null,null,null,null,null,null,null,null,null,null,null,null,null,null,null,null,null,null,null,null,null,null,null,null,null,null,null,null,null,null,null,null,null,null,null,null,null,null,null,null,null,null,null,null,null,null,null,null,null,null,null,null,null,null,null,null,null,null,null,null,null,null,null,null,null,null,null,null,null,null,null,null,null,null,null,null,null,null,null,null,null,null,null,{"$f":"IF(BY1=0,\"\",\"Y\")","v":""}]
[null,null,null,null,null,null,null,null,null,null,null,null,null,null,null,null,null,null,null,null,null,null,null,null,null,null,null,null,null,null,null,null,null,null,null,null,null,null,null,null,null,null,null,null,null,null,null,null,null,null,null,null,null,null,null,null,null,null,null,null,null,null,null,null,null,null,null,null,null,null,null,null,null,null,null,null,{"$f":"BY1/CA1","v":{"$error":"#DIV/0!"}}]
[null,null,null,null,null,null,null,null,null,null,null,null,null,null,null,null,null,null,null,null,null,null,null,null,"AREA",null,null,null,{"$f":"SAR!$K$39","v":0},null,null,null,null,null,null,null,null,null,null,"PROJECT DATE",null,null,null,{"$f":"SAR!$K$42","v":"00:00:00"}]
[]
[]
[]
[null,"PRIMARY SUBSTATION ",null,null,null,null,{"$f":"SAR!$K$45","v":0},null,null,null,null,null,null,null,null,null,null,null,null,null,null,null,null,null,"DISTRIBUTION SUBSTATION ",null,null,null,null,{"$f":"SAR!$K$30","v":0},null,null,null,null,null,null,null,null,null,null,null,null,null,null,null,null,null,null,null,"PLANT REF",null,null,null,null,{"$f":"SAR!$K$33","v":0},null,null,null,null,null,null,null,null,null,{"$f":"SAR!$AB$36","v":""}]
[]
[]
[]
[null,"GRID & PRIMARY - TRANSFORMER TAP CHANGER INFORMATION (T11 / GT1)",null,null,null,null,null,null,null,null,null,null,null,null,null,null,null,null,null,null,null,null,null,null,null,null,null,null,null,null,null,null,null,null,null,null,null,null,null,null,null,null,null,null,null,null,null,null,null,null,null,null,null,null,null,null,null,null,null,null,null,null,null,null,{"$f":"IF(L21+L48=2,27,IF(L21+L48=1,14,0))","v":0}]
[]
[null,null,null,null,null,null,null,null,null,null,null,null,null,null,null,null,null,null,null,null,null,null,null,null,null,null,null,null,null,null,null,null,null,null,null,null,null,null,null,null,null,null,null,null,null,null,null,null,null,null,null,null,null,null,null,null,null,null,null,null,null,null,null,null,null,null,"DOC QUICK LINK"]
[]
[null,"COMMISSIONING DRIVER",null,null,null,null,null,null,null,null,null,{"$f":"IF(M17=\"\",0,1)","v":0},null,null,null,null,null,null,null,null,null,null,null,null,null,null,null,null,{"$f":"IFERROR(VLOOKUP(M17,CODES!$A$5:$B$36,2,FALSE),\"\")","v":""},null,null,null,null,"PROJECT CODE",null,null,null,null,null,null,null,null,null,null,{"$f":"SAR!J78","v":""},null,null,null,null,null,null,null,null,null,null,null,null,null,null,null,null,null,null,null,{"$f":"SUM(L17,L21:L38,AR21:AR38)+SUM(L44,L48:L65,AR48:AR65)+BM67","v":0}]
[]
[]
[]
[null,"TAP CHANGER UNIT I.D.",null,null,null,null,null,null,null,null,null,{"$f":"IF(M21=\"\",0,1)","v":0},null,null,null,null,null,null,null,null,null,null,null,null,null,null,null,null,null,null,null,null,null,"TAP CHANGER TYPE",null,null,null,null,null,null,null,null,null,{"$f":"IF(AS21=\"\",0,1)","v":0},null,null,null,null,null,null,null,null,null,null,null,null,null,null,null,null,{"$f":"IFERROR(VLOOKUP(AS21,CODES!$AQ$5:$AR$10,2,FALSE),\"\")","v":""}]
[]
[]
[null,"MANUFACTURER",null,null,null,null,null,null,null,null,null,{"$f":"IF(M24=\"\",0,1)","v":0},null,null,null,null,null,null,null,null,null,null,null,null,null,null,null,null,{"$f":"IFERROR(VLOOKUP(M24,CODES!M$16:N$134,2,FALSE),\"\")","v":""},null,null,null,null,"MECH IN AIR",null,null,null,null,null,null,null,null,null,{"$f":"IF(AS24=\"\",0,1)","v":0},null,null,null,null,null,null,null,null,null,null,null,null,null,null,null,null,{"$f":"IFERROR(VLOOKUP(AS24,CODES!$A$123:$B$124,2,FALSE),\"\")","v":""},null,null,null,null,null,"OTHER (PLEASE SPECIFY)"]
[]
[]
[null,"MAKERS TYPE",null,null,null,null,null,null,null,null,null,{"$f":"IF(M27=\"\",0,1)","v":0},null,null,null,null,null,null,null,null,null,null,null,null,null,null,null,null,null,null,null,null,null,"SEPERATE SELECTORS",null,null,null,null,null,null,null,null,null,{"$f":"IF(AS27=\"\",0,1)","v":0},null,null,null,null,null,null,null,null,null,null,null,null,null,null,null,null,{"$f":"IFERROR(VLOOKUP(AS27,CODES!$A$123:$B$124,2,FALSE),\"\")","v":""}]
[]
[]
[null,"SERIAL NUMBER",null,null,null,null,null,null,null,null,null,{"$f":"IF(M30=\"\",0,1)","v":0},null,null,null,null,null,null,null,null,null,null,null,null,null,null,null,null,null,null,null,null,null,"CONNECTED WINDING",null,null,null,null,null,null,null,null,null,{"$f":"IF(AS30=\"\",0,1)","v":0},null,null,null,null,null,null,null,null,null,null,null,null,null,null,null,null,{"$f":"IFERROR(VLOOKUP(AS30,CODES!$AQ$14:$AR$15,2,FALSE),\"\")","v":""}]
[]
[]
[null,"HIGH SPEED",null,null,null,null,null,null,null,null,null,{"$f":"IF(M33=\"\",0,1)","v":0},null,null,null,null,null,null,null,null,null,null,null,null,null,null,null,null,{"$f":"IFERROR(VLOOKUP(M33,CODES!$A$123:$B$124,2,FALSE),\"\")","v":""},null,null,null,null,"TAP POSITION",null,null,null,null,null,null,null,null,null,{"$f":"IF(AS33=\"\",0,1)","v":0},null,null,null,null,null,null,null,null,null,null,null,null,null,null,null,null,{"$f":"IFERROR(VLOOKUP(AS33,CODES!$AQ$19:$AR$21,2,FALSE),\"\")","v":""}]
[]
[]
[null,"AUTO CONTROL",null,null,null,null,null,null,null,null,null,{"$f":"IF(M36=\"\",0,1)","v":0},null,null,null,null,null,null,null,null,null,null,null,null,null,null,null,null,{"$f":"IFERROR(VLOOKUP(M36,CODES!$A$123:$B$124,2,FALSE),\"\")","v":""},null,null,null,null,"TAP IN USE",null,null,null,null,null,null,null,null,null,{"$f":"IF(AS36=\"\",0,1)","v":0},null,null,null,null,null,null,null,null,null,null,null,null,null,null,null,null,{"$f":"IFERROR(VLOOKUP(AS36,CODES!$A$123:$B$124,2,FALSE),\"\")","v":""}]
[]
[]
[]
[null,"GRID & PRIMARY - TRANSFORMER TAP CHANGER INFORMATION (T11 / GT1)"]
[]
[]
[]
[null,"COMMISSIONING DRIVER",null,null,null,null,null,null,null,null,null,{"$f":"IF(M44=\"\",0,1)","v":0},null,null,null,null,null,null,null,null,null,null,null,null,null,null,null,null,{"$f":"IFERROR(VLOOKUP(M44,CODES!$A$5:$B$36,2,FALSE),\"\")","v":""},null,null,null,null,"PROJECT CODE",null,null,null,null,null,null,null,null,null,null,{"$f":"SAR!J78","v":""}]
[]
[]
[]
[null,"TAP CHANGER UNIT I.D.",null,null,null,null,null,null,null,null,null,{"$f":"IF(M48=\"\",0,1)","v":0},null,null,null,null,null,null,null,null,null,null,null,null,null,null,null,null,null,null,null,null,null,"TAP CHANGER TYPE",null,null,null,null,null,null,null,null,null,{"$f":"IF(AS48=\"\",0,1)","v":0},null,null,null,null,null,null,null,null,null,null,null,null,null,null,null,null,{"$f":"IFERROR(VLOOKUP(AS48,CODES!$AQ$5:$AR$10,2,FALSE),\"\")","v":""}]
[]
[]
[null,"MANUFACTURER",null,null,null,null,null,null,null,null,null,{"$f":"IF(M51=\"\",0,1)","v":0},null,null,null,null,null,null,null,null,null,null,null,null,null,null,null,null,{"$f":"IFERROR(VLOOKUP(M51,CODES!M$16:N$134,2,FALSE),\"\")","v":""},null,null,null,null,"MECH IN AIR",null,null,null,null,null,null,null,null,null,{"$f":"IF(AS51=\"\",0,1)","v":0},null,null,null,null,null,null,null,null,null,null,null,null,null,null,null,null,{"$f":"IFERROR(VLOOKUP(AS51,CODES!$A$123:$B$124,2,FALSE),\"\")","v":""}]
[]
[]
[null,"MAKERS TYPE",null,null,null,null,null,null,null,null,null,{"$f":"IF(M54=\"\",0,1)","v":0},null,null,null,null,null,null,null,null,null,null,null,null,null,null,null,null,null,null,null,null,null,"SEPERATE SELECTORS",null,null,null,null,null,null,null,null,null,{"$f":"IF(AS54=\"\",0,1)","v":0},null,null,null,null,null,null,null,null,null,null,null,null,null,null,null,null,{"$f":"IFERROR(VLOOKUP(AS54,CODES!$A$123:$B$124,2,FALSE),\"\")","v":""}]
[]
[]
[null,"SERIAL NUMBER",null,null,null,null,null,null,null,null,null,{"$f":"IF(M57=\"\",0,1)","v":0},null,null,null,null,null,null,null,null,null,null,null,null,null,null,null,null,null,null,null,null,null,"CONNECTED WINDING",null,null,null,null,null,null,null,null,null,{"$f":"IF(AS57=\"\",0,1)","v":0},null,null,null,null,null,null,null,null,null,null,null,null,null,null,null,null,{"$f":"IFERROR(VLOOKUP(AS57,CODES!$AQ$14:$AR$15,2,FALSE),\"\")","v":""}]
[]
[]
[null,"HIGH SPEED",null,null,null,null,null,null,null,null,null,{"$f":"IF(M60=\"\",0,1)","v":0},null,null,null,null,null,null,null,null,null,null,null,null,null,null,null,null,{"$f":"IFERROR(VLOOKUP(M60,CODES!$A$123:$B$124,2,FALSE),\"\")","v":""},null,null,null,null,"TAP POSITION",null,null,null,null,null,null,null,null,null,{"$f":"IF(AS60=\"\",0,1)","v":0},null,null,null,null,null,null,null,null,null,null,null,null,null,null,null,null,{"$f":"IFERROR(VLOOKUP(AS60,CODES!$AQ$19:$AR$21,2,FALSE),\"\")","v":""}]
[]
[]
[null,"AUTO CONTROL",null,null,null,null,null,null,null,null,null,{"$f":"IF(M63=\"\",0,1)","v":0},null,null,null,null,null,null,null,null,null,null,null,null,null,null,null,null,{"$f":"IFERROR(VLOOKUP(M63,CODES!$A$123:$B$124,2,FALSE),\"\")","v":""},null,null,null,null,"TAP IN USE",null,null,null,null,null,null,null,null,null,{"$f":"IF(AS63=\"\",0,1)","v":0},null,null,null,null,null,null,null,null,null,null,null,null,null,null,null,null,{"$f":"IFERROR(VLOOKUP(AS63,CODES!$A$123:$B$124,2,FALSE),\"\")","v":""}]
[]
[]
[]
[null,"ADDITIONAL INFORMATION",null,null,null,null,null,null,null,null,null,null,null,null,null,null,null,null,null,null,null,null,null,null,null,null,null,null,null,null,null,null,null,null,null,null,null,null,null,null,null,null,null,null,null,null,null,null,null,null,null,null,null,null,null,null,null,null,null,null,null,null,null,null,{"$f":"IF(B70=\"\",0,1)","v":0}]

{"sheet":"DOC 13","index":28,"n_rows":75,"n_cols":105,"rows_kept":75,"cut":false,"hidden":false,"merged":[[0,76,2,77],[0,78,2,79],[14,66,16,78],[23,66,25,78],[16,33,18,42],[3,76,5,79],[77,1,96,63],[58,43,60,43],[49,1,51,10],[49,11,51,11],[74,64,76,64],[4,28,6,38],[4,39,6,42],[4,43,6,47],[35,1,37,10],[23,12,25,27],[23,1,25,10],[23,11,25,11],[8,29,10,47],[29,1,31,10],[29,11,31,11],[26,1,28,10],[29,12,31,30],[29,33,31,42],[0,104,1,104],[2,104,4,104],[5,104,7,104],[0,99,2,99],[0,86,2,86],[0,87,2,87],[0,88,2,88],[0,89,2,89],[0,90,2,90],[0,91,2,91],[0,92,2,92],[0,93,2,93],[0,94,2,94],[0,97,2,97],[0,98,2,98],[0,96,2,96],[0,95,2,95],[97,0,97,62],[67,33,69,42],[44,1,44,63],[61,1,63,10],[61,33,63,42],[64,1,66,10],[64,33,66,42],[58,1,60,10],[58,33,60,42],[55,11,57,11],[55,12,57,30],[55,33,57,42],[55,43,57,43],[55,44,57,62],[67,1,69,10],[67,11,69,11],[67,43,69,43],[55,1,57,10],[52,11,54,11],[52,12,54,27],[64,44,66,62],[58,11,60,11],[74,1,76,63],[64,11,66,11],[27,66,29,70],[27,71,29,78],[30,66,32,70],[30,71,32,78],[33,66,35,70],[33,71,35,78],[26,44,28,62],[35,44,37,62],[35,33,37,42],[29,43,31,43],[29,44,31,62],[32,44,34,59],[32,60,34,62],[8,64,10,64],[16,44,18,63],[16,64,18,64],[8,49,10,53],[8,54,10,63],[20,44,22,62],[19,1,19,63],[32,1,34,10],[32,12,34,27],[32,28,34,30],[26,33,28,42],[26,43,28,43],[23,43,25,43],[23,44,25,62],[20,1,22,10],[20,11,22,11],[20,12,22,30],[20,33,22,42],[20,43,22,43],[23,28,25,30],[23,33,25,42],[12,64,14,64],[16,12,18,27],[16,28,18,30],[4,24,6,27],[1,1,6,11],[1,12,6,22],[1,24,3,27],[1,28,3,38],[1,49,6,51],[1,43,3,47],[15,1,15,63],[1,39,3,42],[12,1,14,63],[1,52,6,63],[7,1,7,63],[8,1,10,5],[8,6,10,22],[8,24,10,28],[52,28,54,30],[49,33,51,42],[41,33,43,42],[41,43,43,43],[45,1,47,63],[48,1,48,63],[38,11,40,11],[38,33,40,42],[32,11,34,11],[32,33,34,42],[52,44,54,62],[52,33,54,42],[52,43,54,43],[38,28,40,30],[38,1,40,10],[58,12,60,30],[61,44,63,59],[61,60,63,62],[58,44,60,62],[61,11,63,11],[16,1,18,10],[16,11,18,11],[26,11,28,11],[32,43,34,43],[26,12,28,30],[35,43,37,43],[38,44,40,59],[35,11,37,11],[35,12,37,27],[35,28,37,30],[52,1,54,10],[49,12,51,30],[49,43,51,43],[49,44,51,62],[38,43,40,43],[38,60,40,62],[41,44,43,59],[41,60,43,62],[38,12,40,27],[67,44,69,59],[67,60,69,62],[70,44,72,59],[70,60,72,62],[61,12,63,27],[61,28,63,30],[64,12,66,27],[64,28,66,30],[67,12,69,27],[67,28,69,30],[70,33,72,42],[70,43,72,43],[61,43,63,43],[64,43,66,43]]}
[null,null,null,null,null,null,null,null,null,null,null,null,null,null,null,null,null,null,null,null,null,null,null,null,null,null,null,null,null,null,null,null,null,null,null,null,null,null,null,null,null,null,null,null,null,null,null,null,null,null,null,null,null,null,null,null,null,null,null,null,null,null,null,null,null,null,null,null,null,null,null,null,null,null,null,null,{"$f":"BM17","v":0},null,{"$f":"BM13","v":0},null,null,null,null,null,null,null,"EQUIPMENT CLASS","EQUIPNOD1","EQUIPNOD2","PLANTCODE0","PLANTCODE1","PLANTCODE2","PLANTCODE3","EQUIPGRPID","EQUIPSTATUS","PARENTEQUIPREF","ACCOUNTCODE","EQUIPCLASSIF2","EQUIPCLASSIF3","EQUIPCLASSIF17",null,null,null,null,"PRINT?"]
[null,null,null,null,null,null,null,null,null,null,null,null,"DOC 13",null,null,null,null,null,null,null,null,null,null,null,"ENGINEER",null,null,null,{"$f":"SAR!$K$13","v":""},null,null,null,null,null,null,null,null,null,null,"VOLTAGE",null,null,null,{"$f":"SAR!$K$36","v":0},null,null,null,null,null,"SATS",null,null,{"$f":"SAR!$BA$2","v":0}]
[null,null,null,null,null,null,null,null,null,null,null,null,null,null,null,null,null,null,null,null,null,null,null,null,null,null,null,null,null,null,null,null,null,null,null,null,null,null,null,null,null,null,null,null,null,null,null,null,null,null,null,null,null,null,null,null,null,null,null,null,null,null,null,null,null,null,null,null,null,null,null,null,null,null,null,null,null,null,null,null,null,null,null,null,null,null,null,null,null,null,null,null,null,null,null,null,null,null,null,null,null,null,null,null,{"$f":"IF(BY1=0,\"\",\"Y\")","v":""}]
[null,null,null,null,null,null,null,null,null,null,null,null,null,null,null,null,null,null,null,null,null,null,null,null,null,null,null,null,null,null,null,null,null,null,null,null,null,null,null,null,null,null,null,null,null,null,null,null,null,null,null,null,null,null,null,null,null,null,null,null,null,null,null,null,null,null,null,null,null,null,null,null,null,null,null,null,{"$f":"BY1/CA1","v":{"$error":"#DIV/0!"}},null,null,null,null,null,null,null,1,"TX EARTHING (NER) DETAILS","TO",{"$f":"#REF!","v":{"$error":"#REF!"}},"TX EARTHING (NER)",{"$f":"#REF!","v":{"$error":"#REF!"}},{"$f":"#REF!","v":{"$error":"#REF!"}},"TO",{"$f":"TEXT(CH68,\"000\")","v":"000"},{"$f":"VLOOKUP(CM4,$CG$76:$CH$77,2,FALSE)","v":{"$error":"#REF!"}},"AC",{"$f":"'DOC 2A'!#REF!","v":{"$error":"#REF!"}},"E9999",{"$f":"DR107","v":0},{"$f":"DT107","v":0},"03"]
[null,null,null,null,null,null,null,null,null,null,null,null,null,null,null,null,null,null,null,null,null,null,null,null,"AREA",null,null,null,{"$f":"SAR!$K$39","v":0},null,null,null,null,null,null,null,null,null,null,"PROJECT DATE",null,null,null,{"$f":"SAR!$K$42","v":"00:00:00"},null,null,null,null,null,null,null,null,null,null,null,null,null,null,null,null,null,null,null,null,null,null,null,null,null,null,null,null,null,null,null,null,null,null,null,null,null,null,null,null,2,"TX EARTHING (NER) DETAILS","TO",{"$f":"#REF!","v":{"$error":"#REF!"}},"TX EARTHING (NER)",{"$f":"#REF!","v":{"$error":"#REF!"}},{"$f":"N83","v":0},"TO",{"$f":"TEXT(CH69,\"000\")","v":"000"},{"$f":"VLOOKUP(CM5,$CG$76:$CH$77,2,FALSE)","v":{"$error":"#N/A"}},"AC",{"$f":"'DOC 2A'!#REF!","v":{"$error":"#REF!"}},"E9999",{"$f":"DR110","v":0},{"$f":"DT110","v":0},"03"]
[]
[]
[]
[null,"PRIMARY SUBSTATION ",null,null,null,null,{"$f":"SAR!$K$45","v":"00:00:00"},null,null,null,null,null,null,null,null,null,null,null,null,null,null,null,null,null,"DISTRIBUTION SUBSTATION ",null,null,null,null,{"$f":"SAR!$K$30","v":0},null,null,null,null,null,null,null,null,null,null,null,null,null,null,null,null,null,null,null,"PLANT REF",null,null,null,null,{"$f":"SAR!$K$33","v":0},null,null,null,null,null,null,null,null,null,{"$f":"SAR!$AB$36","v":""}]
[]
[]
[]
[null,"GRID & PRIMARY - TRANSFORMER NEUTRAL EARTHING RESISTER (N.E.R.) INFORMATION (T11 / GT1)",null,null,null,null,null,null,null,null,null,null,null,null,null,null,null,null,null,null,null,null,null,null,null,null,null,null,null,null,null,null,null,null,null,null,null,null,null,null,null,null,null,null,null,null,null,null,null,null,null,null,null,null,null,null,null,null,null,null,null,null,null,null,{"$f":"IF(L21>0,32,0)","v":0}]
[]
[null,null,null,null,null,null,null,null,null,null,null,null,null,null,null,null,null,null,null,null,null,null,null,null,null,null,null,null,null,null,null,null,null,null,null,null,null,null,null,null,null,null,null,null,null,null,null,null,null,null,null,null,null,null,null,null,null,null,null,null,null,null,null,null,null,null,"DOC QUICK LINK"]
[]
[null,"COMMISSIONING DRIVER",null,null,null,null,null,null,null,null,null,{"$f":"IF(M17=\"\",0,1)","v":0},null,null,null,null,null,null,null,null,null,null,null,null,null,null,null,null,{"$f":"IFERROR(VLOOKUP(M17,CODES!$A$5:$B$36,2,FALSE),\"\")","v":""},null,null,null,null,"PROJECT CODE",null,null,null,null,null,null,null,null,null,null,{"$f":"SAR!J78","v":""},null,null,null,null,null,null,null,null,null,null,null,null,null,null,null,null,null,null,null,{"$f":"L17+SUM(L21:L41,AR21:AR44,AR50:AR73,L50:L70)+BM75","v":0}]
[]
[]
[]
[null,"N.E.R. UNIT I.D.",null,null,null,null,null,null,null,null,null,{"$f":"IF(M21=\"\",0,1)","v":0},null,null,null,null,null,null,null,null,null,null,null,null,null,null,null,null,null,null,null,null,null,"RATING (AMPS)"]
[]
[]
[null,"MANUFACTURER",null,null,null,null,null,null,null,null,null,null,null,null,null,null,null,null,null,null,null,null,null,null,null,null,null,null,{"$f":"IFERROR(VLOOKUP(M24,CODES!M$16:N$134,2,FALSE),\"\")","v":""},null,null,null,null,"RATING TIME (SECONDS)",null,null,null,null,null,null,null,null,null,null,null,null,null,null,null,null,null,null,null,null,null,null,null,null,null,null,null,null,null,null,null,null,"OTHER (PLEASE SPECIFY)"]
[]
[]
[null,"MAKERS TYPE",null,null,null,null,null,null,null,null,null,null,null,null,null,null,null,null,null,null,null,null,null,null,null,null,null,null,null,null,null,null,null,"OHMIC VALUE (OHMS)"]
[]
[]
[null,"SERIAL NUMBER",null,null,null,null,null,null,null,null,null,{"$f":"IF(M30=\"\",0,1)","v":0},null,null,null,null,null,null,null,null,null,null,null,null,null,null,null,null,null,null,null,null,null,"VOLTAGE RATING (KV)",null,null,null,null,null,null,null,null,null,{"$f":"IF(AS30=\"\",0,1)","v":0}]
[]
[]
[null,"N.E.R. TYPE",null,null,null,null,null,null,null,null,null,{"$f":"IF(M33=\"\",0,1)","v":0},null,null,null,null,null,null,null,null,null,null,null,null,null,null,null,null,{"$f":"IFERROR(VLOOKUP(M33,CODES!$AW$11:$AX$15,2,FALSE),\"\")","v":""},null,null,null,null,"THERMOSTAT",null,null,null,null,null,null,null,null,null,{"$f":"IF(AS33=\"\",0,1)","v":0},null,null,null,null,null,null,null,null,null,null,null,null,null,null,null,null,{"$f":"IFERROR(VLOOKUP(AS33,CODES!$AW$5:$AX$7,2,FALSE),\"\")","v":""}]
[]
[]
[null,"SITUATION",null,null,null,null,null,null,null,null,null,{"$f":"IF(M36=\"\",0,1)","v":0},null,null,null,null,null,null,null,null,null,null,null,null,null,null,null,null,{"$f":"IFERROR(VLOOKUP(M36,CODES!$A$51:$B$53,2,FALSE),\"\")","v":""},null,null,null,null,"HEATER RATING (KV)",null,null,null,null,null,null,null,null,null,{"$f":"IF(AS36=\"\",0,1)","v":0}]
[]
[]
[null,"MOUNTING",null,null,null,null,null,null,null,null,null,{"$f":"IF(M39=\"\",0,1)","v":0},null,null,null,null,null,null,null,null,null,null,null,null,null,null,null,null,{"$f":"IFERROR(VLOOKUP(M39,CODES!$A$40:$B$47,2,FALSE),\"\")","v":""},null,null,null,null,"HV TERMINAL CONNECTION",null,null,null,null,null,null,null,null,null,{"$f":"IF(AS39=\"\",0,1)","v":0},null,null,null,null,null,null,null,null,null,null,null,null,null,null,null,null,{"$f":"IFERROR(VLOOKUP(AS39,CODES!$M$246:$N$261,2,FALSE),\"\")","v":""}]
[]
[]
[null,null,null,null,null,null,null,null,null,null,null,null,null,null,null,null,null,null,null,null,null,null,null,null,null,null,null,null,null,null,null,null,null,"EARTH CONNECTION",null,null,null,null,null,null,null,null,null,{"$f":"IF(AS42=\"\",0,1)","v":0},null,null,null,null,null,null,null,null,null,null,null,null,null,null,null,null,{"$f":"IFERROR(VLOOKUP(AS42,CODES!$M$246:$N$261,2,FALSE),\"\")","v":""}]
[]
[]
[]
[null,"GRID & PRIMARY - TRANSFORMER NEUTRAL EARTHING RESISTER (N.E.R.) INFORMATION (T12 / GT2)"]
[]
[]
[]
[null,"N.E.R. UNIT I.D.",null,null,null,null,null,null,null,null,null,{"$f":"IF(M50=\"\",0,1)","v":0},null,null,null,null,null,null,null,null,null,null,null,null,null,null,null,null,null,null,null,null,null,"RATING (AMPS)",null,null,null,null,null,null,null,null,null,{"$f":"IF(AS50=\"\",0,1)","v":0}]
[]
[]
[null,"MANUFACTURER",null,null,null,null,null,null,null,null,null,{"$f":"IF(M53=\"\",0,1)","v":0},null,null,null,null,null,null,null,null,null,null,null,null,null,null,null,null,null,null,null,null,null,"RATING TIME (SECONDS)",null,null,null,null,null,null,null,null,null,{"$f":"IF(AS53=\"\",0,1)","v":0}]
[]
[]
[null,"MAKERS TYPE",null,null,null,null,null,null,null,null,null,{"$f":"IF(M56=\"\",0,1)","v":0},null,null,null,null,null,null,null,null,null,null,null,null,null,null,null,null,null,null,null,null,null,"OHMIC VALUE (OHMS)",null,null,null,null,null,null,null,null,null,{"$f":"IF(AS56=\"\",0,1)","v":0}]
[]
[]
[null,"SERIAL NUMBER",null,null,null,null,null,null,null,null,null,{"$f":"IF(M59=\"\",0,1)","v":0},null,null,null,null,null,null,null,null,null,null,null,null,null,null,null,null,null,null,null,null,null,"VOLTAGE RATING (KV)",null,null,null,null,null,null,null,null,null,{"$f":"IF(AS59=\"\",0,1)","v":0}]
[]
[]
[null,"N.E.R. TYPE",null,null,null,null,null,null,null,null,null,{"$f":"IF(M62=\"\",0,1)","v":0},null,null,null,null,null,null,null,null,null,null,null,null,null,null,null,null,null,null,null,null,null,"THERMOSTAT",null,null,null,null,null,null,null,null,null,{"$f":"IF(AS62=\"\",0,1)","v":0}]
[]
[]
[null,"SITUATION",null,null,null,null,null,null,null,null,null,{"$f":"IF(M65=\"\",0,1)","v":0},null,null,null,null,null,null,null,null,null,null,null,null,null,null,null,null,null,null,null,null,null,"HEATER RATING (KV)",null,null,null,null,null,null,null,null,null,{"$f":"IF(AS65=\"\",0,1)","v":0}]
[]
[]
[null,"MOUNTING",null,null,null,null,null,null,null,null,null,{"$f":"IF(M68=\"\",0,1)","v":0},null,null,null,null,null,null,null,null,null,null,null,null,null,null,null,null,null,null,null,null,null,"HV TERMINAL CONNECTION",null,null,null,null,null,null,null,null,null,{"$f":"IF(AS68=\"\",0,1)","v":0}]
[]
[]
[null,null,null,null,null,null,null,null,null,null,null,null,null,null,null,null,null,null,null,null,null,null,null,null,null,null,null,null,null,null,null,null,null,"EARTH CONNECTION",null,null,null,null,null,null,null,null,null,{"$f":"IF(AS71=\"\",0,1)","v":0}]
[]
[]
[]
[null,"ADDITIONAL INFORMATION",null,null,null,null,null,null,null,null,null,null,null,null,null,null,null,null,null,null,null,null,null,null,null,null,null,null,null,null,null,null,null,null,null,null,null,null,null,null,null,null,null,null,null,null,null,null,null,null,null,null,null,null,null,null,null,null,null,null,null,null,null,null,{"$f":"IF(B78=\"\",0,1)","v":0}]

{"sheet":"DOC 14","index":29,"n_rows":90,"n_cols":105,"rows_kept":90,"cut":false,"hidden":false,"merged":[[92,0,92,64],[0,104,1,104],[2,104,4,104],[5,104,7,104],[19,1,19,63],[0,76,2,77],[0,78,2,79],[1,1,6,11],[1,12,6,22],[1,24,3,27],[1,28,3,38],[1,39,3,42],[1,43,3,47],[1,49,6,51],[1,52,6,63],[3,76,5,79],[4,24,6,27],[4,28,6,38],[4,39,6,42],[4,43,6,47],[15,1,15,63],[16,11,18,11],[16,31,18,31],[16,33,18,42],[7,1,7,63],[8,1,10,5],[8,6,10,22],[8,24,10,28],[8,29,10,47],[8,49,10,53],[8,54,10,63],[8,64,10,64],[16,1,18,10],[12,64,14,64],[12,1,14,63],[16,12,18,27],[16,28,18,30],[20,1,25,2],[20,3,25,20],[20,21,22,30],[20,31,22,40],[23,21,25,30],[23,31,25,32],[23,33,25,34],[23,35,25,36],[23,37,25,38],[23,39,25,40],[26,3,28,20],[26,21,28,30],[26,31,28,32],[26,33,28,34],[26,35,28,36],[26,37,28,38],[26,39,28,40],[26,41,28,41],[29,1,31,2],[29,3,31,20],[29,21,31,30],[29,31,31,32],[29,33,31,34],[29,35,31,36],[29,37,31,38],[29,39,31,40],[29,41,31,41],[26,1,28,2],[32,3,34,20],[32,21,34,30],[32,31,34,32],[32,33,34,34],[32,35,34,36],[32,37,34,38],[32,39,34,40],[32,41,34,41],[35,1,37,2],[35,3,37,20],[35,21,37,30],[35,31,37,32],[35,33,37,34],[35,35,37,36],[35,37,37,38],[35,39,37,40],[35,41,37,41],[32,1,34,2],[38,3,40,20],[38,21,40,30],[38,31,40,32],[38,33,40,34],[38,35,40,36],[38,37,40,38],[38,39,40,40],[38,41,40,41],[41,1,43,2],[41,3,43,20],[41,21,43,30],[41,31,43,32],[41,33,43,34],[41,35,43,36],[41,37,43,38],[41,39,43,40],[41,41,43,41],[38,1,40,2],[44,3,46,20],[44,21,46,30],[44,31,46,32],[44,33,46,34],[44,35,46,36],[44,37,46,38],[44,39,46,40],[44,41,46,41],[47,1,49,2],[47,3,49,20],[47,21,49,30],[47,31,49,32],[47,33,49,34],[47,35,49,36],[47,37,49,38],[47,39,49,40],[47,41,49,41],[44,1,46,2],[50,3,52,20],[50,21,52,30],[50,31,52,32],[50,33,52,34],[50,35,52,36],[50,37,52,38],[50,39,52,40],[50,41,52,41],[53,1,55,2],[53,3,55,20],[53,21,55,30],[53,31,55,32],[53,33,55,34],[53,35,55,36],[53,37,55,38],[53,39,55,40],[53,41,55,41],[50,1,52,2],[56,3,58,20],[56,21,58,30],[56,31,58,32],[56,33,58,34],[56,35,58,36],[56,37,58,38],[56,39,58,40],[56,41,58,41],[59,1,61,2],[59,3,61,20],[59,21,61,30],[59,31,61,32],[59,33,61,34],[59,35,61,36],[59,37,61,38],[59,39,61,40],[59,41,61,41],[56,1,58,2],[62,3,64,20],[62,21,64,30],[62,31,64,32],[62,33,64,34],[62,35,64,36],[62,37,64,38],[62,39,64,40],[62,41,64,41],[65,1,67,2],[65,3,67,20],[65,21,67,30],[65,31,67,32],[65,33,67,34],[65,35,67,36],[65,37,67,38],[65,39,67,40],[65,41,67,41],[62,1,64,2],[68,3,70,20],[68,21,70,30],[68,31,70,32],[68,33,70,34],[68,35,70,36],[68,37,70,38],[68,39,70,40],[68,41,70,41],[71,1,73,2],[71,3,73,20],[71,21,73,30],[71,31,73,32],[71,33,73,34],[71,35,73,36],[71,37,73,38],[71,39,73,40],[71,41,73,41],[68,1,70,2],[74,3,76,20],[74,21,76,30],[74,31,76,32],[74,33,76,34],[74,35,76,36],[74,37,76,38],[74,39,76,40],[74,41,76,41],[77,1,79,2],[77,3,79,20],[77,21,79,30],[77,31,79,32],[77,33,79,34],[77,35,79,36],[77,37,79,38],[77,39,79,40],[77,41,79,41],[74,1,76,2],[80,3,82,20],[80,21,82,30],[80,31,82,32],[80,33,82,34],[80,35,82,36],[80,37,82,38],[80,39,82,40],[80,41,82,41],[83,1,85,2],[83,3,85,20],[83,21,85,30],[83,31,85,32],[83,33,85,34],[83,35,85,36],[83,37,85,38],[83,39,85,40],[83,41,85,41],[80,1,82,2],[86,3,88,20],[86,21,88,30],[86,31,88,32],[86,33,88,34],[86,35,88,36],[86,37,88,38],[86,39,88,40],[86,41,88,41],[89,1,91,2],[89,3,91,20],[89,21,91,30],[89,31,91,32],[89,33,91,34],[89,35,91,36],[89,37,91,38],[89,39,91,40],[89,41,91,41],[86,1,88,2],[26,43,28,43],[29,43,31,43],[32,43,34,43],[35,43,37,43],[38,43,40,43],[41,43,43,43],[44,43,46,43],[47,43,49,43],[50,43,52,43],[53,43,55,43],[56,43,58,43],[59,43,61,43],[62,43,64,43],[65,43,67,43],[68,43,70,43],[71,43,73,43],[74,43,76,43],[77,43,79,43],[89,44,91,44],[80,43,82,43],[83,43,85,43],[86,43,88,43],[89,43,91,43],[26,44,28,44],[29,44,31,44],[32,44,34,44],[35,44,37,44],[38,44,40,44],[41,44,43,44],[44,44,46,44],[47,44,49,44],[50,44,52,44],[53,44,55,44],[56,44,58,44],[59,44,61,44],[62,44,64,44],[65,44,67,44],[68,44,70,44],[71,44,73,44],[74,44,76,44],[77,44,79,44],[80,44,82,44],[14,66,16,78],[23,66,25,78],[27,66,29,70],[27,71,29,78],[30,66,32,70],[30,71,32,78],[33,66,35,70],[33,71,35,78],[86,44,88,44],[83,44,85,44],[16,44,18,63],[16,64,18,64]]}
[null,null,null,null,null,null,null,null,null,null,null,null,null,null,null,null,null,null,null,null,null,null,null,null,null,null,null,null,null,null,null,null,null,null,null,null,null,null,null,null,null,null,null,null,null,null,null,null,null,null,null,null,null,null,null,null,null,null,null,null,null,null,null,null,null,null,null,null,null,null,null,null,null,null,null,null,{"$f":"BM17","v":0},null,{"$f":"BM13","v":0},null,null,null,null,null,null,null,null,null,null,null,null,null,null,null,null,null,null,null,null,null,null,null,null,null,"PRINT?"]
[null,null,null,null,null,null,null,null,null,null,null,null,"DOC14",null,null,null,null,null,null,null,null,null,null,null,"ENGINEER",null,null,null,{"$f":"SAR!$K$13","v":""},null,null,null,null,null,null,null,null,null,null,"VOLTAGE",null,null,null,{"$f":"SAR!$K$36","v":0},null,null,null,null,null,"SATS",null,null,{"$f":"SAR!$BA$2","v":0}]
[null,null,null,null,null,null,null,null,null,null,null,null,null,null,null,null,null,null,null,null,null,null,null,null,null,null,null,null,null,null,null,null,null,null,null,null,null,null,null,null,null,null,null,null,null,null,null,null,null,null,null,null,null,null,null,null,null,null,null,null,null,null,null,null,null,null,null,null,null,null,null,null,null,null,null,null,null,null,null,null,null,null,null,null,null,null,null,null,null,null,null,null,null,null,null,null,null,null,null,null,null,null,null,null,{"$f":"IF(BY1=0,\"\",\"Y\")","v":""}]
[null,null,null,null,null,null,null,null,null,null,null,null,null,null,null,null,null,null,null,null,null,null,null,null,null,null,null,null,null,null,null,null,null,null,null,null,null,null,null,null,null,null,null,null,null,null,null,null,null,null,null,null,null,null,null,null,null,null,null,null,null,null,null,null,null,null,null,null,null,null,null,null,null,null,null,null,{"$f":"BY1/CA1","v":{"$error":"#DIV/0!"}}]
[null,null,null,null,null,null,null,null,null,null,null,null,null,null,null,null,null,null,null,null,null,null,null,null,"AREA",null,null,null,{"$f":"SAR!$K$39","v":0},null,null,null,null,null,null,null,null,null,null,"PROJECT DATE",null,null,null,{"$f":"SAR!$K$42","v":"00:00:00"}]
[]
[]
[]
[null,"PRIMARY SUBSTATION ",null,null,null,null,{"$f":"SAR!$K$45","v":0},null,null,null,null,null,null,null,null,null,null,null,null,null,null,null,null,null,"DISTRIBUTION SUBSTATION ",null,null,null,null,{"$f":"SAR!$K$30","v":0},null,null,null,null,null,null,null,null,null,null,null,null,null,null,null,null,null,null,null,"PLANT REF",null,null,null,null,{"$f":"SAR!$K$33","v":0},null,null,null,null,null,null,null,null,null,{"$f":"SAR!$AB$36","v":""}]
[]
[]
[]
[null,"GRID & PRIMARY - PROTECTION SETTINGS INFORMATION",null,null,null,null,null,null,null,null,null,null,null,null,null,null,null,null,null,null,null,null,null,null,null,null,null,null,null,null,null,null,null,null,null,null,null,null,null,null,null,null,null,null,null,null,null,null,null,null,null,null,null,null,null,null,null,null,null,null,null,null,null,null,{"$f":"IF(BM17>0,SUM(1,AS27:AS92),0)","v":0}]
[]
[null,null,null,null,null,null,null,null,null,null,null,null,null,null,null,null,null,null,null,null,null,null,null,null,null,null,null,null,null,null,null,null,null,null,null,null,null,null,null,null,null,null,null,null,null,null,null,null,null,null,null,null,null,null,null,null,null,null,null,null,null,null,null,null,null,null,"DOC QUICK LINK"]
[]
[null,"COMMISSIONING DRIVER",null,null,null,null,null,null,null,null,null,{"$f":"IF(M17=\"\",0,1)","v":0},null,null,null,null,null,null,null,null,null,null,null,null,null,null,null,null,{"$f":"IFERROR(VLOOKUP(M17,CODES!$A$5:$B$36,2,FALSE),\"\")","v":""},null,null,null,null,"PROJECT CODE",null,null,null,null,null,null,null,null,null,null,{"$f":"SAR!J78","v":""},null,null,null,null,null,null,null,null,null,null,null,null,null,null,null,null,null,null,null,{"$f":"SUM(L17,AR27:AR92)","v":0}]
[]
[]
[]
[null,"NO.",null,"CIRCUIT",null,null,null,null,null,null,null,null,null,null,null,null,null,null,null,null,null,"PROTECTION TYPE",null,null,null,null,null,null,null,null,null,"PROTECTION SCHEMES"]
[]
[]
[null,null,null,null,null,null,null,null,null,null,null,null,null,null,null,null,null,null,null,null,null,"i",null,null,null,null,null,null,null,null,null,1,null,2,null,3,null,4,null,5,null,null,null,null,null,null,null,null,null,null,null,null,null,null,null,null,null,null,null,null,null,null,null,null,null,null,"OTHER (PLEASE SPECIFY)"]
[]
[]
[null,1,null,null,null,null,null,null,null,null,null,null,null,null,null,null,null,null,null,null,null,null,null,null,null,null,null,null,null,null,null,null,null,null,null,null,null,null,null,null,null,"i",null,{"$f":"COUNTA(D27:AO29)","v":0},{"$f":"IF(D27<>\"\",7,0)","v":0}]
[]
[]
[null,2,null,null,null,null,null,null,null,null,null,null,null,null,null,null,null,null,null,null,null,null,null,null,null,null,null,null,null,null,null,null,null,null,null,null,null,null,null,null,null,"i",null,{"$f":"COUNTA(D30:AO32)","v":0},{"$f":"IF(D30<>\"\",7,0)","v":0}]
[]
[]
[null,3,null,null,null,null,null,null,null,null,null,null,null,null,null,null,null,null,null,null,null,null,null,null,null,null,null,null,null,null,null,null,null,null,null,null,null,null,null,null,null,"i",null,{"$f":"COUNTA(D33:AO35)","v":0},{"$f":"IF(D33<>\"\",7,0)","v":0}]
[]
[]
[null,4,null,null,null,null,null,null,null,null,null,null,null,null,null,null,null,null,null,null,null,null,null,null,null,null,null,null,null,null,null,null,null,null,null,null,null,null,null,null,null,"i",null,{"$f":"COUNTA(D36:AO38)","v":0},{"$f":"IF(D36<>\"\",7,0)","v":0}]
[]
[]
[null,5,null,null,null,null,null,null,null,null,null,null,null,null,null,null,null,null,null,null,null,null,null,null,null,null,null,null,null,null,null,null,null,null,null,null,null,null,null,null,null,"i",null,{"$f":"COUNTA(D39:AO41)","v":0},{"$f":"IF(D39<>\"\",7,0)","v":0}]
[]
[]
[null,6,null,null,null,null,null,null,null,null,null,null,null,null,null,null,null,null,null,null,null,null,null,null,null,null,null,null,null,null,null,null,null,null,null,null,null,null,null,null,null,"i",null,{"$f":"COUNTA(D42:AO44)","v":0},{"$f":"IF(D42<>\"\",7,0)","v":0}]
[]
[]
[null,7,null,null,null,null,null,null,null,null,null,null,null,null,null,null,null,null,null,null,null,null,null,null,null,null,null,null,null,null,null,null,null,null,null,null,null,null,null,null,null,"i",null,{"$f":"COUNTA(D45:AO47)","v":0},{"$f":"IF(D45<>\"\",7,0)","v":0}]
[]
[]
[null,8,null,null,null,null,null,null,null,null,null,null,null,null,null,null,null,null,null,null,null,null,null,null,null,null,null,null,null,null,null,null,null,null,null,null,null,null,null,null,null,"i",null,{"$f":"COUNTA(D48:AO50)","v":0},{"$f":"IF(D48<>\"\",7,0)","v":0}]
[]
[]
[null,9,null,null,null,null,null,null,null,null,null,null,null,null,null,null,null,null,null,null,null,null,null,null,null,null,null,null,null,null,null,null,null,null,null,null,null,null,null,null,null,"i",null,{"$f":"COUNTA(D51:AO53)","v":0},{"$f":"IF(D51<>\"\",7,0)","v":0}]
[]
[]
[null,10,null,null,null,null,null,null,null,null,null,null,null,null,null,null,null,null,null,null,null,null,null,null,null,null,null,null,null,null,null,null,null,null,null,null,null,null,null,null,null,"i",null,{"$f":"COUNTA(D54:AO56)","v":0},{"$f":"IF(D54<>\"\",7,0)","v":0}]
[]
[]
[null,11,null,null,null,null,null,null,null,null,null,null,null,null,null,null,null,null,null,null,null,null,null,null,null,null,null,null,null,null,null,null,null,null,null,null,null,null,null,null,null,"i",null,{"$f":"COUNTA(D57:AO59)","v":0},{"$f":"IF(D57<>\"\",7,0)","v":0}]
[]
[]
[null,12,null,null,null,null,null,null,null,null,null,null,null,null,null,null,null,null,null,null,null,null,null,null,null,null,null,null,null,null,null,null,null,null,null,null,null,null,null,null,null,"i",null,{"$f":"COUNTA(D60:AO62)","v":0},{"$f":"IF(D60<>\"\",7,0)","v":0}]
[]
[]
[null,13,null,null,null,null,null,null,null,null,null,null,null,null,null,null,null,null,null,null,null,null,null,null,null,null,null,null,null,null,null,null,null,null,null,null,null,null,null,null,null,"i",null,{"$f":"COUNTA(D63:AO65)","v":0},{"$f":"IF(D63<>\"\",7,0)","v":0}]
[]
[]
[null,14,null,null,null,null,null,null,null,null,null,null,null,null,null,null,null,null,null,null,null,null,null,null,null,null,null,null,null,null,null,null,null,null,null,null,null,null,null,null,null,"i",null,{"$f":"COUNTA(D66:AO68)","v":0},{"$f":"IF(D66<>\"\",7,0)","v":0}]
[]
[]
[null,15,null,null,null,null,null,null,null,null,null,null,null,null,null,null,null,null,null,null,null,null,null,null,null,null,null,null,null,null,null,null,null,null,null,null,null,null,null,null,null,"i",null,{"$f":"COUNTA(D69:AO71)","v":0},{"$f":"IF(D69<>\"\",7,0)","v":0}]
[]
[]
[null,16,null,null,null,null,null,null,null,null,null,null,null,null,null,null,null,null,null,null,null,null,null,null,null,null,null,null,null,null,null,null,null,null,null,null,null,null,null,null,null,"i",null,{"$f":"COUNTA(D72:AO74)","v":0},{"$f":"IF(D72<>\"\",7,0)","v":0}]
[]
[]
[null,17,null,null,null,null,null,null,null,null,null,null,null,null,null,null,null,null,null,null,null,null,null,null,null,null,null,null,null,null,null,null,null,null,null,null,null,null,null,null,null,"i",null,{"$f":"COUNTA(D75:AO77)","v":0},{"$f":"IF(D75<>\"\",7,0)","v":0}]
[]
[]
[null,18,null,null,null,null,null,null,null,null,null,null,null,null,null,null,null,null,null,null,null,null,null,null,null,null,null,null,null,null,null,null,null,null,null,null,null,null,null,null,null,"i",null,{"$f":"COUNTA(D78:AO80)","v":0},{"$f":"IF(D78<>\"\",7,0)","v":0}]
[]
[]
[null,19,null,null,null,null,null,null,null,null,null,null,null,null,null,null,null,null,null,null,null,null,null,null,null,null,null,null,null,null,null,null,null,null,null,null,null,null,null,null,null,"i",null,{"$f":"COUNTA(D81:AO83)","v":0},{"$f":"IF(D81<>\"\",7,0)","v":0}]
[]
[]
[null,20,null,null,null,null,null,null,null,null,null,null,null,null,null,null,null,null,null,null,null,null,null,null,null,null,null,null,null,null,null,null,null,null,null,null,null,null,null,null,null,"i",null,{"$f":"COUNTA(D84:AO86)","v":0},{"$f":"IF(D84<>\"\",7,0)","v":0}]
[]
[]
[null,21,null,null,null,null,null,null,null,null,null,null,null,null,null,null,null,null,null,null,null,null,null,null,null,null,null,null,null,null,null,null,null,null,null,null,null,null,null,null,null,"i",null,{"$f":"COUNTA(D87:AO89)","v":0},{"$f":"IF(D87<>\"\",7,0)","v":0}]
[]
[]
[null,22,null,null,null,null,null,null,null,null,null,null,null,null,null,null,null,null,null,null,null,null,null,null,null,null,null,null,null,null,null,null,null,null,null,null,null,null,null,null,null,"i",null,{"$f":"COUNTA(D90:AO92)","v":0},{"$f":"IF(D90<>\"\",7,0)","v":0}]

{"sheet":"DOC 15","index":30,"n_rows":216,"n_cols":105,"rows_kept":216,"cut":false,"hidden":false,"merged":[[215,64,217,64],[218,1,236,63],[12,12,14,27],[12,28,14,30],[237,0,237,64],[0,104,1,104],[2,104,4,104],[5,104,7,104],[143,1,145,10],[150,1,152,63],[154,12,156,20],[154,21,156,29],[154,44,156,52],[154,53,156,61],[157,1,159,10],[157,12,159,20],[157,21,159,29],[157,33,159,42],[157,44,159,52],[157,53,159,61],[160,1,162,10],[160,12,162,20],[160,21,162,29],[164,1,166,63],[215,1,217,63],[208,12,210,20],[214,1,214,63],[208,21,210,29],[208,44,210,52],[208,53,210,61],[211,1,213,10],[211,12,213,20],[211,21,213,29],[211,33,213,42],[211,44,213,52],[189,43,191,43],[186,1,188,10],[186,12,188,20],[186,21,188,29],[186,33,188,42],[186,44,188,52],[186,53,188,61],[203,1,203,63],[204,1,206,63],[197,12,199,20],[197,21,199,29],[197,44,199,52],[197,53,199,61],[200,1,202,10],[200,12,202,20],[200,21,202,29],[200,33,202,42],[200,44,202,52],[200,53,202,61],[183,21,185,29],[183,44,185,52],[183,53,185,61],[211,53,213,61],[189,11,191,11],[200,11,202,11],[200,43,202,43],[192,1,192,63],[193,1,195,63],[211,62,213,62],[200,62,202,62],[211,43,213,43],[211,11,213,11],[211,30,213,30],[200,30,202,30],[186,62,188,62],[189,62,191,62],[189,1,191,10],[189,12,191,20],[189,21,191,29],[189,33,191,42],[189,44,191,52],[189,53,191,61],[186,43,188,43],[146,1,148,10],[146,12,148,20],[146,21,148,29],[143,33,145,42],[126,31,128,42],[171,53,173,61],[140,44,142,52],[140,53,142,61],[132,1,134,10],[132,12,134,29],[132,32,134,32],[136,1,138,10],[136,12,138,29],[136,31,138,61],[136,30,138,30],[140,12,142,20],[140,21,142,29],[168,12,170,20],[168,21,170,29],[168,44,170,52],[168,53,170,61],[143,44,145,52],[143,53,145,61],[171,12,173,20],[112,1,114,10],[112,12,114,29],[129,44,131,61],[115,1,115,63],[116,1,118,63],[119,1,119,63],[120,1,122,10],[120,12,122,29],[120,44,122,61],[123,1,125,10],[123,12,125,29],[123,44,125,61],[126,1,128,10],[126,12,128,29],[126,44,128,61],[129,1,131,10],[129,12,131,29],[129,31,131,42],[123,31,125,42],[120,31,122,42],[120,62,122,62],[123,62,125,62],[126,62,128,62],[112,30,114,30],[82,11,84,11],[85,11,87,11],[91,11,93,11],[94,11,96,11],[82,21,84,29],[79,21,81,29],[109,1,111,10],[109,12,111,29],[106,1,108,10],[106,12,108,29],[88,21,90,29],[103,1,105,10],[103,12,105,29],[97,0,97,64],[103,44,105,61],[85,30,87,30],[91,30,93,30],[94,30,96,30],[106,30,108,30],[109,30,111,30],[79,30,81,30],[82,30,84,30],[79,32,81,32],[79,11,81,11],[26,27,28,35],[26,36,28,44],[26,45,28,53],[26,54,28,62],[23,1,25,1],[26,1,28,1],[91,1,93,10],[91,12,93,20],[91,21,93,29],[79,33,81,42],[85,1,87,10],[85,12,87,20],[73,53,75,61],[85,44,87,52],[85,53,87,61],[82,53,84,61],[88,53,90,61],[82,44,84,52],[91,44,93,52],[76,44,78,52],[76,53,78,61],[79,44,81,52],[79,53,81,61],[85,21,87,29],[7,1,7,63],[8,1,10,5],[8,6,10,22],[8,24,10,28],[8,29,10,47],[8,49,10,53],[8,54,10,63],[0,78,2,79],[1,1,6,11],[1,12,6,22],[1,24,3,27],[1,28,3,38],[1,39,3,42],[1,43,3,47],[1,49,6,51],[1,52,6,63],[3,76,5,79],[4,24,6,27],[4,28,6,38],[4,39,6,42],[4,43,6,47],[0,76,2,77],[8,64,10,64],[12,1,14,10],[12,11,14,11],[12,31,14,31],[12,33,14,42],[16,64,18,64],[47,2,49,10],[47,11,49,26],[41,54,43,62],[47,54,49,62],[29,2,31,10],[32,2,34,10],[35,2,37,10],[38,2,40,10],[41,2,43,10],[44,2,46,10],[29,11,31,26],[44,36,46,44],[41,36,43,44],[35,27,37,35],[23,63,25,63],[26,63,28,63],[29,63,31,63],[12,64,14,64],[23,54,25,62],[20,11,22,26],[23,11,25,26],[38,11,40,26],[41,11,43,26],[44,11,46,26],[58,44,60,52],[61,33,63,42],[58,12,60,29],[61,53,63,61],[44,54,46,62],[38,36,40,44],[38,45,40,53],[38,54,40,62],[41,45,43,53],[61,11,63,11],[61,62,63,62],[35,36,37,44],[35,45,37,53],[35,54,37,62],[47,27,49,35],[47,36,49,44],[47,45,49,53],[23,27,25,35],[29,27,31,35],[29,36,31,44],[29,45,31,53],[29,54,31,62],[32,36,34,44],[32,45,34,53],[32,54,34,62],[32,27,34,35],[38,27,40,35],[41,1,43,1],[29,1,31,1],[38,1,40,1],[44,1,46,1],[47,1,49,1],[54,1,56,63],[50,1,52,1],[44,63,46,63],[47,63,49,63],[41,27,43,35],[44,27,46,35],[44,45,46,53],[50,45,52,53],[50,54,52,62],[12,44,14,63],[64,44,66,52],[64,53,66,61],[19,1,19,63],[20,36,22,44],[20,45,22,53],[20,54,22,62],[23,36,25,44],[23,45,25,53],[26,11,28,26],[32,11,34,26],[35,11,37,26],[20,2,22,10],[23,2,25,10],[26,2,28,10],[20,27,22,35],[32,63,34,63],[35,63,37,63],[38,63,40,63],[41,63,43,63],[15,1,15,63],[16,1,18,63],[32,1,34,1],[35,1,37,1],[76,33,78,42],[70,12,72,20],[70,21,72,29],[76,32,78,32],[76,21,78,29],[73,1,75,10],[50,2,52,10],[76,12,78,20],[67,33,69,42],[64,33,66,42],[67,32,69,32],[50,27,52,35],[57,1,57,63],[58,1,60,10],[61,1,63,10],[61,12,63,29],[64,12,66,20],[64,21,66,29],[67,12,69,20],[67,21,69,29],[67,1,69,10],[53,1,53,63],[50,36,52,44],[58,53,60,61],[82,33,84,42],[94,33,96,42],[91,33,93,42],[171,1,173,10],[174,1,176,10],[136,11,138,11],[132,30,134,30],[67,11,69,11],[73,11,75,11],[103,11,105,11],[106,11,108,11],[109,11,111,11],[112,11,114,11],[67,30,69,30],[143,30,145,30],[146,30,148,30],[79,1,81,10],[79,12,81,20],[82,1,84,10],[82,12,84,20],[94,12,96,20],[94,21,96,29],[88,12,90,20],[73,21,75,29],[58,11,60,11],[73,32,75,32],[67,44,69,52],[67,53,69,61],[70,33,72,42],[70,44,72,52],[50,63,52,63],[61,44,63,52],[58,30,60,30],[61,30,63,30],[73,30,75,30],[50,11,52,26],[73,12,75,20],[64,62,66,62],[61,43,63,43],[64,43,66,43],[67,43,69,43],[70,32,72,32],[171,21,173,29],[171,33,173,42],[174,12,176,20],[174,21,176,29],[103,30,105,30],[99,1,101,63],[103,43,105,43],[106,43,108,43],[132,11,134,11],[120,43,122,43],[123,43,125,43],[126,43,128,43],[129,43,131,43],[120,11,122,11],[123,11,125,11],[126,11,128,11],[129,11,131,11],[120,30,122,30],[123,30,125,30],[126,30,128,30],[129,30,131,30],[109,33,111,42],[112,32,114,32],[112,33,114,42],[179,1,181,63],[183,12,185,20],[186,11,188,11],[189,30,191,30],[186,30,188,30],[177,1,177,63],[171,44,173,52],[174,30,176,30],[143,62,145,62],[157,62,159,62],[160,30,162,30],[171,30,173,30],[171,62,173,62],[143,11,145,11],[146,11,148,11],[143,43,145,43],[157,43,159,43],[157,11,159,11],[160,11,162,11],[171,11,173,11],[174,11,176,11],[171,43,173,43],[143,12,145,20],[143,21,145,29],[112,44,114,61],[67,62,69,62],[70,62,72,62],[76,62,78,62],[79,62,81,62],[94,43,96,43],[91,53,93,61],[94,44,96,52],[94,53,96,61],[88,44,90,52],[70,53,72,61],[73,44,75,52],[70,43,72,43],[76,43,78,43],[79,43,81,43],[82,43,84,43],[109,44,111,61],[14,66,16,78],[179,64,181,64],[94,62,96,62],[82,62,84,62],[88,62,90,62],[91,62,93,62],[103,62,105,62],[106,62,108,62],[109,62,111,62],[112,62,114,62],[129,62,131,62],[102,1,102,63],[103,33,105,42],[94,1,96,10],[157,30,159,30],[99,64,101,64],[88,43,90,43],[91,43,93,43],[109,43,111,43],[112,43,114,43],[106,44,108,61],[109,32,111,32],[88,33,90,42],[106,33,108,42]]}
[null,null,null,null,null,null,null,null,null,null,null,null,null,null,null,null,null,null,null,null,null,null,null,null,null,null,null,null,null,null,null,null,null,null,null,null,null,null,null,null,null,null,null,null,null,null,null,null,null,null,null,null,null,null,null,null,null,null,null,null,null,null,null,null,null,null,null,null,null,null,null,null,null,null,null,null,{"$f":"BM13","v":0},null,{"$f":"BM17","v":38},null,null,null,null,null,null,null,null,null,null,null,null,null,null,null,null,null,null,null,null,null,null,null,null,null,"PRINT?"]
[null,null,null,null,null,null,null,null,null,null,null,null,"DOC 15",null,null,null,null,null,null,null,null,null,null,null,"ENGINEER",null,null,null,{"$f":"SAR!$K$13","v":""},null,null,null,null,null,null,null,null,null,null,"VOLTAGE",null,null,null,{"$f":"SAR!$K$36","v":0},null,null,null,null,null,"SATS",null,null,{"$f":"SAR!$BA$2","v":0}]
[null,null,null,null,null,null,null,null,null,null,null,null,null,null,null,null,null,null,null,null,null,null,null,null,null,null,null,null,null,null,null,null,null,null,null,null,null,null,null,null,null,null,null,null,null,null,null,null,null,null,null,null,null,null,null,null,null,null,null,null,null,null,null,null,null,null,null,null,null,null,null,null,null,null,null,null,null,null,null,null,null,null,null,null,null,null,null,null,null,null,null,null,null,null,null,null,null,null,null,null,null,null,null,null,{"$f":"IF(BY1=0,\"\",\"Y\")","v":""}]
[null,null,null,null,null,null,null,null,null,null,null,null,null,null,null,null,null,null,null,null,null,null,null,null,null,null,null,null,null,null,null,null,null,null,null,null,null,null,null,null,null,null,null,null,null,null,null,null,null,null,null,null,null,null,null,null,null,null,null,null,null,null,null,null,null,null,null,null,null,null,null,null,null,null,null,null,{"$f":"BY1/CA1","v":0}]
[null,null,null,null,null,null,null,null,null,null,null,null,null,null,null,null,null,null,null,null,null,null,null,null,"AREA",null,null,null,{"$f":"SAR!$K$39","v":0},null,null,null,null,null,null,null,null,null,null,"PROJECT DATE",null,null,null,{"$f":"SAR!$K$42","v":"00:00:00"}]
[]
[]
[]
[null,"PRIMARY SUBSTATION ",null,null,null,null,{"$f":"SAR!$K$45","v":0},null,null,null,null,null,null,null,null,null,null,null,null,null,null,null,null,null,"DISTRIBUTION SUBSTATION ",null,null,null,null,{"$f":"SAR!$K$30","v":0},null,null,null,null,null,null,null,null,null,null,null,null,null,null,null,null,null,null,null,"PLANT REF",null,null,null,null,{"$f":"SAR!$K$33","v":0},null,null,null,null,null,null,null,null,null,{"$f":"SAR!$AB$36","v":""}]
[]
[]
[]
[null,"COMMISSIONING DRIVER",null,null,null,null,null,null,null,null,null,{"$f":"IF(M13=\"\",0,1)","v":0},null,null,null,null,null,null,null,null,null,null,null,null,null,null,null,null,{"$f":"IFERROR(VLOOKUP(M13,CODES!$A$5:$B$36,2,FALSE),\"\")","v":""},null,null,null,null,"PROJECT CODE",null,null,null,null,null,null,null,null,null,null,{"$f":"SAR!J78","v":""},null,null,null,null,null,null,null,null,null,null,null,null,null,null,null,null,null,null,null,{"$f":"SUM(L13,B24:B53,L59:L64,L68,L74,L80:L88,L92:L97,AR89:AR97,AR77:AR85,AR62:AR73,L104:L115,L121:L139,L144:L149,L158:L163,L172:L177,AR172,AR158,AR144,AR121:AR132,AR104:AR115,L187:L192,L201,L212,AR212,AR201,AR187:AR192,BM216)","v":0}]
[]
[null,null,null,null,null,null,null,null,null,null,null,null,null,null,null,null,null,null,null,null,null,null,null,null,null,null,null,null,null,null,null,null,null,null,null,null,null,null,null,null,null,null,null,null,null,null,null,null,null,null,null,null,null,null,null,null,null,null,null,null,null,null,null,null,null,null,"DOC QUICK LINK"]
[null,null,null,null,null,null,null,null,null,null,null,null,null,null,null,null,null,null,null,null,null,null,null,null,null,null,null,null,null,null,null,null,null,null,null,null,null,null,null,null,null,null,null,null,null,null,null,null,null,null,null,null,null,null,null,null,null,null,null,null,null,null,null,null,{"$f":"IF(BM13>0,BM17+BM100+BM180,0)","v":0}]
[null,"GRID & PRIMARY - DINIS TECHNICAL INFORMATION - 33/132kV CIRCUITS",null,null,null,null,null,null,null,null,null,null,null,null,null,null,null,null,null,null,null,null,null,null,null,null,null,null,null,null,null,null,null,null,null,null,null,null,null,null,null,null,null,null,null,null,null,null,null,null,null,null,null,null,null,null,null,null,null,null,null,null,null,null,{"$f":"38+SUM(BL24:BL53)","v":38}]
[]
[]
[]
[null,null,"CABLE SIZE",null,null,null,null,null,null,null,null,"CABLE TYPE",null,null,null,null,null,null,null,null,null,null,null,null,null,null,null,"LENGTH",null,null,null,null,null,null,null,null,"RESISTANCE (OHMS)",null,null,null,null,null,null,null,null,"REACTANCE (OHMS)",null,null,null,null,null,null,null,null,"CHARGING CURRENT (MA)"]
[]
[]
[null,{"$f":"COUNTA(C24:BK26)","v":0},null,null,null,null,null,null,null,null,null,null,null,null,null,null,null,null,null,null,null,null,null,null,null,null,null,null,null,null,null,null,null,null,null,null,null,null,null,null,null,null,null,null,null,null,null,null,null,null,null,null,null,null,null,null,null,null,null,null,null,null,null,{"$f":"IF(B24>0,6,0)","v":0}]
[]
[]
[null,{"$f":"COUNTA(C27:BK29)","v":0},null,null,null,null,null,null,null,null,null,null,null,null,null,null,null,null,null,null,null,null,null,null,null,null,null,null,null,null,null,null,null,null,null,null,null,null,null,null,null,null,null,null,null,null,null,null,null,null,null,null,null,null,null,null,null,null,null,null,null,null,null,{"$f":"IF(B27>0,6,0)","v":0}]
[]
[]
[null,{"$f":"COUNTA(C30:BK32)","v":0},null,null,null,null,null,null,null,null,null,null,null,null,null,null,null,null,null,null,null,null,null,null,null,null,null,null,null,null,null,null,null,null,null,null,null,null,null,null,null,null,null,null,null,null,null,null,null,null,null,null,null,null,null,null,null,null,null,null,null,null,null,{"$f":"IF(B30>0,6,0)","v":0}]
[]
[]
[null,{"$f":"COUNTA(C33:BK35)","v":0},null,null,null,null,null,null,null,null,null,null,null,null,null,null,null,null,null,null,null,null,null,null,null,null,null,null,null,null,null,null,null,null,null,null,null,null,null,null,null,null,null,null,null,null,null,null,null,null,null,null,null,null,null,null,null,null,null,null,null,null,null,{"$f":"IF(B33>0,6,0)","v":0}]
[]
[]
[null,{"$f":"COUNTA(C36:BK38)","v":0},null,null,null,null,null,null,null,null,null,null,null,null,null,null,null,null,null,null,null,null,null,null,null,null,null,null,null,null,null,null,null,null,null,null,null,null,null,null,null,null,null,null,null,null,null,null,null,null,null,null,null,null,null,null,null,null,null,null,null,null,null,{"$f":"IF(B36>0,6,0)","v":0}]
[]
[]
[null,{"$f":"COUNTA(C39:BK41)","v":0},null,null,null,null,null,null,null,null,null,null,null,null,null,null,null,null,null,null,null,null,null,null,null,null,null,null,null,null,null,null,null,null,null,null,null,null,null,null,null,null,null,null,null,null,null,null,null,null,null,null,null,null,null,null,null,null,null,null,null,null,null,{"$f":"IF(B39>0,6,0)","v":0}]
[]
[]
[null,{"$f":"COUNTA(C42:BK44)","v":0},null,null,null,null,null,null,null,null,null,null,null,null,null,null,null,null,null,null,null,null,null,null,null,null,null,null,null,null,null,null,null,null,null,null,null,null,null,null,null,null,null,null,null,null,null,null,null,null,null,null,null,null,null,null,null,null,null,null,null,null,null,{"$f":"IF(B42>0,6,0)","v":0}]
[]
[]
[null,{"$f":"COUNTA(C45:BK47)","v":0},null,null,null,null,null,null,null,null,null,null,null,null,null,null,null,null,null,null,null,null,null,null,null,null,null,null,null,null,null,null,null,null,null,null,null,null,null,null,null,null,null,null,null,null,null,null,null,null,null,null,null,null,null,null,null,null,null,null,null,null,null,{"$f":"IF(B45>0,6,0)","v":0}]
[]
[]
[null,{"$f":"COUNTA(C48:BK50)","v":0},null,null,null,null,null,null,null,null,null,null,null,null,null,null,null,null,null,null,null,null,null,null,null,null,null,null,null,null,null,null,null,null,null,null,null,null,null,null,null,null,null,null,null,null,null,null,null,null,null,null,null,null,null,null,null,null,null,null,null,null,null,{"$f":"IF(B48>0,6,0)","v":0}]
[]
[]
[null,{"$f":"COUNTA(C51:BK53)","v":0},null,null,null,null,null,null,null,null,null,null,null,null,null,null,null,null,null,null,null,null,null,null,null,null,null,null,null,null,null,null,null,null,null,null,null,null,null,null,null,null,null,null,null,null,null,null,null,null,null,null,null,null,null,null,null,null,null,null,null,null,null,{"$f":"IF(B51>0,6,0)","v":0}]
[]
[]
[]
[null,"GRID & PRIMARY - DINIS TECHNICAL INFORMATION - TRANSFORMERS"]
[]
[]
[]
[null,"IRON LOSS",null,null,null,null,null,null,null,null,null,{"$f":"IF(M59=\"\",0,1)","v":0},null,null,null,null,null,null,null,null,null,null,null,null,null,null,null,null,null,null,{"$f":"IF(L59>0,1,0)","v":0},null,null,null,null,null,null,null,null,null,null,null,null,null,"PRIMARY",null,null,null,null,null,null,null,null,"SECONDARY"]
[]
[]
[null,"SPECIFICATION",null,null,null,null,null,null,null,null,null,{"$f":"IF(M62=\"\",0,1)","v":0},null,null,null,null,null,null,null,null,null,null,null,null,null,null,null,null,null,null,{"$f":"IF(L62>0,1,0)","v":0},null,null,"POSITIVE SEQUENCE RESISTANCE",null,null,null,null,null,null,null,null,null,{"$f":"COUNTA(AS62:BJ64)","v":0},null,null,null,null,null,null,null,null,null,null,null,null,null,null,null,null,null,null,{"$f":"IF(AR62>0,2,0)","v":0}]
[]
[]
[null,null,null,null,null,null,null,null,null,null,null,null,"PRIMARY",null,null,null,null,null,null,null,null,"SECONDARY",null,null,null,null,null,null,null,null,null,null,null,"POSITIVE SEQUENCE REACTANCE",null,null,null,null,null,null,null,null,null,{"$f":"COUNTA(AS65:BJ67)","v":0},null,null,null,null,null,null,null,null,null,null,null,null,null,null,null,null,null,null,{"$f":"IF(AR65>0,2,0)","v":0}]
[]
[]
[null,"WINDING TYPE (DELTA / STAR)",null,null,null,null,null,null,null,null,null,{"$f":"COUNTA(M68:AD70)","v":0},null,null,null,null,null,null,null,null,null,null,null,null,null,null,null,null,null,null,{"$f":"IF(L68>0,2,0)","v":0},null,null,"ZERO SEQUENCE RESISTANCE",null,null,null,null,null,null,null,null,null,{"$f":"COUNTA(AS68:BJ70)","v":0},null,null,null,null,null,null,null,null,null,null,null,null,null,null,null,null,null,null,{"$f":"IF(AR68>0,2,0)","v":0}]
[]
[]
[null,null,null,null,null,null,null,null,null,null,null,null,"PRIMARY",null,null,null,null,null,null,null,null,"SECONDARY",null,null,null,null,null,null,null,null,null,null,null,"ZERO SEQUENCE REACTANCE",null,null,null,null,null,null,null,null,null,{"$f":"COUNTA(AS71:BJ73)","v":0},null,null,null,null,null,null,null,null,null,null,null,null,null,null,null,null,null,null,{"$f":"IF(AR71>0,2,0)","v":0}]
[]
[]
[null,"PHASE ANGLE",null,null,null,null,null,null,null,null,null,{"$f":"COUNTA(M74:AD76)","v":0},null,null,null,null,null,null,null,null,null,null,null,null,null,null,null,null,null,null,{"$f":"IF(L74>0,2,0)","v":0},null,null,null,null,null,null,null,null,null,null,null,null,null,"PRIMARY",null,null,null,null,null,null,null,null,"SECONDARY"]
[]
[]
[null,null,null,null,null,null,null,null,null,null,null,null,"PRIMARY",null,null,null,null,null,null,null,null,"SECONDARY",null,null,null,null,null,null,null,null,null,null,null,"EARTHED (Y / N)",null,null,null,null,null,null,null,null,null,{"$f":"COUNTA(AS77:BJ79)","v":0},null,null,null,null,null,null,null,null,null,null,null,null,null,null,null,null,null,null,{"$f":"IF(AR77>0,2,0)","v":0}]
[]
[]
[null,"RATING (SUMMER)",null,null,null,null,null,null,null,null,null,{"$f":"COUNTA(M80:AD82)","v":0},null,null,null,null,null,null,null,null,null,null,null,null,null,null,null,null,null,null,{"$f":"IF(L80>0,2,0)","v":0},null,null,"EARTHING RESISTANCE",null,null,null,null,null,null,null,null,null,{"$f":"COUNTA(AS80:BJ82)","v":0},null,null,null,null,null,null,null,null,null,null,null,null,null,null,null,null,null,null,{"$f":"IF(AR80>0,2,0)","v":0}]
[]
[]
[null,"RATING (WINTER)",null,null,null,null,null,null,null,null,null,{"$f":"COUNTA(M83:AD85)","v":0},null,null,null,null,null,null,null,null,null,null,null,null,null,null,null,null,null,null,{"$f":"IF(L83>0,2,0)","v":0},null,null,"EARTHING REACTANCE",null,null,null,null,null,null,null,null,null,{"$f":"COUNTA(AS83:BJ85)","v":0},null,null,null,null,null,null,null,null,null,null,null,null,null,null,null,null,null,null,{"$f":"IF(AR83>0,2,0)","v":0}]
[]
[]
[null,"RATING (SHORT TERM)",null,null,null,null,null,null,null,null,null,{"$f":"COUNTA(M86:AD88)","v":0},null,null,null,null,null,null,null,null,null,null,null,null,null,null,null,null,null,null,{"$f":"IF(L86>0,2,0)","v":0},null,null,null,null,null,null,null,null,null,null,null,null,null,"PRIMARY",null,null,null,null,null,null,null,null,"SECONDARY"]
[]
[]
[null,null,null,null,null,null,null,null,null,null,null,null,"PRIMARY",null,null,null,null,null,null,null,null,"SECONDARY",null,null,null,null,null,null,null,null,null,null,null,"NUMBER OF TAPS",null,null,null,null,null,null,null,null,null,{"$f":"COUNTA(AS89:BJ91)","v":0},null,null,null,null,null,null,null,null,null,null,null,null,null,null,null,null,null,null,{"$f":"IF(AR89>0,2,0)","v":0}]
[]
[]
[null,"VOLTAGE NORMAL",null,null,null,null,null,null,null,null,null,{"$f":"COUNTA(M92:AD94)","v":0},null,null,null,null,null,null,null,null,null,null,null,null,null,null,null,null,null,null,{"$f":"IF(L92>0,2,0)","v":0},null,null,"VOLTAGE (MINIMUM %)",null,null,null,null,null,null,null,null,null,{"$f":"COUNTA(AS92:BJ94)","v":0},null,null,null,null,null,null,null,null,null,null,null,null,null,null,null,null,null,null,{"$f":"IF(AR92>0,2,0)","v":0}]
[]
[]
[null,"VOLTAGE NAMEPLATE",null,null,null,null,null,null,null,null,null,{"$f":"COUNTA(M95:AD97)","v":0},null,null,null,null,null,null,null,null,null,null,null,null,null,null,null,null,null,null,{"$f":"IF(L95>0,2,0)","v":0},null,null,"VOLTAGE (MAXIMUM %)",null,null,null,null,null,null,null,null,null,{"$f":"COUNTA(AS95:BJ97)","v":0},null,null,null,null,null,null,null,null,null,null,null,null,null,null,null,null,null,null,{"$f":"IF(AR95>0,2,0)","v":0}]
[]
[]
[]
[]
[null,"GRID & PRIMARY - DINIS TECHNICAL INFORMATION - GENERATOR TRANSFORMERS",null,null,null,null,null,null,null,null,null,null,null,null,null,null,null,null,null,null,null,null,null,null,null,null,null,null,null,null,null,null,null,null,null,null,null,null,null,null,null,null,null,null,null,null,null,null,null,null,null,null,null,null,null,null,null,null,null,null,null,null,null,null,26]
[]
[]
[]
[null,"RATED (MVA)",null,null,null,null,null,null,null,null,null,{"$f":"IF(M104=\"\",0,1)","v":0},null,null,null,null,null,null,null,null,null,null,null,null,null,null,null,null,null,null,{"$f":"IF(L104>0,1,0)","v":0},null,null,"TAP ARRANGEMENTS",null,null,null,null,null,null,null,null,null,{"$f":"IF(AS104=\"\",0,1)","v":0},null,null,null,null,null,null,null,null,null,null,null,null,null,null,null,null,null,null,{"$f":"IF(AR104>0,1,0)","v":0}]
[]
[]
[null,"RESISTANCE\n(% OR PU)    ",null,null,null,null,null,null,null,null,null,{"$f":"IF(M107=\"\",0,1)","v":0},null,null,null,null,null,null,null,null,null,null,null,null,null,null,null,null,null,null,{"$f":"IF(L107>0,1,0)","v":0},null,null,"VECTOR GROUP",null,null,null,null,null,null,null,null,null,{"$f":"IF(AS107=\"\",0,1)","v":0},null,null,null,null,null,null,null,null,null,null,null,null,null,null,null,null,null,null,{"$f":"IF(AR107>0,1,0)","v":0}]
[]
[]
[null,"REACTANCE \n(% OR PU)    ",null,null,null,null,null,null,null,null,null,{"$f":"IF(M110=\"\",0,1)","v":0},null,null,null,null,null,null,null,null,null,null,null,null,null,null,null,null,null,null,{"$f":"IF(L110>0,1,0)","v":0},null,null,"EARTHING",null,null,null,null,null,null,null,null,null,{"$f":"IF(AS110=\"\",0,1)","v":0},null,null,null,null,null,null,null,null,null,null,null,null,null,null,null,null,null,null,{"$f":"IF(AR110>0,1,0)","v":0}]
[]
[]
[null,"ZERO SEQUENCE REACTANCE\n (% OR PU)    ",null,null,null,null,null,null,null,null,null,{"$f":"IF(M113=\"\",0,1)","v":0},null,null,null,null,null,null,null,null,null,null,null,null,null,null,null,null,null,null,{"$f":"IF(L113>0,1,0)","v":0},null,null,"AUTOMATIC VOLTAGE",null,null,null,null,null,null,null,null,null,{"$f":"IF(AS113=\"\",0,1)","v":0},null,null,null,null,null,null,null,null,null,null,null,null,null,null,null,null,null,null,{"$f":"IF(AR113>0,1,0)","v":0}]
[]
[]
[]
[null,"GRID & PRIMARY - DINIS TECHNICAL INFORMATION - INDIVIDUAL GENERATORS"]
[]
[]
[]
[null,"RATED (MVA)",null,null,null,null,null,null,null,null,null,{"$f":"IF(M121=\"\",0,1)","v":0},null,null,null,null,null,null,null,null,null,null,null,null,null,null,null,null,null,null,{"$f":"IF(L121>0,1,0)","v":0},"MAX AUXILARY DEMAND (MW)",null,null,null,null,null,null,null,null,null,null,null,{"$f":"IF(AS121=\"\",0,1)","v":0},null,null,null,null,null,null,null,null,null,null,null,null,null,null,null,null,null,null,{"$f":"IF(AR121>0,1,0)","v":0}]
[]
[]
[null,"RATED (MW)",null,null,null,null,null,null,null,null,null,{"$f":"IF(M124=\"\",0,1)","v":0},null,null,null,null,null,null,null,null,null,null,null,null,null,null,null,null,null,null,{"$f":"IF(L124>0,1,0)","v":0},"MAX AUXILARY DEMAND (MVAR)",null,null,null,null,null,null,null,null,null,null,null,{"$f":"IF(AS124=\"\",0,1)","v":0},null,null,null,null,null,null,null,null,null,null,null,null,null,null,null,null,null,null,{"$f":"IF(AR124>0,1,0)","v":0}]
[]
[]
[null,"RATED (MVAR)",null,null,null,null,null,null,null,null,null,{"$f":"IF(M127=\"\",0,1)","v":0},null,null,null,null,null,null,null,null,null,null,null,null,null,null,null,null,null,null,{"$f":"IF(L127>0,1,0)","v":0},"AUX DEMAND @ MIN GENERATION (MW)",null,null,null,null,null,null,null,null,null,null,null,{"$f":"IF(AS127=\"\",0,1)","v":0},null,null,null,null,null,null,null,null,null,null,null,null,null,null,null,null,null,null,{"$f":"IF(AR127>0,1,0)","v":0}]
[]
[]
[null,"RATED (MW) @ MIN GENERATION",null,null,null,null,null,null,null,null,null,{"$f":"IF(M130=\"\",0,1)","v":0},null,null,null,null,null,null,null,null,null,null,null,null,null,null,null,null,null,null,{"$f":"IF(L130>0,1,0)","v":0},"AUX DEMAND @ MIN GENERATION (MVAR)",null,null,null,null,null,null,null,null,null,null,null,{"$f":"IF(AS130=\"\",0,1)","v":0},null,null,null,null,null,null,null,null,null,null,null,null,null,null,null,null,null,null,{"$f":"IF(AR130>0,1,0)","v":0}]
[]
[]
[null,"RATED (MVAR) @ MIN GENERATION",null,null,null,null,null,null,null,null,null,{"$f":"IF(M133=\"\",0,1)","v":0},null,null,null,null,null,null,null,null,null,null,null,null,null,null,null,null,null,null,{"$f":"IF(L133>0,1,0)","v":0}]
[]
[]
[]
[null,"GENERATION CAPABILITY CHART INERTIA CONSTANT (KW/SEC/KVA)*",null,null,null,null,null,null,null,null,null,{"$f":"IF(M137=\"\",0,1)","v":0},null,null,null,null,null,null,null,null,null,null,null,null,null,null,null,null,null,null,null,"THE INERTIA CONSTANT REQUIRED IS THE TOTAL FOR THE GENERATOR + GEAR BOX (i.e. ALL ROTATING PARTS)"]
[]
[]
[]
[null,null,null,null,null,null,null,null,null,null,null,null,"PRIMARY",null,null,null,null,null,null,null,null,"SECONDARY",null,null,null,null,null,null,null,null,null,null,null,null,null,null,null,null,null,null,null,null,null,null,"PRIMARY",null,null,null,null,null,null,null,null,"SECONDARY"]
[]
[]
[null,"STATOR RESISTANCE (STATE WHETHER OHMS, % OR p.u.)",null,null,null,null,null,null,null,null,null,{"$f":"COUNTA(M144:AD146)","v":0},null,null,null,null,null,null,null,null,null,null,null,null,null,null,null,null,null,null,{"$f":"IF(L144>0,2,0)","v":0},null,null,"SATURATION FACTOR (p.u.)",null,null,null,null,null,null,null,null,null,{"$f":"COUNTA(AS144:BJ146)","v":0},null,null,null,null,null,null,null,null,null,null,null,null,null,null,null,null,null,null,{"$f":"IF(AR144>0,2,0)","v":0}]
[]
[]
[null,"POLAR REACTANCE (% OR p.u.)",null,null,null,null,null,null,null,null,null,0,null,null,null,null,null,null,null,null,null,null,null,null,null,null,null,null,null,null,{"$f":"IF(L147>0,2,0)","v":0}]
[]
[]
[]
[null,"GRID & PRIMARY - DINIS TECHNICAL INFORMATION - DIRECT AXIS REACTANCE"]
[]
[]
[]
[null,null,null,null,null,null,null,null,null,null,null,null,"PRIMARY",null,null,null,null,null,null,null,null,"SECONDARY",null,null,null,null,null,null,null,null,null,null,null,null,null,null,null,null,null,null,null,null,null,null,"PRIMARY",null,null,null,null,null,null,null,null,"SECONDARY"]
[]
[]
[null,"SUB TRANSIENT (% OR p.u.)",null,null,null,null,null,null,null,null,null,{"$f":"COUNTA(M158:AD160)","v":0},null,null,null,null,null,null,null,null,null,null,null,null,null,null,null,null,null,null,{"$f":"IF(L158>0,2,0)","v":0},null,null,"SYNCHRONOUS (% OR p.u.)",null,null,null,null,null,null,null,null,null,{"$f":"COUNTA(AS158:BJ160)","v":0},null,null,null,null,null,null,null,null,null,null,null,null,null,null,null,null,null,null,{"$f":"IF(AR158>0,2,0)","v":0}]
[]
[]
[null,"TRANSIENT (% OR p.u.)",null,null,null,null,null,null,null,null,null,{"$f":"COUNTA(M161:AD163)","v":0},null,null,null,null,null,null,null,null,null,null,null,null,null,null,null,null,null,null,{"$f":"IF(L161>0,2,0)","v":0}]
[]
[]
[]
[null,"GRID & PRIMARY - DINIS TECHNICAL INFORMATION - QUADRATURE AXIS REACTANCE"]
[]
[]
[]
[null,null,null,null,null,null,null,null,null,null,null,null,"PRIMARY",null,null,null,null,null,null,null,null,"SECONDARY",null,null,null,null,null,null,null,null,null,null,null,null,null,null,null,null,null,null,null,null,null,null,"PRIMARY",null,null,null,null,null,null,null,null,"SECONDARY"]
[]
[]
[null,"SUB TRANSIENT (% OR p.u.)",null,null,null,null,null,null,null,null,null,{"$f":"COUNTA(M172:AD174)","v":0},null,null,null,null,null,null,null,null,null,null,null,null,null,null,null,null,null,null,{"$f":"IF(L172>0,2,0)","v":0},null,null,"SYNCHRONOUS (% OR p.u.)",null,null,null,null,null,null,null,null,null,{"$f":"COUNTA(AS172:BJ174)","v":0},null,null,null,null,null,null,null,null,null,null,null,null,null,null,null,null,null,null,{"$f":"IF(AR172>0,2,0)","v":0}]
[]
[]
[null,"TRANSIENT (% OR p.u.)",null,null,null,null,null,null,null,null,null,{"$f":"COUNTA(M175:AD177)","v":0},null,null,null,null,null,null,null,null,null,null,null,null,null,null,null,null,null,null,{"$f":"IF(L175>0,2,0)","v":0}]
[]
[]
[]
[]
[null,"GRID & PRIMARY - DINIS TECHNICAL INFORMATION - OPEN CIRCUIT TIME CONSTANTS",null,null,null,null,null,null,null,null,null,null,null,null,null,null,null,null,null,null,null,null,null,null,null,null,null,null,null,null,null,null,null,null,null,null,null,null,null,null,null,null,null,null,null,null,null,null,null,null,null,null,null,null,null,null,null,null,null,null,null,null,null,null,8]
[]
[]
[]
[null,null,null,null,null,null,null,null,null,null,null,null,"PRIMARY",null,null,null,null,null,null,null,null,"SECONDARY",null,null,null,null,null,null,null,null,null,null,null,null,null,null,null,null,null,null,null,null,null,null,"PRIMARY",null,null,null,null,null,null,null,null,"SECONDARY"]
[]
[]
[null,"DIRECT AXIS SUB TRANSIENT\n (SECS)",null,null,null,null,null,null,null,null,null,{"$f":"IF(M187=\"\",0,1)","v":0},null,null,null,null,null,null,null,null,null,null,null,null,null,null,null,null,null,null,{"$f":"IF(L187>0,2,0)","v":0},null,null,"QUADRATURE AXIS SUB TRANSIENT (SECS)",null,null,null,null,null,null,null,null,null,{"$f":"IF(AS187=\"\",0,1)","v":0},null,null,null,null,null,null,null,null,null,null,null,null,null,null,null,null,null,null,{"$f":"IF(AR187>0,2,0)","v":0}]
[]
[]
[null,"DIRECT AXIS TRANSIENT\n (SECS)",null,null,null,null,null,null,null,null,null,{"$f":"IF(M190=\"\",0,1)","v":0},null,null,null,null,null,null,null,null,null,null,null,null,null,null,null,null,null,null,0,null,null,"QUADRATURE AXIS TRANSIENT (SECS)",null,null,null,null,null,null,null,null,null,{"$f":"IF(AS190=\"\",0,1)","v":0},null,null,null,null,null,null,null,null,null,null,null,null,null,null,null,null,null,null,0]
[]
[]
[]
[null,"GRID & PRIMARY - DINIS TECHNICAL INFORMATION - ZERO PHASE SEQUENCE"]
[]
[]
[]
[null,null,null,null,null,null,null,null,null,null,null,null,"PRIMARY",null,null,null,null,null,null,null,null,"SECONDARY",null,null,null,null,null,null,null,null,null,null,null,null,null,null,null,null,null,null,null,null,null,null,"PRIMARY",null,null,null,null,null,null,null,null,"SECONDARY"]
[]
[]
[null,"RESISTANCE (% OR p.u.)",null,null,null,null,null,null,null,null,null,{"$f":"IF(M201=\"\",0,1)","v":0},null,null,null,null,null,null,null,null,null,null,null,null,null,null,null,null,null,null,{"$f":"IF(L201>0,2,0)","v":0},null,null,"REACTANCE (% OR p.u.)",null,null,null,null,null,null,null,null,null,{"$f":"IF(AS201=\"\",0,1)","v":0},null,null,null,null,null,null,null,null,null,null,null,null,null,null,null,null,null,null,{"$f":"IF(AR201>0,2,0)","v":0}]
[]
[]
[]
[null,"GRID & PRIMARY - DINIS TECHNICAL INFORMATION - NEGATIVE PHASE SEQUENCE"]
[]
[]
[]
[null,null,null,null,null,null,null,null,null,null,null,null,"PRIMARY",null,null,null,null,null,null,null,null,"SECONDARY",null,null,null,null,null,null,null,null,null,null,null,null,null,null,null,null,null,null,null,null,null,null,"PRIMARY",null,null,null,null,null,null,null,null,"SECONDARY"]
[]
[]
[null,"RESISTANCE (% OR p.u.)",null,null,null,null,null,null,null,null,null,{"$f":"IF(M212=\"\",0,1)","v":0},null,null,null,null,null,null,null,null,null,null,null,null,null,null,null,null,null,null,{"$f":"IF(L212>0,2,0)","v":0},null,null,"REACTANCE (% OR p.u.)",null,null,null,null,null,null,null,null,null,{"$f":"IF(AS212=\"\",0,1)","v":0},null,null,null,null,null,null,null,null,null,null,null,null,null,null,null,null,null,null,{"$f":"IF(AR212>0,2,0)","v":0}]
[]
[]
[]
[null,"ADDITIONAL INFORMATION",null,null,null,null,null,null,null,null,null,null,null,null,null,null,null,null,null,null,null,null,null,null,null,null,null,null,null,null,null,null,null,null,null,null,null,null,null,null,null,null,null,null,null,null,null,null,null,null,null,null,null,null,null,null,null,null,null,null,null,null,null,null,{"$f":"IF(B219=\"\",0,1)","v":0}]

{"sheet":"DOC 16","index":31,"n_rows":74,"n_cols":105,"rows_kept":74,"cut":false,"hidden":false,"merged":[[73,64,75,64],[93,0,93,64],[1,49,6,51],[8,1,10,5],[8,6,10,22],[8,24,10,28],[8,29,10,47],[8,49,10,53],[8,54,10,63],[1,52,6,63],[21,33,23,47],[21,49,23,63],[16,33,18,33],[16,60,18,60],[37,49,39,63],[41,1,43,15],[41,17,43,31],[41,33,43,47],[41,49,43,63],[41,16,43,16],[16,61,18,63],[21,17,23,31],[29,1,31,15],[33,1,35,15],[33,66,35,70],[33,71,35,78],[16,1,18,8],[12,1,14,63],[15,1,15,63],[29,17,31,31],[29,33,31,47],[30,66,32,70],[30,71,32,78],[14,66,16,78],[23,66,25,78],[27,66,29,70],[27,71,29,78],[16,10,18,23],[16,25,18,32],[16,34,18,47],[16,49,18,59],[25,1,27,15],[25,17,27,31],[25,33,27,47],[25,49,27,63],[25,16,27,16],[25,32,27,32],[25,48,27,48],[2,104,4,104],[3,76,5,79],[4,24,6,27],[4,28,6,38],[4,39,6,42],[4,43,6,47],[5,104,7,104],[7,1,7,63],[0,76,2,77],[0,78,2,79],[0,104,1,104],[1,1,6,11],[1,12,6,22],[1,24,3,27],[1,28,3,38],[1,39,3,42],[1,43,3,47],[33,17,35,31],[33,49,35,63],[29,16,31,16],[29,32,31,32],[29,48,31,48],[53,49,55,63],[57,1,59,15],[57,17,59,31],[57,33,59,47],[57,49,59,63],[53,16,55,16],[53,32,55,32],[45,1,47,15],[45,17,47,31],[45,33,47,47],[45,49,47,63],[49,1,51,15],[49,17,51,31],[49,33,51,47],[49,49,51,63],[49,32,51,32],[49,48,51,48],[33,16,35,16],[33,32,35,32],[37,16,39,16],[37,32,39,32],[37,48,39,48],[69,1,71,15],[69,17,71,31],[69,33,71,47],[53,1,55,15],[53,17,55,31],[53,33,55,47],[37,1,39,15],[37,17,39,31],[57,16,59,16],[57,32,59,32],[57,48,59,48],[41,48,43,48],[45,16,47,16],[45,32,47,32],[45,48,47,48],[49,16,51,16],[41,32,43,32],[69,49,71,63],[73,1,75,63],[76,1,92,63],[61,1,63,15],[61,17,63,31],[61,33,63,47],[61,49,63,63],[65,1,67,15],[65,17,67,31],[65,33,67,47],[65,49,67,63],[33,33,35,47],[49,64,51,64],[53,64,55,64],[57,64,59,64],[16,64,18,64],[12,64,14,64],[25,64,27,64],[29,64,31,64],[33,64,35,64],[37,64,39,64],[41,64,43,64],[45,64,47,64],[37,33,39,47],[53,48,55,48],[29,49,31,63],[33,48,35,48]]}
[null,null,null,null,null,null,null,null,null,null,null,null,null,null,null,null,null,null,null,null,null,null,null,null,null,null,null,null,null,null,null,null,null,null,null,null,null,null,null,null,null,null,null,null,null,null,null,null,null,null,null,null,null,null,null,null,null,null,null,null,null,null,null,null,null,null,null,null,null,null,null,null,null,null,null,null,{"$f":"BM17","v":0},null,{"$f":"BM13","v":0},null,null,null,null,null,null,null,null,null,null,null,null,null,null,null,null,null,null,null,null,null,null,null,null,null,"PRINT?"]
[null,null,null,null,null,null,null,null,null,null,null,null,"DOC 16",null,null,null,null,null,null,null,null,null,null,null,"ENGINEER",null,null,null,{"$f":"SAR!$K$13","v":""},null,null,null,null,null,null,null,null,null,null,"VOLTAGE",null,null,null,{"$f":"SAR!$K$36","v":0},null,null,null,null,null,"SATS",null,null,{"$f":"SAR!$BA$2","v":0}]
[null,null,null,null,null,null,null,null,null,null,null,null,null,null,null,null,null,null,null,null,null,null,null,null,null,null,null,null,null,null,null,null,null,null,null,null,null,null,null,null,null,null,null,null,null,null,null,null,null,null,null,null,null,null,null,null,null,null,null,null,null,null,null,null,null,null,null,null,null,null,null,null,null,null,null,null,null,null,null,null,null,null,null,null,null,null,null,null,null,null,null,null,null,null,null,null,null,null,null,null,null,null,null,null,{"$f":"IF(BY1=0,\"\",\"Y\")","v":""}]
[null,null,null,null,null,null,null,null,null,null,null,null,null,null,null,null,null,null,null,null,null,null,null,null,null,null,null,null,null,null,null,null,null,null,null,null,null,null,null,null,null,null,null,null,null,null,null,null,null,null,null,null,null,null,null,null,null,null,null,null,null,null,null,null,null,null,null,null,null,null,null,null,null,null,null,null,{"$f":"BY1/CA1","v":{"$error":"#DIV/0!"}}]
[null,null,null,null,null,null,null,null,null,null,null,null,null,null,null,null,null,null,null,null,null,null,null,null,"AREA",null,null,null,{"$f":"SAR!$K$39","v":0},null,null,null,null,null,null,null,null,null,null,"PROJECT DATE",null,null,null,{"$f":"SAR!$K$42","v":"00:00:00"}]
[]
[]
[]
[null,"PRIMARY SUBSTATION ",null,null,null,null,{"$f":"SAR!$K$45","v":0},null,null,null,null,null,null,null,null,null,null,null,null,null,null,null,null,null,"DISTRIBUTION SUBSTATION ",null,null,null,null,{"$f":"SAR!$K$30","v":0},null,null,null,null,null,null,null,null,null,null,null,null,null,null,null,null,null,null,null,"PLANT REF",null,null,null,null,{"$f":"SAR!$K$33","v":0}]
[]
[]
[]
[null,"GRID & PRIMARY - CLASS PROJECT - NEW RTU INDAD INFORMATION",null,null,null,null,null,null,null,null,null,null,null,null,null,null,null,null,null,null,null,null,null,null,null,null,null,null,null,null,null,null,null,null,null,null,null,null,null,null,null,null,null,null,null,null,null,null,null,null,null,null,null,null,null,null,null,null,null,null,null,null,null,null,{"$f":"IF(ISBLANK(AI17),0,30)","v":0}]
[]
[null,null,null,null,null,null,null,null,null,null,null,null,null,null,null,null,null,null,null,null,null,null,null,null,null,null,null,null,null,null,null,null,null,null,null,null,null,null,null,null,null,null,null,null,null,null,null,null,null,null,null,null,null,null,null,null,null,null,null,null,null,null,null,null,null,null,"DOC QUICK LINK"]
[]
[null,"SUBSTATION NAME",null,null,null,null,null,null,null,null,{"$f":"IF(SAR!$K$30=\"\",\"\",SAR!$K$30)","v":""},null,null,null,null,null,null,null,null,null,null,null,null,null,null,"PLANT REFERENCE No.",null,null,null,null,null,null,null,{"$f":"IF(ISBLANK(AI17),0,1)","v":0},null,null,null,null,null,null,null,null,null,null,null,null,null,null,null,"TRANSFORMER No.\n(T11, T12 etc)",null,null,null,null,null,null,null,null,null,null,{"$f":"IF(ISBLANK(BJ17),0,1)","v":0},null,null,null,{"$f":"AH17+BI17+SUM(BM26:BM61)+BM74","v":0}]
[]
[]
[]
[]
[null,null,null,null,null,null,null,null,null,null,null,null,null,null,null,null,null,"EXISTING CRMS INDAD",null,null,null,null,null,null,null,null,null,null,null,null,null,null,null,"NEW CRMS INDAD",null,null,null,null,null,null,null,null,null,null,null,null,null,null,null,"NMS REMOTE POINT NAME"]
[]
[null,null,null,null,null,null,null,null,null,null,null,null,null,null,null,null,null,null,null,null,null,null,null,null,null,null,null,null,null,null,null,null,null,null,null,null,null,null,null,null,null,null,null,null,null,null,null,null,null,null,null,null,null,null,null,null,null,null,null,null,null,null,null,null,null,null,"OTHER (PLEASE SPECIFY)"]
[]
[null,"SYSTEM TRANSFORMER (AUTO / NON AUTO)",null,null,null,null,null,null,null,null,null,null,null,null,null,null,{"$f":"IF(ISBLANK(R26),0,1)","v":0},null,null,null,null,null,null,null,null,null,null,null,null,null,null,null,{"$f":"IF(ISBLANK(AH26),0,1)","v":0},null,null,null,null,null,null,null,null,null,null,null,null,null,null,null,{"$f":"IF(ISBLANK(AX26),0,1)","v":0},null,null,null,null,null,null,null,null,null,null,null,null,null,null,null,{"$f":"Q26+AG26+AW26","v":0}]
[]
[]
[]
[null,"TAP CONTROL",null,null,null,null,null,null,null,null,null,null,null,null,null,null,{"$f":"IF(ISBLANK(R30),0,1)","v":0},null,null,null,null,null,null,null,null,null,null,null,null,null,null,null,{"$f":"IF(ISBLANK(AH30),0,1)","v":0},null,null,null,null,null,null,null,null,null,null,null,null,null,null,null,{"$f":"IF(ISBLANK(AX30),0,1)","v":0},null,null,null,null,null,null,null,null,null,null,null,null,null,null,null,{"$f":"Q30+AG30+AW30","v":0}]
[]
[]
[]
[null,"3% VOLTAGE REDUCTION",null,null,null,null,null,null,null,null,null,null,null,null,null,null,{"$f":"IF(ISBLANK(R34),0,1)","v":0},null,null,null,null,null,null,null,null,null,null,null,null,null,null,null,{"$f":"IF(ISBLANK(AH34),0,1)","v":0},null,null,null,null,null,null,null,null,null,null,null,null,null,null,null,{"$f":"IF(ISBLANK(AX34),0,1)","v":0},null,null,null,null,null,null,null,null,null,null,null,null,null,null,null,{"$f":"Q34+AG34+AW34","v":0}]
[]
[]
[]
[null,"6% VOLTAGE REDUCTION",null,null,null,null,null,null,null,null,null,null,null,null,null,null,{"$f":"IF(ISBLANK(R38),0,1)","v":0},null,null,null,null,null,null,null,null,null,null,null,null,null,null,null,{"$f":"IF(ISBLANK(AH38),0,1)","v":0},null,null,null,null,null,null,null,null,null,null,null,null,null,null,null,{"$f":"IF(ISBLANK(AX38),0,1)","v":0},null,null,null,null,null,null,null,null,null,null,null,null,null,null,null,{"$f":"Q38+AG38+AW38","v":0}]
[]
[]
[]
[null,"MWATT",null,null,null,null,null,null,null,null,null,null,null,null,null,null,{"$f":"IF(ISBLANK(R42),0,1)","v":0},null,null,null,null,null,null,null,null,null,null,null,null,null,null,null,{"$f":"IF(ISBLANK(AH42),0,1)","v":0},null,null,null,null,null,null,null,null,null,null,null,null,null,null,null,{"$f":"IF(ISBLANK(AX42),0,1)","v":0},null,null,null,null,null,null,null,null,null,null,null,null,null,null,null,{"$f":"Q42+AG42+AW42","v":0}]
[]
[]
[]
[null,"MVAR",null,null,null,null,null,null,null,null,null,null,null,null,null,null,{"$f":"IF(ISBLANK(R46),0,1)","v":0},null,null,null,null,null,null,null,null,null,null,null,null,null,null,null,{"$f":"IF(ISBLANK(AH46),0,1)","v":0},null,null,null,null,null,null,null,null,null,null,null,null,null,null,null,{"$f":"IF(ISBLANK(AX46),0,1)","v":0},null,null,null,null,null,null,null,null,null,null,null,null,null,null,null,{"$f":"Q46+AG46+AW46","v":0}]
[]
[]
[]
[null,"KVOLTS",null,null,null,null,null,null,null,null,null,null,null,null,null,null,{"$f":"IF(ISBLANK(R50),0,1)","v":0},null,null,null,null,null,null,null,null,null,null,null,null,null,null,null,{"$f":"IF(ISBLANK(AH50),0,1)","v":0},null,null,null,null,null,null,null,null,null,null,null,null,null,null,null,{"$f":"IF(ISBLANK(AX50),0,1)","v":0},null,null,null,null,null,null,null,null,null,null,null,null,null,null,null,{"$f":"Q50+AG50+AW50","v":0}]
[]
[]
[]
[null,"TAP POSITION",null,null,null,null,null,null,null,null,null,null,null,null,null,null,{"$f":"IF(ISBLANK(R54),0,1)","v":0},null,null,null,null,null,null,null,null,null,null,null,null,null,null,null,{"$f":"IF(ISBLANK(AH54),0,1)","v":0},null,null,null,null,null,null,null,null,null,null,null,null,null,null,null,{"$f":"IF(ISBLANK(AX54),0,1)","v":0},null,null,null,null,null,null,null,null,null,null,null,null,null,null,null,{"$f":"Q54+AG54+AW54","v":0}]
[]
[]
[]
[null,"TAP POSITION MAX",null,null,null,null,null,null,null,null,null,null,null,null,null,null,{"$f":"IF(ISBLANK(R58),0,1)","v":0},null,null,null,null,null,null,null,null,null,null,null,null,null,null,null,{"$f":"IF(ISBLANK(AH58),0,1)","v":0},null,null,null,null,null,null,null,null,null,null,null,null,null,null,null,{"$f":"IF(ISBLANK(AX58),0,1)","v":0},null,null,null,null,null,null,null,null,null,null,null,null,null,null,null,{"$f":"Q58+AG58+AW58","v":0}]
[]
[]
[]
[]
[]
[]
[]
[]
[]
[]
[]
[]
[]
[]
[]
[null,"ADDITIONAL INFORMATION",null,null,null,null,null,null,null,null,null,null,null,null,null,null,null,null,null,null,null,null,null,null,null,null,null,null,null,null,null,null,null,null,null,null,null,null,null,null,null,null,null,null,null,null,null,null,null,null,null,null,null,null,null,null,null,null,null,null,null,null,null,null,{"$f":"IF(B77=\"\",0,1)","v":0}]

{"sheet":"DOC 17","index":32,"n_rows":91,"n_cols":105,"rows_kept":91,"cut":false,"hidden":false,"merged":[[16,12,18,27],[16,28,18,30],[93,0,93,64],[30,0,32,0],[78,0,80,0],[81,0,83,0],[84,0,86,0],[87,0,89,0],[90,0,92,0],[63,0,65,0],[66,0,68,0],[69,0,71,0],[72,0,74,0],[75,0,77,0],[48,0,50,0],[51,0,53,0],[54,0,56,0],[57,0,59,0],[60,0,62,0],[33,0,35,0],[36,0,38,0],[39,0,41,0],[42,0,44,0],[45,0,47,0],[69,56,71,56],[69,35,71,35],[72,35,74,35],[75,35,77,35],[87,56,89,56],[90,56,92,56],[30,14,32,14],[30,35,32,35],[30,56,32,56],[72,56,74,56],[75,56,77,56],[78,56,80,56],[81,56,83,56],[84,56,86,56],[84,35,86,35],[78,25,80,34],[78,14,80,14],[57,25,59,34],[51,25,53,34],[45,25,47,34],[60,15,62,24],[60,25,62,34],[54,36,56,45],[54,46,56,55],[66,36,68,45],[66,46,68,55],[63,46,65,55],[60,36,62,45],[60,46,62,55],[33,56,35,56],[36,56,38,56],[39,56,41,56],[42,56,44,56],[45,56,47,56],[48,56,50,56],[51,56,53,56],[54,56,56,56],[57,56,59,56],[33,36,35,45],[33,46,35,55],[60,56,62,56],[63,56,65,56],[66,56,68,56],[87,46,89,55],[84,15,86,24],[84,25,86,34],[84,36,86,45],[84,46,86,55],[81,25,83,34],[81,36,83,45],[81,46,83,55],[87,35,89,35],[87,14,89,14],[81,35,83,35],[81,14,83,14],[84,14,86,14],[33,14,35,14],[36,14,38,14],[39,14,41,14],[42,14,44,14],[45,14,47,14],[48,14,50,14],[51,14,53,14],[54,14,56,14],[57,14,59,14],[48,35,50,35],[51,35,53,35],[54,35,56,35],[57,35,59,35],[78,35,80,35],[42,35,44,35],[45,35,47,35],[54,25,56,34],[33,35,35,35],[36,35,38,35],[39,35,41,35],[90,15,92,24],[90,25,92,34],[90,6,92,6],[90,7,92,7],[90,8,92,8],[90,9,92,9],[90,10,92,10],[90,36,92,45],[90,46,92,55],[90,14,92,14],[90,35,92,35],[90,1,92,1],[90,2,92,2],[90,3,92,3],[90,4,92,4],[90,5,92,5],[87,13,89,13],[87,15,89,24],[87,25,89,34],[87,36,89,45],[87,1,89,1],[87,2,89,2],[87,3,89,3],[87,4,89,4],[87,5,89,5],[87,6,89,6],[87,7,89,7],[87,8,89,8],[87,9,89,9],[87,10,89,10],[87,11,89,11],[87,12,89,12],[90,11,92,11],[90,12,92,12],[90,13,92,13],[84,1,86,1],[84,2,86,2],[84,3,86,3],[84,4,86,4],[84,5,86,5],[84,6,86,6],[84,7,86,7],[84,8,86,8],[84,9,86,9],[84,10,86,10],[84,11,86,11],[84,12,86,12],[84,13,86,13],[78,36,80,45],[78,46,80,55],[81,1,83,1],[81,2,83,2],[81,3,83,3],[81,4,83,4],[81,5,83,5],[81,6,83,6],[81,7,83,7],[81,8,83,8],[81,9,83,9],[81,10,83,10],[81,11,83,11],[81,12,83,12],[81,13,83,13],[81,15,83,24],[78,11,80,11],[78,12,80,12],[78,13,80,13],[78,15,80,24],[78,6,80,6],[78,7,80,7],[78,8,80,8],[78,9,80,9],[78,10,80,10],[78,1,80,1],[78,2,80,2],[78,3,80,3],[78,4,80,4],[78,5,80,5],[75,13,77,13],[75,15,77,24],[75,25,77,34],[75,36,77,45],[75,46,77,55],[75,14,77,14],[72,15,74,24],[72,25,74,34],[72,36,74,45],[72,46,74,55],[72,14,74,14],[75,1,77,1],[75,2,77,2],[75,3,77,3],[75,4,77,4],[75,5,77,5],[75,6,77,6],[75,7,77,7],[75,8,77,8],[75,9,77,9],[75,10,77,10],[75,11,77,11],[75,12,77,12],[69,25,71,34],[69,36,71,45],[69,46,71,55],[72,1,74,1],[72,2,74,2],[72,3,74,3],[72,4,74,4],[72,5,74,5],[72,6,74,6],[72,7,74,7],[72,8,74,8],[72,9,74,9],[72,10,74,10],[72,11,74,11],[72,12,74,12],[72,13,74,13],[69,1,71,1],[69,2,71,2],[69,3,71,3],[69,4,71,4],[69,5,71,5],[69,6,71,6],[69,7,71,7],[69,8,71,8],[69,9,71,9],[69,10,71,10],[69,11,71,11],[69,12,71,12],[69,13,71,13],[69,15,71,24],[69,14,71,14],[66,1,68,1],[66,2,68,2],[66,3,68,3],[66,4,68,4],[66,5,68,5],[63,13,65,13],[63,15,65,24],[63,25,65,34],[63,36,65,45],[66,11,68,11],[66,12,68,12],[66,13,68,13],[66,15,68,24],[66,25,68,34],[66,6,68,6],[66,7,68,7],[66,8,68,8],[66,9,68,9],[66,10,68,10],[63,14,65,14],[66,14,68,14],[63,35,65,35],[66,35,68,35],[63,1,65,1],[63,2,65,2],[63,3,65,3],[63,4,65,4],[63,5,65,5],[63,6,65,6],[63,7,65,7],[63,8,65,8],[63,9,65,9],[63,10,65,10],[63,11,65,11],[63,12,65,12],[60,14,62,14],[60,35,62,35],[57,36,59,45],[57,46,59,55],[60,1,62,1],[60,2,62,2],[60,3,62,3],[60,4,62,4],[60,5,62,5],[60,6,62,6],[60,7,62,7],[60,8,62,8],[60,9,62,9],[60,10,62,10],[60,11,62,11],[60,12,62,12],[60,13,62,13],[57,1,59,1],[57,2,59,2],[57,3,59,3],[57,4,59,4],[57,5,59,5],[57,11,59,11],[57,12,59,12],[57,13,59,13],[57,15,59,24],[54,1,56,1],[54,2,56,2],[54,3,56,3],[54,4,56,4],[54,5,56,5],[54,11,56,11],[54,12,56,12],[54,13,56,13],[54,15,56,24],[54,6,56,6],[54,7,56,7],[54,8,56,8],[54,9,56,9],[54,10,56,10],[57,6,59,6],[57,7,59,7],[57,8,59,8],[57,9,59,9],[57,10,59,10],[51,1,53,1],[51,2,53,2],[51,3,53,3],[51,4,53,4],[51,5,53,5],[51,6,53,6],[51,7,53,7],[51,8,53,8],[51,9,53,9],[48,10,50,10],[48,11,50,11],[48,12,50,12],[48,13,50,13],[51,36,53,45],[51,46,53,55],[48,15,50,24],[48,25,50,34],[48,36,50,45],[48,46,50,55],[51,10,53,10],[51,11,53,11],[51,12,53,12],[51,13,53,13],[51,15,53,24],[48,1,50,1],[48,2,50,2],[48,3,50,3],[48,4,50,4],[48,5,50,5],[48,6,50,6],[48,7,50,7],[48,8,50,8],[48,9,50,9],[42,10,44,10],[42,11,44,11],[42,12,44,12],[42,13,44,13],[42,15,44,24],[42,25,44,34],[42,36,44,45],[42,46,44,55],[45,1,47,1],[45,2,47,2],[45,3,47,3],[45,4,47,4],[45,5,47,5],[45,6,47,6],[45,7,47,7],[45,8,47,8],[45,9,47,9],[45,10,47,10],[45,11,47,11],[45,12,47,12],[45,13,47,13],[45,15,47,24],[45,36,47,45],[45,46,47,55],[42,1,44,1],[42,2,44,2],[42,3,44,3],[42,4,44,4],[42,5,44,5],[42,6,44,6],[42,7,44,7],[42,8,44,8],[42,9,44,9],[39,10,41,10],[39,11,41,11],[39,12,41,12],[39,13,41,13],[39,36,41,45],[39,46,41,55],[36,11,38,11],[36,12,38,12],[36,13,38,13],[39,1,41,1],[39,2,41,2],[39,3,41,3],[39,4,41,4],[39,5,41,5],[39,6,41,6],[39,7,41,7],[39,8,41,8],[39,9,41,9],[20,36,22,55],[23,36,32,45],[23,46,32,55],[39,25,41,34],[30,15,32,24],[30,25,32,34],[33,15,35,24],[33,25,35,34],[36,15,38,24],[36,25,38,34],[20,15,22,34],[23,15,29,24],[23,25,29,34],[39,15,41,24],[36,36,38,45],[36,46,38,55],[33,12,35,12],[33,13,35,13],[36,1,38,1],[33,6,35,6],[33,7,35,7],[33,8,35,8],[33,9,35,9],[33,10,35,10],[33,1,35,1],[33,2,35,2],[33,3,35,3],[36,2,38,2],[36,3,38,3],[36,4,38,4],[36,5,38,5],[36,6,38,6],[36,7,38,7],[36,8,38,8],[36,9,38,9],[36,10,38,10],[33,4,35,4],[33,5,35,5],[33,11,35,11],[1,52,6,63],[2,104,4,104],[3,76,5,79],[0,76,2,77],[0,78,2,79],[0,104,1,104],[4,24,6,27],[4,28,6,38],[4,39,6,42],[4,43,6,47],[5,104,7,104],[7,1,7,63],[1,1,6,11],[1,12,6,22],[1,24,3,27],[1,28,3,38],[1,39,3,42],[1,43,3,47],[1,49,6,51],[30,66,32,70],[30,71,32,78],[33,66,35,70],[33,71,35,78],[12,64,14,64],[16,64,18,64],[8,54,10,63],[8,1,10,5],[8,6,10,22],[8,24,10,28],[8,49,10,53],[12,1,14,63],[15,1,15,63],[14,66,16,78],[23,66,25,78],[27,66,29,70],[27,71,29,78],[16,44,18,63],[16,1,18,10],[16,11,18,11],[16,31,18,31],[16,33,18,42],[8,29,10,47],[20,1,32,13]]}
[null,null,null,null,null,null,null,null,null,null,null,null,null,null,null,null,null,null,null,null,null,null,null,null,null,null,null,null,null,null,null,null,null,null,null,null,null,null,null,null,null,null,null,null,null,null,null,null,null,null,null,null,null,null,null,null,null,null,null,null,null,null,null,null,null,null,null,null,null,null,null,null,null,null,null,null,{"$f":"BM17","v":0},null,{"$f":"BM13","v":0},null,null,null,null,null,null,null,null,null,null,null,null,null,null,null,null,null,null,null,null,null,null,null,null,null,"PRINT?"]
[null,null,null,null,null,null,null,null,null,null,null,null,"DOC 17",null,null,null,null,null,null,null,null,null,null,null,"ENGINEER",null,null,null,{"$f":"SAR!$K$13","v":""},null,null,null,null,null,null,null,null,null,null,"VOLTAGE",null,null,null,{"$f":"SAR!$K$36","v":0},null,null,null,null,null,"SATS",null,null,{"$f":"SAR!$BA$2","v":0}]
[null,null,null,null,null,null,null,null,null,null,null,null,null,null,null,null,null,null,null,null,null,null,null,null,null,null,null,null,null,null,null,null,null,null,null,null,null,null,null,null,null,null,null,null,null,null,null,null,null,null,null,null,null,null,null,null,null,null,null,null,null,null,null,null,null,null,null,null,null,null,null,null,null,null,null,null,null,null,null,null,null,null,null,null,null,null,null,null,null,null,null,null,null,null,null,null,null,null,null,null,null,null,null,null,{"$f":"IF(BY1=0,\"\",\"Y\")","v":""}]
[null,null,null,null,null,null,null,null,null,null,null,null,null,null,null,null,null,null,null,null,null,null,null,null,null,null,null,null,null,null,null,null,null,null,null,null,null,null,null,null,null,null,null,null,null,null,null,null,null,null,null,null,null,null,null,null,null,null,null,null,null,null,null,null,null,null,null,null,null,null,null,null,null,null,null,null,{"$f":"BY1/CA1","v":{"$error":"#DIV/0!"}}]
[null,null,null,null,null,null,null,null,null,null,null,null,null,null,null,null,null,null,null,null,null,null,null,null,"AREA",null,null,null,{"$f":"SAR!$K$39","v":0},null,null,null,null,null,null,null,null,null,null,"PROJECT DATE",null,null,null,{"$f":"SAR!$K$42","v":"00:00:00"}]
[]
[]
[]
[null,"PRIMARY SUBSTATION ",null,null,null,null,{"$f":"SAR!$K$45","v":0},null,null,null,null,null,null,null,null,null,null,null,null,null,null,null,null,null,"DISTRIBUTION SUBSTATION ",null,null,null,null,{"$f":"SAR!$K$30","v":0},null,null,null,null,null,null,null,null,null,null,null,null,null,null,null,null,null,null,null,"PLANT REF",null,null,null,null,{"$f":"SAR!$K$33","v":0}]
[]
[]
[]
[null,"SERVICE POINTS",null,null,null,null,null,null,null,null,null,null,null,null,null,null,null,null,null,null,null,null,null,null,null,null,null,null,null,null,null,null,null,null,null,null,null,null,null,null,null,null,null,null,null,null,null,null,null,null,null,null,null,null,null,null,null,null,null,null,null,null,null,null,{"$f":"IF(A31=0,0,1+A31)","v":0}]
[]
[null,null,null,null,null,null,null,null,null,null,null,null,null,null,null,null,null,null,null,null,null,null,null,null,null,null,null,null,null,null,null,null,null,null,null,null,null,null,null,null,null,null,null,null,null,null,null,null,null,null,null,null,null,null,null,null,null,null,null,null,null,null,null,null,null,null,"DOC QUICK LINK"]
[]
[null,"COMMISSIONING DRIVER",null,null,null,null,null,null,null,null,null,{"$f":"IF(M17=\"\",0,1)","v":0},null,null,null,null,null,null,null,null,null,null,null,null,null,null,null,null,{"$f":"IFERROR(VLOOKUP(M17,CODES!$A$5:$B$36,2,FALSE),\"\")","v":""},null,null,null,null,"PROJECT CODE",null,null,null,null,null,null,null,null,null,null,{"$f":"SAR!J78","v":""},null,null,null,null,null,null,null,null,null,null,null,null,null,null,null,null,null,null,null,{"$f":"SUM(L17,O31,AJ31,BE31)","v":0}]
[]
[]
[]
[null,"MPAN",null,null,null,null,null,null,null,null,null,null,null,null,null,"ATTRIBUTES",null,null,null,null,null,null,null,null,null,null,null,null,null,null,null,null,null,null,null,null,"CAPACITY"]
[]
[]
[null,null,null,null,null,null,null,null,null,null,null,null,null,null,null,"PHASE CONNECTION",null,null,null,null,null,null,null,null,null,"SERVICE POINT CONSTRUCTION",null,null,null,null,null,null,null,null,null,null,"EV CHARGING CAPACITY (kV)",null,null,null,null,null,null,null,null,null,"HEAT PUMP CAPACITY (kV)",null,null,null,null,null,null,null,null,null,null,null,null,null,null,null,null,null,null,null,"OTHER (PLEASE SPECIFY)"]
[]
[]
[]
[]
[]
[]
[{"$f":"SUM(A34:A93)","v":0},null,null,null,null,null,null,null,null,null,null,null,null,null,{"$f":"SUM(O34:O93)","v":0},"i",null,null,null,null,null,null,null,null,null,"i",null,null,null,null,null,null,null,null,null,{"$f":"SUM(AJ34:AJ93)","v":0},null,null,null,null,null,null,null,null,null,null,null,null,null,null,null,null,null,null,null,null,{"$f":"SUM(BE34:BE93)","v":0}]
[]
[]
[{"$f":"IF(ISBLANK(B34),0,5)","v":0},null,null,null,null,null,null,null,null,null,null,null,null,null,{"$f":"IF(ISBLANK(B34),0,1)","v":0},null,null,null,null,null,null,null,null,null,null,null,null,null,null,null,null,null,null,null,null,{"$f":"COUNTA(P34,Z34)","v":0},null,null,null,null,null,null,null,null,null,null,null,null,null,null,null,null,null,null,null,null,{"$f":"COUNTA(AK34,AU34)","v":0}]
[]
[]
[{"$f":"IF(ISBLANK(B37),0,5)","v":0},null,null,null,null,null,null,null,null,null,null,null,null,null,{"$f":"IF(ISBLANK(B37),0,1)","v":0},null,null,null,null,null,null,null,null,null,null,null,null,null,null,null,null,null,null,null,null,{"$f":"COUNTA(P37,Z37)","v":0},null,null,null,null,null,null,null,null,null,null,null,null,null,null,null,null,null,null,null,null,{"$f":"COUNTA(AK37,AU37)","v":0}]
[]
[]
[{"$f":"IF(ISBLANK(B40),0,5)","v":0},null,null,null,null,null,null,null,null,null,null,null,null,null,{"$f":"IF(ISBLANK(B40),0,1)","v":0},null,null,null,null,null,null,null,null,null,null,null,null,null,null,null,null,null,null,null,null,{"$f":"COUNTA(P40,Z40)","v":0},null,null,null,null,null,null,null,null,null,null,null,null,null,null,null,null,null,null,null,null,{"$f":"COUNTA(AK40,AU40)","v":0}]
[]
[]
[{"$f":"IF(ISBLANK(B43),0,5)","v":0},null,null,null,null,null,null,null,null,null,null,null,null,null,{"$f":"IF(ISBLANK(B43),0,1)","v":0},null,null,null,null,null,null,null,null,null,null,null,null,null,null,null,null,null,null,null,null,{"$f":"COUNTA(P43,Z43)","v":0},null,null,null,null,null,null,null,null,null,null,null,null,null,null,null,null,null,null,null,null,{"$f":"COUNTA(AK43,AU43)","v":0}]
[]
[]
[{"$f":"IF(ISBLANK(B46),0,5)","v":0},null,null,null,null,null,null,null,null,null,null,null,null,null,{"$f":"IF(ISBLANK(B46),0,1)","v":0},null,null,null,null,null,null,null,null,null,null,null,null,null,null,null,null,null,null,null,null,{"$f":"COUNTA(P46,Z46)","v":0},null,null,null,null,null,null,null,null,null,null,null,null,null,null,null,null,null,null,null,null,{"$f":"COUNTA(AK46,AU46)","v":0}]
[]
[]
[{"$f":"IF(ISBLANK(B49),0,5)","v":0},null,null,null,null,null,null,null,null,null,null,null,null,null,{"$f":"IF(ISBLANK(B49),0,1)","v":0},null,null,null,null,null,null,null,null,null,null,null,null,null,null,null,null,null,null,null,null,{"$f":"COUNTA(P49,Z49)","v":0},null,null,null,null,null,null,null,null,null,null,null,null,null,null,null,null,null,null,null,null,{"$f":"COUNTA(AK49,AU49)","v":0}]
[]
[]
[{"$f":"IF(ISBLANK(B52),0,5)","v":0},null,null,null,null,null,null,null,null,null,null,null,null,null,{"$f":"IF(ISBLANK(B52),0,1)","v":0},null,null,null,null,null,null,null,null,null,null,null,null,null,null,null,null,null,null,null,null,{"$f":"COUNTA(P52,Z52)","v":0},null,null,null,null,null,null,null,null,null,null,null,null,null,null,null,null,null,null,null,null,{"$f":"COUNTA(AK52,AU52)","v":0}]
[]
[]
[{"$f":"IF(ISBLANK(B55),0,5)","v":0},null,null,null,null,null,null,null,null,null,null,null,null,null,{"$f":"IF(ISBLANK(B55),0,1)","v":0},null,null,null,null,null,null,null,null,null,null,null,null,null,null,null,null,null,null,null,null,{"$f":"COUNTA(P55,Z55)","v":0},null,null,null,null,null,null,null,null,null,null,null,null,null,null,null,null,null,null,null,null,{"$f":"COUNTA(AK55,AU55)","v":0}]
[]
[]
[{"$f":"IF(ISBLANK(B58),0,5)","v":0},null,null,null,null,null,null,null,null,null,null,null,null,null,{"$f":"IF(ISBLANK(B58),0,1)","v":0},null,null,null,null,null,null,null,null,null,null,null,null,null,null,null,null,null,null,null,null,{"$f":"COUNTA(P58,Z58)","v":0},null,null,null,null,null,null,null,null,null,null,null,null,null,null,null,null,null,null,null,null,{"$f":"COUNTA(AK58,AU58)","v":0}]
[]
[]
[{"$f":"IF(ISBLANK(B61),0,5)","v":0},null,null,null,null,null,null,null,null,null,null,null,null,null,{"$f":"IF(ISBLANK(B61),0,1)","v":0},null,null,null,null,null,null,null,null,null,null,null,null,null,null,null,null,null,null,null,null,{"$f":"COUNTA(P61,Z61)","v":0},null,null,null,null,null,null,null,null,null,null,null,null,null,null,null,null,null,null,null,null,{"$f":"COUNTA(AK61,AU61)","v":0}]
[]
[]
[{"$f":"IF(ISBLANK(B64),0,5)","v":0},null,null,null,null,null,null,null,null,null,null,null,null,null,{"$f":"IF(ISBLANK(B64),0,1)","v":0},null,null,null,null,null,null,null,null,null,null,null,null,null,null,null,null,null,null,null,null,{"$f":"COUNTA(P64,Z64)","v":0},null,null,null,null,null,null,null,null,null,null,null,null,null,null,null,null,null,null,null,null,{"$f":"COUNTA(AK64,AU64)","v":0}]
[]
[]
[{"$f":"IF(ISBLANK(B67),0,5)","v":0},null,null,null,null,null,null,null,null,null,null,null,null,null,{"$f":"IF(ISBLANK(B67),0,1)","v":0},null,null,null,null,null,null,null,null,null,null,null,null,null,null,null,null,null,null,null,null,{"$f":"COUNTA(P67,Z67)","v":0},null,null,null,null,null,null,null,null,null,null,null,null,null,null,null,null,null,null,null,null,{"$f":"COUNTA(AK67,AU67)","v":0}]
[]
[]
[{"$f":"IF(ISBLANK(B70),0,5)","v":0},null,null,null,null,null,null,null,null,null,null,null,null,null,{"$f":"IF(ISBLANK(B70),0,1)","v":0},null,null,null,null,null,null,null,null,null,null,null,null,null,null,null,null,null,null,null,null,{"$f":"COUNTA(P70,Z70)","v":0},null,null,null,null,null,null,null,null,null,null,null,null,null,null,null,null,null,null,null,null,{"$f":"COUNTA(AK70,AU70)","v":0}]
[]
[]
[{"$f":"IF(ISBLANK(B73),0,5)","v":0},null,null,null,null,null,null,null,null,null,null,null,null,null,{"$f":"IF(ISBLANK(B73),0,1)","v":0},null,null,null,null,null,null,null,null,null,null,null,null,null,null,null,null,null,null,null,null,{"$f":"COUNTA(P73,Z73)","v":0},null,null,null,null,null,null,null,null,null,null,null,null,null,null,null,null,null,null,null,null,{"$f":"COUNTA(AK73,AU73)","v":0}]
[]
[]
[{"$f":"IF(ISBLANK(B76),0,5)","v":0},null,null,null,null,null,null,null,null,null,null,null,null,null,{"$f":"IF(ISBLANK(B76),0,1)","v":0},null,null,null,null,null,null,null,null,null,null,null,null,null,null,null,null,null,null,null,null,{"$f":"COUNTA(P76,Z76)","v":0},null,null,null,null,null,null,null,null,null,null,null,null,null,null,null,null,null,null,null,null,{"$f":"COUNTA(AK76,AU76)","v":0}]
[]
[]
[{"$f":"IF(ISBLANK(B79),0,5)","v":0},null,null,null,null,null,null,null,null,null,null,null,null,null,{"$f":"IF(ISBLANK(B79),0,1)","v":0},null,null,null,null,null,null,null,null,null,null,null,null,null,null,null,null,null,null,null,null,{"$f":"COUNTA(P79,Z79)","v":0},null,null,null,null,null,null,null,null,null,null,null,null,null,null,null,null,null,null,null,null,{"$f":"COUNTA(AK79,AU79)","v":0}]
[]
[]
[{"$f":"IF(ISBLANK(B82),0,5)","v":0},null,null,null,null,null,null,null,null,null,null,null,null,null,{"$f":"IF(ISBLANK(B82),0,1)","v":0},null,null,null,null,null,null,null,null,null,null,null,null,null,null,null,null,null,null,null,null,{"$f":"COUNTA(P82,Z82)","v":0},null,null,null,null,null,null,null,null,null,null,null,null,null,null,null,null,null,null,null,null,{"$f":"COUNTA(AK82,AU82)","v":0}]
[]
[]
[{"$f":"IF(ISBLANK(B85),0,5)","v":0},null,null,null,null,null,null,null,null,null,null,null,null,null,{"$f":"IF(ISBLANK(B85),0,1)","v":0},null,null,null,null,null,null,null,null,null,null,null,null,null,null,null,null,null,null,null,null,{"$f":"COUNTA(P85,Z85)","v":0},null,null,null,null,null,null,null,null,null,null,null,null,null,null,null,null,null,null,null,null,{"$f":"COUNTA(AK85,AU85)","v":0}]
[]
[]
[{"$f":"IF(ISBLANK(B88),0,5)","v":0},null,null,null,null,null,null,null,null,null,null,null,null,null,{"$f":"IF(ISBLANK(B88),0,1)","v":0},null,null,null,null,null,null,null,null,null,null,null,null,null,null,null,null,null,null,null,null,{"$f":"COUNTA(P88,Z88)","v":0},null,null,null,null,null,null,null,null,null,null,null,null,null,null,null,null,null,null,null,null,{"$f":"COUNTA(AK88,AU88)","v":0}]
[]
[]
[{"$f":"IF(ISBLANK(B91),0,5)","v":0},null,null,null,null,null,null,null,null,null,null,null,null,null,{"$f":"IF(ISBLANK(B91),0,1)","v":0},null,null,null,null,null,null,null,null,null,null,null,null,null,null,null,null,null,null,null,null,{"$f":"COUNTA(P91,Z91)","v":0},null,null,null,null,null,null,null,null,null,null,null,null,null,null,null,null,null,null,null,null,{"$f":"COUNTA(AK91,AU91)","v":0}]

{"sheet":"DOC 18","index":33,"n_rows":94,"n_cols":105,"rows_kept":94,"cut":false,"hidden":false,"merged":[[83,22,85,42],[83,43,85,63],[86,64,88,64],[16,64,18,64],[68,64,70,64],[38,64,40,64],[41,64,43,64],[20,64,22,64],[71,64,73,64],[74,64,76,64],[77,64,79,64],[80,64,82,64],[83,64,85,64],[44,64,46,64],[47,64,49,64],[50,64,52,64],[53,64,55,64],[56,64,58,64],[59,64,61,64],[62,64,64,64],[65,64,67,64],[74,22,76,42],[74,43,76,63],[17,22,19,42],[12,64,14,64],[23,64,25,64],[26,64,28,64],[29,64,31,64],[32,64,34,64],[35,64,37,64],[59,0,61,0],[62,0,64,0],[65,0,67,0],[41,0,43,0],[44,0,46,0],[47,0,49,0],[50,0,52,0],[53,0,55,0],[56,0,58,0],[56,22,58,42],[56,43,58,63],[59,1,61,21],[59,22,61,42],[59,43,61,63],[62,1,64,21],[62,22,64,42],[62,43,64,63],[17,1,19,21],[86,1,88,21],[86,22,88,42],[86,43,88,63],[77,1,79,21],[77,22,79,42],[77,43,79,63],[20,1,22,21],[20,22,22,42],[20,43,22,63],[23,1,25,21],[23,22,25,42],[23,43,25,63],[38,1,40,21],[38,22,40,42],[38,43,40,63],[68,22,70,42],[68,43,70,63],[74,1,76,21],[41,1,43,21],[41,22,43,42],[41,43,43,63],[44,1,46,21],[29,22,31,42],[29,43,31,63],[17,43,19,63],[53,1,55,21],[53,22,55,42],[53,43,55,63],[56,1,58,21],[71,1,73,21],[71,22,73,42],[71,43,73,63],[32,1,34,21],[32,22,34,42],[44,22,46,42],[44,43,46,63],[47,1,49,21],[47,22,49,42],[47,43,49,63],[50,1,52,21],[50,22,52,42],[50,43,52,63],[32,43,34,63],[35,1,37,21],[35,22,37,42],[35,43,37,63],[1,43,3,47],[34,66,36,70],[34,71,36,78],[93,1,93,63],[12,1,14,63],[15,1,15,63],[15,66,17,78],[24,66,26,78],[28,66,30,70],[28,71,30,78],[31,66,33,70],[31,71,33,78],[26,1,28,21],[26,22,28,42],[26,43,28,63],[29,1,31,21],[80,1,82,21],[80,22,82,42],[80,43,82,63],[83,1,85,21],[65,1,67,21],[65,22,67,42],[65,43,67,63],[68,1,70,21],[1,49,6,51],[8,1,10,5],[8,6,10,22],[8,24,10,28],[8,29,10,47],[8,49,10,53],[8,54,10,63],[1,52,6,63],[2,104,4,104],[3,76,5,79],[4,24,6,27],[4,28,6,38],[4,39,6,42],[4,43,6,47],[5,104,7,104],[7,1,7,63],[0,76,2,77],[0,78,2,79],[0,104,1,104],[1,1,6,11],[1,12,6,22],[1,24,3,27],[1,28,3,38],[1,39,3,42],[86,0,88,0],[20,0,22,0],[23,0,25,0],[26,0,28,0],[29,0,31,0],[32,0,34,0],[35,0,37,0],[38,0,40,0],[77,0,79,0],[80,0,82,0],[83,0,85,0],[68,0,70,0],[71,0,73,0],[74,0,76,0]]}
[null,null,null,null,null,null,null,null,null,null,null,null,null,null,null,null,null,null,null,null,null,null,null,null,null,null,null,null,null,null,null,null,null,null,null,null,null,null,null,null,null,null,null,null,null,null,null,null,null,null,null,null,null,null,null,null,null,null,null,null,null,null,null,null,null,null,null,null,null,null,null,null,null,null,null,null,{"$f":"BM17","v":0},null,{"$f":"BM13","v":1},null,null,null,null,null,null,null,null,null,null,null,null,null,null,null,null,null,null,null,null,null,null,null,null,null,"PRINT?"]
[null,null,null,null,null,null,null,null,null,null,null,null,"DOC 18",null,null,null,null,null,null,null,null,null,null,null,"ENGINEER",null,null,null,{"$f":"SAR!$K$13","v":""},null,null,null,null,null,null,null,null,null,null,"VOLTAGE",null,null,null,{"$f":"SAR!$K$36","v":0},null,null,null,null,null,"SATS",null,null,{"$f":"SAR!$BA$2","v":0}]
[null,null,null,null,null,null,null,null,null,null,null,null,null,null,null,null,null,null,null,null,null,null,null,null,null,null,null,null,null,null,null,null,null,null,null,null,null,null,null,null,null,null,null,null,null,null,null,null,null,null,null,null,null,null,null,null,null,null,null,null,null,null,null,null,null,null,null,null,null,null,null,null,null,null,null,null,null,null,null,null,null,null,null,null,null,null,null,null,null,null,null,null,null,null,null,null,null,null,null,null,null,null,null,null,{"$f":"IF(BY1=0,\"\",\"Y\")","v":""}]
[null,null,null,null,null,null,null,null,null,null,null,null,null,null,null,null,null,null,null,null,null,null,null,null,null,null,null,null,null,null,null,null,null,null,null,null,null,null,null,null,null,null,null,null,null,null,null,null,null,null,null,null,null,null,null,null,null,null,null,null,null,null,null,null,null,null,null,null,null,null,null,null,null,null,null,null,{"$f":"BY1/CA1","v":0}]
[null,null,null,null,null,null,null,null,null,null,null,null,null,null,null,null,null,null,null,null,null,null,null,null,"AREA",null,null,null,{"$f":"SAR!$K$39","v":0},null,null,null,null,null,null,null,null,null,null,"PROJECT DATE",null,null,null,{"$f":"SAR!$K$42","v":"00:00:00"}]
[]
[]
[]
[null,"PRIMARY SUBSTATION ",null,null,null,null,{"$f":"SAR!$K$45","v":0},null,null,null,null,null,null,null,null,null,null,null,null,null,null,null,null,null,"DISTRIBUTION SUBSTATION ",null,null,null,null,{"$f":"SAR!$K$30","v":0},null,null,null,null,null,null,null,null,null,null,null,null,null,null,null,null,null,null,null,"PLANT REF",null,null,null,null,{"$f":"SAR!$K$33","v":0}]
[]
[]
[]
[null,"SWITCH LABELS (SWITCHES AT OTHER SITES NEEDING RE-NAMING AS A RESULT OF NETWORK CHANGES)",null,null,null,null,null,null,null,null,null,null,null,null,null,null,null,null,null,null,null,null,null,null,null,null,null,null,null,null,null,null,null,null,null,null,null,null,null,null,null,null,null,null,null,null,null,null,null,null,null,null,null,null,null,null,null,null,null,null,null,null,null,null,{"$f":"(SUM(A21:A89)*3)+1","v":1}]
[]
[]
[null,null,null,null,null,null,null,null,null,null,null,null,null,null,null,null,null,null,null,null,null,null,null,null,null,null,null,null,null,null,null,null,null,null,null,null,null,null,null,null,null,null,null,null,null,null,null,null,null,null,null,null,null,null,null,null,null,null,null,null,null,null,null,null,null,null,"DOC QUICK LINK"]
[null,null,null,null,null,null,null,null,null,null,null,null,null,null,null,null,null,null,null,null,null,null,null,null,null,null,null,null,null,null,null,null,null,null,null,null,null,null,null,null,null,null,null,null,null,null,null,null,null,null,null,null,null,null,null,null,null,null,null,null,null,null,null,null,{"$f":"SUM(BM20:BM89)","v":0}]
[null,"SUBSTATION",null,null,null,null,null,null,null,null,null,null,null,null,null,null,null,null,null,null,null,null,"SWITCH NUMBER",null,null,null,null,null,null,null,null,null,null,null,null,null,null,null,null,null,null,null,null,"NEW SWITCH NAME"]
[]
[]
[{"$f":"IF(ISBLANK(B21),0,1)","v":0},null,null,null,null,null,null,null,null,null,null,null,null,null,null,null,null,null,null,null,null,null,null,null,null,null,null,null,null,null,null,null,null,null,null,null,null,null,null,null,null,null,null,null,null,null,null,null,null,null,null,null,null,null,null,null,null,null,null,null,null,null,null,null,{"$f":"COUNTA(B21:BL23)","v":0}]
[]
[]
[{"$f":"IF(ISBLANK(B24),0,1)","v":0},null,null,null,null,null,null,null,null,null,null,null,null,null,null,null,null,null,null,null,null,null,null,null,null,null,null,null,null,null,null,null,null,null,null,null,null,null,null,null,null,null,null,null,null,null,null,null,null,null,null,null,null,null,null,null,null,null,null,null,null,null,null,null,{"$f":"COUNTA(B24:BL26)","v":0}]
[null,null,null,null,null,null,null,null,null,null,null,null,null,null,null,null,null,null,null,null,null,null,null,null,null,null,null,null,null,null,null,null,null,null,null,null,null,null,null,null,null,null,null,null,null,null,null,null,null,null,null,null,null,null,null,null,null,null,null,null,null,null,null,null,null,null,"OTHER (PLEASE SPECIFY)"]
[]
[{"$f":"IF(ISBLANK(B27),0,1)","v":0},null,null,null,null,null,null,null,null,null,null,null,null,null,null,null,null,null,null,null,null,null,null,null,null,null,null,null,null,null,null,null,null,null,null,null,null,null,null,null,null,null,null,null,null,null,null,null,null,null,null,null,null,null,null,null,null,null,null,null,null,null,null,null,{"$f":"COUNTA(B27:BL29)","v":0}]
[]
[]
[{"$f":"IF(ISBLANK(B30),0,1)","v":0},null,null,null,null,null,null,null,null,null,null,null,null,null,null,null,null,null,null,null,null,null,null,null,null,null,null,null,null,null,null,null,null,null,null,null,null,null,null,null,null,null,null,null,null,null,null,null,null,null,null,null,null,null,null,null,null,null,null,null,null,null,null,null,{"$f":"COUNTA(B30:BL32)","v":0}]
[]
[]
[{"$f":"IF(ISBLANK(B33),0,1)","v":0},null,null,null,null,null,null,null,null,null,null,null,null,null,null,null,null,null,null,null,null,null,null,null,null,null,null,null,null,null,null,null,null,null,null,null,null,null,null,null,null,null,null,null,null,null,null,null,null,null,null,null,null,null,null,null,null,null,null,null,null,null,null,null,{"$f":"COUNTA(B33:BL35)","v":0}]
[]
[]
[{"$f":"IF(ISBLANK(B36),0,1)","v":0},null,null,null,null,null,null,null,null,null,null,null,null,null,null,null,null,null,null,null,null,null,null,null,null,null,null,null,null,null,null,null,null,null,null,null,null,null,null,null,null,null,null,null,null,null,null,null,null,null,null,null,null,null,null,null,null,null,null,null,null,null,null,null,{"$f":"COUNTA(B36:BL38)","v":0}]
[]
[]
[{"$f":"IF(ISBLANK(B39),0,1)","v":0},null,null,null,null,null,null,null,null,null,null,null,null,null,null,null,null,null,null,null,null,null,null,null,null,null,null,null,null,null,null,null,null,null,null,null,null,null,null,null,null,null,null,null,null,null,null,null,null,null,null,null,null,null,null,null,null,null,null,null,null,null,null,null,{"$f":"COUNTA(B39:BL41)","v":0}]
[]
[]
[{"$f":"IF(ISBLANK(B42),0,1)","v":0},null,null,null,null,null,null,null,null,null,null,null,null,null,null,null,null,null,null,null,null,null,null,null,null,null,null,null,null,null,null,null,null,null,null,null,null,null,null,null,null,null,null,null,null,null,null,null,null,null,null,null,null,null,null,null,null,null,null,null,null,null,null,null,{"$f":"COUNTA(B42:BL44)","v":0}]
[]
[]
[{"$f":"IF(ISBLANK(B45),0,1)","v":0},null,null,null,null,null,null,null,null,null,null,null,null,null,null,null,null,null,null,null,null,null,null,null,null,null,null,null,null,null,null,null,null,null,null,null,null,null,null,null,null,null,null,null,null,null,null,null,null,null,null,null,null,null,null,null,null,null,null,null,null,null,null,null,{"$f":"COUNTA(B45:BL47)","v":0}]
[]
[]
[{"$f":"IF(ISBLANK(B48),0,1)","v":0},null,null,null,null,null,null,null,null,null,null,null,null,null,null,null,null,null,null,null,null,null,null,null,null,null,null,null,null,null,null,null,null,null,null,null,null,null,null,null,null,null,null,null,null,null,null,null,null,null,null,null,null,null,null,null,null,null,null,null,null,null,null,null,{"$f":"COUNTA(B48:BL50)","v":0}]
[]
[]
[{"$f":"IF(ISBLANK(B51),0,1)","v":0},null,null,null,null,null,null,null,null,null,null,null,null,null,null,null,null,null,null,null,null,null,null,null,null,null,null,null,null,null,null,null,null,null,null,null,null,null,null,null,null,null,null,null,null,null,null,null,null,null,null,null,null,null,null,null,null,null,null,null,null,null,null,null,{"$f":"COUNTA(B51:BL53)","v":0}]
[]
[]
[{"$f":"IF(ISBLANK(B54),0,1)","v":0},null,null,null,null,null,null,null,null,null,null,null,null,null,null,null,null,null,null,null,null,null,null,null,null,null,null,null,null,null,null,null,null,null,null,null,null,null,null,null,null,null,null,null,null,null,null,null,null,null,null,null,null,null,null,null,null,null,null,null,null,null,null,null,{"$f":"COUNTA(B54:BL56)","v":0}]
[]
[]
[{"$f":"IF(ISBLANK(B57),0,1)","v":0},null,null,null,null,null,null,null,null,null,null,null,null,null,null,null,null,null,null,null,null,null,null,null,null,null,null,null,null,null,null,null,null,null,null,null,null,null,null,null,null,null,null,null,null,null,null,null,null,null,null,null,null,null,null,null,null,null,null,null,null,null,null,null,{"$f":"COUNTA(B57:BL59)","v":0}]
[]
[]
[{"$f":"IF(ISBLANK(B60),0,1)","v":0},null,null,null,null,null,null,null,null,null,null,null,null,null,null,null,null,null,null,null,null,null,null,null,null,null,null,null,null,null,null,null,null,null,null,null,null,null,null,null,null,null,null,null,null,null,null,null,null,null,null,null,null,null,null,null,null,null,null,null,null,null,null,null,{"$f":"COUNTA(B60:BL62)","v":0}]
[]
[]
[{"$f":"IF(ISBLANK(B63),0,1)","v":0},null,null,null,null,null,null,null,null,null,null,null,null,null,null,null,null,null,null,null,null,null,null,null,null,null,null,null,null,null,null,null,null,null,null,null,null,null,null,null,null,null,null,null,null,null,null,null,null,null,null,null,null,null,null,null,null,null,null,null,null,null,null,null,{"$f":"COUNTA(B63:BL65)","v":0}]
[]
[]
[{"$f":"IF(ISBLANK(B66),0,1)","v":0},null,null,null,null,null,null,null,null,null,null,null,null,null,null,null,null,null,null,null,null,null,null,null,null,null,null,null,null,null,null,null,null,null,null,null,null,null,null,null,null,null,null,null,null,null,null,null,null,null,null,null,null,null,null,null,null,null,null,null,null,null,null,null,{"$f":"COUNTA(B66:BL68)","v":0}]
[]
[]
[{"$f":"IF(ISBLANK(B69),0,1)","v":0},null,null,null,null,null,null,null,null,null,null,null,null,null,null,null,null,null,null,null,null,null,null,null,null,null,null,null,null,null,null,null,null,null,null,null,null,null,null,null,null,null,null,null,null,null,null,null,null,null,null,null,null,null,null,null,null,null,null,null,null,null,null,null,{"$f":"COUNTA(B69:BL71)","v":0}]
[]
[]
[{"$f":"IF(ISBLANK(B72),0,1)","v":0},null,null,null,null,null,null,null,null,null,null,null,null,null,null,null,null,null,null,null,null,null,null,null,null,null,null,null,null,null,null,null,null,null,null,null,null,null,null,null,null,null,null,null,null,null,null,null,null,null,null,null,null,null,null,null,null,null,null,null,null,null,null,null,{"$f":"COUNTA(B72:BL74)","v":0}]
[]
[]
[{"$f":"IF(ISBLANK(B75),0,1)","v":0},null,null,null,null,null,null,null,null,null,null,null,null,null,null,null,null,null,null,null,null,null,null,null,null,null,null,null,null,null,null,null,null,null,null,null,null,null,null,null,null,null,null,null,null,null,null,null,null,null,null,null,null,null,null,null,null,null,null,null,null,null,null,null,{"$f":"COUNTA(B75:BL77)","v":0}]
[]
[]
[{"$f":"IF(ISBLANK(B78),0,1)","v":0},null,null,null,null,null,null,null,null,null,null,null,null,null,null,null,null,null,null,null,null,null,null,null,null,null,null,null,null,null,null,null,null,null,null,null,null,null,null,null,null,null,null,null,null,null,null,null,null,null,null,null,null,null,null,null,null,null,null,null,null,null,null,null,{"$f":"COUNTA(B78:BL80)","v":0}]
[]
[]
[{"$f":"IF(ISBLANK(B81),0,1)","v":0},null,null,null,null,null,null,null,null,null,null,null,null,null,null,null,null,null,null,null,null,null,null,null,null,null,null,null,null,null,null,null,null,null,null,null,null,null,null,null,null,null,null,null,null,null,null,null,null,null,null,null,null,null,null,null,null,null,null,null,null,null,null,null,{"$f":"COUNTA(B81:BL83)","v":0}]
[]
[]
[{"$f":"IF(ISBLANK(B84),0,1)","v":0},null,null,null,null,null,null,null,null,null,null,null,null,null,null,null,null,null,null,null,null,null,null,null,null,null,null,null,null,null,null,null,null,null,null,null,null,null,null,null,null,null,null,null,null,null,null,null,null,null,null,null,null,null,null,null,null,null,null,null,null,null,null,null,{"$f":"COUNTA(B84:BL86)","v":0}]
[]
[]
[{"$f":"IF(ISBLANK(B87),0,1)","v":0},null,null,null,null,null,null,null,null,null,null,null,null,null,null,null,null,null,null,null,null,null,null,null,null,null,null,null,null,null,null,null,null,null,null,null,null,null,null,null,null,null,null,null,null,null,null,null,null,null,null,null,null,null,null,null,null,null,null,null,null,null,null,null,{"$f":"COUNTA(B87:BL89)","v":0}]
[]
[]
[]
[]
[]
[]
[null,{"$f":"SAR!$A$100","v":0}]

{"sheet":"P.C.A.F.","index":34,"n_rows":92,"n_cols":105,"rows_kept":92,"cut":false,"hidden":false,"merged":[[7,1,7,63],[8,1,10,5],[8,6,10,22],[8,24,10,28],[8,29,10,47],[8,49,10,53],[8,54,10,63],[1,1,6,11],[1,12,6,22],[1,24,3,27],[1,28,3,38],[1,39,3,42],[1,43,3,47],[1,49,6,51],[1,52,6,63],[4,24,6,27],[4,28,6,38],[4,39,6,42],[4,43,6,47],[19,17,21,26],[19,44,21,44],[19,28,21,43],[22,18,24,55],[22,12,24,15],[25,16,27,16],[25,12,27,15],[67,63,69,63],[61,18,63,62],[64,18,66,62],[67,18,69,62],[28,16,30,16],[34,18,36,62],[37,18,39,62],[40,18,42,62],[43,18,45,62],[46,18,48,62],[49,18,51,62],[40,63,42,63],[43,63,45,63],[46,63,48,63],[49,63,51,63],[52,63,54,63],[55,63,57,63],[52,16,54,16],[52,12,54,15],[55,16,57,16],[55,12,57,15],[70,12,72,15],[73,16,75,16],[73,12,75,15],[0,104,1,104],[2,104,4,104],[5,104,7,104],[19,45,21,45],[25,63,27,63],[28,63,30,63],[31,63,33,63],[34,63,36,63],[37,63,39,63],[0,76,2,77],[0,78,2,79],[3,76,5,79],[8,64,10,64],[25,18,27,62],[28,18,30,62],[31,18,33,62],[16,1,18,63],[58,18,60,62],[87,1,89,5],[87,50,89,52],[87,26,89,29],[80,1,85,63],[87,7,89,24],[87,31,89,48],[87,54,89,60],[76,1,76,63],[77,1,79,63],[70,16,72,16],[70,63,72,63],[73,63,75,63],[58,63,60,63],[61,63,63,63],[64,63,66,63],[28,12,30,15],[70,18,72,62],[73,18,75,62],[31,16,33,16],[46,16,48,16],[46,12,48,15],[49,16,51,16],[49,12,51,15],[61,16,63,16],[61,12,63,15],[37,16,39,16],[37,12,39,15],[40,16,42,16],[40,12,42,15],[43,16,45,16],[43,12,45,15],[58,16,60,16],[58,12,60,15],[64,16,66,16],[64,12,66,15],[67,16,69,16],[67,12,69,15],[52,18,54,62],[55,18,57,62],[14,66,16,78],[90,0,90,63],[12,1,14,63],[15,1,15,63],[25,1,27,10],[28,1,30,10],[73,1,75,10],[70,1,72,10],[67,1,69,10],[64,1,66,10],[52,1,54,10],[49,1,51,10],[46,1,48,10],[43,1,45,10],[40,1,42,10],[31,12,33,15],[34,16,36,16],[34,12,36,15],[61,1,63,10],[58,1,60,10],[55,1,57,10],[37,1,39,10],[34,1,36,10],[31,1,33,10]]}
[null,null,null,null,null,null,null,null,null,null,null,null,null,null,null,null,null,null,null,null,null,null,null,null,null,null,null,null,null,null,null,null,null,null,null,null,null,null,null,null,null,null,null,null,null,null,null,null,null,null,null,null,null,null,null,null,null,null,null,null,null,null,null,null,null,null,null,null,null,null,null,null,null,null,null,null,{"$f":"SUM(AT20)","v":0},null,1,null,null,null,null,null,null,null,null,null,null,null,null,null,null,null,null,null,null,null,null,null,null,null,null,null,"PRINT?"]
[null,null,null,null,null,null,null,null,null,null,null,null,"P.C.A.F",null,null,null,null,null,null,null,null,null,null,null,"ENGINEER",null,null,null,{"$f":"SAR!$K$13","v":""},null,null,null,null,null,null,null,null,null,null,"VOLTAGE",null,null,null,{"$f":"SAR!$K$36","v":0},null,null,null,null,null,"SATS",null,null,{"$f":"SAR!$BA$2","v":0}]
[null,null,null,null,null,null,null,null,null,null,null,null,null,null,null,null,null,null,null,null,null,null,null,null,null,null,null,null,null,null,null,null,null,null,null,null,null,null,null,null,null,null,null,null,null,null,null,null,null,null,null,null,null,null,null,null,null,null,null,null,null,null,null,null,null,null,null,null,null,null,null,null,null,null,null,null,null,null,null,null,null,null,null,null,null,null,null,null,null,null,null,null,null,null,null,null,null,null,null,null,null,null,null,null,{"$f":"IF(BY1=0,\"\",\"Y\")","v":""}]
[null,null,null,null,null,null,null,null,null,null,null,null,null,null,null,null,null,null,null,null,null,null,null,null,null,null,null,null,null,null,null,null,null,null,null,null,null,null,null,null,null,null,null,null,null,null,null,null,null,null,null,null,null,null,null,null,null,null,null,null,null,null,null,null,null,null,null,null,null,null,null,null,null,null,null,null,{"$f":"BY1/CA1","v":0}]
[null,null,null,null,null,null,null,null,null,null,null,null,null,null,null,null,null,null,null,null,null,null,null,null,"AREA",null,null,null,{"$f":"SAR!$K$39","v":0},null,null,null,null,null,null,null,null,null,null,"PROJECT DATE",null,null,null,{"$f":"SAR!$K$42","v":"00:00:00"}]
[]
[]
[]
[null,"PRIMARY SUBSTATION ",null,null,null,null,{"$f":"SAR!$K$45","v":0},null,null,null,null,null,null,null,null,null,null,null,null,null,null,null,null,null,"DISTRIBUTION SUBSTATION ",null,null,null,null,{"$f":"SAR!$K$30","v":0},null,null,null,null,null,null,null,null,null,null,null,null,null,null,null,null,null,null,null,"PLANT REF",null,null,null,null,{"$f":"SAR!$K$33","v":0},null,null,null,null,null,null,null,null,null,{"$f":"SAR!$AB$36","v":""}]
[]
[]
[]
[null,"PRE-COMMISSIONING AUDIT FORM"]
[]
[null,null,null,null,null,null,null,null,null,null,null,null,null,null,null,null,null,null,null,null,null,null,null,null,null,null,null,null,null,null,null,null,null,null,null,null,null,null,null,null,null,null,null,null,null,null,null,null,null,null,null,null,null,null,null,null,null,null,null,null,null,null,null,null,null,null,"DOC QUICK LINK"]
[]
[null,"PLEASE NOTE - THIS FORM IS NOT A SUBSTITUTE FOR NORMAL ON SITE COMMISSIONING CHECKS AND PROCEDURES."]
[]
[]
[null,null,null,null,null,null,null,null,null,null,null,null,null,null,null,null,null,"TYPE OF WORK",null,null,null,null,null,null,null,null,null,null,null,null,null,null,null,null,null,null,null,null,null,null,null,null,null,null,"i",{"$f":"IF(AC20<>\"\",1,0)","v":0}]
[]
[]
[null,null,null,null,null,null,null,null,null,null,null,null,"STATE",null,null,null,null,null,"COMMENTS (IF ANY)"]
[]
[]
[null,"NAMEPLATE FITTED",null,null,null,null,null,null,null,null,null,null,null,null,null,null,"i",null,null,null,null,null,null,null,null,null,null,null,null,null,null,null,null,null,null,null,null,null,null,null,null,null,null,null,null,null,null,null,null,null,null,null,null,null,null,null,null,null,null,null,null,null,null,{"$f":"IF(S26<>\"\",1,0)","v":0}]
[]
[]
[null,"DANGER OF DEATH SIGNS FITTED",null,null,null,null,null,null,null,null,null,null,null,null,null,null,"i",null,null,null,null,null,null,null,null,null,null,null,null,null,null,null,null,null,null,null,null,null,null,null,null,null,null,null,null,null,null,null,null,null,null,null,null,null,null,null,null,null,null,null,null,null,null,{"$f":"IF(S29<>\"\",1,0)","v":0}]
[]
[]
[null,"HV SWITCHGEAR LABELS FITTED",null,null,null,null,null,null,null,null,null,null,null,null,null,null,"i",null,null,null,null,null,null,null,null,null,null,null,null,null,null,null,null,null,null,null,null,null,null,null,null,null,null,null,null,null,null,null,null,null,null,null,null,null,null,null,null,null,null,null,null,null,null,{"$f":"IF(S32<>\"\",1,0)","v":0}]
[]
[]
[null,"LV LABELS FITTED",null,null,null,null,null,null,null,null,null,null,null,null,null,null,"i",null,null,null,null,null,null,null,null,null,null,null,null,null,null,null,null,null,null,null,null,null,null,null,null,null,null,null,null,null,null,null,null,null,null,null,null,null,null,null,null,null,null,null,null,null,null,{"$f":"IF(S35<>\"\",1,0)","v":0}]
[]
[]
[null,"SWITCHGEAR LOCKS FITTED",null,null,null,null,null,null,null,null,null,null,null,null,null,null,"i",null,null,null,null,null,null,null,null,null,null,null,null,null,null,null,null,null,null,null,null,null,null,null,null,null,null,null,null,null,null,null,null,null,null,null,null,null,null,null,null,null,null,null,null,null,null,{"$f":"IF(S38<>\"\",1,0)","v":0}]
[]
[]
[null,"FENCE SECURE",null,null,null,null,null,null,null,null,null,null,null,null,null,null,"i",null,null,null,null,null,null,null,null,null,null,null,null,null,null,null,null,null,null,null,null,null,null,null,null,null,null,null,null,null,null,null,null,null,null,null,null,null,null,null,null,null,null,null,null,null,null,{"$f":"IF(S41<>\"\",1,0)","v":0}]
[]
[]
[null,"BUILDING SECURE ",null,null,null,null,null,null,null,null,null,null,null,null,null,null,"i",null,null,null,null,null,null,null,null,null,null,null,null,null,null,null,null,null,null,null,null,null,null,null,null,null,null,null,null,null,null,null,null,null,null,null,null,null,null,null,null,null,null,null,null,null,null,{"$f":"IF(S44<>\"\",1,0)","v":0}]
[]
[]
[null,"LIGHTING SECURE",null,null,null,null,null,null,null,null,null,null,null,null,null,null,"i",null,null,null,null,null,null,null,null,null,null,null,null,null,null,null,null,null,null,null,null,null,null,null,null,null,null,null,null,null,null,null,null,null,null,null,null,null,null,null,null,null,null,null,null,null,null,{"$f":"IF(S47<>\"\",1,0)","v":0}]
[]
[]
[null,"TRENCH WORK SECURE",null,null,null,null,null,null,null,null,null,null,null,null,null,null,"i",null,null,null,null,null,null,null,null,null,null,null,null,null,null,null,null,null,null,null,null,null,null,null,null,null,null,null,null,null,null,null,null,null,null,null,null,null,null,null,null,null,null,null,null,null,null,{"$f":"IF(S50<>\"\",1,0)","v":0}]
[]
[]
[null,"GATES / LOCKS",null,null,null,null,null,null,null,null,null,null,null,null,null,null,"i",null,null,null,null,null,null,null,null,null,null,null,null,null,null,null,null,null,null,null,null,null,null,null,null,null,null,null,null,null,null,null,null,null,null,null,null,null,null,null,null,null,null,null,null,null,null,{"$f":"IF(S53<>\"\",1,0)","v":0}]
[]
[]
[null,"EARTHING (VISIBLE)",null,null,null,null,null,null,null,null,null,null,null,null,null,null,"i",null,null,null,null,null,null,null,null,null,null,null,null,null,null,null,null,null,null,null,null,null,null,null,null,null,null,null,null,null,null,null,null,null,null,null,null,null,null,null,null,null,null,null,null,null,null,{"$f":"IF(S56<>\"\",1,0)","v":0}]
[]
[]
[null,"LV NEUTRAL EARTH LINK",null,null,null,null,null,null,null,null,null,null,null,null,null,null,"i",null,null,null,null,null,null,null,null,null,null,null,null,null,null,null,null,null,null,null,null,null,null,null,null,null,null,null,null,null,null,null,null,null,null,null,null,null,null,null,null,null,null,null,null,null,null,{"$f":"IF(S59<>\"\",1,0)","v":0}]
[]
[]
[null,"OPERATING HANDLES",null,null,null,null,null,null,null,null,null,null,null,null,null,null,"i",null,null,null,null,null,null,null,null,null,null,null,null,null,null,null,null,null,null,null,null,null,null,null,null,null,null,null,null,null,null,null,null,null,null,null,null,null,null,null,null,null,null,null,null,null,null,{"$f":"IF(S62<>\"\",1,0)","v":0}]
[]
[]
[null,"TEST / EARTH DEVICE ",null,null,null,null,null,null,null,null,null,null,null,null,null,null,"i",null,null,null,null,null,null,null,null,null,null,null,null,null,null,null,null,null,null,null,null,null,null,null,null,null,null,null,null,null,null,null,null,null,null,null,null,null,null,null,null,null,null,null,null,null,null,{"$f":"IF(S65<>\"\",1,0)","v":0}]
[]
[]
[null,"ACCESS ROUTE",null,null,null,null,null,null,null,null,null,null,null,null,null,null,"i",null,null,null,null,null,null,null,null,null,null,null,null,null,null,null,null,null,null,null,null,null,null,null,null,null,null,null,null,null,null,null,null,null,null,null,null,null,null,null,null,null,null,null,null,null,null,{"$f":"IF(S68<>\"\",1,0)","v":0}]
[]
[]
[null,"CABLE PROTECTION IN PLACE",null,null,null,null,null,null,null,null,null,null,null,null,null,null,"i",null,null,null,null,null,null,null,null,null,null,null,null,null,null,null,null,null,null,null,null,null,null,null,null,null,null,null,null,null,null,null,null,null,null,null,null,null,null,null,null,null,null,null,null,null,null,{"$f":"IF(S71<>\"\",1,0)","v":0}]
[]
[]
[null,"OPERATOR POSITION",null,null,null,null,null,null,null,null,null,null,null,null,null,null,"i",null,null,null,null,null,null,null,null,null,null,null,null,null,null,null,null,null,null,null,null,null,null,null,null,null,null,null,null,null,null,null,null,null,null,null,null,null,null,null,null,null,null,null,null,null,null,{"$f":"IF(S74<>\"\",1,0)","v":0}]
[]
[]
[]
[null,"VALIDATION"]
[]
[]
[null,"I CERTIFY THAT THE ABOVE SUBSTATION HAS BEEN INSPECTED AS DETAILED ABOVE AND MUST NOT BE \nCONNECTED ONTO THE ENW DISTRIBUTION SYSTEM UNTIL THE DEFECTS DETAILED HAVE BEEN CORRECTED."]
[]
[]
[]
[]
[]
[]
[null,"NAME",null,null,null,null,null,{"$f":"SAR!K13","v":""},null,null,null,null,null,null,null,null,null,null,null,null,null,null,null,null,null,null,"SECTION",null,null,null,null,{"$f":"SAR!K19","v":0},null,null,null,null,null,null,null,null,null,null,null,null,null,null,null,null,null,null,"DATE",null,null,null,{"$f":"SAR!K16","v":"00:00:00"}]
[]
[]
[]
[null,1,2,3,4,5,6,7,8,9,10,11,12,13,14,15,16,17,18,19,20,21,22,23,24,25,26,27,28,29,30,31,32,33,34,35,36,37,38,39,40,41,42,43,44,45,46,47,48,49,50,51,52,53,54,55,56,57,58,59,60,61,62,63]

{"sheet":"MATRIX SHEET","index":35,"n_rows":89,"n_cols":67,"rows_kept":89,"cut":false,"hidden":false,"merged":[[38,10,40,26],[38,27,40,27],[32,1,34,8],[32,10,34,26],[47,1,49,8],[47,10,49,26],[35,1,37,8],[35,10,37,26],[44,1,46,8],[44,10,46,26],[14,66,16,78],[41,1,43,8],[41,10,43,26],[25,1,27,26],[29,1,31,8],[29,10,31,26],[15,1,17,8],[18,10,20,26],[21,10,23,26],[12,1,14,8],[12,10,14,26],[15,10,17,26],[18,1,20,8],[21,1,23,8],[35,27,37,27],[38,1,40,8],[8,28,10,63],[1,1,6,12],[1,13,6,48],[1,49,6,51],[1,52,6,63],[7,1,7,63],[8,1,10,26],[73,1,75,8],[88,20,90,20],[73,10,75,26],[50,1,52,8],[50,10,52,26],[53,1,64,8],[53,10,64,26],[65,1,67,8],[65,10,67,26],[82,0,82,64],[69,1,71,26]]}
[]
[null,null,null,null,null,null,null,null,null,null,null,null,null,"SYSTEM AMENDMENT REQUEST (SAR)",null,null,null,null,null,null,null,null,null,null,null,null,null,null,null,null,null,null,null,null,null,null,null,null,null,null,null,null,null,null,null,null,null,null,null,"SATS No.",null,null,{"$f":"K48","v":0}]
[]
[]
[]
[]
[]
[]
[null,"YOUR DETAILS",null,null,null,null,null,null,null,null,null,null,null,null,null,null,null,null,null,null,null,null,null,null,null,null,null,null,"SUBMITTED DOCUMENTATION"]
[]
[]
[]
[null,"NAME",null,null,null,null,null,null,null,null,{"$f":"SAR!K13:AA15","v":""}]
[]
[null,null,null,null,null,null,null,null,null,null,null,null,null,null,null,null,null,null,null,null,null,null,null,null,null,null,null,null,null,null,null,null,null,null,null,null,null,null,null,null,null,null,null,null,null,null,null,null,null,null,null,null,null,null,null,null,null,null,null,null,null,null,null,null,null,null,"DOC QUICK LINK"]
[null,"TODAYS DATE",null,null,null,null,null,null,null,null,{"$f":"SAR!K16","v":"00:00:00"}]
[]
[]
[null,"DEPOT",null,null,null,null,null,null,null,null,{"$f":"SAR!K19:AA21","v":0}]
[]
[]
[null,"CONTACT No.",null,null,null,null,null,null,null,null,{"$f":"SAR!K22:AA24","v":0}]
[]
[]
[]
[null,"AMENDMENT DETAILS"]
[]
[]
[]
[null,"SUBSTATION NAME",null,null,null,null,null,null,null,null,{"$f":"SAR!K30:AA32","v":0}]
[]
[]
[null,"SUBSTATION NUMBER",null,null,null,null,null,null,null,null,{"$f":"SAR!K33:AA35","v":0}]
[]
[]
[null,"VOLTAGE",null,null,null,null,null,null,null,null,{"$f":"SAR!K36:AA38","v":0},null,null,null,null,null,null,null,null,null,null,null,null,null,null,null,null,{"$f":"SAR!AB36:AB38","v":""}]
[]
[]
[null,"AREA",null,null,null,null,null,null,null,null,{"$f":"SAR!K39:AA41","v":0}]
[]
[]
[null,"DATE OF WORK",null,null,null,null,null,null,null,null,{"$f":"SAR!K42:AA44","v":"00:00:00"}]
[]
[]
[null,"PRIMARY SUBSTATION",null,null,null,null,null,null,null,null,{"$f":"SAR!K45:AA47","v":0}]
[]
[]
[null,"SATS NUMBER",null,null,null,null,null,null,null,null,{"$f":"SAR!K48:AA50","v":0}]
[]
[]
[null,"JOB",null,null,null,null,null,null,null,null,{"$f":"IF(SAR!K51:AA53=\"\",\"\",SAR!K51:AA53)","v":""}]
[]
[]
[null,"DESCRIPTION OF WORK",null,null,null,null,null,null,null,null,{"$f":"SAR!K54:AA65","v":0}]
[]
[]
[]
[]
[]
[]
[]
[]
[]
[]
[]
[null,"SWITCHING PROG No.",null,null,null,null,null,null,null,null,{"$f":"SAR!K66:AA68","v":0}]
[]
[]
[]
[null,"COST CODE"]
[]
[]
[]
[null,"PROJECT NUMBER",null,null,null,null,null,null,null,null,{"$f":"SAR!J78","v":""}]
[]
[]
[]
[]
[]
[]
[]
[]
[]
[]
[]
[]
[]
[]
[null,null,null,null,null,null,null,null,null,null,null,null,null,null,null,null,null,null,null,{"$f":"SUM(U89:U91)","v":{"$error":"#REF!"}},{"$f":"IF(#REF!=\"\",0,1)","v":{"$error":"#REF!"}}]

{"sheet":"TEMPLATE DOC","index":36,"n_rows":94,"n_cols":105,"rows_kept":94,"cut":false,"hidden":true,"merged":[[2,104,4,104],[0,76,2,77],[8,24,10,28],[8,29,10,47],[8,49,10,53],[8,54,10,63],[0,104,1,104],[4,24,6,27],[4,28,6,38],[4,39,6,42],[4,43,6,47],[5,104,7,104],[7,1,7,63],[1,1,6,11],[1,24,3,27],[1,28,3,38],[93,1,93,63],[34,66,36,70],[34,71,36,78],[31,71,33,78],[28,71,30,78],[28,66,30,70],[31,66,33,70],[1,12,6,22],[24,66,26,78],[12,1,14,63],[15,1,15,63],[15,66,17,78],[8,1,10,5],[8,6,10,22],[1,39,3,42],[1,52,6,63],[1,43,3,47],[1,49,6,51],[3,76,5,79],[0,78,2,79]]}
[null,null,null,null,null,null,null,null,null,null,null,null,null,null,null,null,null,null,null,null,null,null,null,null,null,null,null,null,null,null,null,null,null,null,null,null,null,null,null,null,null,null,null,null,null,null,null,null,null,null,null,null,null,null,null,null,null,null,null,null,null,null,null,null,null,null,null,null,null,null,null,null,null,null,null,null,{"$f":"BM17","v":0},null,{"$f":"BM13","v":0},null,null,null,null,null,null,null,null,null,null,null,null,null,null,null,null,null,null,null,null,null,null,null,null,null,"PRINT?"]
[null,null,null,null,null,null,null,null,null,null,null,null,null,null,null,null,null,null,null,null,null,null,null,null,"ENGINEER",null,null,null,{"$f":"SAR!$K$13","v":""},null,null,null,null,null,null,null,null,null,null,"VOLTAGE",null,null,null,{"$f":"SAR!$K$36","v":0},null,null,null,null,null,"SATS",null,null,{"$f":"SAR!$BA$2","v":0}]
[null,null,null,null,null,null,null,null,null,null,null,null,null,null,null,null,null,null,null,null,null,null,null,null,null,null,null,null,null,null,null,null,null,null,null,null,null,null,null,null,null,null,null,null,null,null,null,null,null,null,null,null,null,null,null,null,null,null,null,null,null,null,null,null,null,null,null,null,null,null,null,null,null,null,null,null,null,null,null,null,null,null,null,null,null,null,null,null,null,null,null,null,null,null,null,null,null,null,null,null,null,null,null,null,{"$f":"IF(BY1=0,\"\",\"Y\")","v":""}]
[null,null,null,null,null,null,null,null,null,null,null,null,null,null,null,null,null,null,null,null,null,null,null,null,null,null,null,null,null,null,null,null,null,null,null,null,null,null,null,null,null,null,null,null,null,null,null,null,null,null,null,null,null,null,null,null,null,null,null,null,null,null,null,null,null,null,null,null,null,null,null,null,null,null,null,null,{"$f":"BY1/CA1","v":{"$error":"#DIV/0!"}}]
[null,null,null,null,null,null,null,null,null,null,null,null,null,null,null,null,null,null,null,null,null,null,null,null,"AREA",null,null,null,{"$f":"SAR!$K$39","v":0},null,null,null,null,null,null,null,null,null,null,"PROJECT DATE",null,null,null,{"$f":"SAR!$K$42","v":"00:00:00"}]
[]
[]
[]
[null,"PRIMARY SUBSTATION ",null,null,null,null,{"$f":"SAR!$K$45","v":0},null,null,null,null,null,null,null,null,null,null,null,null,null,null,null,null,null,"DISTRIBUTION SUBSTATION ",null,null,null,null,{"$f":"SAR!$K$30","v":0},null,null,null,null,null,null,null,null,null,null,null,null,null,null,null,null,null,null,null,"PLANT REF",null,null,null,null,{"$f":"SAR!$K$33","v":0}]
[]
[]
[]
[null,"TEMPLATE"]
[]
[]
[null,null,null,null,null,null,null,null,null,null,null,null,null,null,null,null,null,null,null,null,null,null,null,null,null,null,null,null,null,null,null,null,null,null,null,null,null,null,null,null,null,null,null,null,null,null,null,null,null,null,null,null,null,null,null,null,null,null,null,null,null,null,null,null,null,null,"DOC QUICK LINK"]
[]
[]
[]
[]
[]
[]
[]
[]
[null,null,null,null,null,null,null,null,null,null,null,null,null,null,null,null,null,null,null,null,null,null,null,null,null,null,null,null,null,null,null,null,null,null,null,null,null,null,null,null,null,null,null,null,null,null,null,null,null,null,null,null,null,null,null,null,null,null,null,null,null,null,null,null,null,null,"OTHER (PLEASE SPECIFY)"]
[]
[]
[]
[]
[]
[]
[]
[]
[]
[]
[]
[]
[]
[]
[]
[]
[]
[]
[]
[]
[]
[]
[]
[]
[]
[]
[]
[]
[]
[]
[]
[]
[]
[]
[]
[]
[]
[]
[]
[]
[]
[]
[]
[]
[]
[]
[]
[]
[]
[]
[]
[]
[]
[]
[]
[]
[]
[]
[]
[]
[]
[]
[]
[]
[]
[]
[]
[]
[null,{"$f":"SAR!$A$100","v":0}]